Workbook

Sheet Sheet1
A1: Level | B1: 30 | C1: =B1-1 -> 29
A2: Use Items | B2: TRUE
A3: Item Set | B3: Str | C3: Str+Int | D3: Agi | E3: Int
A4: Bonus Str | B4: 95 | C4: 35 | D4: 5 | E4: 25
A5: Bonus Agi | B5: 0 | C5: 0 | D5: 120 | E5: 25
A6: Bonus Int | B6: 0 | C6: 70 | D6: 25 | E6: 85
A7: Bonus Health | B7: 0 | C7: 0 | D7: 0 | E7: 0
A8: Mana Regen | B8: 0 | C8: 2 | D8: 0 | E8: 0
A9: Evocation | B9: 0 | C9: 0 | D9: 0 | E9: 0.3
B11: 3370 | C11: 2925 | D11: 2750 | E11: 4000
B12: 3500 | C12: 3250 | D12: 3250 | E12: 2750
B13: 3500 | C13: 2625 | D13: 2440 | E13: 2925
C14: 2500 | D14: 3500 | E14: 2625
B17: =SUM(B11:B14) -> 10370 | C17: =SUM(C11:C14) -> 11300 | D17: =SUM(D11:D14) -> 11940 | E17: =SUM(E11:E14) -> 12300

Sheet Sheet2
A1: Name | B1: Strength | C1: Str/level | D1: Agility | E1: Agi/level | F1: Int | G1: Int/level | I1: ="Str @" & Sheet1!$B$1 -> Str @30 | J1: ="Agi @" & Sheet1!$B$1 -> Agi @30 | K1: ="Int @" & Sheet1!$B$1 -> Int @30 | M1: Health | N1: Mana Regen | O1: Balance Factor | P1: Starting Stat Total | Q1: Growth Total | S1: Item Set | T1: Evocation Bonus
A2: Arcane Archer | B2: 15 | C2: 1.6 | D2: 17 | E2: 1.35 | F2: 21 | G2: 2.5 | I2: =Sheet2!B2+Sheet1!$C$1*Sheet2!C2+IF(Sheet1!$B$2,OFFSET(Sheet1!$A$4,0,Sheet2!$S2),0) -> 86.4 | J2: =D2+Sheet1!$C$1*Sheet2!E2+IF(Sheet1!$B$2,OFFSET(Sheet1!$A$5,0,Sheet2!$S2),0) -> 81.15 | K2: =F2+Sheet1!$C$1*Sheet2!G2+IF(Sheet1!$B$2,OFFSET(Sheet1!$A$6,0,Sheet2!$S2),0) -> 178.5 | M2: =Sheet2!I2*15+100+IF(Sheet1!$B$2,OFFSET(Sheet1!$A$7,0,Sheet2!$S2),0) -> 1396 | N2: =(1.2 + K2*0.01) * (1 +IF(Sheet1!$B$2,OFFSET(Sheet1!$A$8,0,Sheet2!$S2),0)) -> 2.985 | O2: =$M$41/M2 -> 1.3343387 | P2: =B2+D2+F2 -> 53 | Q2: =C2+E2+G2 -> 5.45 | S2: 4 | T2: =1+IF(Sheet1!$B$2,OFFSET(Sheet1!$A$9,0,Sheet2!$S2),0) -> 1.3
A3: Blazing Priest | B3: 22 | C3: 2.35 | D3: 13 | E3: 1 | F3: 18 | G3: 1.6 | I3: =Sheet2!B3+Sheet1!$C$1*Sheet2!C3+IF(Sheet1!$B$2,OFFSET(Sheet1!$A$4,0,Sheet2!$S3),0) -> 115.15 | J3: =D3+Sheet1!$C$1*Sheet2!E3+IF(Sheet1!$B$2,OFFSET(Sheet1!$A$5,0,Sheet2!$S3),0) -> 67 | K3: =F3+Sheet1!$C$1*Sheet2!G3+IF(Sheet1!$B$2,OFFSET(Sheet1!$A$6,0,Sheet2!$S3),0) -> 149.4 | M3: =Sheet2!I3*15+100+IF(Sheet1!$B$2,OFFSET(Sheet1!$A$7,0,Sheet2!$S3),0) -> 1827.25 | N3: =(1.2 + K3*0.01) * (1 +IF(Sheet1!$B$2,OFFSET(Sheet1!$A$8,0,Sheet2!$S3),0)) -> 2.694 | O3: =$M$41/M3 -> 1.0194209 | P3: =B3+D3+F3 -> 53 | Q3: =C3+E3+G3 -> 4.95 | S3: 4 | T3: =1+IF(Sheet1!$B$2,OFFSET(Sheet1!$A$9,0,Sheet2!$S3),0) -> 1.3
A4: Time Cleric | B4: 20 | C4: 1.95 | D4: 16 | E4: 1.75 | F4: 19 | G4: 1.85 | I4: =Sheet2!B4+Sheet1!$C$1*Sheet2!C4+IF(Sheet1!$B$2,OFFSET(Sheet1!$A$4,0,Sheet2!$S4),0) -> 101.55 | J4: =D4+Sheet1!$C$1*Sheet2!E4+IF(Sheet1!$B$2,OFFSET(Sheet1!$A$5,0,Sheet2!$S4),0) -> 91.75 | K4: =F4+Sheet1!$C$1*Sheet2!G4+IF(Sheet1!$B$2,OFFSET(Sheet1!$A$6,0,Sheet2!$S4),0) -> 157.65 | M4: =Sheet2!I4*15+100+IF(Sheet1!$B$2,OFFSET(Sheet1!$A$7,0,Sheet2!$S4),0) -> 1623.25 | N4: =(1.2 + K4*0.01) * (1 +IF(Sheet1!$B$2,OFFSET(Sheet1!$A$8,0,Sheet2!$S4),0)) -> 2.7765 | O4: =$M$41/M4 -> 1.1475354 | P4: =B4+D4+F4 -> 55 | Q4: =C4+E4+G4 -> 5.55 | S4: 4 | T4: =1+IF(Sheet1!$B$2,OFFSET(Sheet1!$A$9,0,Sheet2!$S4),0) -> 1.3
A5: Arboreal Crusader | B5: 14 | C5: 1.55 | D5: 17 | E5: 2 | F5: 18 | G5: 2.2 | I5: =Sheet2!B5+Sheet1!$C$1*Sheet2!C5+IF(Sheet1!$B$2,OFFSET(Sheet1!$A$4,0,Sheet2!$S5),0) -> 83.95 | J5: =D5+Sheet1!$C$1*Sheet2!E5+IF(Sheet1!$B$2,OFFSET(Sheet1!$A$5,0,Sheet2!$S5),0) -> 100 | K5: =F5+Sheet1!$C$1*Sheet2!G5+IF(Sheet1!$B$2,OFFSET(Sheet1!$A$6,0,Sheet2!$S5),0) -> 166.8 | M5: =Sheet2!I5*15+100+IF(Sheet1!$B$2,OFFSET(Sheet1!$A$7,0,Sheet2!$S5),0) -> 1359.25 | N5: =(1.2 + K5*0.01) * (1 +IF(Sheet1!$B$2,OFFSET(Sheet1!$A$8,0,Sheet2!$S5),0)) -> 2.868 | O5: =$M$41/M5 -> 1.3704152 | P5: =B5+D5+F5 -> 49 | Q5: =C5+E5+G5 -> 5.75 | S5: 4 | T5: =1+IF(Sheet1!$B$2,OFFSET(Sheet1!$A$9,0,Sheet2!$S5),0) -> 1.3
A6: Dread Shaman | B6: 15 | C6: 1.65 | D6: 18 | E6: 1.45 | F6: 19 | G6: 1.75 | I6: =Sheet2!B6+Sheet1!$C$1*Sheet2!C6+IF(Sheet1!$B$2,OFFSET(Sheet1!$A$4,0,Sheet2!$S6),0) -> 87.85 | J6: =D6+Sheet1!$C$1*Sheet2!E6+IF(Sheet1!$B$2,OFFSET(Sheet1!$A$5,0,Sheet2!$S6),0) -> 85.05 | K6: =F6+Sheet1!$C$1*Sheet2!G6+IF(Sheet1!$B$2,OFFSET(Sheet1!$A$6,0,Sheet2!$S6),0) -> 154.75 | M6: =Sheet2!I6*15+100+IF(Sheet1!$B$2,OFFSET(Sheet1!$A$7,0,Sheet2!$S6),0) -> 1417.75 | N6: =(1.2 + K6*0.01) * (1 +IF(Sheet1!$B$2,OFFSET(Sheet1!$A$8,0,Sheet2!$S6),0)) -> 2.7475 | O6: =$M$41/M6 -> 1.3138683 | P6: =B6+D6+F6 -> 52 | Q6: =C6+E6+G6 -> 4.85 | S6: 4 | T6: =1+IF(Sheet1!$B$2,OFFSET(Sheet1!$A$9,0,Sheet2!$S6),0) -> 1.3
A7: Scarab | B7: 23 | C7: 2.25 | D7: 14 | E7: 1.05 | F7: 18 | G7: 1.85 | I7: =Sheet2!B7+Sheet1!$C$1*Sheet2!C7+IF(Sheet1!$B$2,OFFSET(Sheet1!$A$4,0,Sheet2!$S7),0) -> 123.25 | J7: =D7+Sheet1!$C$1*Sheet2!E7+IF(Sheet1!$B$2,OFFSET(Sheet1!$A$5,0,Sheet2!$S7),0) -> 44.45 | K7: =F7+Sheet1!$C$1*Sheet2!G7+IF(Sheet1!$B$2,OFFSET(Sheet1!$A$6,0,Sheet2!$S7),0) -> 141.65 | M7: =Sheet2!I7*15+100+IF(Sheet1!$B$2,OFFSET(Sheet1!$A$7,0,Sheet2!$S7),0) -> 1948.75 | N7: =(1.2 + K7*0.01) * (1 +IF(Sheet1!$B$2,OFFSET(Sheet1!$A$8,0,Sheet2!$S7),0)) -> 7.8495 | O7: =$M$41/M7 -> 0.95586239 | P7: =B7+D7+F7 -> 55 | Q7: =C7+E7+G7 -> 5.15 | S7: 2 | T7: =1+IF(Sheet1!$B$2,OFFSET(Sheet1!$A$9,0,Sheet2!$S7),0) -> 1
A8: Soul Binder | B8: 19 | C8: 2.3 | D8: 13 | E8: 1.7 | F8: 21 | G8: 1.6 | I8: =Sheet2!B8+Sheet1!$C$1*Sheet2!C8+IF(Sheet1!$B$2,OFFSET(Sheet1!$A$4,0,Sheet2!$S8),0) -> 110.7 | J8: =D8+Sheet1!$C$1*Sheet2!E8+IF(Sheet1!$B$2,OFFSET(Sheet1!$A$5,0,Sheet2!$S8),0) -> 87.3 | K8: =F8+Sheet1!$C$1*Sheet2!G8+IF(Sheet1!$B$2,OFFSET(Sheet1!$A$6,0,Sheet2!$S8),0) -> 152.4 | M8: =Sheet2!I8*15+100+IF(Sheet1!$B$2,OFFSET(Sheet1!$A$7,0,Sheet2!$S8),0) -> 1760.5 | N8: =(1.2 + K8*0.01) * (1 +IF(Sheet1!$B$2,OFFSET(Sheet1!$A$8,0,Sheet2!$S8),0)) -> 2.724 | O8: =$M$41/M8 -> 1.0580726 | P8: =B8+D8+F8 -> 53 | Q8: =C8+E8+G8 -> 5.6 | S8: 4 | T8: =1+IF(Sheet1!$B$2,OFFSET(Sheet1!$A$9,0,Sheet2!$S8),0) -> 1.3
A9: Glacial Tyrant | B9: 25 | C9: 2.8 | D9: 9 | E9: 0.9 | F9: 15 | G9: 1.35 | I9: =Sheet2!B9+Sheet1!$C$1*Sheet2!C9+IF(Sheet1!$B$2,OFFSET(Sheet1!$A$4,0,Sheet2!$S9),0) -> 141.2 | J9: =D9+Sheet1!$C$1*Sheet2!E9+IF(Sheet1!$B$2,OFFSET(Sheet1!$A$5,0,Sheet2!$S9),0) -> 35.1 | K9: =F9+Sheet1!$C$1*Sheet2!G9+IF(Sheet1!$B$2,OFFSET(Sheet1!$A$6,0,Sheet2!$S9),0) -> 124.15 | M9: =Sheet2!I9*15+100+IF(Sheet1!$B$2,OFFSET(Sheet1!$A$7,0,Sheet2!$S9),0) -> 2218 | N9: =(1.2 + K9*0.01) * (1 +IF(Sheet1!$B$2,OFFSET(Sheet1!$A$8,0,Sheet2!$S9),0)) -> 7.3245 | O9: =$M$41/M9 -> 0.83982725 | P9: =B9+D9+F9 -> 49 | Q9: =C9+E9+G9 -> 5.05 | S9: 2 | T9: =1+IF(Sheet1!$B$2,OFFSET(Sheet1!$A$9,0,Sheet2!$S9),0) -> 1
A10: Acid Reaver | B10: 22 | C10: 2.6 | D10: 15 | E10: 1.6 | F10: 15 | G10: 1.5 | I10: =Sheet2!B10+Sheet1!$C$1*Sheet2!C10+IF(Sheet1!$B$2,OFFSET(Sheet1!$A$4,0,Sheet2!$S10),0) -> 192.4 | J10: =D10+Sheet1!$C$1*Sheet2!E10+IF(Sheet1!$B$2,OFFSET(Sheet1!$A$5,0,Sheet2!$S10),0) -> 61.4 | K10: =F10+Sheet1!$C$1*Sheet2!G10+IF(Sheet1!$B$2,OFFSET(Sheet1!$A$6,0,Sheet2!$S10),0) -> 58.5 | M10: =Sheet2!I10*15+100+IF(Sheet1!$B$2,OFFSET(Sheet1!$A$7,0,Sheet2!$S10),0) -> 2986 | N10: =(1.2 + K10*0.01) * (1 +IF(Sheet1!$B$2,OFFSET(Sheet1!$A$8,0,Sheet2!$S10),0)) -> 1.785 | O10: =$M$41/M10 -> 0.62382346 | P10: =B10+D10+F10 -> 52 | Q10: =C10+E10+G10 -> 5.7 | S10: 1 | T10: =1+IF(Sheet1!$B$2,OFFSET(Sheet1!$A$9,0,Sheet2!$S10),0) -> 1
A11: Divine Wizard | B11: 18 | C11: 1.35 | D11: 14 | E11: 1.1 | F11: 19 | G11: 2.2 | I11: =Sheet2!B11+Sheet1!$C$1*Sheet2!C11+IF(Sheet1!$B$2,OFFSET(Sheet1!$A$4,0,Sheet2!$S11),0) -> 82.15 | J11: =D11+Sheet1!$C$1*Sheet2!E11+IF(Sheet1!$B$2,OFFSET(Sheet1!$A$5,0,Sheet2!$S11),0) -> 70.9 | K11: =F11+Sheet1!$C$1*Sheet2!G11+IF(Sheet1!$B$2,OFFSET(Sheet1!$A$6,0,Sheet2!$S11),0) -> 167.8 | M11: =Sheet2!I11*15+100+IF(Sheet1!$B$2,OFFSET(Sheet1!$A$7,0,Sheet2!$S11),0) -> 1332.25 | N11: =(1.2 + K11*0.01) * (1 +IF(Sheet1!$B$2,OFFSET(Sheet1!$A$8,0,Sheet2!$S11),0)) -> 2.878 | O11: =$M$41/M11 -> 1.3981887 | P11: =B11+D11+F11 -> 51 | Q11: =C11+E11+G11 -> 4.65 | S11: 4 | T11: =1+IF(Sheet1!$B$2,OFFSET(Sheet1!$A$9,0,Sheet2!$S11),0) -> 1.3
A12: Colossus | B12: 25 | C12: 2.7 | D12: 10 | E12: 0.9 | F12: 14 | G12: 1 | I12: =Sheet2!B12+Sheet1!$C$1*Sheet2!C12+IF(Sheet1!$B$2,OFFSET(Sheet1!$A$4,0,Sheet2!$S12),0) -> 198.3 | J12: =D12+Sheet1!$C$1*Sheet2!E12+IF(Sheet1!$B$2,OFFSET(Sheet1!$A$5,0,Sheet2!$S12),0) -> 36.1 | K12: =F12+Sheet1!$C$1*Sheet2!G12+IF(Sheet1!$B$2,OFFSET(Sheet1!$A$6,0,Sheet2!$S12),0) -> 43 | M12: =Sheet2!I12*15+100+IF(Sheet1!$B$2,OFFSET(Sheet1!$A$7,0,Sheet2!$S12),0) -> 3074.5 | N12: =(1.2 + K12*0.01) * (1 +IF(Sheet1!$B$2,OFFSET(Sheet1!$A$8,0,Sheet2!$S12),0)) -> 1.63 | O12: =$M$41/M12 -> 0.60586659 | P12: =B12+D12+F12 -> 49 | Q12: =C12+E12+G12 -> 4.6 | S12: 1 | T12: =1+IF(Sheet1!$B$2,OFFSET(Sheet1!$A$9,0,Sheet2!$S12),0) -> 1
A13: Crest Witch | B13: 15 | C13: 1.6 | D13: 19 | E13: 1.8 | F13: 21 | G13: 2.15 | I13: =Sheet2!B13+Sheet1!$C$1*Sheet2!C13+IF(Sheet1!$B$2,OFFSET(Sheet1!$A$4,0,Sheet2!$S13),0) -> 86.4 | J13: =D13+Sheet1!$C$1*Sheet2!E13+IF(Sheet1!$B$2,OFFSET(Sheet1!$A$5,0,Sheet2!$S13),0) -> 96.2 | K13: =F13+Sheet1!$C$1*Sheet2!G13+IF(Sheet1!$B$2,OFFSET(Sheet1!$A$6,0,Sheet2!$S13),0) -> 168.35 | M13: =Sheet2!I13*15+100+IF(Sheet1!$B$2,OFFSET(Sheet1!$A$7,0,Sheet2!$S13),0) -> 1396 | N13: =(1.2 + K13*0.01) * (1 +IF(Sheet1!$B$2,OFFSET(Sheet1!$A$8,0,Sheet2!$S13),0)) -> 2.8835 | O13: =$M$41/M13 -> 1.3343387 | P13: =B13+D13+F13 -> 55 | Q13: =C13+E13+G13 -> 5.55 | S13: 4 | T13: =1+IF(Sheet1!$B$2,OFFSET(Sheet1!$A$9,0,Sheet2!$S13),0) -> 1.3
... A39: Crimson Squall | B39: 20 | C39: 1.95 | D39: 20 | E39: 1.95 | F39: 20 | G39: 1.95 | I39: =Sheet2!B39+Sheet1!$C$1*Sheet2!C39+IF(Sheet1!$B$2,OFFSET(Sheet1!$A$4,0,Sheet2!$S39),0) -> 81.55 | J39: =D39+Sheet1!$C$1*Sheet2!E39+IF(Sheet1!$B$2,OFFSET(Sheet1!$A$5,0,Sheet2!$S39),0) -> 196.55 | K39: =F39+Sheet1!$C$1*Sheet2!G39+IF(Sheet1!$B$2,OFFSET(Sheet1!$A$6,0,Sheet2!$S39),0) -> 101.55 | M39: =Sheet2!I39*15+100+IF(Sheet1!$B$2,OFFSET(Sheet1!$A$7,0,Sheet2!$S39),0) -> 1323.25 | N39: =(1.2 + K39*0.01) * (1 +IF(Sheet1!$B$2,OFFSET(Sheet1!$A$8,0,Sheet2!$S39),0)) -> 2.2155 | O39: =$M$41/M39 -> 1.4076984 | P39: =B39+D39+F39 -> 60 | Q39: =C39+E39+G39 -> 5.85 | S39: 3 | T39: =1+IF(Sheet1!$B$2,OFFSET(Sheet1!$A$9,0,Sheet2!$S39),0) -> 1
L41: Average | M41: =AVERAGE(M2:M39) -> 1862.7368 | N41: =AVERAGE(N2:N39) -> 3.0423158 | O41: =AVERAGE(O2:O39) -> 1.1230917 | P41: =AVERAGE(P2:P39) -> 52.763158 | Q41: =AVERAGE(Q2:Q39) -> 5.2592105

Sheet Sheet3
A1: Heal | B1: 0 | C1: =MIN(B1+1,FLOOR((Sheet1!$B$1-1)/5,1)) -> 1 | D1: =MIN(C1+1,FLOOR((Sheet1!$B$1-1)/5,1)) -> 2 | E1: =MIN(D1+1,FLOOR((Sheet1!$B$1-1)/5,1)) -> 3 | F1: =MIN(E1+1,FLOOR((Sheet1!$B$1-1)/5,1)) -> 4 | G1: =MIN(F1+1,FLOOR((Sheet1!$B$1-1)/5,1)) -> 5 | H1: =MIN(G1+1,FLOOR((Sheet1!$B$1-1)/5,1)) -> 5 | J1: Hero | K1: Mana | L1: Mana+ | M1: Cooldown | N1: Cd+ | O1: Base | P1: Base+ | Q1: Mod | R1: Mod+ | S1: Mod2 | T1: Mod2 +
A2: Flame of the Devout | C2: =($O2+B1*$P2+Sheet2!$K3*(Sheet3!$Q2+Sheet3!B1*Sheet3!$R2))*30*(0.25 + 0.75/2) -> 233.8125 | D2: =($O2+C1*$P2+Sheet2!$K3*(Sheet3!$Q2+Sheet3!C1*Sheet3!$R2))*30*(0.25 + 0.75/2) -> 355.575 | E2: =($O2+D1*$P2+Sheet2!$K3*(Sheet3!$Q2+Sheet3!D1*Sheet3!$R2))*30*(0.25 + 0.75/2) -> 477.3375 | F2: =($O2+E1*$P2+Sheet2!$K3*(Sheet3!$Q2+Sheet3!E1*Sheet3!$R2))*30*(0.25 + 0.75/2) -> 599.1 | G2: =($O2+F1*$P2+Sheet2!$K3*(Sheet3!$Q2+Sheet3!F1*Sheet3!$R2))*30*(0.25 + 0.75/2) -> 720.8625 | H2: =($O2+G1*$P2+Sheet2!$K3*(Sheet3!$Q2+Sheet3!G1*Sheet3!$R2))*30*(0.25 + 0.75/2) -> 842.625 | K2: 60 | L2: 17 | M2: 45 | N2: 0 | O2: 5 | P2: 5 | Q2: 0.05 | R2: 0.01
A3: (Heroes) | C3: =($O3+B$1*$P3+Sheet2!$K$3*(Sheet3!$Q3+Sheet3!B$1*Sheet3!$R3))*30*(0.25 + 0.75/2)*2 -> 467.625 | D3: =($O3+C$1*$P3+Sheet2!$K$3*(Sheet3!$Q3+Sheet3!C$1*Sheet3!$R3))*30*(0.25 + 0.75/2)*2 -> 711.15 | E3: =($O3+D$1*$P3+Sheet2!$K$3*(Sheet3!$Q3+Sheet3!D$1*Sheet3!$R3))*30*(0.25 + 0.75/2)*2 -> 954.675 | F3: =($O3+E$1*$P3+Sheet2!$K$3*(Sheet3!$Q3+Sheet3!E$1*Sheet3!$R3))*30*(0.25 + 0.75/2)*2 -> 1198.2 | G3: =($O3+F$1*$P3+Sheet2!$K$3*(Sheet3!$Q3+Sheet3!F$1*Sheet3!$R3))*30*(0.25 + 0.75/2)*2 -> 1441.725 | H3: =($O3+G$1*$P3+Sheet2!$K$3*(Sheet3!$Q3+Sheet3!G$1*Sheet3!$R3))*30*(0.25 + 0.75/2)*2 -> 1685.25 | K3: 60 | L3: 17 | M3: 45 | N3: 0 | O3: 5 | P3: 5 | Q3: 0.05 | R3: 0.01
A4: Ethereal Healing | C4: =($O4+B$1*$P4+Sheet2!$K2*(Sheet3!$Q4+Sheet3!B$1*Sheet3!$R4))*1.67 -> 565.295 | D4: =($O4+C$1*$P4+Sheet2!$K2*(Sheet3!$Q4+Sheet3!C$1*Sheet3!$R4))*1.67 -> 836.62825 | E4: =($O4+D$1*$P4+Sheet2!$K2*(Sheet3!$Q4+Sheet3!D$1*Sheet3!$R4))*1.67 -> 1107.9615 | F4: =($O4+E$1*$P4+Sheet2!$K2*(Sheet3!$Q4+Sheet3!E$1*Sheet3!$R4))*1.67 -> 1379.2947 | G4: =($O4+F$1*$P4+Sheet2!$K2*(Sheet3!$Q4+Sheet3!F$1*Sheet3!$R4))*1.67 -> 1650.628 | H4: =($O4+G$1*$P4+Sheet2!$K2*(Sheet3!$Q4+Sheet3!G$1*Sheet3!$R4))*1.67 -> 1921.9612 | K4: 40 | L4: 16 | M4: 18 | N4: 0 | O4: 160 | P4: 100 | Q4: 1 | R4: 0.35
A5: Mend | C5: =$O5+B$1*$P5+Sheet2!K8*(Sheet3!$Q5+Sheet3!B$1*Sheet3!$R5) -> 300 | D5: =$O5+C$1*$P5+Sheet2!L8*(Sheet3!$Q5+Sheet3!C$1*Sheet3!$R5) -> 500 | E5: =$O5+D$1*$P5+Sheet2!M8*(Sheet3!$Q5+Sheet3!D$1*Sheet3!$R5) -> 700 | F5: =$O5+E$1*$P5+Sheet2!N8*(Sheet3!$Q5+Sheet3!E$1*Sheet3!$R5) -> 900 | G5: =$O5+F$1*$P5+Sheet2!O8*(Sheet3!$Q5+Sheet3!F$1*Sheet3!$R5) -> 1100 | H5: =$O5+G$1*$P5+Sheet2!P8*(Sheet3!$Q5+Sheet3!G$1*Sheet3!$R5) -> 1300 | K5: 20 | L5: 10 | M5: 90 | N5: -10 | O5: 300 | P5: 200
A6: Rapid Healing | C6: =$O6+B$1*$P6+Sheet2!$K4*(Sheet3!$Q6+Sheet3!B$1*Sheet3!$R6) -> 306.12 | D6: =$O6+C$1*$P6+Sheet2!$K4*(Sheet3!$Q6+Sheet3!C$1*Sheet3!$R6) -> 485.5325 | E6: =$O6+D$1*$P6+Sheet2!$K4*(Sheet3!$Q6+Sheet3!D$1*Sheet3!$R6) -> 664.945 | F6: =$O6+E$1*$P6+Sheet2!$K4*(Sheet3!$Q6+Sheet3!E$1*Sheet3!$R6) -> 844.3575 | G6: =$O6+F$1*$P6+Sheet2!$K4*(Sheet3!$Q6+Sheet3!F$1*Sheet3!$R6) -> 1023.77 | H6: =$O6+G$1*$P6+Sheet2!$K4*(Sheet3!$Q6+Sheet3!G$1*Sheet3!$R6) -> 1203.1825 | K6: 55 | L6: 9 | M6: 14 | N6: 0 | O6: 180 | P6: 140 | Q6: 0.8 | R6: 0.25
A7: Mass Regen | C7: =$O7+B$1*$P7+Sheet2!$K6*(Sheet3!$Q7+Sheet3!B$1*Sheet3!$R7) -> 254.75 | D7: =$O7+C$1*$P7+Sheet2!$K6*(Sheet3!$Q7+Sheet3!C$1*Sheet3!$R7) -> 416.65 | E7: =$O7+D$1*$P7+Sheet2!$K6*(Sheet3!$Q7+Sheet3!D$1*Sheet3!$R7) -> 578.55 | F7: =$O7+E$1*$P7+Sheet2!$K6*(Sheet3!$Q7+Sheet3!E$1*Sheet3!$R7) -> 740.45 | G7: =$O7+F$1*$P7+Sheet2!$K6*(Sheet3!$Q7+Sheet3!F$1*Sheet3!$R7) -> 902.35 | H7: =$O7+G$1*$P7+Sheet2!$K6*(Sheet3!$Q7+Sheet3!G$1*Sheet3!$R7) -> 1064.25 | K7: 60 | L7: 20 | M7: 15 | N7: 0 | O7: 100 | P7: 100 | Q7: 1 | R7: 0.4
A8: Cure Wounds | C8: =$O8+B$1*$P8+Sheet2!$K5*(Sheet3!$Q8+Sheet3!B$1*Sheet3!$R8) -> 316.8 | D8: =$O8+C$1*$P8+Sheet2!$K5*(Sheet3!$Q8+Sheet3!C$1*Sheet3!$R8) -> 508.52 | E8: =$O8+D$1*$P8+Sheet2!$K5*(Sheet3!$Q8+Sheet3!D$1*Sheet3!$R8) -> 700.24 | F8: =$O8+E$1*$P8+Sheet2!$K5*(Sheet3!$Q8+Sheet3!E$1*Sheet3!$R8) -> 891.96 | G8: =$O8+F$1*$P8+Sheet2!$K5*(Sheet3!$Q8+Sheet3!F$1*Sheet3!$R8) -> 1083.68 | H8: =$O8+G$1*$P8+Sheet2!$K5*(Sheet3!$Q8+Sheet3!G$1*Sheet3!$R8) -> 1275.4 | K8: 40 | L8: 35 | M8: 12 | N8: 0 | O8: 150 | P8: 125 | Q8: 1 | R8: 0.4
A9: Life Wave | C9: =$O9+B$1*$P9+Sheet2!$K7*(Sheet3!$Q9+Sheet3!B$1*Sheet3!$R9) -> 261.65 | D9: =$O9+C$1*$P9+Sheet2!$K7*(Sheet3!$Q9+Sheet3!C$1*Sheet3!$R9) -> 483.3 | E9: =$O9+D$1*$P9+Sheet2!$K7*(Sheet3!$Q9+Sheet3!D$1*Sheet3!$R9) -> 704.95 | F9: =$O9+E$1*$P9+Sheet2!$K7*(Sheet3!$Q9+Sheet3!E$1*Sheet3!$R9) -> 926.6 | G9: =$O9+F$1*$P9+Sheet2!$K7*(Sheet3!$Q9+Sheet3!F$1*Sheet3!$R9) -> 1148.25 | H9: =$O9+G$1*$P9+Sheet2!$K7*(Sheet3!$Q9+Sheet3!G$1*Sheet3!$R9) -> 1369.9 | K9: 50 | L9: 20 | M9: 15 | N9: 0 | O9: 120 | P9: 80 | Q9: 1 | R9: 1
A15: AoE Damage
A16: Gale | C16: =($O16+B$1*$P16+Sheet2!$K$5*(Sheet3!$Q16+Sheet3!B$1*Sheet3!$R16))*Sheet2!$T5 -> 303.524 | D16: =($O16+C$1*$P16+Sheet2!$K$5*(Sheet3!$Q16+Sheet3!C$1*Sheet3!$R16))*Sheet2!$T5 -> 388.076 | E16: =($O16+D$1*$P16+Sheet2!$K$5*(Sheet3!$Q16+Sheet3!D$1*Sheet3!$R16))*Sheet2!$T5 -> 472.628 | F16: =($O16+E$1*$P16+Sheet2!$K$5*(Sheet3!$Q16+Sheet3!E$1*Sheet3!$R16))*Sheet2!$T5 -> 557.18 | G16: =($O16+F$1*$P16+Sheet2!$K$5*(Sheet3!$Q16+Sheet3!F$1*Sheet3!$R16))*Sheet2!$T5 -> 641.732 | H16: =($O16+G$1*$P16+Sheet2!$K$5*(Sheet3!$Q16+Sheet3!G$1*Sheet3!$R16))*Sheet2!$T5 -> 726.284 | J16: =Sheet2!A5 -> Arboreal Crusader | K16: 55 | L16: 22 | M16: 11 | N16: 0 | O16: 50 | P16: 15 | Q16: 1.1 | R16: 0.3
A17: Incinerate | C17: =($O17+B$1*$P17+Sheet2!$K$8*(Sheet3!$Q17+Sheet3!B$1*Sheet3!$R17))*Sheet2!$T8 -> 131.56 | D17: =($O17+C$1*$P17+Sheet2!$K$8*(Sheet3!$Q17+Sheet3!C$1*Sheet3!$R17))*Sheet2!$T8 -> 166.9096 | E17: =($O17+D$1*$P17+Sheet2!$K$8*(Sheet3!$Q17+Sheet3!D$1*Sheet3!$R17))*Sheet2!$T8 -> 202.2592 | F17: =($O17+E$1*$P17+Sheet2!$K$8*(Sheet3!$Q17+Sheet3!E$1*Sheet3!$R17))*Sheet2!$T8 -> 237.6088 | G17: =($O17+F$1*$P17+Sheet2!$K$8*(Sheet3!$Q17+Sheet3!F$1*Sheet3!$R17))*Sheet2!$T8 -> 272.9584 | H17: =($O17+G$1*$P17+Sheet2!$K$8*(Sheet3!$Q17+Sheet3!G$1*Sheet3!$R17))*Sheet2!$T8 -> 308.308 | J17: =Sheet2!A8 -> Soul Binder | K17: 55 | L17: 14 | M17: 3 | N17: 0 | O17: 25 | P17: 15 | Q17: 0.5 | R17: 0.08
A18: Arctic Cataclysm | C18: =($O18+B$1*$P18+Sheet2!$I$9*(Sheet3!$Q18+Sheet3!B$1*Sheet3!$R18))*Sheet2!$T9 -> 218.56 | D18: =($O18+C$1*$P18+Sheet2!$I$9*(Sheet3!$Q18+Sheet3!C$1*Sheet3!$R18))*Sheet2!$T9 -> 264.74 | E18: =($O18+D$1*$P18+Sheet2!$I$9*(Sheet3!$Q18+Sheet3!D$1*Sheet3!$R18))*Sheet2!$T9 -> 310.92 | F18: =($O18+E$1*$P18+Sheet2!$I$9*(Sheet3!$Q18+Sheet3!E$1*Sheet3!$R18))*Sheet2!$T9 -> 357.1 | G18: =($O18+F$1*$P18+Sheet2!$I$9*(Sheet3!$Q18+Sheet3!F$1*Sheet3!$R18))*Sheet2!$T9 -> 403.28 | H18: =($O18+G$1*$P18+Sheet2!$I$9*(Sheet3!$Q18+Sheet3!G$1*Sheet3!$R18))*Sheet2!$T9 -> 449.46 | J18: =Sheet2!A9 -> Glacial Tyrant | K18: 70 | L18: 24 | M18: 16 | N18: 0 | O18: 35 | P18: 25 | Q18: 1.3 | R18: 0.15
A19: Caustic Breath | C19: =($O19+B$1*$P19+Sheet2!$I$10*(Sheet3!$Q19+Sheet3!B$1*Sheet3!$R19))*Sheet2!$T10 -> 281.64 | D19: =($O19+C$1*$P19+Sheet2!$I$10*(Sheet3!$Q19+Sheet3!C$1*Sheet3!$R19))*Sheet2!$T10 -> 338.12 | E19: =($O19+D$1*$P19+Sheet2!$I$10*(Sheet3!$Q19+Sheet3!D$1*Sheet3!$R19))*Sheet2!$T10 -> 394.6 | F19: =($O19+E$1*$P19+Sheet2!$I$10*(Sheet3!$Q19+Sheet3!E$1*Sheet3!$R19))*Sheet2!$T10 -> 451.08 | G19: =($O19+F$1*$P19+Sheet2!$I$10*(Sheet3!$Q19+Sheet3!F$1*Sheet3!$R19))*Sheet2!$T10 -> 507.56 | H19: =($O19+G$1*$P19+Sheet2!$I$10*(Sheet3!$Q19+Sheet3!G$1*Sheet3!$R19))*Sheet2!$T10 -> 564.04 | J19: =Sheet2!A10 -> Acid Reaver | K19: 40 | L19: 12 | M19: 8 | N19: 0 | O19: 70 | P19: 18 | Q19: 1.1 | R19: 0.2
A20: Holy Strike | C20: =($O20+B$1*$P20+Sheet2!$K$11*(Sheet3!$Q20+Sheet3!B$1*Sheet3!$R20))*Sheet2!$T11 -> 361.582 | D20: =($O20+C$1*$P20+Sheet2!$K$11*(Sheet3!$Q20+Sheet3!C$1*Sheet3!$R20))*Sheet2!$T11 -> 442.117 | E20: =($O20+D$1*$P20+Sheet2!$K$11*(Sheet3!$Q20+Sheet3!D$1*Sheet3!$R20))*Sheet2!$T11 -> 522.652 | F20: =($O20+E$1*$P20+Sheet2!$K$11*(Sheet3!$Q20+Sheet3!E$1*Sheet3!$R20))*Sheet2!$T11 -> 603.187 | G20: =($O20+F$1*$P20+Sheet2!$K$11*(Sheet3!$Q20+Sheet3!F$1*Sheet3!$R20))*Sheet2!$T11 -> 683.722 | H20: =($O20+G$1*$P20+Sheet2!$K$11*(Sheet3!$Q20+Sheet3!G$1*Sheet3!$R20))*Sheet2!$T11 -> 764.257 | J20: =Sheet2!A11 -> Divine Wizard | K20: 70 | L20: 32 | M20: 7.5 | N20: 0.75 | O20: 60 | P20: 20 | Q20: 1.3 | R20: 0.25
A21: Rockslide | C21: =($O21+B$1*$P21+Sheet2!$I$12*(Sheet3!$Q21+Sheet3!B$1*Sheet3!$R21)) -> 258.215 | D21: =($O21+C$1*$P21+Sheet2!$I$12*(Sheet3!$Q21+Sheet3!C$1*Sheet3!$R21)) -> 327.875 | E21: =($O21+D$1*$P21+Sheet2!$I$12*(Sheet3!$Q21+Sheet3!D$1*Sheet3!$R21)) -> 397.535 | F21: =($O21+E$1*$P21+Sheet2!$I$12*(Sheet3!$Q21+Sheet3!E$1*Sheet3!$R21)) -> 467.195 | G21: =($O21+F$1*$P21+Sheet2!$I$12*(Sheet3!$Q21+Sheet3!F$1*Sheet3!$R21)) -> 536.855 | H21: =($O21+G$1*$P21+Sheet2!$I$12*(Sheet3!$Q21+Sheet3!G$1*Sheet3!$R21)) -> 606.515 | J21: =Sheet2!A12 -> Colossus | K21: 65 | L21: 24 | M21: 18 | N21: 0 | O21: 50 | P21: 30 | Q21: 1.05 | R21: 0.2
A22: Rogue Wave | C22: =($O22+B$1*$P22+Sheet2!$K$13*(Sheet3!$Q22+Sheet3!B$1*Sheet3!$R22))*Sheet2!$T13 -> 325.56875 | D22: =($O22+C$1*$P22+Sheet2!$K$13*(Sheet3!$Q22+Sheet3!C$1*Sheet3!$R22))*Sheet2!$T13 -> 367.497 | E22: =($O22+D$1*$P22+Sheet2!$K$13*(Sheet3!$Q22+Sheet3!D$1*Sheet3!$R22))*Sheet2!$T13 -> 409.42525 | F22: =($O22+E$1*$P22+Sheet2!$K$13*(Sheet3!$Q22+Sheet3!E$1*Sheet3!$R22))*Sheet2!$T13 -> 451.3535 | G22: =($O22+F$1*$P22+Sheet2!$K$13*(Sheet3!$Q22+Sheet3!F$1*Sheet3!$R22))*Sheet2!$T13 -> 493.28175 | H22: =($O22+G$1*$P22+Sheet2!$K$13*(Sheet3!$Q22+Sheet3!G$1*Sheet3!$R22))*Sheet2!$T13 -> 535.21 | J22: =Sheet2!A13 -> Crest Witch | K22: 70 | L22: 9 | M22: 15 | N22: 0 | O22: 40 | P22: 7 | Q22: 1.25 | R22: 0.15
A23: Frost Spire | C23: =($O23+B$1*$P23+Sheet2!$K$14*(Sheet3!$Q23+Sheet3!B$1*Sheet3!$R23))*14*Sheet2!$T14 -> 520.5928 | D23: =($O23+C$1*$P23+Sheet2!$K$14*(Sheet3!$Q23+Sheet3!C$1*Sheet3!$R23))*14*Sheet2!$T14 -> 637.6916 | E23: =($O23+D$1*$P23+Sheet2!$K$14*(Sheet3!$Q23+Sheet3!D$1*Sheet3!$R23))*14*Sheet2!$T14 -> 754.7904 | F23: =($O23+E$1*$P23+Sheet2!$K$14*(Sheet3!$Q23+Sheet3!E$1*Sheet3!$R23))*14*Sheet2!$T14 -> 871.8892 | G23: =($O23+F$1*$P23+Sheet2!$K$14*(Sheet3!$Q23+Sheet3!F$1*Sheet3!$R23))*14*Sheet2!$T14 -> 988.988 | H23: =($O23+G$1*$P23+Sheet2!$K$14*(Sheet3!$Q23+Sheet3!G$1*Sheet3!$R23))*14*Sheet2!$T14 -> 1106.0868 | J23: =Sheet2!A14 -> Icespinner | K23: 70 | L23: 16 | M23: 21 | N23: 0 | O23: 8 | P23: 3 | Q23: 0.12 | R23: 0.02
A24: Terra Smash | C24: =($O24+B$1*$P24+Sheet2!$I$15*(Sheet3!$Q24+Sheet3!B$1*Sheet3!$R24)) -> 246.4 | D24: =($O24+C$1*$P24+Sheet2!$I$15*(Sheet3!$Q24+Sheet3!C$1*Sheet3!$R24)) -> 330 | E24: =($O24+D$1*$P24+Sheet2!$I$15*(Sheet3!$Q24+Sheet3!D$1*Sheet3!$R24)) -> 413.6 | F24: =($O24+E$1*$P24+Sheet2!$I$15*(Sheet3!$Q24+Sheet3!E$1*Sheet3!$R24)) -> 497.2 | G24: =($O24+F$1*$P24+Sheet2!$I$15*(Sheet3!$Q24+Sheet3!F$1*Sheet3!$R24)) -> 580.8 | H24: =($O24+G$1*$P24+Sheet2!$I$15*(Sheet3!$Q24+Sheet3!G$1*Sheet3!$R24)) -> 664.4 | J24: =Sheet2!A15 -> Ascendant | K24: 35 | L24: 8 | M24: 8 | N24: 0 | O24: 40 | P24: 32 | Q24: 1.2 | R24: 0.3
A25: Pestilence | C25: =($O25+B$1*$P25+Sheet2!$K$16*(Sheet3!$Q25+Sheet3!B$1*Sheet3!$R25)) -> 248.2 | D25: =($O25+C$1*$P25+Sheet2!$K$16*(Sheet3!$Q25+Sheet3!C$1*Sheet3!$R25)) -> 313.7 | E25: =($O25+D$1*$P25+Sheet2!$K$16*(Sheet3!$Q25+Sheet3!D$1*Sheet3!$R25)) -> 379.2 | F25: =($O25+E$1*$P25+Sheet2!$K$16*(Sheet3!$Q25+Sheet3!E$1*Sheet3!$R25)) -> 444.7 | G25: =($O25+F$1*$P25+Sheet2!$K$16*(Sheet3!$Q25+Sheet3!F$1*Sheet3!$R25)) -> 510.2 | H25: =($O25+G$1*$P25+Sheet2!$K$16*(Sheet3!$Q25+Sheet3!G$1*Sheet3!$R25)) -> 575.7 | J25: =Sheet2!A16 -> Defiler | K25: 60 | L25: 21 | M25: 9 | N25: 0 | O25: 70 | P25: 25 | Q25: 1.1 | R25: 0.25
A26: Pyroclasm | C26: =($O26+B$1*$P26+Sheet2!$I$17*(Sheet3!$Q26+Sheet3!B$1*Sheet3!$R26))*Sheet2!$T17 -> 236.055 | D26: =($O26+C$1*$P26+Sheet2!$I$17*(Sheet3!$Q26+Sheet3!C$1*Sheet3!$R26))*Sheet2!$T17 -> 313.403 | E26: =($O26+D$1*$P26+Sheet2!$I$17*(Sheet3!$Q26+Sheet3!D$1*Sheet3!$R26))*Sheet2!$T17 -> 390.751 | F26: =($O26+E$1*$P26+Sheet2!$I$17*(Sheet3!$Q26+Sheet3!E$1*Sheet3!$R26))*Sheet2!$T17 -> 468.099 | G26: =($O26+F$1*$P26+Sheet2!$I$17*(Sheet3!$Q26+Sheet3!F$1*Sheet3!$R26))*Sheet2!$T17 -> 545.447 | H26: =($O26+G$1*$P26+Sheet2!$I$17*(Sheet3!$Q26+Sheet3!G$1*Sheet3!$R26))*Sheet2!$T17 -> 622.795 | J26: =Sheet2!A17 -> Emberwraith | K26: 60 | L26: 22 | M26: 26 | N26: 0 | O26: 66 | P26: 32 | Q26: 0.9 | R26: 0.24
A27: Whirl | C27: =($O27+B$1*$P27+Sheet2!$J$18*(Sheet3!$Q27+Sheet3!B$1*Sheet3!$R27)) -> 195.475 | D27: =($O27+C$1*$P27+Sheet2!$J$18*(Sheet3!$Q27+Sheet3!C$1*Sheet3!$R27)) -> 231.078 | E27: =($O27+D$1*$P27+Sheet2!$J$18*(Sheet3!$Q27+Sheet3!D$1*Sheet3!$R27)) -> 266.681 | F27: =($O27+E$1*$P27+Sheet2!$J$18*(Sheet3!$Q27+Sheet3!E$1*Sheet3!$R27)) -> 302.284 | G27: =($O27+F$1*$P27+Sheet2!$J$18*(Sheet3!$Q27+Sheet3!F$1*Sheet3!$R27)) -> 337.887 | H27: =($O27+G$1*$P27+Sheet2!$J$18*(Sheet3!$Q27+Sheet3!G$1*Sheet3!$R27)) -> 373.49 | J27: =Sheet2!A18 -> Forlorn Martyr | K27: 50 | L27: 12 | M27: 8 | N27: 0 | O27: 55 | P27: 15 | Q27: 0.75 | R27: 0.11
A28: Shadowclap | C28: =($O28+B$1*$P28+Sheet2!$I$19*(Sheet3!$Q28+Sheet3!B$1*Sheet3!$R28))*Sheet2!$T19 -> 181.96 | D28: =($O28+C$1*$P28+Sheet2!$I$19*(Sheet3!$Q28+Sheet3!C$1*Sheet3!$R28))*Sheet2!$T19 -> 229.515 | E28: =($O28+D$1*$P28+Sheet2!$I$19*(Sheet3!$Q28+Sheet3!D$1*Sheet3!$R28))*Sheet2!$T19 -> 277.07 | F28: =($O28+E$1*$P28+Sheet2!$I$19*(Sheet3!$Q28+Sheet3!E$1*Sheet3!$R28))*Sheet2!$T19 -> 324.625 | G28: =($O28+F$1*$P28+Sheet2!$I$19*(Sheet3!$Q28+Sheet3!F$1*Sheet3!$R28))*Sheet2!$T19 -> 372.18 | H28: =($O28+G$1*$P28+Sheet2!$I$19*(Sheet3!$Q28+Sheet3!G$1*Sheet3!$R28))*Sheet2!$T19 -> 419.735 | J28: =Sheet2!A19 -> Blackguard | K28: 40 | L28: 12 | M28: 8 | N28: 0 | O28: 35 | P28: 20 | Q28: 0.8 | R28: 0.15
A29: Inferno | C29: =($O29+B$1*$P29+Sheet2!$K$20*(Sheet3!$Q29+Sheet3!B$1*Sheet3!$R29))*Sheet2!$T20 -> 173.7 | D29: =($O29+C$1*$P29+Sheet2!$K$20*(Sheet3!$Q29+Sheet3!C$1*Sheet3!$R29))*Sheet2!$T20 -> 224.625 | E29: =($O29+D$1*$P29+Sheet2!$K$20*(Sheet3!$Q29+Sheet3!D$1*Sheet3!$R29))*Sheet2!$T20 -> 275.55 | F29: =($O29+E$1*$P29+Sheet2!$K$20*(Sheet3!$Q29+Sheet3!E$1*Sheet3!$R29))*Sheet2!$T20 -> 326.475 | G29: =($O29+F$1*$P29+Sheet2!$K$20*(Sheet3!$Q29+Sheet3!F$1*Sheet3!$R29))*Sheet2!$T20 -> 377.4 | H29: =($O29+G$1*$P29+Sheet2!$K$20*(Sheet3!$Q29+Sheet3!G$1*Sheet3!$R29))*Sheet2!$T20 -> 428.325 | J29: =Sheet2!A20 -> Fire Knight | K29: 50 | L29: 3 | M29: 15 | N29: 0 | O29: 50 | P29: 20 | Q29: 1 | R29: 0.25
A30: Pheonix Strike | C30: =($O30+B$1*$P30+Sheet2!$I$20*(Sheet3!$Q30+Sheet3!B$1*Sheet3!$R30))*Sheet2!$T20 -> 191.15 | D30: =($O30+C$1*$P30+Sheet2!$I$20*(Sheet3!$Q30+Sheet3!C$1*Sheet3!$R30))*Sheet2!$T20 -> 257.495 | E30: =($O30+D$1*$P30+Sheet2!$I$20*(Sheet3!$Q30+Sheet3!D$1*Sheet3!$R30))*Sheet2!$T20 -> 323.84 | F30: =($O30+E$1*$P30+Sheet2!$I$20*(Sheet3!$Q30+Sheet3!E$1*Sheet3!$R30))*Sheet2!$T20 -> 390.185 | G30: =($O30+F$1*$P30+Sheet2!$I$20*(Sheet3!$Q30+Sheet3!F$1*Sheet3!$R30))*Sheet2!$T20 -> 456.53 | H30: =($O30+G$1*$P30+Sheet2!$I$20*(Sheet3!$Q30+Sheet3!G$1*Sheet3!$R30))*Sheet2!$T20 -> 522.875 | J30: =Sheet2!A20 -> Fire Knight | K30: 40 | L30: 8 | M30: 8 | N30: 0 | O30: 70 | P30: 30 | Q30: 1 | R30: 0.3
A31: Lightning Tether | C31: =($O31+B$1*$P31+Sheet2!$K$30*(Sheet3!$Q31+Sheet3!B$1*Sheet3!$R31))*($S31+B$1*$T31+Sheet2!$I$30*(Sheet3!$U31+Sheet3!B$1*Sheet3!$V31))*Sheet2!$T30 -> 498.8224 | D31: =($O31+C$1*$P31+Sheet2!$K$30*(Sheet3!$Q31+Sheet3!C$1*Sheet3!$R31))*($S31+C$1*$T31+Sheet2!$I$30*(Sheet3!$U31+Sheet3!C$1*Sheet3!$V31))*Sheet2!$T30 -> 616.94602 | E31: =($O31+D$1*$P31+Sheet2!$K$30*(Sheet3!$Q31+Sheet3!D$1*Sheet3!$R31))*($S31+D$1*$T31+Sheet2!$I$30*(Sheet3!$U31+Sheet3!D$1*Sheet3!$V31))*Sheet2!$T30 -> 744.33083 | F31: =($O31+E$1*$P31+Sheet2!$K$30*(Sheet3!$Q31+Sheet3!E$1*Sheet3!$R31))*($S31+E$1*$T31+Sheet2!$I$30*(Sheet3!$U31+Sheet3!E$1*Sheet3!$V31))*Sheet2!$T30 -> 880.97684 | G31: =($O31+F$1*$P31+Sheet2!$K$30*(Sheet3!$Q31+Sheet3!F$1*Sheet3!$R31))*($S31+F$1*$T31+Sheet2!$I$30*(Sheet3!$U31+Sheet3!F$1*Sheet3!$V31))*Sheet2!$T30 -> 1026.8841 | H31: =($O31+G$1*$P31+Sheet2!$K$30*(Sheet3!$Q31+Sheet3!G$1*Sheet3!$R31))*($S31+G$1*$T31+Sheet2!$I$30*(Sheet3!$U31+Sheet3!G$1*Sheet3!$V31))*Sheet2!$T30 -> 1182.0525 | J31: =Sheet2!A30 -> Stormweaver | K31: 60 | L31: 13 | M31: 15 | N31: 0 | O31: 20 | P31: 2 | Q31: 0.3 | R31: 0.01 | S31: 4 | T31: 1 | U31: 0.02 | V31: 0
A32: Snowblast | C32: =($O32+B$1*$P32+Sheet2!$K$30*(Sheet3!$Q32+Sheet3!B$1*Sheet3!$R32))*(0.5 + 0.5 * FLOOR($S32+B$1*$T32+Sheet2!$I$30*(Sheet3!$U32+Sheet3!B$1*Sheet3!$V32),1))*Sheet2!$T30 -> 420.784 | D32: =($O32+C$1*$P32+Sheet2!$K$30*(Sheet3!$Q32+Sheet3!C$1*Sheet3!$R32))*(0.5 + 0.5 * FLOOR($S32+C$1*$T32+Sheet2!$I$30*(Sheet3!$U32+Sheet3!C$1*Sheet3!$V32),1))*Sheet2!$T30 -> 501.8195 | E32: =($O32+D$1*$P32+Sheet2!$K$30*(Sheet3!$Q32+Sheet3!D$1*Sheet3!$R32))*(0.5 + 0.5 * FLOOR($S32+D$1*$T32+Sheet2!$I$30*(Sheet3!$U32+Sheet3!D$1*Sheet3!$V32),1))*Sheet2!$T30 -> 582.855 | F32: =($O32+E$1*$P32+Sheet2!$K$30*(Sheet3!$Q32+Sheet3!E$1*Sheet3!$R32))*(0.5 + 0.5 * FLOOR($S32+E$1*$T32+Sheet2!$I$30*(Sheet3!$U32+Sheet3!E$1*Sheet3!$V32),1))*Sheet2!$T30 -> 663.8905 | G32: =($O32+F$1*$P32+Sheet2!$K$30*(Sheet3!$Q32+Sheet3!F$1*Sheet3!$R32))*(0.5 + 0.5 * FLOOR($S32+F$1*$T32+Sheet2!$I$30*(Sheet3!$U32+Sheet3!F$1*Sheet3!$V32),1))*Sheet2!$T30 -> 744.926 | H32: =($O32+G$1*$P32+Sheet2!$K$30*(Sheet3!$Q32+Sheet3!G$1*Sheet3!$R32))*(0.5 + 0.5 * FLOOR($S32+G$1*$T32+Sheet2!$I$30*(Sheet3!$U32+Sheet3!G$1*Sheet3!$V32),1))*Sheet2!$T30 -> 825.9615 | J32: =Sheet2!A30 -> Stormweaver | K32: 65 | L32: 9 | M32: 15 | N32: 0 | O32: 30 | P32: 10 | Q32: 0.4 | R32: 0.05 | S32: 5 | T32: 0 | U32: 0.02 | V32: 0
A33: Tempest | C33: =($O33+B$1*$P33+Sheet2!$K$22*(Sheet3!$Q33+Sheet3!B$1*Sheet3!$R33))*10*Sheet2!$T22 -> 321.945 | D33: =($O33+C$1*$P33+Sheet2!$K$22*(Sheet3!$Q33+Sheet3!C$1*Sheet3!$R33))*10*Sheet2!$T22 -> 442.923 | E33: =($O33+D$1*$P33+Sheet2!$K$22*(Sheet3!$Q33+Sheet3!D$1*Sheet3!$R33))*10*Sheet2!$T22 -> 563.901 | F33: =($O33+E$1*$P33+Sheet2!$K$22*(Sheet3!$Q33+Sheet3!E$1*Sheet3!$R33))*10*Sheet2!$T22 -> 684.879 | G33: =($O33+F$1*$P33+Sheet2!$K$22*(Sheet3!$Q33+Sheet3!F$1*Sheet3!$R33))*10*Sheet2!$T22 -> 805.857 | H33: =($O33+G$1*$P33+Sheet2!$K$22*(Sheet3!$Q33+Sheet3!G$1*Sheet3!$R33))*10*Sheet2!$T22 -> 926.835 | J33: =Sheet2!A22 -> Aeromancess | K33: 70 | L33: 27 | M33: 16 | N33: 0 | O33: 9 | P33: 3 | Q33: 0.1 | R33: 0.04
A34: Siphon Glyph | C34: =($O34+B$1*$P34)*(Sheet3!$Q34+Sheet2!$K$31*Sheet3!$R34)*Sheet2!$T31 -> 162.816 | D34: =($O34+C$1*$P34)*(Sheet3!$Q34+Sheet2!$K$31*Sheet3!$R34)*Sheet2!$T31 -> 271.36 | E34: =($O34+D$1*$P34)*(Sheet3!$Q34+Sheet2!$K$31*Sheet3!$R34)*Sheet2!$T31 -> 379.904 | F34: =($O34+E$1*$P34)*(Sheet3!$Q34+Sheet2!$K$31*Sheet3!$R34)*Sheet2!$T31 -> 488.448 | G34: =($O34+F$1*$P34)*(Sheet3!$Q34+Sheet2!$K$31*Sheet3!$R34)*Sheet2!$T31 -> 596.992 | H34: =($O34+G$1*$P34)*(Sheet3!$Q34+Sheet2!$K$31*Sheet3!$R34)*Sheet2!$T31 -> 705.536 | J34: =Sheet2!A31 -> Rune Knight | K34: 50 | L34: 14 | M34: 12 | N34: 0 | O34: 24 | P34: 16 | Q34: 4 | R34: 0.02
A35: Hazard Slash | C35: =($O35+B$1*$P35+Sheet2!$I$31*(Sheet3!$Q35+Sheet3!B$1*Sheet3!$R35))*Sheet2!$T31 -> 188.05 | D35: =($O35+C$1*$P35+Sheet2!$I$31*(Sheet3!$Q35+Sheet3!C$1*Sheet3!$R35))*Sheet2!$T31 -> 245.0625 | E35: =($O35+D$1*$P35+Sheet2!$I$31*(Sheet3!$Q35+Sheet3!D$1*Sheet3!$R35))*Sheet2!$T31 -> 302.075 | F35: =($O35+E$1*$P35+Sheet2!$I$31*(Sheet3!$Q35+Sheet3!E$1*Sheet3!$R35))*Sheet2!$T31 -> 359.0875 | G35: =($O35+F$1*$P35+Sheet2!$I$31*(Sheet3!$Q35+Sheet3!F$1*Sheet3!$R35))*Sheet2!$T31 -> 416.1 | H35: =($O35+G$1*$P35+Sheet2!$I$31*(Sheet3!$Q35+Sheet3!G$1*Sheet3!$R35))*Sheet2!$T31 -> 473.1125 | J35: =Sheet2!A31 -> Rune Knight | K35: 45 | L35: 9 | M35: 35 | N35: 0 | O35: 60 | P35: 25 | Q35: 1 | R35: 0.25
A36: Explosives | C36: =($O36+B$1*$P36+Sheet2!$K$32*(Sheet3!$Q36+Sheet3!B$1*Sheet3!$R36)) -> 169.85 | D36: =($O36+C$1*$P36+Sheet2!$K$32*(Sheet3!$Q36+Sheet3!C$1*Sheet3!$R36)) -> 227.82 | E36: =($O36+D$1*$P36+Sheet2!$K$32*(Sheet3!$Q36+Sheet3!D$1*Sheet3!$R36)) -> 285.79 | F36: =($O36+E$1*$P36+Sheet2!$K$32*(Sheet3!$Q36+Sheet3!E$1*Sheet3!$R36)) -> 343.76 | G36: =($O36+F$1*$P36+Sheet2!$K$32*(Sheet3!$Q36+Sheet3!F$1*Sheet3!$R36)) -> 401.73 | H36: =($O36+G$1*$P36+Sheet2!$K$32*(Sheet3!$Q36+Sheet3!G$1*Sheet3!$R36)) -> 459.7 | J36: =Sheet2!A32 -> Infiltrator | K36: 30 | L36: 15 | M36: 5.5 | N36: 0 | O36: 80 | P36: 40 | Q36: 1 | R36: 0.2
A37: Blast Arrow | C37: =($O37+B$1*$P37+Sheet2!$K$33*(Sheet3!$Q37+Sheet3!B$1*Sheet3!$R37)) -> 152.3 | D37: =($O37+C$1*$P37+Sheet2!$K$33*(Sheet3!$Q37+Sheet3!C$1*Sheet3!$R37)) -> 204.68 | E37: =($O37+D$1*$P37+Sheet2!$K$33*(Sheet3!$Q37+Sheet3!D$1*Sheet3!$R37)) -> 257.06 | F37: =($O37+E$1*$P37+Sheet2!$K$33*(Sheet3!$Q37+Sheet3!E$1*Sheet3!$R37)) -> 309.44 | G37: =($O37+F$1*$P37+Sheet2!$K$33*(Sheet3!$Q37+Sheet3!F$1*Sheet3!$R37)) -> 361.82 | H37: =($O37+G$1*$P37+Sheet2!$K$33*(Sheet3!$Q37+Sheet3!G$1*Sheet3!$R37)) -> 414.2 | J37: =Sheet2!A33 -> Tactician | K37: 75 | L37: 0 | M37: 30 | N37: 0 | O37: 90 | P37: 15 | Q37: 0.5 | R37: 0.3
A38: Neutralize | C38: =($O38+B$1*$P38+Sheet2!$I$33*(Sheet3!$Q38+Sheet3!B$1*Sheet3!$R38)) -> 139.1 | D38: =($O38+C$1*$P38+Sheet2!$I$33*(Sheet3!$Q38+Sheet3!C$1*Sheet3!$R38)) -> 176.05 | E38: =($O38+D$1*$P38+Sheet2!$I$33*(Sheet3!$Q38+Sheet3!D$1*Sheet3!$R38)) -> 213 | F38: =($O38+E$1*$P38+Sheet2!$I$33*(Sheet3!$Q38+Sheet3!E$1*Sheet3!$R38)) -> 249.95 | G38: =($O38+F$1*$P38+Sheet2!$I$33*(Sheet3!$Q38+Sheet3!F$1*Sheet3!$R38)) -> 286.9 | H38: =($O38+G$1*$P38+Sheet2!$I$33*(Sheet3!$Q38+Sheet3!G$1*Sheet3!$R38)) -> 323.85 | J38: =Sheet2!A33 -> Tactician | K38: 40 | L38: 17 | M38: 20 | N38: 0 | O38: 60 | P38: 20 | Q38: 0.7 | R38: 0.15
A39: Blade Rain | C39: =($O39+B$1*$P39+Sheet2!$J$35*(Sheet3!$Q39+Sheet3!B$1*Sheet3!$R39))*(1+($S39+B$1*$T39+Sheet2!$K$35*(Sheet3!$U39+Sheet3!B$1*Sheet3!$V39))/5)*Sheet2!$T35 -> 544.58754 | D39: =($O39+C$1*$P39+Sheet2!$J$35*(Sheet3!$Q39+Sheet3!C$1*Sheet3!$R39))*(1+($S39+C$1*$T39+Sheet2!$K$35*(Sheet3!$U39+Sheet3!C$1*Sheet3!$V39))/5)*Sheet2!$T35 -> 614.80934 | E39: =($O39+D$1*$P39+Sheet2!$J$35*(Sheet3!$Q39+Sheet3!D$1*Sheet3!$R39))*(1+($S39+D$1*$T39+Sheet2!$K$35*(Sheet3!$U39+Sheet3!D$1*Sheet3!$V39))/5)*Sheet2!$T35 -> 685.03113 | F39: =($O39+E$1*$P39+Sheet2!$J$35*(Sheet3!$Q39+Sheet3!E$1*Sheet3!$R39))*(1+($S39+E$1*$T39+Sheet2!$K$35*(Sheet3!$U39+Sheet3!E$1*Sheet3!$V39))/5)*Sheet2!$T35 -> 755.25293 | G39: =($O39+F$1*$P39+Sheet2!$J$35*(Sheet3!$Q39+Sheet3!F$1*Sheet3!$R39))*(1+($S39+F$1*$T39+Sheet2!$K$35*(Sheet3!$U39+Sheet3!F$1*Sheet3!$V39))/5)*Sheet2!$T35 -> 825.47472 | H39: =($O39+G$1*$P39+Sheet2!$J$35*(Sheet3!$Q39+Sheet3!G$1*Sheet3!$R39))*(1+($S39+G$1*$T39+Sheet2!$K$35*(Sheet3!$U39+Sheet3!G$1*Sheet3!$V39))/5)*Sheet2!$T35 -> 895.69652 | J39: =Sheet2!A35 -> Grim Hag | K39: 80 | L39: 8 | M39: 15 | N39: 0 | O39: 50 | P39: 12 | Q39: 0.6 | R39: 0.05 | S39: 6 | T39: 0 | U39: 0.05 | V39: 0
A40: Wilting | C40: =($O40+B$1*$P40+Sheet2!$K$36*(Sheet3!$Q40+Sheet3!B$1*Sheet3!$R40))*Sheet2!$T36 -> 314.6 | D40: =($O40+C$1*$P40+Sheet2!$K$36*(Sheet3!$Q40+Sheet3!C$1*Sheet3!$R40))*Sheet2!$T36 -> 443.17 | E40: =($O40+D$1*$P40+Sheet2!$K$36*(Sheet3!$Q40+Sheet3!D$1*Sheet3!$R40))*Sheet2!$T36 -> 571.74 | F40: =($O40+E$1*$P40+Sheet2!$K$36*(Sheet3!$Q40+Sheet3!E$1*Sheet3!$R40))*Sheet2!$T36 -> 700.31 | G40: =($O40+F$1*$P40+Sheet2!$K$36*(Sheet3!$Q40+Sheet3!F$1*Sheet3!$R40))*Sheet2!$T36 -> 828.88 | H40: =($O40+G$1*$P40+Sheet2!$K$36*(Sheet3!$Q40+Sheet3!G$1*Sheet3!$R40))*Sheet2!$T36 -> 957.45 | J40: =Sheet2!A36 -> Putrid Eidolon | K40: 60 | L40: 11 | M40: 19 | N40: 0 | O40: 80 | P40: 26 | Q40: 1 | R40: 0.45
A41: Slice | C41: =($O41+B$1*$P41+Sheet2!$I$21*(Sheet3!$Q41+Sheet3!B$1*Sheet3!$R41)) -> 193.56 | D41: =($O41+C$1*$P41+Sheet2!$I$21*(Sheet3!$Q41+Sheet3!C$1*Sheet3!$R41)) -> 242.95 | E41: =($O41+D$1*$P41+Sheet2!$I$21*(Sheet3!$Q41+Sheet3!D$1*Sheet3!$R41)) -> 292.34 | F41: =($O41+E$1*$P41+Sheet2!$I$21*(Sheet3!$Q41+Sheet3!E$1*Sheet3!$R41)) -> 341.73 | G41: =($O41+F$1*$P41+Sheet2!$I$21*(Sheet3!$Q41+Sheet3!F$1*Sheet3!$R41)) -> 391.12 | H41: =($O41+G$1*$P41+Sheet2!$I$21*(Sheet3!$Q41+Sheet3!G$1*Sheet3!$R41)) -> 440.51 | J41: =Sheet2!A21 -> Wretched Chef | K41: 55 | L41: 8 | M41: 8 | N41: 0 | O41: 40 | P41: 11 | Q41: 0.8 | R41: 0.2
A45: Single Target
A46: Hold Person | C46: =($O46+B$1*$P46+Sheet2!$K$22*(Sheet3!$Q46+Sheet3!B$1*Sheet3!$R46)) * ($S46+B$1*$T46) -> 289.18 | D46: =($O46+C$1*$P46+Sheet2!$K$22*(Sheet3!$Q46+Sheet3!C$1*Sheet3!$R46)) * ($S46+C$1*$T46) -> 390.2203 | E46: =($O46+D$1*$P46+Sheet2!$K$22*(Sheet3!$Q46+Sheet3!D$1*Sheet3!$R46)) * ($S46+D$1*$T46) -> 506.3032 | F46: =($O46+E$1*$P46+Sheet2!$K$22*(Sheet3!$Q46+Sheet3!E$1*Sheet3!$R46)) * ($S46+E$1*$T46) -> 637.4287 | G46: =($O46+F$1*$P46+Sheet2!$K$22*(Sheet3!$Q46+Sheet3!F$1*Sheet3!$R46)) * ($S46+F$1*$T46) -> 783.5968 | H46: =($O46+G$1*$P46+Sheet2!$K$22*(Sheet3!$Q46+Sheet3!G$1*Sheet3!$R46)) * ($S46+G$1*$T46) -> 944.8075 | J46: =Sheet2!A22 -> Aeromancess | K46: 75 | L46: 18 | M46: 18 | N46: 0 | O46: 50 | P46: 3 | Q46: 0.6 | R46: 0.14 | S46: 2 | T46: 0.3
A47: Chasten | C47: =($O47+B$1*$P47+Sheet2!$I$3*(Sheet3!$Q47+Sheet3!B$1*Sheet3!$R47))+($S47+B$1*$T47+Sheet2!$K$3*(Sheet3!$U47+Sheet3!B$1*Sheet3!$V47))*Sheet2!$T3 -> 289.981 | D47: =($O47+C$1*$P47+Sheet2!$I$3*(Sheet3!$Q47+Sheet3!C$1*Sheet3!$R47))+($S47+C$1*$T47+Sheet2!$K$3*(Sheet3!$U47+Sheet3!C$1*Sheet3!$V47))*Sheet2!$T3 -> 359.4755 | E47: =($O47+D$1*$P47+Sheet2!$I$3*(Sheet3!$Q47+Sheet3!D$1*Sheet3!$R47))+($S47+D$1*$T47+Sheet2!$K$3*(Sheet3!$U47+Sheet3!D$1*Sheet3!$V47))*Sheet2!$T3 -> 428.97 | F47: =($O47+E$1*$P47+Sheet2!$I$3*(Sheet3!$Q47+Sheet3!E$1*Sheet3!$R47))+($S47+E$1*$T47+Sheet2!$K$3*(Sheet3!$U47+Sheet3!E$1*Sheet3!$V47))*Sheet2!$T3 -> 498.4645 | G47: =($O47+F$1*$P47+Sheet2!$I$3*(Sheet3!$Q47+Sheet3!F$1*Sheet3!$R47))+($S47+F$1*$T47+Sheet2!$K$3*(Sheet3!$U47+Sheet3!F$1*Sheet3!$V47))*Sheet2!$T3 -> 567.959 | H47: =($O47+G$1*$P47+Sheet2!$I$3*(Sheet3!$Q47+Sheet3!G$1*Sheet3!$R47))+($S47+G$1*$T47+Sheet2!$K$3*(Sheet3!$U47+Sheet3!G$1*Sheet3!$V47))*Sheet2!$T3 -> 637.4535 | J47: =Sheet2!A3 -> Blazing Priest | K47: 50 | L47: 4 | M47: 8 | N47: 0 | O47: 15 | P47: 12 | Q47: 0.7 | R47: 0.15 | S47: 30 | T47: 16 | U47: 0.8 | V47: 0.1
A48: Demoralizing Blow | C48: =($O48+B$1*$P48+Sheet2!$K$23*(Sheet3!$Q48+Sheet3!B$1*Sheet3!$R48))*Sheet2!$T23 -> 144 | D48: =($O48+C$1*$P48+Sheet2!$K$23*(Sheet3!$Q48+Sheet3!C$1*Sheet3!$R48))*Sheet2!$T23 -> 203.75 | E48: =($O48+D$1*$P48+Sheet2!$K$23*(Sheet3!$Q48+Sheet3!D$1*Sheet3!$R48))*Sheet2!$T23 -> 263.5 | F48: =($O48+E$1*$P48+Sheet2!$K$23*(Sheet3!$Q48+Sheet3!E$1*Sheet3!$R48))*Sheet2!$T23 -> 323.25 | G48: =($O48+F$1*$P48+Sheet2!$K$23*(Sheet3!$Q48+Sheet3!F$1*Sheet3!$R48))*Sheet2!$T23 -> 383 | H48: =($O48+G$1*$P48+Sheet2!$K$23*(Sheet3!$Q48+Sheet3!G$1*Sheet3!$R48))*Sheet2!$T23 -> 442.75 | J48: =Sheet2!A23 -> Mystic Swashbuckler | K48: 50 | L48: 14 | M48: 12 | N48: 0 | O48: 45 | P48: 35 | Q48: 1.2 | R48: 0.3
A49: Soulstrike | C49: =($O49+B$1*$P49+Sheet2!$K$8*(Sheet3!$Q49+Sheet3!B$1*Sheet3!$R49))*6*Sheet2!$T8 -> 484.38 | D49: =($O49+C$1*$P49+Sheet2!$K$8*(Sheet3!$Q49+Sheet3!C$1*Sheet3!$R49))*6*Sheet2!$T8 -> 704.2776 | E49: =($O49+D$1*$P49+Sheet2!$K$8*(Sheet3!$Q49+Sheet3!D$1*Sheet3!$R49))*6*Sheet2!$T8 -> 924.1752 | F49: =($O49+E$1*$P49+Sheet2!$K$8*(Sheet3!$Q49+Sheet3!E$1*Sheet3!$R49))*6*Sheet2!$T8 -> 1144.0728 | G49: =($O49+F$1*$P49+Sheet2!$K$8*(Sheet3!$Q49+Sheet3!F$1*Sheet3!$R49))*6*Sheet2!$T8 -> 1363.9704 | H49: =($O49+G$1*$P49+Sheet2!$K$8*(Sheet3!$Q49+Sheet3!G$1*Sheet3!$R49))*6*Sheet2!$T8 -> 1583.868 | J49: =Sheet2!A8 -> Soul Binder | K49: 65 | L49: 11 | M49: 20 | N49: 0 | O49: 24 | P49: 16 | Q49: 0.25 | R49: 0.08
A50: Echoing Strike | C50: =($O50+B$1*$P50+Sheet2!$I$4*(Sheet3!$Q50+Sheet3!B$1*Sheet3!$R50)) -> 88.1625 | D50: =($O50+C$1*$P50+Sheet2!$I$4*(Sheet3!$Q50+Sheet3!C$1*Sheet3!$R50)) -> 103.271 | E50: =($O50+D$1*$P50+Sheet2!$I$4*(Sheet3!$Q50+Sheet3!D$1*Sheet3!$R50)) -> 118.3795 | F50: =($O50+E$1*$P50+Sheet2!$I$4*(Sheet3!$Q50+Sheet3!E$1*Sheet3!$R50)) -> 133.488 | G50: =($O50+F$1*$P50+Sheet2!$I$4*(Sheet3!$Q50+Sheet3!F$1*Sheet3!$R50)) -> 148.5965 | H50: =($O50+G$1*$P50+Sheet2!$I$4*(Sheet3!$Q50+Sheet3!G$1*Sheet3!$R50)) -> 163.705 | J50: =Sheet2!A4 -> Time Cleric | K50: 25 | L50: 4 | M50: 4 | N50: 0 | O50: 12 | P50: 8 | Q50: 0.75 | R50: 0.07
A51: Degeneration | C51: =($O51+B$1*$P51+Sheet2!$K$4*(Sheet3!$Q51+Sheet3!B$1*Sheet3!$R51))*6*Sheet2!$T4 -> 370.734 | D51: =($O51+C$1*$P51+Sheet2!$K$4*(Sheet3!$Q51+Sheet3!C$1*Sheet3!$R51))*6*Sheet2!$T4 -> 575.0043 | E51: =($O51+D$1*$P51+Sheet2!$K$4*(Sheet3!$Q51+Sheet3!D$1*Sheet3!$R51))*6*Sheet2!$T4 -> 779.2746 | F51: =($O51+E$1*$P51+Sheet2!$K$4*(Sheet3!$Q51+Sheet3!E$1*Sheet3!$R51))*6*Sheet2!$T4 -> 983.5449 | G51: =($O51+F$1*$P51+Sheet2!$K$4*(Sheet3!$Q51+Sheet3!F$1*Sheet3!$R51))*6*Sheet2!$T4 -> 1187.8152 | H51: =($O51+G$1*$P51+Sheet2!$K$4*(Sheet3!$Q51+Sheet3!G$1*Sheet3!$R51))*6*Sheet2!$T4 -> 1392.0855 | J51: =Sheet2!A4 -> Time Cleric | K51: 50 | L51: 18 | M51: 15 | N51: 0 | O51: 16 | P51: 12 | Q51: 0.2 | R51: 0.09
A52: Smash | C52: =($O52+B$1*$P52+Sheet2!$I$12*(Sheet3!$Q52+Sheet3!B$1*Sheet3!$R52)) -> 317.875 | D52: =($O52+C$1*$P52+Sheet2!$I$12*(Sheet3!$Q52+Sheet3!C$1*Sheet3!$R52)) -> 367.62 | E52: =($O52+D$1*$P52+Sheet2!$I$12*(Sheet3!$Q52+Sheet3!D$1*Sheet3!$R52)) -> 417.365 | F52: =($O52+E$1*$P52+Sheet2!$I$12*(Sheet3!$Q52+Sheet3!E$1*Sheet3!$R52)) -> 467.11 | G52: =($O52+F$1*$P52+Sheet2!$I$12*(Sheet3!$Q52+Sheet3!F$1*Sheet3!$R52)) -> 516.855 | H52: =($O52+G$1*$P52+Sheet2!$I$12*(Sheet3!$Q52+Sheet3!G$1*Sheet3!$R52)) -> 566.6 | J52: =Sheet2!A12 -> Colossus | K52: 35 | L52: 6 | M52: 8 | N52: 0 | O52: 70 | P52: 20 | Q52: 1.25 | R52: 0.15
A53: Grasping Tree | C53: =($O53+B$1*$P53+Sheet2!$K$24*(Sheet3!$Q53+Sheet3!B$1*Sheet3!$R53)) * ($S53+B$1*$T53) -> 79.7 | D53: =($O53+C$1*$P53+Sheet2!$K$24*(Sheet3!$Q53+Sheet3!C$1*Sheet3!$R53)) * ($S53+C$1*$T53) -> 120.318 | E53: =($O53+D$1*$P53+Sheet2!$K$24*(Sheet3!$Q53+Sheet3!D$1*Sheet3!$R53)) * ($S53+D$1*$T53) -> 166.789 | F53: =($O53+E$1*$P53+Sheet2!$K$24*(Sheet3!$Q53+Sheet3!E$1*Sheet3!$R53)) * ($S53+E$1*$T53) -> 219.113 | G53: =($O53+F$1*$P53+Sheet2!$K$24*(Sheet3!$Q53+Sheet3!F$1*Sheet3!$R53)) * ($S53+F$1*$T53) -> 277.29 | H53: =($O53+G$1*$P53+Sheet2!$K$24*(Sheet3!$Q53+Sheet3!G$1*Sheet3!$R53)) * ($S53+G$1*$T53) -> 341.32 | J53: =Sheet2!A24 -> Elder Treant | K53: 50 | L53: 15 | M53: 19 | N53: 0 | O53: 24 | P53: 2 | Q53: 0.25 | R53: 0.03 | S53: 2 | T53: 0.75
A54: Ice Lance | C54: =(($O54+B$1*$P54+Sheet2!$K$14*(Sheet3!$Q54+Sheet3!B$1*Sheet3!$R54))+($S54+B$1*$T54+Sheet2!$K$14*(Sheet3!$U54+Sheet3!B$1*Sheet3!$V54)))*Sheet2!$T14 -> 438.815 | D54: =(($O54+C$1*$P54+Sheet2!$K$14*(Sheet3!$Q54+Sheet3!C$1*Sheet3!$R54))+($S54+C$1*$T54+Sheet2!$K$14*(Sheet3!$U54+Sheet3!C$1*Sheet3!$V54)))*Sheet2!$T14 -> 527.1175 | E54: =(($O54+D$1*$P54+Sheet2!$K$14*(Sheet3!$Q54+Sheet3!D$1*Sheet3!$R54))+($S54+D$1*$T54+Sheet2!$K$14*(Sheet3!$U54+Sheet3!D$1*Sheet3!$V54)))*Sheet2!$T14 -> 615.42 | F54: =(($O54+E$1*$P54+Sheet2!$K$14*(Sheet3!$Q54+Sheet3!E$1*Sheet3!$R54))+($S54+E$1*$T54+Sheet2!$K$14*(Sheet3!$U54+Sheet3!E$1*Sheet3!$V54)))*Sheet2!$T14 -> 703.7225 | G54: =(($O54+F$1*$P54+Sheet2!$K$14*(Sheet3!$Q54+Sheet3!F$1*Sheet3!$R54))+($S54+F$1*$T54+Sheet2!$K$14*(Sheet3!$U54+Sheet3!F$1*Sheet3!$V54)))*Sheet2!$T14 -> 792.025 | H54: =(($O54+G$1*$P54+Sheet2!$K$14*(Sheet3!$Q54+Sheet3!G$1*Sheet3!$R54))+($S54+G$1*$T54+Sheet2!$K$14*(Sheet3!$U54+Sheet3!G$1*Sheet3!$V54)))*Sheet2!$T14 -> 880.3275 | J54: =Sheet2!A14 -> Icespinner | K54: 60 | L54: 25 | M54: 17 | N54: 0 | O54: 50 | P54: 15 | Q54: 0.5 | R54: 0.1 | S54: 30 | T54: 10 | U54: 1 | V54: 0.15
A55: Lunge | C55: =($O55+B$1*$P55+Sheet2!$I$25*(Sheet3!$Q55+Sheet3!B$1*Sheet3!$R55)) -> 286.25 | D55: =($O55+C$1*$P55+Sheet2!$I$25*(Sheet3!$Q55+Sheet3!C$1*Sheet3!$R55)) -> 374.5 | E55: =($O55+D$1*$P55+Sheet2!$I$25*(Sheet3!$Q55+Sheet3!D$1*Sheet3!$R55)) -> 462.75 | F55: =($O55+E$1*$P55+Sheet2!$I$25*(Sheet3!$Q55+Sheet3!E$1*Sheet3!$R55)) -> 551 | G55: =($O55+F$1*$P55+Sheet2!$I$25*(Sheet3!$Q55+Sheet3!F$1*Sheet3!$R55)) -> 639.25 | H55: =($O55+G$1*$P55+Sheet2!$I$25*(Sheet3!$Q55+Sheet3!G$1*Sheet3!$R55)) -> 727.5 | J55: =Sheet2!A25 -> Master of the Hunt | K55: 40 | L55: 7 | M55: 8 | N55: 0 | O55: 70 | P55: 45 | Q55: 1.25 | R55: 0.25
A56: Smite | C56: =($O56+B$1*$P56+Sheet2!$K$7*(Sheet3!$Q56+Sheet3!B$1*Sheet3!$R56))*Sheet2!$T7 -> 191.65 | D56: =($O56+C$1*$P56+Sheet2!$K$7*(Sheet3!$Q56+Sheet3!C$1*Sheet3!$R56))*Sheet2!$T7 -> 267.0625 | E56: =($O56+D$1*$P56+Sheet2!$K$7*(Sheet3!$Q56+Sheet3!D$1*Sheet3!$R56))*Sheet2!$T7 -> 342.475 | F56: =($O56+E$1*$P56+Sheet2!$K$7*(Sheet3!$Q56+Sheet3!E$1*Sheet3!$R56))*Sheet2!$T7 -> 417.8875 | G56: =($O56+F$1*$P56+Sheet2!$K$7*(Sheet3!$Q56+Sheet3!F$1*Sheet3!$R56))*Sheet2!$T7 -> 493.3 | H56: =($O56+G$1*$P56+Sheet2!$K$7*(Sheet3!$Q56+Sheet3!G$1*Sheet3!$R56))*Sheet2!$T7 -> 568.7125 | J56: =Sheet2!A7 -> Scarab | K56: 90 | L56: 0 | M56: 8 | N56: 0 | O56: 50 | P56: 40 | Q56: 1 | R56: 0.25
A57: Maw of Death | C57: =($O57+B$1*$P57+Sheet2!$I$26*(Sheet3!$Q57+Sheet3!B$1*Sheet3!$R57)) -> 256.95 | D57: =($O57+C$1*$P57+Sheet2!$I$26*(Sheet3!$Q57+Sheet3!C$1*Sheet3!$R57)) -> 310.7425 | E57: =($O57+D$1*$P57+Sheet2!$I$26*(Sheet3!$Q57+Sheet3!D$1*Sheet3!$R57)) -> 364.535 | F57: =($O57+E$1*$P57+Sheet2!$I$26*(Sheet3!$Q57+Sheet3!E$1*Sheet3!$R57)) -> 418.3275 | G57: =($O57+F$1*$P57+Sheet2!$I$26*(Sheet3!$Q57+Sheet3!F$1*Sheet3!$R57)) -> 472.12 | H57: =($O57+G$1*$P57+Sheet2!$I$26*(Sheet3!$Q57+Sheet3!G$1*Sheet3!$R57)) -> 525.9125 | J57: =Sheet2!A26 -> Behemoth | K57: 35 | L57: 6 | M57: 8 | N57: 0 | O57: 65 | P57: 25 | Q57: 1 | R57: 0.15
A58: Cinderfury | C58: =($O58+B$1*$P58+Sheet2!$I$17*(Sheet3!$Q58+Sheet3!B$1*Sheet3!$R58))*4*Sheet2!$T17 -> 286.74 | D58: =($O58+C$1*$P58+Sheet2!$I$17*(Sheet3!$Q58+Sheet3!C$1*Sheet3!$R58))*4*Sheet2!$T17 -> 387.646 | E58: =($O58+D$1*$P58+Sheet2!$I$17*(Sheet3!$Q58+Sheet3!D$1*Sheet3!$R58))*4*Sheet2!$T17 -> 488.552 | F58: =($O58+E$1*$P58+Sheet2!$I$17*(Sheet3!$Q58+Sheet3!E$1*Sheet3!$R58))*4*Sheet2!$T17 -> 589.458 | G58: =($O58+F$1*$P58+Sheet2!$I$17*(Sheet3!$Q58+Sheet3!F$1*Sheet3!$R58))*4*Sheet2!$T17 -> 690.364 | H58: =($O58+G$1*$P58+Sheet2!$I$17*(Sheet3!$Q58+Sheet3!G$1*Sheet3!$R58))*4*Sheet2!$T17 -> 791.27 | J58: =Sheet2!A17 -> Emberwraith | K58: 45 | L58: 6 | M58: 14 | N58: 0 | O58: 15 | P58: 12 | Q58: 0.3 | R58: 0.07
A59: Rend Soul | C59: =($O59+B$1*$P59+Sheet2!$K$27*(Sheet3!$Q59+Sheet3!B$1*Sheet3!$R59))*Sheet2!$T27 -> 541.138 | D59: =($O59+C$1*$P59+Sheet2!$K$27*(Sheet3!$Q59+Sheet3!C$1*Sheet3!$R59))*Sheet2!$T27 -> 587.3426 | E59: =($O59+D$1*$P59+Sheet2!$K$27*(Sheet3!$Q59+Sheet3!D$1*Sheet3!$R59))*Sheet2!$T27 -> 633.5472 | F59: =($O59+E$1*$P59+Sheet2!$K$27*(Sheet3!$Q59+Sheet3!E$1*Sheet3!$R59))*Sheet2!$T27 -> 679.7518 | G59: =($O59+F$1*$P59+Sheet2!$K$27*(Sheet3!$Q59+Sheet3!F$1*Sheet3!$R59))*Sheet2!$T27 -> 725.9564 | H59: =($O59+G$1*$P59+Sheet2!$K$27*(Sheet3!$Q59+Sheet3!G$1*Sheet3!$R59))*Sheet2!$T27 -> 772.161 | J59: =Sheet2!A27 -> Incarnation | K59: 55 | L59: 6 | M59: 27 | N59: -3 | O59: 100 | P59: 25 | Q59: 1.8 | R59: 0.06
A60: Mortal Strike | C60: =($O60+B$1*$P60+Sheet2!$I$28*(Sheet3!$Q60+Sheet3!B$1*Sheet3!$R60)) -> 191.45 | D60: =($O60+C$1*$P60+Sheet2!$I$28*(Sheet3!$Q60+Sheet3!C$1*Sheet3!$R60)) -> 264.265 | E60: =($O60+D$1*$P60+Sheet2!$I$28*(Sheet3!$Q60+Sheet3!D$1*Sheet3!$R60)) -> 337.08 | F60: =($O60+E$1*$P60+Sheet2!$I$28*(Sheet3!$Q60+Sheet3!E$1*Sheet3!$R60)) -> 409.895 | G60: =($O60+F$1*$P60+Sheet2!$I$28*(Sheet3!$Q60+Sheet3!F$1*Sheet3!$R60)) -> 482.71 | H60: =($O60+G$1*$P60+Sheet2!$I$28*(Sheet3!$Q60+Sheet3!G$1*Sheet3!$R60)) -> 555.525 | J60: =Sheet2!A28 -> Sorrow Liege | K60: 45 | L60: 12 | M60: 8 | N60: 0 | O60: 20 | P60: 29 | Q60: 0.9 | R60: 0.23
A61: Shatter | C61: =($O61+B$1*$P61+Sheet2!$I$9*(Sheet3!$Q61+Sheet3!B$1*Sheet3!$R61)) -> 152.96 | D61: =($O61+C$1*$P61+Sheet2!$I$9*(Sheet3!$Q61+Sheet3!C$1*Sheet3!$R61)) -> 192.14 | E61: =($O61+D$1*$P61+Sheet2!$I$9*(Sheet3!$Q61+Sheet3!D$1*Sheet3!$R61)) -> 231.32 | F61: =($O61+E$1*$P61+Sheet2!$I$9*(Sheet3!$Q61+Sheet3!E$1*Sheet3!$R61)) -> 270.5 | G61: =($O61+F$1*$P61+Sheet2!$I$9*(Sheet3!$Q61+Sheet3!F$1*Sheet3!$R61)) -> 309.68 | H61: =($O61+G$1*$P61+Sheet2!$I$9*(Sheet3!$Q61+Sheet3!G$1*Sheet3!$R61)) -> 348.86 | J61: =Sheet2!A9 -> Glacial Tyrant | K61: 35 | L61: 6 | M61: 6 | N61: 0 | O61: 40 | P61: 18 | Q61: 0.8 | R61: 0.15
A62: Dominant Blow (Str) | C62: =($O62+B$1*$P62+Sheet2!$I$39*(Sheet3!$Q62+Sheet3!B$1*Sheet3!$R62)) -> 136.55 | D62: =($O62+C$1*$P62+Sheet2!$I$39*(Sheet3!$Q62+Sheet3!C$1*Sheet3!$R62)) -> 181.86 | E62: =($O62+D$1*$P62+Sheet2!$I$39*(Sheet3!$Q62+Sheet3!D$1*Sheet3!$R62)) -> 227.17 | F62: =($O62+E$1*$P62+Sheet2!$I$39*(Sheet3!$Q62+Sheet3!E$1*Sheet3!$R62)) -> 272.48 | G62: =($O62+F$1*$P62+Sheet2!$I$39*(Sheet3!$Q62+Sheet3!F$1*Sheet3!$R62)) -> 317.79 | H62: =($O62+G$1*$P62+Sheet2!$I$39*(Sheet3!$Q62+Sheet3!G$1*Sheet3!$R62)) -> 363.1 | J62: =Sheet2!A39 -> Crimson Squall | K62: 90 | L62: 17 | M62: 8 | N62: 0 | O62: 55 | P62: 29 | Q62: 1 | R62: 0.2
A63: Dominant Blow (Agi) | C63: =($O63+B$1*$P63+Sheet2!$J$39*(Sheet3!$Q63+Sheet3!B$1*Sheet3!$R63)) -> 162.585 | D63: =($O63+C$1*$P63+Sheet2!$J$39*(Sheet3!$Q63+Sheet3!C$1*Sheet3!$R63)) -> 203.1365 | E63: =($O63+D$1*$P63+Sheet2!$J$39*(Sheet3!$Q63+Sheet3!D$1*Sheet3!$R63)) -> 243.688 | F63: =($O63+E$1*$P63+Sheet2!$J$39*(Sheet3!$Q63+Sheet3!E$1*Sheet3!$R63)) -> 284.2395 | G63: =($O63+F$1*$P63+Sheet2!$J$39*(Sheet3!$Q63+Sheet3!F$1*Sheet3!$R63)) -> 324.791 | H63: =($O63+G$1*$P63+Sheet2!$J$39*(Sheet3!$Q63+Sheet3!G$1*Sheet3!$R63)) -> 365.3425 | J63: =Sheet2!A39 -> Crimson Squall | K63: 90 | L63: 17 | M63: 8 | N63: 0 | O63: 25 | P63: 15 | Q63: 0.7 | R63: 0.13
A64: Dominant Blow (Int) | C64: =($O64+B$1*$P64+Sheet2!$I$39*(Sheet3!$Q64+Sheet3!B$1*Sheet3!$R64))+($S64+B$1*$T64+Sheet2!$I$39*(Sheet3!$U64+Sheet3!B$1*Sheet3!$V64))*0.75 -> 118.58875 | D64: =($O64+C$1*$P64+Sheet2!$I$39*(Sheet3!$Q64+Sheet3!C$1*Sheet3!$R64))+($S64+C$1*$T64+Sheet2!$I$39*(Sheet3!$U64+Sheet3!C$1*Sheet3!$V64))*0.75 -> 161.9375 | E64: =($O64+D$1*$P64+Sheet2!$I$39*(Sheet3!$Q64+Sheet3!D$1*Sheet3!$R64))+($S64+D$1*$T64+Sheet2!$I$39*(Sheet3!$U64+Sheet3!D$1*Sheet3!$V64))*0.75 -> 205.28625 | F64: =($O64+E$1*$P64+Sheet2!$I$39*(Sheet3!$Q64+Sheet3!E$1*Sheet3!$R64))+($S64+E$1*$T64+Sheet2!$I$39*(Sheet3!$U64+Sheet3!E$1*Sheet3!$V64))*0.75 -> 248.635 | G64: =($O64+F$1*$P64+Sheet2!$I$39*(Sheet3!$Q64+Sheet3!F$1*Sheet3!$R64))+($S64+F$1*$T64+Sheet2!$I$39*(Sheet3!$U64+Sheet3!F$1*Sheet3!$V64))*0.75 -> 291.98375 | H64: =($O64+G$1*$P64+Sheet2!$I$39*(Sheet3!$Q64+Sheet3!G$1*Sheet3!$R64))+($S64+G$1*$T64+Sheet2!$I$39*(Sheet3!$U64+Sheet3!G$1*Sheet3!$V64))*0.75 -> 335.3325 | J64: =Sheet2!A39 -> Crimson Squall | K64: 90 | L64: 17 | M64: 8 | N64: 0 | O64: 20 | P64: 10 | Q64: 0.5 | R64: 0.15 | S64: 20 | T64: 20 | U64: 0.7 | V64: 0.1
A65: Attack of Opportunity | C65: =($O65+B$1*$P65+Sheet2!$J$32*(Sheet3!$Q65+Sheet3!B$1*Sheet3!$R65)) -> 567.22 | D65: =($O65+C$1*$P65+Sheet2!$J$32*(Sheet3!$Q65+Sheet3!C$1*Sheet3!$R65)) -> 789.88 | E65: =($O65+D$1*$P65+Sheet2!$J$32*(Sheet3!$Q65+Sheet3!D$1*Sheet3!$R65)) -> 1012.54 | F65: =($O65+E$1*$P65+Sheet2!$J$32*(Sheet3!$Q65+Sheet3!E$1*Sheet3!$R65)) -> 1235.2 | G65: =($O65+F$1*$P65+Sheet2!$J$32*(Sheet3!$Q65+Sheet3!F$1*Sheet3!$R65)) -> 1457.86 | H65: =($O65+G$1*$P65+Sheet2!$J$32*(Sheet3!$Q65+Sheet3!G$1*Sheet3!$R65)) -> 1680.52 | J65: =Sheet2!A32 -> Infiltrator | K65: 40 | L65: 18 | M65: 11 | N65: 0 | O65: 180 | P65: 80 | Q65: 1.9 | R65: 0.7
A66: Necrotic Shot | C66: =($O66+B$1*$P66+Sheet2!$J$34*(Sheet3!$Q66+Sheet3!B$1*Sheet3!$R66)) -> 44.345 | D66: =($O66+C$1*$P66+Sheet2!$J$34*(Sheet3!$Q66+Sheet3!C$1*Sheet3!$R66)) -> 75.4025 | E66: =($O66+D$1*$P66+Sheet2!$J$34*(Sheet3!$Q66+Sheet3!D$1*Sheet3!$R66)) -> 106.46 | F66: =($O66+E$1*$P66+Sheet2!$J$34*(Sheet3!$Q66+Sheet3!E$1*Sheet3!$R66)) -> 137.5175 | G66: =($O66+F$1*$P66+Sheet2!$J$34*(Sheet3!$Q66+Sheet3!F$1*Sheet3!$R66)) -> 168.575 | H66: =($O66+G$1*$P66+Sheet2!$J$34*(Sheet3!$Q66+Sheet3!G$1*Sheet3!$R66)) -> 199.6325 | J66: =Sheet2!A34 -> Arcane Mistress | K66: 20 | L66: 3 | M66: 8 | N66: 0 | O66: 20 | P66: 27 | Q66: 0.3 | R66: 0.05
A67: Infernal Binding | C67: =($O67+B$1*$P67+Sheet2!$K$34*(Sheet3!$Q67+Sheet3!B$1*Sheet3!$R67))*6 * 1.67 -> 86.18202 | D67: =($O67+C$1*$P67+Sheet2!$K$34*(Sheet3!$Q67+Sheet3!C$1*Sheet3!$R67))*6 * 1.67 -> 152.32404 | E67: =($O67+D$1*$P67+Sheet2!$K$34*(Sheet3!$Q67+Sheet3!D$1*Sheet3!$R67))*6 * 1.67 -> 218.46606 | F67: =($O67+E$1*$P67+Sheet2!$K$34*(Sheet3!$Q67+Sheet3!E$1*Sheet3!$R67))*6 * 1.67 -> 284.60808 | G67: =($O67+F$1*$P67+Sheet2!$K$34*(Sheet3!$Q67+Sheet3!F$1*Sheet3!$R67))*6 * 1.67 -> 350.7501 | H67: =($O67+G$1*$P67+Sheet2!$K$34*(Sheet3!$Q67+Sheet3!G$1*Sheet3!$R67))*6 * 1.67 -> 416.89212 | J67: =Sheet2!A34 -> Arcane Mistress | K67: 70 | L67: 30 | M67: 15 | N67: 0 | O67: 5 | P67: 3 | Q67: 0.02 | R67: 0.02
A68: Swoop | C68: =($O68+B$1*$P68+Sheet2!$J$36*(Sheet3!$Q68+Sheet3!B$1*Sheet3!$R68))*2.5 -> 413.8 | D68: =($O68+C$1*$P68+Sheet2!$J$36*(Sheet3!$Q68+Sheet3!C$1*Sheet3!$R68))*2.5 -> 471.2 | E68: =($O68+D$1*$P68+Sheet2!$J$36*(Sheet3!$Q68+Sheet3!D$1*Sheet3!$R68))*2.5 -> 528.6 | F68: =($O68+E$1*$P68+Sheet2!$J$36*(Sheet3!$Q68+Sheet3!E$1*Sheet3!$R68))*2.5 -> 586 | G68: =($O68+F$1*$P68+Sheet2!$J$36*(Sheet3!$Q68+Sheet3!F$1*Sheet3!$R68))*2.5 -> 643.4 | H68: =($O68+G$1*$P68+Sheet2!$J$36*(Sheet3!$Q68+Sheet3!G$1*Sheet3!$R68))*2.5 -> 700.8 | J68: =Sheet2!A35 -> Grim Hag | K68: 60 | L68: 7 | M68: 30 | N68: 0 | O68: 70 | P68: 15 | Q68: 1.2 | R68: 0.1
A69: Entangling Seed | C69: =($O69+B$1*$P69+Sheet2!$K$36*(Sheet3!$Q69+Sheet3!B$1*Sheet3!$R69)) -> 112.9 | D69: =($O69+C$1*$P69+Sheet2!$K$36*(Sheet3!$Q69+Sheet3!C$1*Sheet3!$R69)) -> 153.82 | E69: =($O69+D$1*$P69+Sheet2!$K$36*(Sheet3!$Q69+Sheet3!D$1*Sheet3!$R69)) -> 194.74 | F69: =($O69+E$1*$P69+Sheet2!$K$36*(Sheet3!$Q69+Sheet3!E$1*Sheet3!$R69)) -> 235.66 | G69: =($O69+F$1*$P69+Sheet2!$K$36*(Sheet3!$Q69+Sheet3!F$1*Sheet3!$R69)) -> 276.58 | H69: =($O69+G$1*$P69+Sheet2!$K$36*(Sheet3!$Q69+Sheet3!G$1*Sheet3!$R69)) -> 317.5 | J69: =Sheet2!A36 -> Putrid Eidolon | K69: 60 | L69: 16 | M69: 22 | N69: 0 | O69: 40 | P69: 15 | Q69: 0.45 | R69: 0.16
A70: Doom Hammer | C70: =($O70+B$1*$P70+Sheet2!$I$19*(Sheet3!$Q70+Sheet3!B$1*Sheet3!$R70)) -> 208.7 | D70: =($O70+C$1*$P70+Sheet2!$I$19*(Sheet3!$Q70+Sheet3!C$1*Sheet3!$R70)) -> 260.44 | E70: =($O70+D$1*$P70+Sheet2!$I$19*(Sheet3!$Q70+Sheet3!D$1*Sheet3!$R70)) -> 312.18 | F70: =($O70+E$1*$P70+Sheet2!$I$19*(Sheet3!$Q70+Sheet3!E$1*Sheet3!$R70)) -> 363.92 | G70: =($O70+F$1*$P70+Sheet2!$I$19*(Sheet3!$Q70+Sheet3!F$1*Sheet3!$R70)) -> 415.66 | H70: =($O70+G$1*$P70+Sheet2!$I$19*(Sheet3!$Q70+Sheet3!G$1*Sheet3!$R70)) -> 467.4 | J70: =Sheet2!A19 -> Blackguard | K70: 60 | L70: 9 | M70: 18 | N70: 0 | O70: 25 | P70: 15 | Q70: 1 | R70: 0.2

Sheet Sheet4
B1: Int | C1: 1 | D1: 2 | E1: 3 | F1: 4 | G1: 5 | H1: 6
A2: 5 | B2: =Sheet2!$F$5+(A2-1)*Sheet2!$G$5+Sheet1!$B$6 -> 26.8 | C2: =Sheet3!$O$8+(Sheet4!C$1-1)*Sheet3!$P$8+$B2*(Sheet3!$Q$8+(Sheet4!C$1-1)*Sheet3!$R$8) -> 176.8 | D2: =Sheet3!$O$8+(Sheet4!D$1-1)*Sheet3!$P$8+$B2*(Sheet3!$Q$8+(Sheet4!D$1-1)*Sheet3!$R$8) -> 312.52 | E2: =Sheet3!$O$8+(Sheet4!E$1-1)*Sheet3!$P$8+$B2*(Sheet3!$Q$8+(Sheet4!E$1-1)*Sheet3!$R$8) -> 448.24 | F2: =Sheet3!$O$8+(Sheet4!F$1-1)*Sheet3!$P$8+$B2*(Sheet3!$Q$8+(Sheet4!F$1-1)*Sheet3!$R$8) -> 583.96 | G2: =Sheet3!$O$8+(Sheet4!G$1-1)*Sheet3!$P$8+$B2*(Sheet3!$Q$8+(Sheet4!G$1-1)*Sheet3!$R$8) -> 719.68 | H2: =Sheet3!$O$8+(Sheet4!H$1-1)*Sheet3!$P$8+$B2*(Sheet3!$Q$8+(Sheet4!H$1-1)*Sheet3!$R$8) -> 855.4
A3: 10 | B3: =Sheet2!$F$5+(A3-1)*Sheet2!$G$5+Sheet1!$B$6 -> 37.8 | C3: =Sheet3!$O$8+(Sheet4!C$1-1)*Sheet3!$P$8+$B3*(Sheet3!$Q$8+(Sheet4!C$1-1)*Sheet3!$R$8) -> 187.8 | D3: =Sheet3!$O$8+(Sheet4!D$1-1)*Sheet3!$P$8+$B3*(Sheet3!$Q$8+(Sheet4!D$1-1)*Sheet3!$R$8) -> 327.92 | E3: =Sheet3!$O$8+(Sheet4!E$1-1)*Sheet3!$P$8+$B3*(Sheet3!$Q$8+(Sheet4!E$1-1)*Sheet3!$R$8) -> 468.04 | F3: =Sheet3!$O$8+(Sheet4!F$1-1)*Sheet3!$P$8+$B3*(Sheet3!$Q$8+(Sheet4!F$1-1)*Sheet3!$R$8) -> 608.16 | G3: =Sheet3!$O$8+(Sheet4!G$1-1)*Sheet3!$P$8+$B3*(Sheet3!$Q$8+(Sheet4!G$1-1)*Sheet3!$R$8) -> 748.28 | H3: =Sheet3!$O$8+(Sheet4!H$1-1)*Sheet3!$P$8+$B3*(Sheet3!$Q$8+(Sheet4!H$1-1)*Sheet3!$R$8) -> 888.4
A4: 15 | B4: =Sheet2!$F$5+(A4-1)*Sheet2!$G$5+Sheet1!$B$6 -> 48.8 | C4: =Sheet3!$O$8+(Sheet4!C$1-1)*Sheet3!$P$8+$B4*(Sheet3!$Q$8+(Sheet4!C$1-1)*Sheet3!$R$8) -> 198.8 | D4: =Sheet3!$O$8+(Sheet4!D$1-1)*Sheet3!$P$8+$B4*(Sheet3!$Q$8+(Sheet4!D$1-1)*Sheet3!$R$8) -> 343.32 | E4: =Sheet3!$O$8+(Sheet4!E$1-1)*Sheet3!$P$8+$B4*(Sheet3!$Q$8+(Sheet4!E$1-1)*Sheet3!$R$8) -> 487.84 | F4: =Sheet3!$O$8+(Sheet4!F$1-1)*Sheet3!$P$8+$B4*(Sheet3!$Q$8+(Sheet4!F$1-1)*Sheet3!$R$8) -> 632.36 | G4: =Sheet3!$O$8+(Sheet4!G$1-1)*Sheet3!$P$8+$B4*(Sheet3!$Q$8+(Sheet4!G$1-1)*Sheet3!$R$8) -> 776.88 | H4: =Sheet3!$O$8+(Sheet4!H$1-1)*Sheet3!$P$8+$B4*(Sheet3!$Q$8+(Sheet4!H$1-1)*Sheet3!$R$8) -> 921.4
A5: 20 | B5: =Sheet2!$F$5+(A5-1)*Sheet2!$G$5+Sheet1!$B$6 -> 59.8 | C5: =Sheet3!$O$8+(Sheet4!C$1-1)*Sheet3!$P$8+$B5*(Sheet3!$Q$8+(Sheet4!C$1-1)*Sheet3!$R$8) -> 209.8 | D5: =Sheet3!$O$8+(Sheet4!D$1-1)*Sheet3!$P$8+$B5*(Sheet3!$Q$8+(Sheet4!D$1-1)*Sheet3!$R$8) -> 358.72 | E5: =Sheet3!$O$8+(Sheet4!E$1-1)*Sheet3!$P$8+$B5*(Sheet3!$Q$8+(Sheet4!E$1-1)*Sheet3!$R$8) -> 507.64 | F5: =Sheet3!$O$8+(Sheet4!F$1-1)*Sheet3!$P$8+$B5*(Sheet3!$Q$8+(Sheet4!F$1-1)*Sheet3!$R$8) -> 656.56 | G5: =Sheet3!$O$8+(Sheet4!G$1-1)*Sheet3!$P$8+$B5*(Sheet3!$Q$8+(Sheet4!G$1-1)*Sheet3!$R$8) -> 805.48 | H5: =Sheet3!$O$8+(Sheet4!H$1-1)*Sheet3!$P$8+$B5*(Sheet3!$Q$8+(Sheet4!H$1-1)*Sheet3!$R$8) -> 954.4
A6: 25 | B6: =Sheet2!$F$5+(A6-1)*Sheet2!$G$5+Sheet1!$B$6 -> 70.8 | C6: =Sheet3!$O$8+(Sheet4!C$1-1)*Sheet3!$P$8+$B6*(Sheet3!$Q$8+(Sheet4!C$1-1)*Sheet3!$R$8) -> 220.8 | D6: =Sheet3!$O$8+(Sheet4!D$1-1)*Sheet3!$P$8+$B6*(Sheet3!$Q$8+(Sheet4!D$1-1)*Sheet3!$R$8) -> 374.12 | E6: =Sheet3!$O$8+(Sheet4!E$1-1)*Sheet3!$P$8+$B6*(Sheet3!$Q$8+(Sheet4!E$1-1)*Sheet3!$R$8) -> 527.44 | F6: =Sheet3!$O$8+(Sheet4!F$1-1)*Sheet3!$P$8+$B6*(Sheet3!$Q$8+(Sheet4!F$1-1)*Sheet3!$R$8) -> 680.76 | G6: =Sheet3!$O$8+(Sheet4!G$1-1)*Sheet3!$P$8+$B6*(Sheet3!$Q$8+(Sheet4!G$1-1)*Sheet3!$R$8) -> 834.08 | H6: =Sheet3!$O$8+(Sheet4!H$1-1)*Sheet3!$P$8+$B6*(Sheet3!$Q$8+(Sheet4!H$1-1)*Sheet3!$R$8) -> 987.4
A7: 30 | B7: =Sheet2!$F$5+(A7-1)*Sheet2!$G$5+Sheet1!$B$6 -> 81.8 | C7: =Sheet3!$O$8+(Sheet4!C$1-1)*Sheet3!$P$8+$B7*(Sheet3!$Q$8+(Sheet4!C$1-1)*Sheet3!$R$8) -> 231.8 | D7: =Sheet3!$O$8+(Sheet4!D$1-1)*Sheet3!$P$8+$B7*(Sheet3!$Q$8+(Sheet4!D$1-1)*Sheet3!$R$8) -> 389.52 | E7: =Sheet3!$O$8+(Sheet4!E$1-1)*Sheet3!$P$8+$B7*(Sheet3!$Q$8+(Sheet4!E$1-1)*Sheet3!$R$8) -> 547.24 | F7: =Sheet3!$O$8+(Sheet4!F$1-1)*Sheet3!$P$8+$B7*(Sheet3!$Q$8+(Sheet4!F$1-1)*Sheet3!$R$8) -> 704.96 | G7: =Sheet3!$O$8+(Sheet4!G$1-1)*Sheet3!$P$8+$B7*(Sheet3!$Q$8+(Sheet4!G$1-1)*Sheet3!$R$8) -> 862.68 | H7: =Sheet3!$O$8+(Sheet4!H$1-1)*Sheet3!$P$8+$B7*(Sheet3!$Q$8+(Sheet4!H$1-1)*Sheet3!$R$8) -> 1020.4
A8: 35 | B8: =Sheet2!$F$5+(A8-1)*Sheet2!$G$5+Sheet1!$B$6 -> 92.8 | C8: =Sheet3!$O$8+(Sheet4!C$1-1)*Sheet3!$P$8+$B8*(Sheet3!$Q$8+(Sheet4!C$1-1)*Sheet3!$R$8) -> 242.8 | D8: =Sheet3!$O$8+(Sheet4!D$1-1)*Sheet3!$P$8+$B8*(Sheet3!$Q$8+(Sheet4!D$1-1)*Sheet3!$R$8) -> 404.92 | E8: =Sheet3!$O$8+(Sheet4!E$1-1)*Sheet3!$P$8+$B8*(Sheet3!$Q$8+(Sheet4!E$1-1)*Sheet3!$R$8) -> 567.04 | F8: =Sheet3!$O$8+(Sheet4!F$1-1)*Sheet3!$P$8+$B8*(Sheet3!$Q$8+(Sheet4!F$1-1)*Sheet3!$R$8) -> 729.16 | G8: =Sheet3!$O$8+(Sheet4!G$1-1)*Sheet3!$P$8+$B8*(Sheet3!$Q$8+(Sheet4!G$1-1)*Sheet3!$R$8) -> 891.28 | H8: =Sheet3!$O$8+(Sheet4!H$1-1)*Sheet3!$P$8+$B8*(Sheet3!$Q$8+(Sheet4!H$1-1)*Sheet3!$R$8) -> 1053.4
A9: 40 | B9: =Sheet2!$F$5+(A9-1)*Sheet2!$G$5+Sheet1!$B$6 -> 103.8 | C9: =Sheet3!$O$8+(Sheet4!C$1-1)*Sheet3!$P$8+$B9*(Sheet3!$Q$8+(Sheet4!C$1-1)*Sheet3!$R$8) -> 253.8 | D9: =Sheet3!$O$8+(Sheet4!D$1-1)*Sheet3!$P$8+$B9*(Sheet3!$Q$8+(Sheet4!D$1-1)*Sheet3!$R$8) -> 420.32 | E9: =Sheet3!$O$8+(Sheet4!E$1-1)*Sheet3!$P$8+$B9*(Sheet3!$Q$8+(Sheet4!E$1-1)*Sheet3!$R$8) -> 586.84 | F9: =Sheet3!$O$8+(Sheet4!F$1-1)*Sheet3!$P$8+$B9*(Sheet3!$Q$8+(Sheet4!F$1-1)*Sheet3!$R$8) -> 753.36 | G9: =Sheet3!$O$8+(Sheet4!G$1-1)*Sheet3!$P$8+$B9*(Sheet3!$Q$8+(Sheet4!G$1-1)*Sheet3!$R$8) -> 919.88 | H9: =Sheet3!$O$8+(Sheet4!H$1-1)*Sheet3!$P$8+$B9*(Sheet3!$Q$8+(Sheet4!H$1-1)*Sheet3!$R$8) -> 1086.4
B11: 8 | C11: =$B2*$B$11 -> 214.4 | D11: =$B2*$B$11 -> 214.4 | E11: =$B2*$B$11 -> 214.4 | F11: =$B2*$B$11 -> 214.4 | G11: =$B2*$B$11 -> 214.4 | H11: =$B2*$B$11 -> 214.4
C12: =$B3*$B$11 -> 302.4 | D12: =$B3*$B$11 -> 302.4 | E12: =$B3*$B$11 -> 302.4 | F12: =$B3*$B$11 -> 302.4 | G12: =$B3*$B$11 -> 302.4 | H12: =$B3*$B$11 -> 302.4
C13: =$B4*$B$11 -> 390.4 | D13: =$B4*$B$11 -> 390.4 | E13: =$B4*$B$11 -> 390.4 | F13: =$B4*$B$11 -> 390.4 | G13: =$B4*$B$11 -> 390.4 | H13: =$B4*$B$11 -> 390.4
C14: =$B5*$B$11 -> 478.4 | D14: =$B5*$B$11 -> 478.4 | E14: =$B5*$B$11 -> 478.4 | F14: =$B5*$B$11 -> 478.4 | G14: =$B5*$B$11 -> 478.4 | H14: =$B5*$B$11 -> 478.4
C15: =$B6*$B$11 -> 566.4 | D15: =$B6*$B$11 -> 566.4 | E15: =$B6*$B$11 -> 566.4 | F15: =$B6*$B$11 -> 566.4 | G15: =$B6*$B$11 -> 566.4 | H15: =$B6*$B$11 -> 566.4
C16: =$B7*$B$11 -> 654.4 | D16: =$B7*$B$11 -> 654.4 | E16: =$B7*$B$11 -> 654.4 | F16: =$B7*$B$11 -> 654.4 | G16: =$B7*$B$11 -> 654.4 | H16: =$B7*$B$11 -> 654.4
C17: =$B8*$B$11 -> 742.4 | D17: =$B8*$B$11 -> 742.4 | E17: =$B8*$B$11 -> 742.4 | F17: =$B8*$B$11 -> 742.4 | G17: =$B8*$B$11 -> 742.4 | H17: =$B8*$B$11 -> 742.4
C18: =$B9*$B$11 -> 830.4 | D18: =$B9*$B$11 -> 830.4 | E18: =$B9*$B$11 -> 830.4 | F18: =$B9*$B$11 -> 830.4 | G18: =$B9*$B$11 -> 830.4 | H18: =$B9*$B$11 -> 830.4
C20: =C11/C2 -> 1.2126697 | D20: =D11/D2 -> 0.68603609 | E20: =E11/E2 -> 0.47831519 | F20: =F11/F2 -> 0.36714843 | G20: =G11/G2 -> 0.29791018 | H20: =H11/H2 -> 0.25064297
C21: =C12/C3 -> 1.6102236 | D21: =D12/D3 -> 0.92217614 | E21: =E12/E3 -> 0.64609862 | F21: =F12/F3 -> 0.49723757 | G21: =G12/G3 -> 0.4041268 | H21: =H12/H3 -> 0.34038721
C22: =C13/C4 -> 1.9637827 | D22: =D13/D4 -> 1.1371315 | E22: =E13/E4 -> 0.80026238 | F22: =F13/F4 -> 0.61736985 | G22: =G13/G4 -> 0.50252291 | H22: =H13/H4 -> 0.42370306
C23: =C14/C5 -> 2.2802669 | D23: =D14/D5 -> 1.3336307 | E23: =E14/E5 -> 0.94240013 | F23: =F14/F5 -> 0.72864628 | G23: =G14/G5 -> 0.59393157 | H23: =H14/H5 -> 0.50125733
C24: =C15/C6 -> 2.5652174 | D24: =D15/D6 -> 1.5139527 | E24: =E15/E6 -> 1.0738662 | F24: =F15/F6 -> 0.83201128 | G24: =G15/G6 -> 0.67907155 | H24: =H15/H6 -> 0.57362771
C25: =C16/C7 -> 2.8231234 | D25: =D16/D7 -> 1.6800164 | E25: =E16/E7 -> 1.195819 | F25: =F16/F7 -> 0.92827962 | G25: =G16/G7 -> 0.75856633 | H25: =H16/H7 -> 0.64131713
C26: =C17/C8 -> 3.0576606 | D26: =D17/D8 -> 1.8334486 | E26: =E17/E8 -> 1.3092551 | F26: =F17/F8 -> 1.0181579 | G26: =G17/G8 -> 0.83295934 | H26: =H17/H8 -> 0.70476552
C27: =C18/C9 -> 3.2718676 | D27: =D18/D9 -> 1.9756376 | E27: =E18/E9 -> 1.4150365 | F27: =F18/F9 -> 1.1022619 | G27: =G18/G9 -> 0.90272644 | H27: =H18/H9 -> 0.76435935

Sheet Sheet5
A1: DPS | C1: 1 | D1: 2 | E1: 3 | F1: 4 | G1: 5 | H1: 6 | K1: DPM | L1: 1 | M1: 2 | N1: 3 | O1: 4 | P1: 5 | Q1: 6
A2: =Sheet3!A16 -> Gale | B2: =Sheet3!J16 -> Arboreal Crusader | C2: =Sheet3!C16/(Sheet3!$M16+Sheet3!$N16*Sheet3!B$1) -> 27.593091 | D2: =Sheet3!D16/(Sheet3!$M16+Sheet3!$N16*Sheet3!C$1) -> 35.279636 | E2: =Sheet3!E16/(Sheet3!$M16+Sheet3!$N16*Sheet3!D$1) -> 42.966182 | F2: =Sheet3!F16/(Sheet3!$M16+Sheet3!$N16*Sheet3!E$1) -> 50.652727 | G2: =Sheet3!G16/(Sheet3!$M16+Sheet3!$N16*Sheet3!F$1) -> 58.339273 | H2: =Sheet3!H16/(Sheet3!$M16+Sheet3!$N16*Sheet3!G$1) -> 66.025818 | L2: =Sheet3!C16/(Sheet3!$K16+Sheet3!$L16*Sheet3!B$1) -> 5.5186182 | M2: =Sheet3!D16/(Sheet3!$K16+Sheet3!$L16*Sheet3!C$1) -> 5.0399481 | N2: =Sheet3!E16/(Sheet3!$K16+Sheet3!$L16*Sheet3!D$1) -> 4.7740202 | O2: =Sheet3!F16/(Sheet3!$K16+Sheet3!$L16*Sheet3!E$1) -> 4.6047934 | P2: =Sheet3!G16/(Sheet3!$K16+Sheet3!$L16*Sheet3!F$1) -> 4.4876364 | Q2: =Sheet3!H16/(Sheet3!$K16+Sheet3!$L16*Sheet3!G$1) -> 4.4017212
A3: =Sheet3!A17 -> Incinerate | B3: =Sheet3!J17 -> Soul Binder | C3: =Sheet3!C17/(Sheet3!$M17+Sheet3!$N17*Sheet3!B$1) -> 43.853333 | D3: =Sheet3!D17/(Sheet3!$M17+Sheet3!$N17*Sheet3!C$1) -> 55.636533 | E3: =Sheet3!E17/(Sheet3!$M17+Sheet3!$N17*Sheet3!D$1) -> 67.419733 | F3: =Sheet3!F17/(Sheet3!$M17+Sheet3!$N17*Sheet3!E$1) -> 79.202933 | G3: =Sheet3!G17/(Sheet3!$M17+Sheet3!$N17*Sheet3!F$1) -> 90.986133 | H3: =Sheet3!H17/(Sheet3!$M17+Sheet3!$N17*Sheet3!G$1) -> 102.76933 | L3: =Sheet3!C17/(Sheet3!$K17+Sheet3!$L17*Sheet3!B$1) -> 2.392 | M3: =Sheet3!D17/(Sheet3!$K17+Sheet3!$L17*Sheet3!C$1) -> 2.4189797 | N3: =Sheet3!E17/(Sheet3!$K17+Sheet3!$L17*Sheet3!D$1) -> 2.4368578 | O3: =Sheet3!F17/(Sheet3!$K17+Sheet3!$L17*Sheet3!E$1) -> 2.4495753 | P3: =Sheet3!G17/(Sheet3!$K17+Sheet3!$L17*Sheet3!F$1) -> 2.4590847 | Q3: =Sheet3!H17/(Sheet3!$K17+Sheet3!$L17*Sheet3!G$1) -> 2.466464
A4: =Sheet3!A18 -> Arctic Cataclysm | B4: =Sheet3!J18 -> Glacial Tyrant | C4: =Sheet3!C18/(Sheet3!$M18+Sheet3!$N18*Sheet3!B$1) -> 13.66 | D4: =Sheet3!D18/(Sheet3!$M18+Sheet3!$N18*Sheet3!C$1) -> 16.54625 | E4: =Sheet3!E18/(Sheet3!$M18+Sheet3!$N18*Sheet3!D$1) -> 19.4325 | F4: =Sheet3!F18/(Sheet3!$M18+Sheet3!$N18*Sheet3!E$1) -> 22.31875 | G4: =Sheet3!G18/(Sheet3!$M18+Sheet3!$N18*Sheet3!F$1) -> 25.205 | H4: =Sheet3!H18/(Sheet3!$M18+Sheet3!$N18*Sheet3!G$1) -> 28.09125 | L4: =Sheet3!C18/(Sheet3!$K18+Sheet3!$L18*Sheet3!B$1) -> 3.1222857 | M4: =Sheet3!D18/(Sheet3!$K18+Sheet3!$L18*Sheet3!C$1) -> 2.816383 | N4: =Sheet3!E18/(Sheet3!$K18+Sheet3!$L18*Sheet3!D$1) -> 2.6349153 | O4: =Sheet3!F18/(Sheet3!$K18+Sheet3!$L18*Sheet3!E$1) -> 2.5147887 | P4: =Sheet3!G18/(Sheet3!$K18+Sheet3!$L18*Sheet3!F$1) -> 2.4293976 | Q4: =Sheet3!H18/(Sheet3!$K18+Sheet3!$L18*Sheet3!G$1) -> 2.3655789
A5: =Sheet3!A19 -> Caustic Breath | B5: =Sheet3!J19 -> Acid Reaver | C5: =Sheet3!C19/(Sheet3!$M19+Sheet3!$N19*Sheet3!B$1) -> 35.205 | D5: =Sheet3!D19/(Sheet3!$M19+Sheet3!$N19*Sheet3!C$1) -> 42.265 | E5: =Sheet3!E19/(Sheet3!$M19+Sheet3!$N19*Sheet3!D$1) -> 49.325 | F5: =Sheet3!F19/(Sheet3!$M19+Sheet3!$N19*Sheet3!E$1) -> 56.385 | G5: =Sheet3!G19/(Sheet3!$M19+Sheet3!$N19*Sheet3!F$1) -> 63.445 | H5: =Sheet3!H19/(Sheet3!$M19+Sheet3!$N19*Sheet3!G$1) -> 70.505 | L5: =Sheet3!C19/(Sheet3!$K19+Sheet3!$L19*Sheet3!B$1) -> 7.041 | M5: =Sheet3!D19/(Sheet3!$K19+Sheet3!$L19*Sheet3!C$1) -> 6.5023077 | N5: =Sheet3!E19/(Sheet3!$K19+Sheet3!$L19*Sheet3!D$1) -> 6.165625 | O5: =Sheet3!F19/(Sheet3!$K19+Sheet3!$L19*Sheet3!E$1) -> 5.9352632 | P5: =Sheet3!G19/(Sheet3!$K19+Sheet3!$L19*Sheet3!F$1) -> 5.7677273 | Q5: =Sheet3!H19/(Sheet3!$K19+Sheet3!$L19*Sheet3!G$1) -> 5.6404
A6: =Sheet3!A20 -> Holy Strike | B6: =Sheet3!J20 -> Divine Wizard | C6: =Sheet3!C20/(Sheet3!$M20+Sheet3!$N20*Sheet3!B$1) -> 48.210933 | D6: =Sheet3!D20/(Sheet3!$M20+Sheet3!$N20*Sheet3!C$1) -> 53.589939 | E6: =Sheet3!E20/(Sheet3!$M20+Sheet3!$N20*Sheet3!D$1) -> 58.072444 | F6: =Sheet3!F20/(Sheet3!$M20+Sheet3!$N20*Sheet3!E$1) -> 61.865333 | G6: =Sheet3!G20/(Sheet3!$M20+Sheet3!$N20*Sheet3!F$1) -> 65.116381 | H6: =Sheet3!H20/(Sheet3!$M20+Sheet3!$N20*Sheet3!G$1) -> 67.933956 | L6: =Sheet3!C20/(Sheet3!$K20+Sheet3!$L20*Sheet3!B$1) -> 5.1654571 | M6: =Sheet3!D20/(Sheet3!$K20+Sheet3!$L20*Sheet3!C$1) -> 4.3344804 | N6: =Sheet3!E20/(Sheet3!$K20+Sheet3!$L20*Sheet3!D$1) -> 3.9003881 | O6: =Sheet3!F20/(Sheet3!$K20+Sheet3!$L20*Sheet3!E$1) -> 3.6336566 | P6: =Sheet3!G20/(Sheet3!$K20+Sheet3!$L20*Sheet3!F$1) -> 3.4531414 | Q6: =Sheet3!H20/(Sheet3!$K20+Sheet3!$L20*Sheet3!G$1) -> 3.3228565
A7: =Sheet3!A21 -> Rockslide | B7: =Sheet3!J21 -> Colossus | C7: =Sheet3!C21/(Sheet3!$M21+Sheet3!$N21*Sheet3!B$1) -> 14.345278 | D7: =Sheet3!D21/(Sheet3!$M21+Sheet3!$N21*Sheet3!C$1) -> 18.215278 | E7: =Sheet3!E21/(Sheet3!$M21+Sheet3!$N21*Sheet3!D$1) -> 22.085278 | F7: =Sheet3!F21/(Sheet3!$M21+Sheet3!$N21*Sheet3!E$1) -> 25.955278 | G7: =Sheet3!G21/(Sheet3!$M21+Sheet3!$N21*Sheet3!F$1) -> 29.825278 | H7: =Sheet3!H21/(Sheet3!$M21+Sheet3!$N21*Sheet3!G$1) -> 33.695278 | L7: =Sheet3!C21/(Sheet3!$K21+Sheet3!$L21*Sheet3!B$1) -> 3.9725385 | M7: =Sheet3!D21/(Sheet3!$K21+Sheet3!$L21*Sheet3!C$1) -> 3.6839888 | N7: =Sheet3!E21/(Sheet3!$K21+Sheet3!$L21*Sheet3!D$1) -> 3.5180088 | O7: =Sheet3!F21/(Sheet3!$K21+Sheet3!$L21*Sheet3!E$1) -> 3.4101825 | P7: =Sheet3!G21/(Sheet3!$K21+Sheet3!$L21*Sheet3!F$1) -> 3.3345031 | Q7: =Sheet3!H21/(Sheet3!$K21+Sheet3!$L21*Sheet3!G$1) -> 3.2784595
A8: =Sheet3!A22 -> Rogue Wave | B8: =Sheet3!J22 -> Crest Witch | C8: =Sheet3!C22/(Sheet3!$M22+Sheet3!$N22*Sheet3!B$1) -> 21.704583 | D8: =Sheet3!D22/(Sheet3!$M22+Sheet3!$N22*Sheet3!C$1) -> 24.4998 | E8: =Sheet3!E22/(Sheet3!$M22+Sheet3!$N22*Sheet3!D$1) -> 27.295017 | F8: =Sheet3!F22/(Sheet3!$M22+Sheet3!$N22*Sheet3!E$1) -> 30.090233 | G8: =Sheet3!G22/(Sheet3!$M22+Sheet3!$N22*Sheet3!F$1) -> 32.88545 | H8: =Sheet3!H22/(Sheet3!$M22+Sheet3!$N22*Sheet3!G$1) -> 35.680667 | L8: =Sheet3!C22/(Sheet3!$K22+Sheet3!$L22*Sheet3!B$1) -> 4.6509821 | M8: =Sheet3!D22/(Sheet3!$K22+Sheet3!$L22*Sheet3!C$1) -> 4.6518608 | N8: =Sheet3!E22/(Sheet3!$K22+Sheet3!$L22*Sheet3!D$1) -> 4.6525597 | O8: =Sheet3!F22/(Sheet3!$K22+Sheet3!$L22*Sheet3!E$1) -> 4.6531289 | P8: =Sheet3!G22/(Sheet3!$K22+Sheet3!$L22*Sheet3!F$1) -> 4.6536014 | Q8: =Sheet3!H22/(Sheet3!$K22+Sheet3!$L22*Sheet3!G$1) -> 4.654
A9: =Sheet3!A23 -> Frost Spire | B9: =Sheet3!J23 -> Icespinner | C9: =Sheet3!C23/(Sheet3!$M23+Sheet3!$N23*Sheet3!B$1) -> 24.790133 | D9: =Sheet3!D23/(Sheet3!$M23+Sheet3!$N23*Sheet3!C$1) -> 30.366267 | E9: =Sheet3!E23/(Sheet3!$M23+Sheet3!$N23*Sheet3!D$1) -> 35.9424 | F9: =Sheet3!F23/(Sheet3!$M23+Sheet3!$N23*Sheet3!E$1) -> 41.518533 | G9: =Sheet3!G23/(Sheet3!$M23+Sheet3!$N23*Sheet3!F$1) -> 47.094667 | H9: =Sheet3!H23/(Sheet3!$M23+Sheet3!$N23*Sheet3!G$1) -> 52.6708 | L9: =Sheet3!C23/(Sheet3!$K23+Sheet3!$L23*Sheet3!B$1) -> 7.43704 | M9: =Sheet3!D23/(Sheet3!$K23+Sheet3!$L23*Sheet3!C$1) -> 7.4150186 | N9: =Sheet3!E23/(Sheet3!$K23+Sheet3!$L23*Sheet3!D$1) -> 7.3999059 | O9: =Sheet3!F23/(Sheet3!$K23+Sheet3!$L23*Sheet3!E$1) -> 7.3888915 | P9: =Sheet3!G23/(Sheet3!$K23+Sheet3!$L23*Sheet3!F$1) -> 7.3805075 | Q9: =Sheet3!H23/(Sheet3!$K23+Sheet3!$L23*Sheet3!G$1) -> 7.373912
A10: =Sheet3!A24 -> Terra Smash | B10: =Sheet3!J24 -> Ascendant | C10: =Sheet3!C24/(Sheet3!$M24+Sheet3!$N24*Sheet3!B$1) -> 30.8 | D10: =Sheet3!D24/(Sheet3!$M24+Sheet3!$N24*Sheet3!C$1) -> 41.25 | E10: =Sheet3!E24/(Sheet3!$M24+Sheet3!$N24*Sheet3!D$1) -> 51.7 | F10: =Sheet3!F24/(Sheet3!$M24+Sheet3!$N24*Sheet3!E$1) -> 62.15 | G10: =Sheet3!G24/(Sheet3!$M24+Sheet3!$N24*Sheet3!F$1) -> 72.6 | H10: =Sheet3!H24/(Sheet3!$M24+Sheet3!$N24*Sheet3!G$1) -> 83.05 | L10: =Sheet3!C24/(Sheet3!$K24+Sheet3!$L24*Sheet3!B$1) -> 7.04 | M10: =Sheet3!D24/(Sheet3!$K24+Sheet3!$L24*Sheet3!C$1) -> 7.6744186 | N10: =Sheet3!E24/(Sheet3!$K24+Sheet3!$L24*Sheet3!D$1) -> 8.1098039 | O10: =Sheet3!F24/(Sheet3!$K24+Sheet3!$L24*Sheet3!E$1) -> 8.4271186 | P10: =Sheet3!G24/(Sheet3!$K24+Sheet3!$L24*Sheet3!F$1) -> 8.6686567 | Q10: =Sheet3!H24/(Sheet3!$K24+Sheet3!$L24*Sheet3!G$1) -> 8.8586667
A11: =Sheet3!A25 -> Pestilence | B11: =Sheet3!J25 -> Defiler | C11: =Sheet3!C25/(Sheet3!$M25+Sheet3!$N25*Sheet3!B$1) -> 27.577778 | D11: =Sheet3!D25/(Sheet3!$M25+Sheet3!$N25*Sheet3!C$1) -> 34.855556 | E11: =Sheet3!E25/(Sheet3!$M25+Sheet3!$N25*Sheet3!D$1) -> 42.133333 | F11: =Sheet3!F25/(Sheet3!$M25+Sheet3!$N25*Sheet3!E$1) -> 49.411111 | G11: =Sheet3!G25/(Sheet3!$M25+Sheet3!$N25*Sheet3!F$1) -> 56.688889 | H11: =Sheet3!H25/(Sheet3!$M25+Sheet3!$N25*Sheet3!G$1) -> 63.966667 | L11: =Sheet3!C25/(Sheet3!$K25+Sheet3!$L25*Sheet3!B$1) -> 4.1366667 | M11: =Sheet3!D25/(Sheet3!$K25+Sheet3!$L25*Sheet3!C$1) -> 3.8728395 | N11: =Sheet3!E25/(Sheet3!$K25+Sheet3!$L25*Sheet3!D$1) -> 3.7176471 | O11: =Sheet3!F25/(Sheet3!$K25+Sheet3!$L25*Sheet3!E$1) -> 3.6154472 | P11: =Sheet3!G25/(Sheet3!$K25+Sheet3!$L25*Sheet3!F$1) -> 3.5430556 | Q11: =Sheet3!H25/(Sheet3!$K25+Sheet3!$L25*Sheet3!G$1) -> 3.4890909
A12: =Sheet3!A26 -> Pyroclasm | B12: =Sheet3!J26 -> Emberwraith | C12: =Sheet3!C26/(Sheet3!$M26+Sheet3!$N26*Sheet3!B$1) -> 9.0790385 | D12: =Sheet3!D26/(Sheet3!$M26+Sheet3!$N26*Sheet3!C$1) -> 12.053962 | E12: =Sheet3!E26/(Sheet3!$M26+Sheet3!$N26*Sheet3!D$1) -> 15.028885 | F12: =Sheet3!F26/(Sheet3!$M26+Sheet3!$N26*Sheet3!E$1) -> 18.003808 | G12: =Sheet3!G26/(Sheet3!$M26+Sheet3!$N26*Sheet3!F$1) -> 20.978731 | H12: =Sheet3!H26/(Sheet3!$M26+Sheet3!$N26*Sheet3!G$1) -> 23.953654 | L12: =Sheet3!C26/(Sheet3!$K26+Sheet3!$L26*Sheet3!B$1) -> 3.93425 | M12: =Sheet3!D26/(Sheet3!$K26+Sheet3!$L26*Sheet3!C$1) -> 3.8219878 | N12: =Sheet3!E26/(Sheet3!$K26+Sheet3!$L26*Sheet3!D$1) -> 3.7572212 | O12: =Sheet3!F26/(Sheet3!$K26+Sheet3!$L26*Sheet3!E$1) -> 3.7150714 | P12: =Sheet3!G26/(Sheet3!$K26+Sheet3!$L26*Sheet3!F$1) -> 3.6854527 | Q12: =Sheet3!H26/(Sheet3!$K26+Sheet3!$L26*Sheet3!G$1) -> 3.6635
A13: =Sheet3!A27 -> Whirl | B13: =Sheet3!J27 -> Forlorn Martyr | C13: =Sheet3!C27/(Sheet3!$M27+Sheet3!$N27*Sheet3!B$1) -> 24.434375 | D13: =Sheet3!D27/(Sheet3!$M27+Sheet3!$N27*Sheet3!C$1) -> 28.88475 | E13: =Sheet3!E27/(Sheet3!$M27+Sheet3!$N27*Sheet3!D$1) -> 33.335125 | F13: =Sheet3!F27/(Sheet3!$M27+Sheet3!$N27*Sheet3!E$1) -> 37.7855 | G13: =Sheet3!G27/(Sheet3!$M27+Sheet3!$N27*Sheet3!F$1) -> 42.235875 | H13: =Sheet3!H27/(Sheet3!$M27+Sheet3!$N27*Sheet3!G$1) -> 46.68625 | L13: =Sheet3!C27/(Sheet3!$K27+Sheet3!$L27*Sheet3!B$1) -> 3.9095 | M13: =Sheet3!D27/(Sheet3!$K27+Sheet3!$L27*Sheet3!C$1) -> 3.7270645 | N13: =Sheet3!E27/(Sheet3!$K27+Sheet3!$L27*Sheet3!D$1) -> 3.6037973 | O13: =Sheet3!F27/(Sheet3!$K27+Sheet3!$L27*Sheet3!E$1) -> 3.5149302 | P13: =Sheet3!G27/(Sheet3!$K27+Sheet3!$L27*Sheet3!F$1) -> 3.4478265 | Q13: =Sheet3!H27/(Sheet3!$K27+Sheet3!$L27*Sheet3!G$1) -> 3.3953636
... A27: =Sheet3!A41 -> Slice | B27: =Sheet3!J41 -> Wretched Chef | C27: =Sheet3!C41/(Sheet3!$M41+Sheet3!$N41*Sheet3!B$1) -> 24.195 | D27: =Sheet3!D41/(Sheet3!$M41+Sheet3!$N41*Sheet3!C$1) -> 30.36875 | E27: =Sheet3!E41/(Sheet3!$M41+Sheet3!$N41*Sheet3!D$1) -> 36.5425 | F27: =Sheet3!F41/(Sheet3!$M41+Sheet3!$N41*Sheet3!E$1) -> 42.71625 | G27: =Sheet3!G41/(Sheet3!$M41+Sheet3!$N41*Sheet3!F$1) -> 48.89 | H27: =Sheet3!H41/(Sheet3!$M41+Sheet3!$N41*Sheet3!G$1) -> 55.06375 | L27: =Sheet3!C41/(Sheet3!$K41+Sheet3!$L41*Sheet3!B$1) -> 3.5192727 | M27: =Sheet3!D41/(Sheet3!$K41+Sheet3!$L41*Sheet3!C$1) -> 3.8563492 | N27: =Sheet3!E41/(Sheet3!$K41+Sheet3!$L41*Sheet3!D$1) -> 4.1174648 | O27: =Sheet3!F41/(Sheet3!$K41+Sheet3!$L41*Sheet3!E$1) -> 4.3256962 | P27: =Sheet3!G41/(Sheet3!$K41+Sheet3!$L41*Sheet3!F$1) -> 4.4956322 | Q27: =Sheet3!H41/(Sheet3!$K41+Sheet3!$L41*Sheet3!G$1) -> 4.6369474
A33: Single Target | K33: DPS | S33: DPM | AA33: Recovery | AI33: Glass Cannon
A34: =Sheet3!A16 -> Gale | B34: =Sheet3!J16 -> Arboreal Crusader | C34: =Sheet3!C16 * 0.75 -> 227.643 | D34: =Sheet3!D16 * 0.75 -> 291.057 | E34: =Sheet3!E16 * 0.75 -> 354.471 | F34: =Sheet3!F16 * 0.75 -> 417.885 | G34: =Sheet3!G16 * 0.75 -> 481.299 | H34: =Sheet3!H16 * 0.75 -> 544.713 | K34: =A34 -> Gale | L34: =Sheet5!C34/(Sheet3!$M16+Sheet3!$N16*Sheet3!B$1) -> 20.694818 | M34: =Sheet5!D34/(Sheet3!$M16+Sheet3!$N16*Sheet3!C$1) -> 26.459727 | N34: =Sheet5!E34/(Sheet3!$M16+Sheet3!$N16*Sheet3!D$1) -> 32.224636 | O34: =Sheet5!F34/(Sheet3!$M16+Sheet3!$N16*Sheet3!E$1) -> 37.989545 | P34: =Sheet5!G34/(Sheet3!$M16+Sheet3!$N16*Sheet3!F$1) -> 43.754455 | Q34: =Sheet5!H34/(Sheet3!$M16+Sheet3!$N16*Sheet3!G$1) -> 49.519364 | S34: =A34 -> Gale | T34: =Sheet5!C34/(Sheet3!$K16+Sheet3!$L16*Sheet3!B$1) -> 4.1389636 | U34: =Sheet5!D34/(Sheet3!$K16+Sheet3!$L16*Sheet3!C$1) -> 3.779961 | V34: =Sheet5!E34/(Sheet3!$K16+Sheet3!$L16*Sheet3!D$1) -> 3.5805152 | W34: =Sheet5!F34/(Sheet3!$K16+Sheet3!$L16*Sheet3!E$1) -> 3.453595 | X34: =Sheet5!G34/(Sheet3!$K16+Sheet3!$L16*Sheet3!F$1) -> 3.3657273 | Y34: =Sheet5!H34/(Sheet3!$K16+Sheet3!$L16*Sheet3!G$1) -> 3.3012909 | AA34: =S34 -> Gale | AB34: =(Sheet3!$K16+Sheet3!$L16*Sheet3!B$1) / VLOOKUP(Sheet3!$J16,Sheet2!$A$2:$N$39,14,FALSE) -> 19.177127 | AC34: =(Sheet3!$K16+Sheet3!$L16*Sheet3!C$1) / VLOOKUP(Sheet3!$J16,Sheet2!$A$2:$N$39,14,FALSE) -> 26.847978 | AD34: =(Sheet3!$K16+Sheet3!$L16*Sheet3!D$1) / VLOOKUP(Sheet3!$J16,Sheet2!$A$2:$N$39,14,FALSE) -> 34.518828 | AE34: =(Sheet3!$K16+Sheet3!$L16*Sheet3!E$1) / VLOOKUP(Sheet3!$J16,Sheet2!$A$2:$N$39,14,FALSE) -> 42.189679 | AF34: =(Sheet3!$K16+Sheet3!$L16*Sheet3!F$1) / VLOOKUP(Sheet3!$J16,Sheet2!$A$2:$N$39,14,FALSE) -> 49.86053 | AG34: =(Sheet3!$K16+Sheet3!$L16*Sheet3!G$1) / VLOOKUP(Sheet3!$J16,Sheet2!$A$2:$N$39,14,FALSE) -> 57.531381 | AI34: =A34 -> Gale | AJ34: =C34/VLOOKUP(Sheet3!$J16,Sheet2!$A$2:$N$39,13,FALSE) -> 0.16747692 | AK34: =D34/VLOOKUP(Sheet3!$J16,Sheet2!$A$2:$N$39,13,FALSE) -> 0.21413059 | AL34: =E34/VLOOKUP(Sheet3!$J16,Sheet2!$A$2:$N$39,13,FALSE) -> 0.26078426 | AM34: =F34/VLOOKUP(Sheet3!$J16,Sheet2!$A$2:$N$39,13,FALSE) -> 0.30743793 | AN34: =G34/VLOOKUP(Sheet3!$J16,Sheet2!$A$2:$N$39,13,FALSE) -> 0.35409159 | AO34: =H34/VLOOKUP(Sheet3!$J16,Sheet2!$A$2:$N$39,13,FALSE) -> 0.40074526
A35: =Sheet3!A17 -> Incinerate | B35: =Sheet3!J17 -> Soul Binder | C35: =Sheet3!C17 * 0.75 -> 98.67 | D35: =Sheet3!D17 * 0.75 -> 125.1822 | E35: =Sheet3!E17 * 0.75 -> 151.6944 | F35: =Sheet3!F17 * 0.75 -> 178.2066 | G35: =Sheet3!G17 * 0.75 -> 204.7188 | H35: =Sheet3!H17 * 0.75 -> 231.231 | K35: =A35 -> Incinerate | L35: =Sheet5!C35/(Sheet3!$M17+Sheet3!$N17*Sheet3!B$1) -> 32.89 | M35: =Sheet5!D35/(Sheet3!$M17+Sheet3!$N17*Sheet3!C$1) -> 41.7274 | N35: =Sheet5!E35/(Sheet3!$M17+Sheet3!$N17*Sheet3!D$1) -> 50.5648 | O35: =Sheet5!F35/(Sheet3!$M17+Sheet3!$N17*Sheet3!E$1) -> 59.4022 | P35: =Sheet5!G35/(Sheet3!$M17+Sheet3!$N17*Sheet3!F$1) -> 68.2396 | Q35: =Sheet5!H35/(Sheet3!$M17+Sheet3!$N17*Sheet3!G$1) -> 77.077 | S35: =A35 -> Incinerate | T35: =Sheet5!C35/(Sheet3!$K17+Sheet3!$L17*Sheet3!B$1) -> 1.794 | U35: =Sheet5!D35/(Sheet3!$K17+Sheet3!$L17*Sheet3!C$1) -> 1.8142348 | V35: =Sheet5!E35/(Sheet3!$K17+Sheet3!$L17*Sheet3!D$1) -> 1.8276434 | W35: =Sheet5!F35/(Sheet3!$K17+Sheet3!$L17*Sheet3!E$1) -> 1.8371814 | X35: =Sheet5!G35/(Sheet3!$K17+Sheet3!$L17*Sheet3!F$1) -> 1.8443135 | Y35: =Sheet5!H35/(Sheet3!$K17+Sheet3!$L17*Sheet3!G$1) -> 1.849848 | AA35: =S35 -> Incinerate | AB35: =(Sheet3!$K17+Sheet3!$L17*Sheet3!B$1) / VLOOKUP(Sheet3!$J17,Sheet2!$A$2:$N$39,14,FALSE) -> 20.190896 | AC35: =(Sheet3!$K17+Sheet3!$L17*Sheet3!C$1) / VLOOKUP(Sheet3!$J17,Sheet2!$A$2:$N$39,14,FALSE) -> 25.330396 | AD35: =(Sheet3!$K17+Sheet3!$L17*Sheet3!D$1) / VLOOKUP(Sheet3!$J17,Sheet2!$A$2:$N$39,14,FALSE) -> 30.469897 | AE35: =(Sheet3!$K17+Sheet3!$L17*Sheet3!E$1) / VLOOKUP(Sheet3!$J17,Sheet2!$A$2:$N$39,14,FALSE) -> 35.609398 | AF35: =(Sheet3!$K17+Sheet3!$L17*Sheet3!F$1) / VLOOKUP(Sheet3!$J17,Sheet2!$A$2:$N$39,14,FALSE) -> 40.748899 | AG35: =(Sheet3!$K17+Sheet3!$L17*Sheet3!G$1) / VLOOKUP(Sheet3!$J17,Sheet2!$A$2:$N$39,14,FALSE) -> 45.888399 | AI35: =A35 -> Incinerate | AJ35: =C35/VLOOKUP(Sheet3!$J17,Sheet2!$A$2:$N$39,13,FALSE) -> 0.056046578 | AK35: =D35/VLOOKUP(Sheet3!$J17,Sheet2!$A$2:$N$39,13,FALSE) -> 0.071106049 | AL35: =E35/VLOOKUP(Sheet3!$J17,Sheet2!$A$2:$N$39,13,FALSE) -> 0.086165521 | AM35: =F35/VLOOKUP(Sheet3!$J17,Sheet2!$A$2:$N$39,13,FALSE) -> 0.10122499 | AN35: =G35/VLOOKUP(Sheet3!$J17,Sheet2!$A$2:$N$39,13,FALSE) -> 0.11628446 | AO35: =H35/VLOOKUP(Sheet3!$J17,Sheet2!$A$2:$N$39,13,FALSE) -> 0.13134394
A36: =Sheet3!A18 -> Arctic Cataclysm | B36: =Sheet3!J18 -> Glacial Tyrant | C36: =Sheet3!C18 * 0.75 -> 163.92 | D36: =Sheet3!D18 * 0.75 -> 198.555 | E36: =Sheet3!E18 * 0.75 -> 233.19 | F36: =Sheet3!F18 * 0.75 -> 267.825 | G36: =Sheet3!G18 * 0.75 -> 302.46 | H36: =Sheet3!H18 * 0.75 -> 337.095 | K36: =A36 -> Arctic Cataclysm | L36: =Sheet5!C36/(Sheet3!$M18+Sheet3!$N18*Sheet3!B$1) -> 10.245 | M36: =Sheet5!D36/(Sheet3!$M18+Sheet3!$N18*Sheet3!C$1) -> 12.409688 | N36: =Sheet5!E36/(Sheet3!$M18+Sheet3!$N18*Sheet3!D$1) -> 14.574375 | O36: =Sheet5!F36/(Sheet3!$M18+Sheet3!$N18*Sheet3!E$1) -> 16.739062 | P36: =Sheet5!G36/(Sheet3!$M18+Sheet3!$N18*Sheet3!F$1) -> 18.90375 | Q36: =Sheet5!H36/(Sheet3!$M18+Sheet3!$N18*Sheet3!G$1) -> 21.068437 | S36: =A36 -> Arctic Cataclysm | T36: =Sheet5!C36/(Sheet3!$K18+Sheet3!$L18*Sheet3!B$1) -> 2.3417143 | U36: =Sheet5!D36/(Sheet3!$K18+Sheet3!$L18*Sheet3!C$1) -> 2.1122872 | V36: =Sheet5!E36/(Sheet3!$K18+Sheet3!$L18*Sheet3!D$1) -> 1.9761864 | W36: =Sheet5!F36/(Sheet3!$K18+Sheet3!$L18*Sheet3!E$1) -> 1.8860915 | X36: =Sheet5!G36/(Sheet3!$K18+Sheet3!$L18*Sheet3!F$1) -> 1.8220482 | Y36: =Sheet5!H36/(Sheet3!$K18+Sheet3!$L18*Sheet3!G$1) -> 1.7741842 | AA36: =S36 -> Arctic Cataclysm | AB36: =(Sheet3!$K18+Sheet3!$L18*Sheet3!B$1) / VLOOKUP(Sheet3!$J18,Sheet2!$A$2:$N$39,14,FALSE) -> 9.5569663 | AC36: =(Sheet3!$K18+Sheet3!$L18*Sheet3!C$1) / VLOOKUP(Sheet3!$J18,Sheet2!$A$2:$N$39,14,FALSE) -> 12.833641 | AD36: =(Sheet3!$K18+Sheet3!$L18*Sheet3!D$1) / VLOOKUP(Sheet3!$J18,Sheet2!$A$2:$N$39,14,FALSE) -> 16.110315 | AE36: =(Sheet3!$K18+Sheet3!$L18*Sheet3!E$1) / VLOOKUP(Sheet3!$J18,Sheet2!$A$2:$N$39,14,FALSE) -> 19.386989 | AF36: =(Sheet3!$K18+Sheet3!$L18*Sheet3!F$1) / VLOOKUP(Sheet3!$J18,Sheet2!$A$2:$N$39,14,FALSE) -> 22.663663 | AG36: =(Sheet3!$K18+Sheet3!$L18*Sheet3!G$1) / VLOOKUP(Sheet3!$J18,Sheet2!$A$2:$N$39,14,FALSE) -> 25.940337 | AI36: =A36 -> Arctic Cataclysm | AJ36: =C36/VLOOKUP(Sheet3!$J18,Sheet2!$A$2:$N$39,13,FALSE) -> 0.073904418 | AK36: =D36/VLOOKUP(Sheet3!$J18,Sheet2!$A$2:$N$39,13,FALSE) -> 0.089519838 | AL36: =E36/VLOOKUP(Sheet3!$J18,Sheet2!$A$2:$N$39,13,FALSE) -> 0.10513526 | AM36: =F36/VLOOKUP(Sheet3!$J18,Sheet2!$A$2:$N$39,13,FALSE) -> 0.12075068 | AN36: =G36/VLOOKUP(Sheet3!$J18,Sheet2!$A$2:$N$39,13,FALSE) -> 0.1363661 | AO36: =H36/VLOOKUP(Sheet3!$J18,Sheet2!$A$2:$N$39,13,FALSE) -> 0.15198151
A37: =Sheet3!A19 -> Caustic Breath | B37: =Sheet3!J19 -> Acid Reaver | C37: =Sheet3!C19 * 0.75 -> 211.23 | D37: =Sheet3!D19 * 0.75 -> 253.59 | E37: =Sheet3!E19 * 0.75 -> 295.95 | F37: =Sheet3!F19 * 0.75 -> 338.31 | G37: =Sheet3!G19 * 0.75 -> 380.67 | H37: =Sheet3!H19 * 0.75 -> 423.03 | K37: =A37 -> Caustic Breath | L37: =Sheet5!C37/(Sheet3!$M19+Sheet3!$N19*Sheet3!B$1) -> 26.40375 | M37: =Sheet5!D37/(Sheet3!$M19+Sheet3!$N19*Sheet3!C$1) -> 31.69875 | N37: =Sheet5!E37/(Sheet3!$M19+Sheet3!$N19*Sheet3!D$1) -> 36.99375 | O37: =Sheet5!F37/(Sheet3!$M19+Sheet3!$N19*Sheet3!E$1) -> 42.28875 | P37: =Sheet5!G37/(Sheet3!$M19+Sheet3!$N19*Sheet3!F$1) -> 47.58375 | Q37: =Sheet5!H37/(Sheet3!$M19+Sheet3!$N19*Sheet3!G$1) -> 52.87875 | S37: =A37 -> Caustic Breath | T37: =Sheet5!C37/(Sheet3!$K19+Sheet3!$L19*Sheet3!B$1) -> 5.28075 | U37: =Sheet5!D37/(Sheet3!$K19+Sheet3!$L19*Sheet3!C$1) -> 4.8767308 | V37: =Sheet5!E37/(Sheet3!$K19+Sheet3!$L19*Sheet3!D$1) -> 4.6242188 | W37: =Sheet5!F37/(Sheet3!$K19+Sheet3!$L19*Sheet3!E$1) -> 4.4514474 | X37: =Sheet5!G37/(Sheet3!$K19+Sheet3!$L19*Sheet3!F$1) -> 4.3257955 | Y37: =Sheet5!H37/(Sheet3!$K19+Sheet3!$L19*Sheet3!G$1) -> 4.2303 | AA37: =S37 -> Caustic Breath | AB37: =(Sheet3!$K19+Sheet3!$L19*Sheet3!B$1) / VLOOKUP(Sheet3!$J19,Sheet2!$A$2:$N$39,14,FALSE) -> 22.408964 | AC37: =(Sheet3!$K19+Sheet3!$L19*Sheet3!C$1) / VLOOKUP(Sheet3!$J19,Sheet2!$A$2:$N$39,14,FALSE) -> 29.131653 | AD37: =(Sheet3!$K19+Sheet3!$L19*Sheet3!D$1) / VLOOKUP(Sheet3!$J19,Sheet2!$A$2:$N$39,14,FALSE) -> 35.854342 | AE37: =(Sheet3!$K19+Sheet3!$L19*Sheet3!E$1) / VLOOKUP(Sheet3!$J19,Sheet2!$A$2:$N$39,14,FALSE) -> 42.577031 | AF37: =(Sheet3!$K19+Sheet3!$L19*Sheet3!F$1) / VLOOKUP(Sheet3!$J19,Sheet2!$A$2:$N$39,14,FALSE) -> 49.29972 | AG37: =(Sheet3!$K19+Sheet3!$L19*Sheet3!G$1) / VLOOKUP(Sheet3!$J19,Sheet2!$A$2:$N$39,14,FALSE) -> 56.022409 | AI37: =A37 -> Caustic Breath | AJ37: =C37/VLOOKUP(Sheet3!$J19,Sheet2!$A$2:$N$39,13,FALSE) -> 0.070740121 | AK37: =D37/VLOOKUP(Sheet3!$J19,Sheet2!$A$2:$N$39,13,FALSE) -> 0.084926323 | AL37: =E37/VLOOKUP(Sheet3!$J19,Sheet2!$A$2:$N$39,13,FALSE) -> 0.099112525 | AM37: =F37/VLOOKUP(Sheet3!$J19,Sheet2!$A$2:$N$39,13,FALSE) -> 0.11329873 | AN37: =G37/VLOOKUP(Sheet3!$J19,Sheet2!$A$2:$N$39,13,FALSE) -> 0.12748493 | AO37: =H37/VLOOKUP(Sheet3!$J19,Sheet2!$A$2:$N$39,13,FALSE) -> 0.14167113
A38: =Sheet3!A20 -> Holy Strike | B38: =Sheet3!J20 -> Divine Wizard | C38: =Sheet3!C20 * 0.75 -> 271.1865 | D38: =Sheet3!D20 * 0.75 -> 331.58775 | E38: =Sheet3!E20 * 0.75 -> 391.989 | F38: =Sheet3!F20 * 0.75 -> 452.39025 | G38: =Sheet3!G20 * 0.75 -> 512.7915 | H38: =Sheet3!H20 * 0.75 -> 573.19275 | K38: =A38 -> Holy Strike | L38: =Sheet5!C38/(Sheet3!$M20+Sheet3!$N20*Sheet3!B$1) -> 36.1582 | M38: =Sheet5!D38/(Sheet3!$M20+Sheet3!$N20*Sheet3!C$1) -> 40.192455 | N38: =Sheet5!E38/(Sheet3!$M20+Sheet3!$N20*Sheet3!D$1) -> 43.554333 | O38: =Sheet5!F38/(Sheet3!$M20+Sheet3!$N20*Sheet3!E$1) -> 46.399 | P38: =Sheet5!G38/(Sheet3!$M20+Sheet3!$N20*Sheet3!F$1) -> 48.837286 | Q38: =Sheet5!H38/(Sheet3!$M20+Sheet3!$N20*Sheet3!G$1) -> 50.950467 | S38: =A38 -> Holy Strike | T38: =Sheet5!C38/(Sheet3!$K20+Sheet3!$L20*Sheet3!B$1) -> 3.8740929 | U38: =Sheet5!D38/(Sheet3!$K20+Sheet3!$L20*Sheet3!C$1) -> 3.2508603 | V38: =Sheet5!E38/(Sheet3!$K20+Sheet3!$L20*Sheet3!D$1) -> 2.925291 | W38: =Sheet5!F38/(Sheet3!$K20+Sheet3!$L20*Sheet3!E$1) -> 2.7252425 | X38: =Sheet5!G38/(Sheet3!$K20+Sheet3!$L20*Sheet3!F$1) -> 2.5898561 | Y38: =Sheet5!H38/(Sheet3!$K20+Sheet3!$L20*Sheet3!G$1) -> 2.4921424 | AA38: =S38 -> Holy Strike | AB38: =(Sheet3!$K20+Sheet3!$L20*Sheet3!B$1) / VLOOKUP(Sheet3!$J20,Sheet2!$A$2:$N$39,14,FALSE) -> 24.322446 | AC38: =(Sheet3!$K20+Sheet3!$L20*Sheet3!C$1) / VLOOKUP(Sheet3!$J20,Sheet2!$A$2:$N$39,14,FALSE) -> 35.441279 | AD38: =(Sheet3!$K20+Sheet3!$L20*Sheet3!D$1) / VLOOKUP(Sheet3!$J20,Sheet2!$A$2:$N$39,14,FALSE) -> 46.560111 | AE38: =(Sheet3!$K20+Sheet3!$L20*Sheet3!E$1) / VLOOKUP(Sheet3!$J20,Sheet2!$A$2:$N$39,14,FALSE) -> 57.678944 | AF38: =(Sheet3!$K20+Sheet3!$L20*Sheet3!F$1) / VLOOKUP(Sheet3!$J20,Sheet2!$A$2:$N$39,14,FALSE) -> 68.797776 | AG38: =(Sheet3!$K20+Sheet3!$L20*Sheet3!G$1) / VLOOKUP(Sheet3!$J20,Sheet2!$A$2:$N$39,14,FALSE) -> 79.916609 | AI38: =A38 -> Holy Strike | AJ38: =C38/VLOOKUP(Sheet3!$J20,Sheet2!$A$2:$N$39,13,FALSE) -> 0.20355526 | AK38: =D38/VLOOKUP(Sheet3!$J20,Sheet2!$A$2:$N$39,13,FALSE) -> 0.24889304 | AL38: =E38/VLOOKUP(Sheet3!$J20,Sheet2!$A$2:$N$39,13,FALSE) -> 0.29423081 | AM38: =F38/VLOOKUP(Sheet3!$J20,Sheet2!$A$2:$N$39,13,FALSE) -> 0.33956859 | AN38: =G38/VLOOKUP(Sheet3!$J20,Sheet2!$A$2:$N$39,13,FALSE) -> 0.38490636 | AO38: =H38/VLOOKUP(Sheet3!$J20,Sheet2!$A$2:$N$39,13,FALSE) -> 0.43024414
A39: =Sheet3!A21 -> Rockslide | B39: =Sheet3!J21 -> Colossus | C39: =Sheet3!C21 * 0.75 -> 193.66125 | D39: =Sheet3!D21 * 0.75 -> 245.90625 | E39: =Sheet3!E21 * 0.75 -> 298.15125 | F39: =Sheet3!F21 * 0.75 -> 350.39625 | G39: =Sheet3!G21 * 0.75 -> 402.64125 | H39: =Sheet3!H21 * 0.75 -> 454.88625 | K39: =A39 -> Rockslide | L39: =Sheet5!C39/(Sheet3!$M21+Sheet3!$N21*Sheet3!B$1) -> 10.758958 | M39: =Sheet5!D39/(Sheet3!$M21+Sheet3!$N21*Sheet3!C$1) -> 13.661458 | N39: =Sheet5!E39/(Sheet3!$M21+Sheet3!$N21*Sheet3!D$1) -> 16.563958 | O39: =Sheet5!F39/(Sheet3!$M21+Sheet3!$N21*Sheet3!E$1) -> 19.466458 | P39: =Sheet5!G39/(Sheet3!$M21+Sheet3!$N21*Sheet3!F$1) -> 22.368958 | Q39: =Sheet5!H39/(Sheet3!$M21+Sheet3!$N21*Sheet3!G$1) -> 25.271458 | S39: =A39 -> Rockslide | T39: =Sheet5!C39/(Sheet3!$K21+Sheet3!$L21*Sheet3!B$1) -> 2.9794038 | U39: =Sheet5!D39/(Sheet3!$K21+Sheet3!$L21*Sheet3!C$1) -> 2.7629916 | V39: =Sheet5!E39/(Sheet3!$K21+Sheet3!$L21*Sheet3!D$1) -> 2.6385066 | W39: =Sheet5!F39/(Sheet3!$K21+Sheet3!$L21*Sheet3!E$1) -> 2.5576369 | X39: =Sheet5!G39/(Sheet3!$K21+Sheet3!$L21*Sheet3!F$1) -> 2.5008773 | Y39: =Sheet5!H39/(Sheet3!$K21+Sheet3!$L21*Sheet3!G$1) -> 2.4588446 | AA39: =S39 -> Rockslide | AB39: =(Sheet3!$K21+Sheet3!$L21*Sheet3!B$1) / VLOOKUP(Sheet3!$J21,Sheet2!$A$2:$N$39,14,FALSE) -> 39.877301 | AC39: =(Sheet3!$K21+Sheet3!$L21*Sheet3!C$1) / VLOOKUP(Sheet3!$J21,Sheet2!$A$2:$N$39,14,FALSE) -> 54.601227 | AD39: =(Sheet3!$K21+Sheet3!$L21*Sheet3!D$1) / VLOOKUP(Sheet3!$J21,Sheet2!$A$2:$N$39,14,FALSE) -> 69.325153 | AE39: =(Sheet3!$K21+Sheet3!$L21*Sheet3!E$1) / VLOOKUP(Sheet3!$J21,Sheet2!$A$2:$N$39,14,FALSE) -> 84.04908 | AF39: =(Sheet3!$K21+Sheet3!$L21*Sheet3!F$1) / VLOOKUP(Sheet3!$J21,Sheet2!$A$2:$N$39,14,FALSE) -> 98.773006 | AG39: =(Sheet3!$K21+Sheet3!$L21*Sheet3!G$1) / VLOOKUP(Sheet3!$J21,Sheet2!$A$2:$N$39,14,FALSE) -> 113.49693 | AI39: =A39 -> Rockslide | AJ39: =C39/VLOOKUP(Sheet3!$J21,Sheet2!$A$2:$N$39,13,FALSE) -> 0.06298951 | AK39: =D39/VLOOKUP(Sheet3!$J21,Sheet2!$A$2:$N$39,13,FALSE) -> 0.079982517 | AL39: =E39/VLOOKUP(Sheet3!$J21,Sheet2!$A$2:$N$39,13,FALSE) -> 0.096975524 | AM39: =F39/VLOOKUP(Sheet3!$J21,Sheet2!$A$2:$N$39,13,FALSE) -> 0.11396853 | AN39: =G39/VLOOKUP(Sheet3!$J21,Sheet2!$A$2:$N$39,13,FALSE) -> 0.13096154 | AO39: =H39/VLOOKUP(Sheet3!$J21,Sheet2!$A$2:$N$39,13,FALSE) -> 0.14795455
A40: =Sheet3!A22 -> Rogue Wave | B40: =Sheet3!J22 -> Crest Witch | C40: =Sheet3!C22 * 0.75 -> 244.17656 | D40: =Sheet3!D22 * 0.75 -> 275.62275 | E40: =Sheet3!E22 * 0.75 -> 307.06894 | F40: =Sheet3!F22 * 0.75 -> 338.51513 | G40: =Sheet3!G22 * 0.75 -> 369.96131 | H40: =Sheet3!H22 * 0.75 -> 401.4075 | K40: =A40 -> Rogue Wave | L40: =Sheet5!C40/(Sheet3!$M22+Sheet3!$N22*Sheet3!B$1) -> 16.278438 | M40: =Sheet5!D40/(Sheet3!$M22+Sheet3!$N22*Sheet3!C$1) -> 18.37485 | N40: =Sheet5!E40/(Sheet3!$M22+Sheet3!$N22*Sheet3!D$1) -> 20.471263 | O40: =Sheet5!F40/(Sheet3!$M22+Sheet3!$N22*Sheet3!E$1) -> 22.567675 | P40: =Sheet5!G40/(Sheet3!$M22+Sheet3!$N22*Sheet3!F$1) -> 24.664087 | Q40: =Sheet5!H40/(Sheet3!$M22+Sheet3!$N22*Sheet3!G$1) -> 26.7605 | S40: =A40 -> Rogue Wave | T40: =Sheet5!C40/(Sheet3!$K22+Sheet3!$L22*Sheet3!B$1) -> 3.4882366 | U40: =Sheet5!D40/(Sheet3!$K22+Sheet3!$L22*Sheet3!C$1) -> 3.4888956 | V40: =Sheet5!E40/(Sheet3!$K22+Sheet3!$L22*Sheet3!D$1) -> 3.4894197 | W40: =Sheet5!F40/(Sheet3!$K22+Sheet3!$L22*Sheet3!E$1) -> 3.4898466 | X40: =Sheet5!G40/(Sheet3!$K22+Sheet3!$L22*Sheet3!F$1) -> 3.4902011 | Y40: =Sheet5!H40/(Sheet3!$K22+Sheet3!$L22*Sheet3!G$1) -> 3.4905 | AA40: =S40 -> Rogue Wave | AB40: =(Sheet3!$K22+Sheet3!$L22*Sheet3!B$1) / VLOOKUP(Sheet3!$J22,Sheet2!$A$2:$N$39,14,FALSE) -> 24.276053 | AC40: =(Sheet3!$K22+Sheet3!$L22*Sheet3!C$1) / VLOOKUP(Sheet3!$J22,Sheet2!$A$2:$N$39,14,FALSE) -> 27.39726 | AD40: =(Sheet3!$K22+Sheet3!$L22*Sheet3!D$1) / VLOOKUP(Sheet3!$J22,Sheet2!$A$2:$N$39,14,FALSE) -> 30.518467 | AE40: =(Sheet3!$K22+Sheet3!$L22*Sheet3!E$1) / VLOOKUP(Sheet3!$J22,Sheet2!$A$2:$N$39,14,FALSE) -> 33.639674 | AF40: =(Sheet3!$K22+Sheet3!$L22*Sheet3!F$1) / VLOOKUP(Sheet3!$J22,Sheet2!$A$2:$N$39,14,FALSE) -> 36.760881 | AG40: =(Sheet3!$K22+Sheet3!$L22*Sheet3!G$1) / VLOOKUP(Sheet3!$J22,Sheet2!$A$2:$N$39,14,FALSE) -> 39.882088 | AI40: =A40 -> Rogue Wave | AJ40: =C40/VLOOKUP(Sheet3!$J22,Sheet2!$A$2:$N$39,13,FALSE) -> 0.17491158 | AK40: =D40/VLOOKUP(Sheet3!$J22,Sheet2!$A$2:$N$39,13,FALSE) -> 0.1974375 | AL40: =E40/VLOOKUP(Sheet3!$J22,Sheet2!$A$2:$N$39,13,FALSE) -> 0.21996342 | AM40: =F40/VLOOKUP(Sheet3!$J22,Sheet2!$A$2:$N$39,13,FALSE) -> 0.24248934 | AN40: =G40/VLOOKUP(Sheet3!$J22,Sheet2!$A$2:$N$39,13,FALSE) -> 0.26501527 | AO40: =H40/VLOOKUP(Sheet3!$J22,Sheet2!$A$2:$N$39,13,FALSE) -> 0.28754119
A41: =Sheet3!A23 -> Frost Spire | B41: =Sheet3!J23 -> Icespinner | C41: =Sheet3!C23 * 0.75 -> 390.4446 | D41: =Sheet3!D23 * 0.75 -> 478.2687 | E41: =Sheet3!E23 * 0.75 -> 566.0928 | F41: =Sheet3!F23 * 0.75 -> 653.9169 | G41: =Sheet3!G23 * 0.75 -> 741.741 | H41: =Sheet3!H23 * 0.75 -> 829.5651 | K41: =A41 -> Frost Spire | L41: =Sheet5!C41/(Sheet3!$M23+Sheet3!$N23*Sheet3!B$1) -> 18.5926 | M41: =Sheet5!D41/(Sheet3!$M23+Sheet3!$N23*Sheet3!C$1) -> 22.7747 | N41: =Sheet5!E41/(Sheet3!$M23+Sheet3!$N23*Sheet3!D$1) -> 26.9568 | O41: =Sheet5!F41/(Sheet3!$M23+Sheet3!$N23*Sheet3!E$1) -> 31.1389 | P41: =Sheet5!G41/(Sheet3!$M23+Sheet3!$N23*Sheet3!F$1) -> 35.321 | Q41: =Sheet5!H41/(Sheet3!$M23+Sheet3!$N23*Sheet3!G$1) -> 39.5031 | S41: =A41 -> Frost Spire | T41: =Sheet5!C41/(Sheet3!$K23+Sheet3!$L23*Sheet3!B$1) -> 5.57778 | U41: =Sheet5!D41/(Sheet3!$K23+Sheet3!$L23*Sheet3!C$1) -> 5.561264 | V41: =Sheet5!E41/(Sheet3!$K23+Sheet3!$L23*Sheet3!D$1) -> 5.5499294 | W41: =Sheet5!F41/(Sheet3!$K23+Sheet3!$L23*Sheet3!E$1) -> 5.5416686 | X41: =Sheet5!G41/(Sheet3!$K23+Sheet3!$L23*Sheet3!F$1) -> 5.5353806 | Y41: =Sheet5!H41/(Sheet3!$K23+Sheet3!$L23*Sheet3!G$1) -> 5.530434 | AA41: =S41 -> Frost Spire | AB41: =(Sheet3!$K23+Sheet3!$L23*Sheet3!B$1) / VLOOKUP(Sheet3!$J23,Sheet2!$A$2:$N$39,14,FALSE) -> 23.997257 | AC41: =(Sheet3!$K23+Sheet3!$L23*Sheet3!C$1) / VLOOKUP(Sheet3!$J23,Sheet2!$A$2:$N$39,14,FALSE) -> 29.482345 | AD41: =(Sheet3!$K23+Sheet3!$L23*Sheet3!D$1) / VLOOKUP(Sheet3!$J23,Sheet2!$A$2:$N$39,14,FALSE) -> 34.967432 | AE41: =(Sheet3!$K23+Sheet3!$L23*Sheet3!E$1) / VLOOKUP(Sheet3!$J23,Sheet2!$A$2:$N$39,14,FALSE) -> 40.45252 | AF41: =(Sheet3!$K23+Sheet3!$L23*Sheet3!F$1) / VLOOKUP(Sheet3!$J23,Sheet2!$A$2:$N$39,14,FALSE) -> 45.937607 | AG41: =(Sheet3!$K23+Sheet3!$L23*Sheet3!G$1) / VLOOKUP(Sheet3!$J23,Sheet2!$A$2:$N$39,14,FALSE) -> 51.422695 | AI41: =A41 -> Frost Spire | AJ41: =C41/VLOOKUP(Sheet3!$J23,Sheet2!$A$2:$N$39,13,FALSE) -> 0.28868362 | AK41: =D41/VLOOKUP(Sheet3!$J23,Sheet2!$A$2:$N$39,13,FALSE) -> 0.35361826 | AL41: =E41/VLOOKUP(Sheet3!$J23,Sheet2!$A$2:$N$39,13,FALSE) -> 0.4185529 | AM41: =F41/VLOOKUP(Sheet3!$J23,Sheet2!$A$2:$N$39,13,FALSE) -> 0.48348754 | AN41: =G41/VLOOKUP(Sheet3!$J23,Sheet2!$A$2:$N$39,13,FALSE) -> 0.54842218 | AO41: =H41/VLOOKUP(Sheet3!$J23,Sheet2!$A$2:$N$39,13,FALSE) -> 0.61335682
A42: =Sheet3!A24 -> Terra Smash | B42: =Sheet3!J24 -> Ascendant | C42: =Sheet3!C24 * 0.75 -> 184.8 | D42: =Sheet3!D24 * 0.75 -> 247.5 | E42: =Sheet3!E24 * 0.75 -> 310.2 | F42: =Sheet3!F24 * 0.75 -> 372.9 | G42: =Sheet3!G24 * 0.75 -> 435.6 | H42: =Sheet3!H24 * 0.75 -> 498.3 | K42: =A42 -> Terra Smash | L42: =Sheet5!C42/(Sheet3!$M24+Sheet3!$N24*Sheet3!B$1) -> 23.1 | M42: =Sheet5!D42/(Sheet3!$M24+Sheet3!$N24*Sheet3!C$1) -> 30.9375 | N42: =Sheet5!E42/(Sheet3!$M24+Sheet3!$N24*Sheet3!D$1) -> 38.775 | O42: =Sheet5!F42/(Sheet3!$M24+Sheet3!$N24*Sheet3!E$1) -> 46.6125 | P42: =Sheet5!G42/(Sheet3!$M24+Sheet3!$N24*Sheet3!F$1) -> 54.45 | Q42: =Sheet5!H42/(Sheet3!$M24+Sheet3!$N24*Sheet3!G$1) -> 62.2875 | S42: =A42 -> Terra Smash | T42: =Sheet5!C42/(Sheet3!$K24+Sheet3!$L24*Sheet3!B$1) -> 5.28 | U42: =Sheet5!D42/(Sheet3!$K24+Sheet3!$L24*Sheet3!C$1) -> 5.755814 | V42: =Sheet5!E42/(Sheet3!$K24+Sheet3!$L24*Sheet3!D$1) -> 6.0823529 | W42: =Sheet5!F42/(Sheet3!$K24+Sheet3!$L24*Sheet3!E$1) -> 6.320339 | X42: =Sheet5!G42/(Sheet3!$K24+Sheet3!$L24*Sheet3!F$1) -> 6.5014925 | Y42: =Sheet5!H42/(Sheet3!$K24+Sheet3!$L24*Sheet3!G$1) -> 6.644 | AA42: =S42 -> Terra Smash | AB42: =(Sheet3!$K24+Sheet3!$L24*Sheet3!B$1) / VLOOKUP(Sheet3!$J24,Sheet2!$A$2:$N$39,14,FALSE) -> 19.547612 | AC42: =(Sheet3!$K24+Sheet3!$L24*Sheet3!C$1) / VLOOKUP(Sheet3!$J24,Sheet2!$A$2:$N$39,14,FALSE) -> 24.015638 | AD42: =(Sheet3!$K24+Sheet3!$L24*Sheet3!D$1) / VLOOKUP(Sheet3!$J24,Sheet2!$A$2:$N$39,14,FALSE) -> 28.483664 | AE42: =(Sheet3!$K24+Sheet3!$L24*Sheet3!E$1) / VLOOKUP(Sheet3!$J24,Sheet2!$A$2:$N$39,14,FALSE) -> 32.951689 | AF42: =(Sheet3!$K24+Sheet3!$L24*Sheet3!F$1) / VLOOKUP(Sheet3!$J24,Sheet2!$A$2:$N$39,14,FALSE) -> 37.419715 | AG42: =(Sheet3!$K24+Sheet3!$L24*Sheet3!G$1) / VLOOKUP(Sheet3!$J24,Sheet2!$A$2:$N$39,14,FALSE) -> 41.887741 | AI42: =A42 -> Terra Smash | AJ42: =C42/VLOOKUP(Sheet3!$J24,Sheet2!$A$2:$N$39,13,FALSE) -> 0.068955224 | AK42: =D42/VLOOKUP(Sheet3!$J24,Sheet2!$A$2:$N$39,13,FALSE) -> 0.092350746 | AL42: =E42/VLOOKUP(Sheet3!$J24,Sheet2!$A$2:$N$39,13,FALSE) -> 0.11574627 | AM42: =F42/VLOOKUP(Sheet3!$J24,Sheet2!$A$2:$N$39,13,FALSE) -> 0.13914179 | AN42: =G42/VLOOKUP(Sheet3!$J24,Sheet2!$A$2:$N$39,13,FALSE) -> 0.16253731 | AO42: =H42/VLOOKUP(Sheet3!$J24,Sheet2!$A$2:$N$39,13,FALSE) -> 0.18593284
A43: =Sheet3!A25 -> Pestilence | B43: =Sheet3!J25 -> Defiler | C43: =Sheet3!C25 * 0.75 -> 186.15 | D43: =Sheet3!D25 * 0.75 -> 235.275 | E43: =Sheet3!E25 * 0.75 -> 284.4 | F43: =Sheet3!F25 * 0.75 -> 333.525 | G43: =Sheet3!G25 * 0.75 -> 382.65 | H43: =Sheet3!H25 * 0.75 -> 431.775 | K43: =A43 -> Pestilence | L43: =Sheet5!C43/(Sheet3!$M25+Sheet3!$N25*Sheet3!B$1) -> 20.683333 | M43: =Sheet5!D43/(Sheet3!$M25+Sheet3!$N25*Sheet3!C$1) -> 26.141667 | N43: =Sheet5!E43/(Sheet3!$M25+Sheet3!$N25*Sheet3!D$1) -> 31.6 | O43: =Sheet5!F43/(Sheet3!$M25+Sheet3!$N25*Sheet3!E$1) -> 37.058333 | P43: =Sheet5!G43/(Sheet3!$M25+Sheet3!$N25*Sheet3!F$1) -> 42.516667 | Q43: =Sheet5!H43/(Sheet3!$M25+Sheet3!$N25*Sheet3!G$1) -> 47.975 | S43: =A43 -> Pestilence | T43: =Sheet5!C43/(Sheet3!$K25+Sheet3!$L25*Sheet3!B$1) -> 3.1025 | U43: =Sheet5!D43/(Sheet3!$K25+Sheet3!$L25*Sheet3!C$1) -> 2.9046296 | V43: =Sheet5!E43/(Sheet3!$K25+Sheet3!$L25*Sheet3!D$1) -> 2.7882353 | W43: =Sheet5!F43/(Sheet3!$K25+Sheet3!$L25*Sheet3!E$1) -> 2.7115854 | X43: =Sheet5!G43/(Sheet3!$K25+Sheet3!$L25*Sheet3!F$1) -> 2.6572917 | Y43: =Sheet5!H43/(Sheet3!$K25+Sheet3!$L25*Sheet3!G$1) -> 2.6168182 | AA43: =S43 -> Pestilence | AB43: =(Sheet3!$K25+Sheet3!$L25*Sheet3!B$1) / VLOOKUP(Sheet3!$J25,Sheet2!$A$2:$N$39,14,FALSE) -> 21.276596 | AC43: =(Sheet3!$K25+Sheet3!$L25*Sheet3!C$1) / VLOOKUP(Sheet3!$J25,Sheet2!$A$2:$N$39,14,FALSE) -> 28.723404 | AD43: =(Sheet3!$K25+Sheet3!$L25*Sheet3!D$1) / VLOOKUP(Sheet3!$J25,Sheet2!$A$2:$N$39,14,FALSE) -> 36.170213 | AE43: =(Sheet3!$K25+Sheet3!$L25*Sheet3!E$1) / VLOOKUP(Sheet3!$J25,Sheet2!$A$2:$N$39,14,FALSE) -> 43.617021 | AF43: =(Sheet3!$K25+Sheet3!$L25*Sheet3!F$1) / VLOOKUP(Sheet3!$J25,Sheet2!$A$2:$N$39,14,FALSE) -> 51.06383 | AG43: =(Sheet3!$K25+Sheet3!$L25*Sheet3!G$1) / VLOOKUP(Sheet3!$J25,Sheet2!$A$2:$N$39,14,FALSE) -> 58.510638 | AI43: =A43 -> Pestilence | AJ43: =C43/VLOOKUP(Sheet3!$J25,Sheet2!$A$2:$N$39,13,FALSE) -> 0.1354557 | AK43: =D43/VLOOKUP(Sheet3!$J25,Sheet2!$A$2:$N$39,13,FALSE) -> 0.17120247 | AL43: =E43/VLOOKUP(Sheet3!$J25,Sheet2!$A$2:$N$39,13,FALSE) -> 0.20694925 | AM43: =F43/VLOOKUP(Sheet3!$J25,Sheet2!$A$2:$N$39,13,FALSE) -> 0.24269602 | AN43: =G43/VLOOKUP(Sheet3!$J25,Sheet2!$A$2:$N$39,13,FALSE) -> 0.27844279 | AO43: =H43/VLOOKUP(Sheet3!$J25,Sheet2!$A$2:$N$39,13,FALSE) -> 0.31418956
A44: =Sheet3!A26 -> Pyroclasm | B44: =Sheet3!J26 -> Emberwraith | C44: =Sheet3!C26 * 0.75 -> 177.04125 | D44: =Sheet3!D26 * 0.75 -> 235.05225 | E44: =Sheet3!E26 * 0.75 -> 293.06325 | F44: =Sheet3!F26 * 0.75 -> 351.07425 | G44: =Sheet3!G26 * 0.75 -> 409.08525 | H44: =Sheet3!H26 * 0.75 -> 467.09625 | K44: =A44 -> Pyroclasm | L44: =Sheet5!C44/(Sheet3!$M26+Sheet3!$N26*Sheet3!B$1) -> 6.8092788 | M44: =Sheet5!D44/(Sheet3!$M26+Sheet3!$N26*Sheet3!C$1) -> 9.0404712 | N44: =Sheet5!E44/(Sheet3!$M26+Sheet3!$N26*Sheet3!D$1) -> 11.271663 | O44: =Sheet5!F44/(Sheet3!$M26+Sheet3!$N26*Sheet3!E$1) -> 13.502856 | P44: =Sheet5!G44/(Sheet3!$M26+Sheet3!$N26*Sheet3!F$1) -> 15.734048 | Q44: =Sheet5!H44/(Sheet3!$M26+Sheet3!$N26*Sheet3!G$1) -> 17.96524 | S44: =A44 -> Pyroclasm | T44: =Sheet5!C44/(Sheet3!$K26+Sheet3!$L26*Sheet3!B$1) -> 2.9506875 | U44: =Sheet5!D44/(Sheet3!$K26+Sheet3!$L26*Sheet3!C$1) -> 2.8664909 | V44: =Sheet5!E44/(Sheet3!$K26+Sheet3!$L26*Sheet3!D$1) -> 2.8179159 | W44: =Sheet5!F44/(Sheet3!$K26+Sheet3!$L26*Sheet3!E$1) -> 2.7863036 | X44: =Sheet5!G44/(Sheet3!$K26+Sheet3!$L26*Sheet3!F$1) -> 2.7640895 | Y44: =Sheet5!H44/(Sheet3!$K26+Sheet3!$L26*Sheet3!G$1) -> 2.747625 | AA44: =S44 -> Pyroclasm | AB44: =(Sheet3!$K26+Sheet3!$L26*Sheet3!B$1) / VLOOKUP(Sheet3!$J26,Sheet2!$A$2:$N$39,14,FALSE) -> 31.545741 | AC44: =(Sheet3!$K26+Sheet3!$L26*Sheet3!C$1) / VLOOKUP(Sheet3!$J26,Sheet2!$A$2:$N$39,14,FALSE) -> 43.112513 | AD44: =(Sheet3!$K26+Sheet3!$L26*Sheet3!D$1) / VLOOKUP(Sheet3!$J26,Sheet2!$A$2:$N$39,14,FALSE) -> 54.679285 | AE44: =(Sheet3!$K26+Sheet3!$L26*Sheet3!E$1) / VLOOKUP(Sheet3!$J26,Sheet2!$A$2:$N$39,14,FALSE) -> 66.246057 | AF44: =(Sheet3!$K26+Sheet3!$L26*Sheet3!F$1) / VLOOKUP(Sheet3!$J26,Sheet2!$A$2:$N$39,14,FALSE) -> 77.812829 | AG44: =(Sheet3!$K26+Sheet3!$L26*Sheet3!G$1) / VLOOKUP(Sheet3!$J26,Sheet2!$A$2:$N$39,14,FALSE) -> 89.3796 | AI44: =A44 -> Pyroclasm | AJ44: =C44/VLOOKUP(Sheet3!$J26,Sheet2!$A$2:$N$39,13,FALSE) -> 0.060336117 | AK44: =D44/VLOOKUP(Sheet3!$J26,Sheet2!$A$2:$N$39,13,FALSE) -> 0.080106416 | AL44: =E44/VLOOKUP(Sheet3!$J26,Sheet2!$A$2:$N$39,13,FALSE) -> 0.099876715 | AM44: =F44/VLOOKUP(Sheet3!$J26,Sheet2!$A$2:$N$39,13,FALSE) -> 0.11964701 | AN44: =G44/VLOOKUP(Sheet3!$J26,Sheet2!$A$2:$N$39,13,FALSE) -> 0.13941731 | AO44: =H44/VLOOKUP(Sheet3!$J26,Sheet2!$A$2:$N$39,13,FALSE) -> 0.15918761
A45: =Sheet3!A27 -> Whirl | B45: =Sheet3!J27 -> Forlorn Martyr | C45: =Sheet3!C27 * 0.75 -> 146.60625 | D45: =Sheet3!D27 * 0.75 -> 173.3085 | E45: =Sheet3!E27 * 0.75 -> 200.01075 | F45: =Sheet3!F27 * 0.75 -> 226.713 | G45: =Sheet3!G27 * 0.75 -> 253.41525 | H45: =Sheet3!H27 * 0.75 -> 280.1175 | K45: =A45 -> Whirl | L45: =Sheet5!C45/(Sheet3!$M27+Sheet3!$N27*Sheet3!B$1) -> 18.325781 | M45: =Sheet5!D45/(Sheet3!$M27+Sheet3!$N27*Sheet3!C$1) -> 21.663563 | N45: =Sheet5!E45/(Sheet3!$M27+Sheet3!$N27*Sheet3!D$1) -> 25.001344 | O45: =Sheet5!F45/(Sheet3!$M27+Sheet3!$N27*Sheet3!E$1) -> 28.339125 | P45: =Sheet5!G45/(Sheet3!$M27+Sheet3!$N27*Sheet3!F$1) -> 31.676906 | Q45: =Sheet5!H45/(Sheet3!$M27+Sheet3!$N27*Sheet3!G$1) -> 35.014688 | S45: =A45 -> Whirl | T45: =Sheet5!C45/(Sheet3!$K27+Sheet3!$L27*Sheet3!B$1) -> 2.932125 | U45: =Sheet5!D45/(Sheet3!$K27+Sheet3!$L27*Sheet3!C$1) -> 2.7952984 | V45: =Sheet5!E45/(Sheet3!$K27+Sheet3!$L27*Sheet3!D$1) -> 2.702848 | W45: =Sheet5!F45/(Sheet3!$K27+Sheet3!$L27*Sheet3!E$1) -> 2.6361977 | X45: =Sheet5!G45/(Sheet3!$K27+Sheet3!$L27*Sheet3!F$1) -> 2.5858699 | Y45: =Sheet5!H45/(Sheet3!$K27+Sheet3!$L27*Sheet3!G$1) -> 2.5465227 | AA45: =S45 -> Whirl | AB45: =(Sheet3!$K27+Sheet3!$L27*Sheet3!B$1) / VLOOKUP(Sheet3!$J27,Sheet2!$A$2:$N$39,14,FALSE) -> 21.992523 | AC45: =(Sheet3!$K27+Sheet3!$L27*Sheet3!C$1) / VLOOKUP(Sheet3!$J27,Sheet2!$A$2:$N$39,14,FALSE) -> 27.270728 | AD45: =(Sheet3!$K27+Sheet3!$L27*Sheet3!D$1) / VLOOKUP(Sheet3!$J27,Sheet2!$A$2:$N$39,14,FALSE) -> 32.548933 | AE45: =(Sheet3!$K27+Sheet3!$L27*Sheet3!E$1) / VLOOKUP(Sheet3!$J27,Sheet2!$A$2:$N$39,14,FALSE) -> 37.827139 | AF45: =(Sheet3!$K27+Sheet3!$L27*Sheet3!F$1) / VLOOKUP(Sheet3!$J27,Sheet2!$A$2:$N$39,14,FALSE) -> 43.105344 | AG45: =(Sheet3!$K27+Sheet3!$L27*Sheet3!G$1) / VLOOKUP(Sheet3!$J27,Sheet2!$A$2:$N$39,14,FALSE) -> 48.38355 | AI45: =A45 -> Whirl | AJ45: =C45/VLOOKUP(Sheet3!$J27,Sheet2!$A$2:$N$39,13,FALSE) -> 0.11395744 | AK45: =D45/VLOOKUP(Sheet3!$J27,Sheet2!$A$2:$N$39,13,FALSE) -> 0.13471318 | AL45: =E45/VLOOKUP(Sheet3!$J27,Sheet2!$A$2:$N$39,13,FALSE) -> 0.15546891 | AM45: =F45/VLOOKUP(Sheet3!$J27,Sheet2!$A$2:$N$39,13,FALSE) -> 0.17622464 | AN45: =G45/VLOOKUP(Sheet3!$J27,Sheet2!$A$2:$N$39,13,FALSE) -> 0.19698037 | AO45: =H45/VLOOKUP(Sheet3!$J27,Sheet2!$A$2:$N$39,13,FALSE) -> 0.21773611
... A59: =Sheet3!A41 -> Slice | B59: =Sheet3!J41 -> Wretched Chef | C59: =Sheet3!C41 * 0.75 -> 145.17 | D59: =Sheet3!D41 * 0.75 -> 182.2125 | E59: =Sheet3!E41 * 0.75 -> 219.255 | F59: =Sheet3!F41 * 0.75 -> 256.2975 | G59: =Sheet3!G41 * 0.75 -> 293.34 | H59: =Sheet3!H41 * 0.75 -> 330.3825 | K59: =A59 -> Slice | L59: =Sheet5!C59/(Sheet3!$M41+Sheet3!$N41*Sheet3!B$1) -> 18.14625 | M59: =Sheet5!D59/(Sheet3!$M41+Sheet3!$N41*Sheet3!C$1) -> 22.776562 | N59: =Sheet5!E59/(Sheet3!$M41+Sheet3!$N41*Sheet3!D$1) -> 27.406875 | O59: =Sheet5!F59/(Sheet3!$M41+Sheet3!$N41*Sheet3!E$1) -> 32.037188 | P59: =Sheet5!G59/(Sheet3!$M41+Sheet3!$N41*Sheet3!F$1) -> 36.6675 | Q59: =Sheet5!H59/(Sheet3!$M41+Sheet3!$N41*Sheet3!G$1) -> 41.297812 | S59: =A59 -> Slice | T59: =Sheet5!C59/(Sheet3!$K41+Sheet3!$L41*Sheet3!B$1) -> 2.6394545 | U59: =Sheet5!D59/(Sheet3!$K41+Sheet3!$L41*Sheet3!C$1) -> 2.8922619 | V59: =Sheet5!E59/(Sheet3!$K41+Sheet3!$L41*Sheet3!D$1) -> 3.0880986 | W59: =Sheet5!F59/(Sheet3!$K41+Sheet3!$L41*Sheet3!E$1) -> 3.2442722 | X59: =Sheet5!G59/(Sheet3!$K41+Sheet3!$L41*Sheet3!F$1) -> 3.3717241 | Y59: =Sheet5!H59/(Sheet3!$K41+Sheet3!$L41*Sheet3!G$1) -> 3.4777105 | AA59: =S59 -> Slice | AB59: =(Sheet3!$K41+Sheet3!$L41*Sheet3!B$1) / VLOOKUP(Sheet3!$J41,Sheet2!$A$2:$N$39,14,FALSE) -> 32.305433 | AC59: =(Sheet3!$K41+Sheet3!$L41*Sheet3!C$1) / VLOOKUP(Sheet3!$J41,Sheet2!$A$2:$N$39,14,FALSE) -> 37.004405 | AD59: =(Sheet3!$K41+Sheet3!$L41*Sheet3!D$1) / VLOOKUP(Sheet3!$J41,Sheet2!$A$2:$N$39,14,FALSE) -> 41.703377 | AE59: =(Sheet3!$K41+Sheet3!$L41*Sheet3!E$1) / VLOOKUP(Sheet3!$J41,Sheet2!$A$2:$N$39,14,FALSE) -> 46.402349 | AF59: =(Sheet3!$K41+Sheet3!$L41*Sheet3!F$1) / VLOOKUP(Sheet3!$J41,Sheet2!$A$2:$N$39,14,FALSE) -> 51.101322 | AG59: =(Sheet3!$K41+Sheet3!$L41*Sheet3!G$1) / VLOOKUP(Sheet3!$J41,Sheet2!$A$2:$N$39,14,FALSE) -> 55.800294 | AI59: =A59 -> Slice | AJ59: =C59/VLOOKUP(Sheet3!$J41,Sheet2!$A$2:$N$39,13,FALSE) -> 0.048727029 | AK59: =D59/VLOOKUP(Sheet3!$J41,Sheet2!$A$2:$N$39,13,FALSE) -> 0.061160527 | AL59: =E59/VLOOKUP(Sheet3!$J41,Sheet2!$A$2:$N$39,13,FALSE) -> 0.073594025 | AM59: =F59/VLOOKUP(Sheet3!$J41,Sheet2!$A$2:$N$39,13,FALSE) -> 0.086027524 | AN59: =G59/VLOOKUP(Sheet3!$J41,Sheet2!$A$2:$N$39,13,FALSE) -> 0.098461022 | AO59: =H59/VLOOKUP(Sheet3!$J41,Sheet2!$A$2:$N$39,13,FALSE) -> 0.11089452
A60: =Sheet3!A46 -> Hold Person | B60: =Sheet3!J46 -> Aeromancess | C60: =Sheet3!C46 -> 289.18 | D60: =Sheet3!D46 -> 390.2203 | E60: =Sheet3!E46 -> 506.3032 | F60: =Sheet3!F46 -> 637.4287 | G60: =Sheet3!G46 -> 783.5968 | H60: =Sheet3!H46 -> 944.8075 | K60: =A60 -> Hold Person | L60: =Sheet5!C60/(Sheet3!$M46+Sheet3!$N46*Sheet3!B$1) -> 16.065556 | M60: =Sheet5!D60/(Sheet3!$M46+Sheet3!$N46*Sheet3!C$1) -> 21.678906 | N60: =Sheet5!E60/(Sheet3!$M46+Sheet3!$N46*Sheet3!D$1) -> 28.127956 | O60: =Sheet5!F60/(Sheet3!$M46+Sheet3!$N46*Sheet3!E$1) -> 35.412706 | P60: =Sheet5!G60/(Sheet3!$M46+Sheet3!$N46*Sheet3!F$1) -> 43.533156 | Q60: =Sheet5!H60/(Sheet3!$M46+Sheet3!$N46*Sheet3!G$1) -> 52.489306 | S60: =A60 -> Hold Person | T60: =Sheet5!C60/(Sheet3!$K46+Sheet3!$L46*Sheet3!B$1) -> 3.8557333 | U60: =Sheet5!D60/(Sheet3!$K46+Sheet3!$L46*Sheet3!C$1) -> 4.1959172 | V60: =Sheet5!E60/(Sheet3!$K46+Sheet3!$L46*Sheet3!D$1) -> 4.5612901 | W60: =Sheet5!F60/(Sheet3!$K46+Sheet3!$L46*Sheet3!E$1) -> 4.9413078 | X60: =Sheet5!G60/(Sheet3!$K46+Sheet3!$L46*Sheet3!F$1) -> 5.3305905 | Y60: =Sheet5!H60/(Sheet3!$K46+Sheet3!$L46*Sheet3!G$1) -> 5.7261061 | AA60: =S60 -> Hold Person | AB60: =(Sheet3!$K46+Sheet3!$L46*Sheet3!B$1) / VLOOKUP(Sheet3!$J46,Sheet2!$A$2:$N$39,14,FALSE) -> 27.012426 | AC60: =(Sheet3!$K46+Sheet3!$L46*Sheet3!C$1) / VLOOKUP(Sheet3!$J46,Sheet2!$A$2:$N$39,14,FALSE) -> 33.495408 | AD60: =(Sheet3!$K46+Sheet3!$L46*Sheet3!D$1) / VLOOKUP(Sheet3!$J46,Sheet2!$A$2:$N$39,14,FALSE) -> 39.97839 | AE60: =(Sheet3!$K46+Sheet3!$L46*Sheet3!E$1) / VLOOKUP(Sheet3!$J46,Sheet2!$A$2:$N$39,14,FALSE) -> 46.461372 | AF60: =(Sheet3!$K46+Sheet3!$L46*Sheet3!F$1) / VLOOKUP(Sheet3!$J46,Sheet2!$A$2:$N$39,14,FALSE) -> 52.944354 | AG60: =(Sheet3!$K46+Sheet3!$L46*Sheet3!G$1) / VLOOKUP(Sheet3!$J46,Sheet2!$A$2:$N$39,14,FALSE) -> 59.427337 | AI60: =A60 -> Hold Person | AJ60: =C60/VLOOKUP(Sheet3!$J46,Sheet2!$A$2:$N$39,13,FALSE) -> 0.21978339 | AK60: =D60/VLOOKUP(Sheet3!$J46,Sheet2!$A$2:$N$39,13,FALSE) -> 0.29657633 | AL60: =E60/VLOOKUP(Sheet3!$J46,Sheet2!$A$2:$N$39,13,FALSE) -> 0.38480198 | AM60: =F60/VLOOKUP(Sheet3!$J46,Sheet2!$A$2:$N$39,13,FALSE) -> 0.48446035 | AN60: =G60/VLOOKUP(Sheet3!$J46,Sheet2!$A$2:$N$39,13,FALSE) -> 0.59555143 | AO60: =H60/VLOOKUP(Sheet3!$J46,Sheet2!$A$2:$N$39,13,FALSE) -> 0.71807524
A61: =Sheet3!A47 -> Chasten | B61: =Sheet3!J47 -> Blazing Priest | C61: =Sheet3!C47 -> 289.981 | D61: =Sheet3!D47 -> 359.4755 | E61: =Sheet3!E47 -> 428.97 | F61: =Sheet3!F47 -> 498.4645 | G61: =Sheet3!G47 -> 567.959 | H61: =Sheet3!H47 -> 637.4535 | K61: =A61 -> Chasten | L61: =Sheet5!C61/(Sheet3!$M47+Sheet3!$N47*Sheet3!B$1) -> 36.247625 | M61: =Sheet5!D61/(Sheet3!$M47+Sheet3!$N47*Sheet3!C$1) -> 44.934438 | N61: =Sheet5!E61/(Sheet3!$M47+Sheet3!$N47*Sheet3!D$1) -> 53.62125 | O61: =Sheet5!F61/(Sheet3!$M47+Sheet3!$N47*Sheet3!E$1) -> 62.308063 | P61: =Sheet5!G61/(Sheet3!$M47+Sheet3!$N47*Sheet3!F$1) -> 70.994875 | Q61: =Sheet5!H61/(Sheet3!$M47+Sheet3!$N47*Sheet3!G$1) -> 79.681688 | S61: =A61 -> Chasten | T61: =Sheet5!C61/(Sheet3!$K47+Sheet3!$L47*Sheet3!B$1) -> 5.79962 | U61: =Sheet5!D61/(Sheet3!$K47+Sheet3!$L47*Sheet3!C$1) -> 6.6569537 | V61: =Sheet5!E61/(Sheet3!$K47+Sheet3!$L47*Sheet3!D$1) -> 7.3960345 | W61: =Sheet5!F61/(Sheet3!$K47+Sheet3!$L47*Sheet3!E$1) -> 8.03975 | X61: =Sheet5!G61/(Sheet3!$K47+Sheet3!$L47*Sheet3!F$1) -> 8.6054394 | Y61: =Sheet5!H61/(Sheet3!$K47+Sheet3!$L47*Sheet3!G$1) -> 9.1064786 | AA61: =S61 -> Chasten | AB61: =(Sheet3!$K47+Sheet3!$L47*Sheet3!B$1) / VLOOKUP(Sheet3!$J47,Sheet2!$A$2:$N$39,14,FALSE) -> 18.559762 | AC61: =(Sheet3!$K47+Sheet3!$L47*Sheet3!C$1) / VLOOKUP(Sheet3!$J47,Sheet2!$A$2:$N$39,14,FALSE) -> 20.044543 | AD61: =(Sheet3!$K47+Sheet3!$L47*Sheet3!D$1) / VLOOKUP(Sheet3!$J47,Sheet2!$A$2:$N$39,14,FALSE) -> 21.529324 | AE61: =(Sheet3!$K47+Sheet3!$L47*Sheet3!E$1) / VLOOKUP(Sheet3!$J47,Sheet2!$A$2:$N$39,14,FALSE) -> 23.014105 | AF61: =(Sheet3!$K47+Sheet3!$L47*Sheet3!F$1) / VLOOKUP(Sheet3!$J47,Sheet2!$A$2:$N$39,14,FALSE) -> 24.498886 | AG61: =(Sheet3!$K47+Sheet3!$L47*Sheet3!G$1) / VLOOKUP(Sheet3!$J47,Sheet2!$A$2:$N$39,14,FALSE) -> 25.983667 | AI61: =A61 -> Chasten | AJ61: =C61/VLOOKUP(Sheet3!$J47,Sheet2!$A$2:$N$39,13,FALSE) -> 0.15869804 | AK61: =D61/VLOOKUP(Sheet3!$J47,Sheet2!$A$2:$N$39,13,FALSE) -> 0.19673033 | AL61: =E61/VLOOKUP(Sheet3!$J47,Sheet2!$A$2:$N$39,13,FALSE) -> 0.23476262 | AM61: =F61/VLOOKUP(Sheet3!$J47,Sheet2!$A$2:$N$39,13,FALSE) -> 0.27279491 | AN61: =G61/VLOOKUP(Sheet3!$J47,Sheet2!$A$2:$N$39,13,FALSE) -> 0.3108272 | AO61: =H61/VLOOKUP(Sheet3!$J47,Sheet2!$A$2:$N$39,13,FALSE) -> 0.34885949
A62: =Sheet3!A48 -> Demoralizing Blow | B62: =Sheet3!J48 -> Mystic Swashbuckler | C62: =Sheet3!C48 -> 144 | D62: =Sheet3!D48 -> 203.75 | E62: =Sheet3!E48 -> 263.5 | F62: =Sheet3!F48 -> 323.25 | G62: =Sheet3!G48 -> 383 | H62: =Sheet3!H48 -> 442.75 | K62: =A62 -> Demoralizing Blow | L62: =Sheet5!C62/(Sheet3!$M48+Sheet3!$N48*Sheet3!B$1) -> 12 | M62: =Sheet5!D62/(Sheet3!$M48+Sheet3!$N48*Sheet3!C$1) -> 16.979167 | N62: =Sheet5!E62/(Sheet3!$M48+Sheet3!$N48*Sheet3!D$1) -> 21.958333 | O62: =Sheet5!F62/(Sheet3!$M48+Sheet3!$N48*Sheet3!E$1) -> 26.9375 | P62: =Sheet5!G62/(Sheet3!$M48+Sheet3!$N48*Sheet3!F$1) -> 31.916667 | Q62: =Sheet5!H62/(Sheet3!$M48+Sheet3!$N48*Sheet3!G$1) -> 36.895833 | S62: =A62 -> Demoralizing Blow | T62: =Sheet5!C62/(Sheet3!$K48+Sheet3!$L48*Sheet3!B$1) -> 2.88 | U62: =Sheet5!D62/(Sheet3!$K48+Sheet3!$L48*Sheet3!C$1) -> 3.1835938 | V62: =Sheet5!E62/(Sheet3!$K48+Sheet3!$L48*Sheet3!D$1) -> 3.3782051 | W62: =Sheet5!F62/(Sheet3!$K48+Sheet3!$L48*Sheet3!E$1) -> 3.513587 | X62: =Sheet5!G62/(Sheet3!$K48+Sheet3!$L48*Sheet3!F$1) -> 3.6132075 | Y62: =Sheet5!H62/(Sheet3!$K48+Sheet3!$L48*Sheet3!G$1) -> 3.6895833 | AA62: =S62 -> Demoralizing Blow | AB62: =(Sheet3!$K48+Sheet3!$L48*Sheet3!B$1) / VLOOKUP(Sheet3!$J48,Sheet2!$A$2:$N$39,14,FALSE) -> 24.691358 | AC62: =(Sheet3!$K48+Sheet3!$L48*Sheet3!C$1) / VLOOKUP(Sheet3!$J48,Sheet2!$A$2:$N$39,14,FALSE) -> 31.604938 | AD62: =(Sheet3!$K48+Sheet3!$L48*Sheet3!D$1) / VLOOKUP(Sheet3!$J48,Sheet2!$A$2:$N$39,14,FALSE) -> 38.518519 | AE62: =(Sheet3!$K48+Sheet3!$L48*Sheet3!E$1) / VLOOKUP(Sheet3!$J48,Sheet2!$A$2:$N$39,14,FALSE) -> 45.432099 | AF62: =(Sheet3!$K48+Sheet3!$L48*Sheet3!F$1) / VLOOKUP(Sheet3!$J48,Sheet2!$A$2:$N$39,14,FALSE) -> 52.345679 | AG62: =(Sheet3!$K48+Sheet3!$L48*Sheet3!G$1) / VLOOKUP(Sheet3!$J48,Sheet2!$A$2:$N$39,14,FALSE) -> 59.259259 | AI62: =A62 -> Demoralizing Blow | AJ62: =C62/VLOOKUP(Sheet3!$J48,Sheet2!$A$2:$N$39,13,FALSE) -> 0.11121838 | AK62: =D62/VLOOKUP(Sheet3!$J48,Sheet2!$A$2:$N$39,13,FALSE) -> 0.15736629 | AL62: =E62/VLOOKUP(Sheet3!$J48,Sheet2!$A$2:$N$39,13,FALSE) -> 0.20351419 | AM62: =F62/VLOOKUP(Sheet3!$J48,Sheet2!$A$2:$N$39,13,FALSE) -> 0.2496621 | AN62: =G62/VLOOKUP(Sheet3!$J48,Sheet2!$A$2:$N$39,13,FALSE) -> 0.29581 | AO62: =H62/VLOOKUP(Sheet3!$J48,Sheet2!$A$2:$N$39,13,FALSE) -> 0.34195791
A63: =Sheet3!A49 -> Soulstrike | B63: =Sheet3!J49 -> Soul Binder | C63: =Sheet3!C49 -> 484.38 | D63: =Sheet3!D49 -> 704.2776 | E63: =Sheet3!E49 -> 924.1752 | F63: =Sheet3!F49 -> 1144.0728 | G63: =Sheet3!G49 -> 1363.9704 | H63: =Sheet3!H49 -> 1583.868 | K63: =A63 -> Soulstrike | L63: =Sheet5!C63/(Sheet3!$M49+Sheet3!$N49*Sheet3!B$1) -> 24.219 | M63: =Sheet5!D63/(Sheet3!$M49+Sheet3!$N49*Sheet3!C$1) -> 35.21388 | N63: =Sheet5!E63/(Sheet3!$M49+Sheet3!$N49*Sheet3!D$1) -> 46.20876 | O63: =Sheet5!F63/(Sheet3!$M49+Sheet3!$N49*Sheet3!E$1) -> 57.20364 | P63: =Sheet5!G63/(Sheet3!$M49+Sheet3!$N49*Sheet3!F$1) -> 68.19852 | Q63: =Sheet5!H63/(Sheet3!$M49+Sheet3!$N49*Sheet3!G$1) -> 79.1934 | S63: =A63 -> Soulstrike | T63: =Sheet5!C63/(Sheet3!$K49+Sheet3!$L49*Sheet3!B$1) -> 7.452 | U63: =Sheet5!D63/(Sheet3!$K49+Sheet3!$L49*Sheet3!C$1) -> 9.2668105 | V63: =Sheet5!E63/(Sheet3!$K49+Sheet3!$L49*Sheet3!D$1) -> 10.622703 | W63: =Sheet5!F63/(Sheet3!$K49+Sheet3!$L49*Sheet3!E$1) -> 11.674212 | X63: =Sheet5!G63/(Sheet3!$K49+Sheet3!$L49*Sheet3!F$1) -> 12.51349 | Y63: =Sheet5!H63/(Sheet3!$K49+Sheet3!$L49*Sheet3!G$1) -> 13.1989 | AA63: =S63 -> Soulstrike | AB63: =(Sheet3!$K49+Sheet3!$L49*Sheet3!B$1) / VLOOKUP(Sheet3!$J49,Sheet2!$A$2:$N$39,14,FALSE) -> 23.861968 | AC63: =(Sheet3!$K49+Sheet3!$L49*Sheet3!C$1) / VLOOKUP(Sheet3!$J49,Sheet2!$A$2:$N$39,14,FALSE) -> 27.900147 | AD63: =(Sheet3!$K49+Sheet3!$L49*Sheet3!D$1) / VLOOKUP(Sheet3!$J49,Sheet2!$A$2:$N$39,14,FALSE) -> 31.938326 | AE63: =(Sheet3!$K49+Sheet3!$L49*Sheet3!E$1) / VLOOKUP(Sheet3!$J49,Sheet2!$A$2:$N$39,14,FALSE) -> 35.976505 | AF63: =(Sheet3!$K49+Sheet3!$L49*Sheet3!F$1) / VLOOKUP(Sheet3!$J49,Sheet2!$A$2:$N$39,14,FALSE) -> 40.014684 | AG63: =(Sheet3!$K49+Sheet3!$L49*Sheet3!G$1) / VLOOKUP(Sheet3!$J49,Sheet2!$A$2:$N$39,14,FALSE) -> 44.052863 | AI63: =A63 -> Soulstrike | AJ63: =C63/VLOOKUP(Sheet3!$J49,Sheet2!$A$2:$N$39,13,FALSE) -> 0.27513774 | AK63: =D63/VLOOKUP(Sheet3!$J49,Sheet2!$A$2:$N$39,13,FALSE) -> 0.40004408 | AL63: =E63/VLOOKUP(Sheet3!$J49,Sheet2!$A$2:$N$39,13,FALSE) -> 0.52495041 | AM63: =F63/VLOOKUP(Sheet3!$J49,Sheet2!$A$2:$N$39,13,FALSE) -> 0.64985675 | AN63: =G63/VLOOKUP(Sheet3!$J49,Sheet2!$A$2:$N$39,13,FALSE) -> 0.77476308 | AO63: =H63/VLOOKUP(Sheet3!$J49,Sheet2!$A$2:$N$39,13,FALSE) -> 0.89966941
A64: =Sheet3!A50 -> Echoing Strike | B64: =Sheet3!J50 -> Time Cleric | C64: =Sheet3!C50 -> 88.1625 | D64: =Sheet3!D50 -> 103.271 | E64: =Sheet3!E50 -> 118.3795 | F64: =Sheet3!F50 -> 133.488 | G64: =Sheet3!G50 -> 148.5965 | H64: =Sheet3!H50 -> 163.705 | K64: =A64 -> Echoing Strike | L64: =Sheet5!C64/(Sheet3!$M50+Sheet3!$N50*Sheet3!B$1) -> 22.040625 | M64: =Sheet5!D64/(Sheet3!$M50+Sheet3!$N50*Sheet3!C$1) -> 25.81775 | N64: =Sheet5!E64/(Sheet3!$M50+Sheet3!$N50*Sheet3!D$1) -> 29.594875 | O64: =Sheet5!F64/(Sheet3!$M50+Sheet3!$N50*Sheet3!E$1) -> 33.372 | P64: =Sheet5!G64/(Sheet3!$M50+Sheet3!$N50*Sheet3!F$1) -> 37.149125 | Q64: =Sheet5!H64/(Sheet3!$M50+Sheet3!$N50*Sheet3!G$1) -> 40.92625 | S64: =A64 -> Echoing Strike | T64: =Sheet5!C64/(Sheet3!$K50+Sheet3!$L50*Sheet3!B$1) -> 3.5265 | U64: =Sheet5!D64/(Sheet3!$K50+Sheet3!$L50*Sheet3!C$1) -> 3.561069 | V64: =Sheet5!E64/(Sheet3!$K50+Sheet3!$L50*Sheet3!D$1) -> 3.5872576 | W64: =Sheet5!F64/(Sheet3!$K50+Sheet3!$L50*Sheet3!E$1) -> 3.6077838 | X64: =Sheet5!G64/(Sheet3!$K50+Sheet3!$L50*Sheet3!F$1) -> 3.6243049 | Y64: =Sheet5!H64/(Sheet3!$K50+Sheet3!$L50*Sheet3!G$1) -> 3.6378889 | AA64: =S64 -> Echoing Strike | AB64: =(Sheet3!$K50+Sheet3!$L50*Sheet3!B$1) / VLOOKUP(Sheet3!$J50,Sheet2!$A$2:$N$39,14,FALSE) -> 9.0041419 | AC64: =(Sheet3!$K50+Sheet3!$L50*Sheet3!C$1) / VLOOKUP(Sheet3!$J50,Sheet2!$A$2:$N$39,14,FALSE) -> 10.444805 | AD64: =(Sheet3!$K50+Sheet3!$L50*Sheet3!D$1) / VLOOKUP(Sheet3!$J50,Sheet2!$A$2:$N$39,14,FALSE) -> 11.885467 | AE64: =(Sheet3!$K50+Sheet3!$L50*Sheet3!E$1) / VLOOKUP(Sheet3!$J50,Sheet2!$A$2:$N$39,14,FALSE) -> 13.32613 | AF64: =(Sheet3!$K50+Sheet3!$L50*Sheet3!F$1) / VLOOKUP(Sheet3!$J50,Sheet2!$A$2:$N$39,14,FALSE) -> 14.766793 | AG64: =(Sheet3!$K50+Sheet3!$L50*Sheet3!G$1) / VLOOKUP(Sheet3!$J50,Sheet2!$A$2:$N$39,14,FALSE) -> 16.207455 | AI64: =A64 -> Echoing Strike | AJ64: =C64/VLOOKUP(Sheet3!$J50,Sheet2!$A$2:$N$39,13,FALSE) -> 0.054312336 | AK64: =D64/VLOOKUP(Sheet3!$J50,Sheet2!$A$2:$N$39,13,FALSE) -> 0.063619898 | AL64: =E64/VLOOKUP(Sheet3!$J50,Sheet2!$A$2:$N$39,13,FALSE) -> 0.07292746 | AM64: =F64/VLOOKUP(Sheet3!$J50,Sheet2!$A$2:$N$39,13,FALSE) -> 0.082235022 | AN64: =G64/VLOOKUP(Sheet3!$J50,Sheet2!$A$2:$N$39,13,FALSE) -> 0.091542584 | AO64: =H64/VLOOKUP(Sheet3!$J50,Sheet2!$A$2:$N$39,13,FALSE) -> 0.10085015
A65: =Sheet3!A51 -> Degeneration | B65: =Sheet3!J51 -> Time Cleric | C65: =Sheet3!C51 -> 370.734 | D65: =Sheet3!D51 -> 575.0043 | E65: =Sheet3!E51 -> 779.2746 | F65: =Sheet3!F51 -> 983.5449 | G65: =Sheet3!G51 -> 1187.8152 | H65: =Sheet3!H51 -> 1392.0855 | K65: =A65 -> Degeneration | L65: =Sheet5!C65/(Sheet3!$M51+Sheet3!$N51*Sheet3!B$1) -> 24.7156 | M65: =Sheet5!D65/(Sheet3!$M51+Sheet3!$N51*Sheet3!C$1) -> 38.33362 | N65: =Sheet5!E65/(Sheet3!$M51+Sheet3!$N51*Sheet3!D$1) -> 51.95164 | O65: =Sheet5!F65/(Sheet3!$M51+Sheet3!$N51*Sheet3!E$1) -> 65.56966 | P65: =Sheet5!G65/(Sheet3!$M51+Sheet3!$N51*Sheet3!F$1) -> 79.18768 | Q65: =Sheet5!H65/(Sheet3!$M51+Sheet3!$N51*Sheet3!G$1) -> 92.8057 | S65: =A65 -> Degeneration | T65: =Sheet5!C65/(Sheet3!$K51+Sheet3!$L51*Sheet3!B$1) -> 7.41468 | U65: =Sheet5!D65/(Sheet3!$K51+Sheet3!$L51*Sheet3!C$1) -> 8.4559456 | V65: =Sheet5!E65/(Sheet3!$K51+Sheet3!$L51*Sheet3!D$1) -> 9.0613326 | W65: =Sheet5!F65/(Sheet3!$K51+Sheet3!$L51*Sheet3!E$1) -> 9.4571625 | X65: =Sheet5!G65/(Sheet3!$K51+Sheet3!$L51*Sheet3!F$1) -> 9.7361902 | Y65: =Sheet5!H65/(Sheet3!$K51+Sheet3!$L51*Sheet3!G$1) -> 9.9434679 | AA65: =S65 -> Degeneration | AB65: =(Sheet3!$K51+Sheet3!$L51*Sheet3!B$1) / VLOOKUP(Sheet3!$J51,Sheet2!$A$2:$N$39,14,FALSE) -> 18.008284 | AC65: =(Sheet3!$K51+Sheet3!$L51*Sheet3!C$1) / VLOOKUP(Sheet3!$J51,Sheet2!$A$2:$N$39,14,FALSE) -> 24.491266 | AD65: =(Sheet3!$K51+Sheet3!$L51*Sheet3!D$1) / VLOOKUP(Sheet3!$J51,Sheet2!$A$2:$N$39,14,FALSE) -> 30.974248 | AE65: =(Sheet3!$K51+Sheet3!$L51*Sheet3!E$1) / VLOOKUP(Sheet3!$J51,Sheet2!$A$2:$N$39,14,FALSE) -> 37.45723 | AF65: =(Sheet3!$K51+Sheet3!$L51*Sheet3!F$1) / VLOOKUP(Sheet3!$J51,Sheet2!$A$2:$N$39,14,FALSE) -> 43.940212 | AG65: =(Sheet3!$K51+Sheet3!$L51*Sheet3!G$1) / VLOOKUP(Sheet3!$J51,Sheet2!$A$2:$N$39,14,FALSE) -> 50.423195 | AI65: =A65 -> Degeneration | AJ65: =C65/VLOOKUP(Sheet3!$J51,Sheet2!$A$2:$N$39,13,FALSE) -> 0.22838996 | AK65: =D65/VLOOKUP(Sheet3!$J51,Sheet2!$A$2:$N$39,13,FALSE) -> 0.35423028 | AL65: =E65/VLOOKUP(Sheet3!$J51,Sheet2!$A$2:$N$39,13,FALSE) -> 0.4800706 | AM65: =F65/VLOOKUP(Sheet3!$J51,Sheet2!$A$2:$N$39,13,FALSE) -> 0.60591092 | AN65: =G65/VLOOKUP(Sheet3!$J51,Sheet2!$A$2:$N$39,13,FALSE) -> 0.73175124 | AO65: =H65/VLOOKUP(Sheet3!$J51,Sheet2!$A$2:$N$39,13,FALSE) -> 0.85759156
A66: =Sheet3!A52 -> Smash | B66: =Sheet3!J52 -> Colossus | C66: =Sheet3!C52 -> 317.875 | D66: =Sheet3!D52 -> 367.62 | E66: =Sheet3!E52 -> 417.365 | F66: =Sheet3!F52 -> 467.11 | G66: =Sheet3!G52 -> 516.855 | H66: =Sheet3!H52 -> 566.6 | K66: =A66 -> Smash | L66: =Sheet5!C66/(Sheet3!$M52+Sheet3!$N52*Sheet3!B$1) -> 39.734375 | M66: =Sheet5!D66/(Sheet3!$M52+Sheet3!$N52*Sheet3!C$1) -> 45.9525 | N66: =Sheet5!E66/(Sheet3!$M52+Sheet3!$N52*Sheet3!D$1) -> 52.170625 | O66: =Sheet5!F66/(Sheet3!$M52+Sheet3!$N52*Sheet3!E$1) -> 58.38875 | P66: =Sheet5!G66/(Sheet3!$M52+Sheet3!$N52*Sheet3!F$1) -> 64.606875 | Q66: =Sheet5!H66/(Sheet3!$M52+Sheet3!$N52*Sheet3!G$1) -> 70.825 | S66: =A66 -> Smash | T66: =Sheet5!C66/(Sheet3!$K52+Sheet3!$L52*Sheet3!B$1) -> 9.0821429 | U66: =Sheet5!D66/(Sheet3!$K52+Sheet3!$L52*Sheet3!C$1) -> 8.9663415 | V66: =Sheet5!E66/(Sheet3!$K52+Sheet3!$L52*Sheet3!D$1) -> 8.8801064 | W66: =Sheet5!F66/(Sheet3!$K52+Sheet3!$L52*Sheet3!E$1) -> 8.8133962 | X66: =Sheet5!G66/(Sheet3!$K52+Sheet3!$L52*Sheet3!F$1) -> 8.7602542 | Y66: =Sheet5!H66/(Sheet3!$K52+Sheet3!$L52*Sheet3!G$1) -> 8.7169231 | AA66: =S66 -> Smash | AB66: =(Sheet3!$K52+Sheet3!$L52*Sheet3!B$1) / VLOOKUP(Sheet3!$J52,Sheet2!$A$2:$N$39,14,FALSE) -> 21.472393 | AC66: =(Sheet3!$K52+Sheet3!$L52*Sheet3!C$1) / VLOOKUP(Sheet3!$J52,Sheet2!$A$2:$N$39,14,FALSE) -> 25.153374 | AD66: =(Sheet3!$K52+Sheet3!$L52*Sheet3!D$1) / VLOOKUP(Sheet3!$J52,Sheet2!$A$2:$N$39,14,FALSE) -> 28.834356 | AE66: =(Sheet3!$K52+Sheet3!$L52*Sheet3!E$1) / VLOOKUP(Sheet3!$J52,Sheet2!$A$2:$N$39,14,FALSE) -> 32.515337 | AF66: =(Sheet3!$K52+Sheet3!$L52*Sheet3!F$1) / VLOOKUP(Sheet3!$J52,Sheet2!$A$2:$N$39,14,FALSE) -> 36.196319 | AG66: =(Sheet3!$K52+Sheet3!$L52*Sheet3!G$1) / VLOOKUP(Sheet3!$J52,Sheet2!$A$2:$N$39,14,FALSE) -> 39.877301 | AI66: =A66 -> Smash | AJ66: =C66/VLOOKUP(Sheet3!$J52,Sheet2!$A$2:$N$39,13,FALSE) -> 0.1033908 | AK66: =D66/VLOOKUP(Sheet3!$J52,Sheet2!$A$2:$N$39,13,FALSE) -> 0.11957066 | AL66: =E66/VLOOKUP(Sheet3!$J52,Sheet2!$A$2:$N$39,13,FALSE) -> 0.13575053 | AM66: =F66/VLOOKUP(Sheet3!$J52,Sheet2!$A$2:$N$39,13,FALSE) -> 0.1519304 | AN66: =G66/VLOOKUP(Sheet3!$J52,Sheet2!$A$2:$N$39,13,FALSE) -> 0.16811026 | AO66: =H66/VLOOKUP(Sheet3!$J52,Sheet2!$A$2:$N$39,13,FALSE) -> 0.18429013
A67: =Sheet3!A53 -> Grasping Tree | B67: =Sheet3!J53 -> Elder Treant | C67: =Sheet3!C53 -> 79.7 | D67: =Sheet3!D53 -> 120.318 | E67: =Sheet3!E53 -> 166.789 | F67: =Sheet3!F53 -> 219.113 | G67: =Sheet3!G53 -> 277.29 | H67: =Sheet3!H53 -> 341.32 | K67: =A67 -> Grasping Tree | L67: =Sheet5!C67/(Sheet3!$M53+Sheet3!$N53*Sheet3!B$1) -> 4.1947368 | M67: =Sheet5!D67/(Sheet3!$M53+Sheet3!$N53*Sheet3!C$1) -> 6.3325263 | N67: =Sheet5!E67/(Sheet3!$M53+Sheet3!$N53*Sheet3!D$1) -> 8.7783684 | O67: =Sheet5!F67/(Sheet3!$M53+Sheet3!$N53*Sheet3!E$1) -> 11.532263 | P67: =Sheet5!G67/(Sheet3!$M53+Sheet3!$N53*Sheet3!F$1) -> 14.594211 | Q67: =Sheet5!H67/(Sheet3!$M53+Sheet3!$N53*Sheet3!G$1) -> 17.964211 | S67: =A67 -> Grasping Tree | T67: =Sheet5!C67/(Sheet3!$K53+Sheet3!$L53*Sheet3!B$1) -> 1.594 | U67: =Sheet5!D67/(Sheet3!$K53+Sheet3!$L53*Sheet3!C$1) -> 1.8510462 | V67: =Sheet5!E67/(Sheet3!$K53+Sheet3!$L53*Sheet3!D$1) -> 2.0848625 | W67: =Sheet5!F67/(Sheet3!$K53+Sheet3!$L53*Sheet3!E$1) -> 2.3064526 | X67: =Sheet5!G67/(Sheet3!$K53+Sheet3!$L53*Sheet3!F$1) -> 2.5208182 | Y67: =Sheet5!H67/(Sheet3!$K53+Sheet3!$L53*Sheet3!G$1) -> 2.73056 | AA67: =S67 -> Grasping Tree | AB67: =(Sheet3!$K53+Sheet3!$L53*Sheet3!B$1) / VLOOKUP(Sheet3!$J53,Sheet2!$A$2:$N$39,14,FALSE) -> 27.262814 | AC67: =(Sheet3!$K53+Sheet3!$L53*Sheet3!C$1) / VLOOKUP(Sheet3!$J53,Sheet2!$A$2:$N$39,14,FALSE) -> 35.441658 | AD67: =(Sheet3!$K53+Sheet3!$L53*Sheet3!D$1) / VLOOKUP(Sheet3!$J53,Sheet2!$A$2:$N$39,14,FALSE) -> 43.620502 | AE67: =(Sheet3!$K53+Sheet3!$L53*Sheet3!E$1) / VLOOKUP(Sheet3!$J53,Sheet2!$A$2:$N$39,14,FALSE) -> 51.799346 | AF67: =(Sheet3!$K53+Sheet3!$L53*Sheet3!F$1) / VLOOKUP(Sheet3!$J53,Sheet2!$A$2:$N$39,14,FALSE) -> 59.97819 | AG67: =(Sheet3!$K53+Sheet3!$L53*Sheet3!G$1) / VLOOKUP(Sheet3!$J53,Sheet2!$A$2:$N$39,14,FALSE) -> 68.157034 | AI67: =A67 -> Grasping Tree | AJ67: =C67/VLOOKUP(Sheet3!$J53,Sheet2!$A$2:$N$39,13,FALSE) -> 0.026887071 | AK67: =D67/VLOOKUP(Sheet3!$J53,Sheet2!$A$2:$N$39,13,FALSE) -> 0.040589694 | AL67: =E67/VLOOKUP(Sheet3!$J53,Sheet2!$A$2:$N$39,13,FALSE) -> 0.056266847 | AM67: =F67/VLOOKUP(Sheet3!$J53,Sheet2!$A$2:$N$39,13,FALSE) -> 0.073918529 | AN67: =G67/VLOOKUP(Sheet3!$J53,Sheet2!$A$2:$N$39,13,FALSE) -> 0.093544742 | AO67: =H67/VLOOKUP(Sheet3!$J53,Sheet2!$A$2:$N$39,13,FALSE) -> 0.11514548
A68: =Sheet3!A54 -> Ice Lance | B68: =Sheet3!J54 -> Icespinner | C68: =Sheet3!C54 -> 438.815 | D68: =Sheet3!D54 -> 527.1175 | E68: =Sheet3!E54 -> 615.42 | F68: =Sheet3!F54 -> 703.7225 | G68: =Sheet3!G54 -> 792.025 | H68: =Sheet3!H54 -> 880.3275 | K68: =A68 -> Ice Lance | L68: =Sheet5!C68/(Sheet3!$M54+Sheet3!$N54*Sheet3!B$1) -> 25.812647 | M68: =Sheet5!D68/(Sheet3!$M54+Sheet3!$N54*Sheet3!C$1) -> 31.006912 | N68: =Sheet5!E68/(Sheet3!$M54+Sheet3!$N54*Sheet3!D$1) -> 36.201176 | O68: =Sheet5!F68/(Sheet3!$M54+Sheet3!$N54*Sheet3!E$1) -> 41.395441 | P68: =Sheet5!G68/(Sheet3!$M54+Sheet3!$N54*Sheet3!F$1) -> 46.589706 | Q68: =Sheet5!H68/(Sheet3!$M54+Sheet3!$N54*Sheet3!G$1) -> 51.783971 | S68: =A68 -> Ice Lance | T68: =Sheet5!C68/(Sheet3!$K54+Sheet3!$L54*Sheet3!B$1) -> 7.3135833 | U68: =Sheet5!D68/(Sheet3!$K54+Sheet3!$L54*Sheet3!C$1) -> 6.2013824 | V68: =Sheet5!E68/(Sheet3!$K54+Sheet3!$L54*Sheet3!D$1) -> 5.5947273 | W68: =Sheet5!F68/(Sheet3!$K54+Sheet3!$L54*Sheet3!E$1) -> 5.2127593 | X68: =Sheet5!G68/(Sheet3!$K54+Sheet3!$L54*Sheet3!F$1) -> 4.9501563 | Y68: =Sheet5!H68/(Sheet3!$K54+Sheet3!$L54*Sheet3!G$1) -> 4.758527 | AA68: =S68 -> Ice Lance | AB68: =(Sheet3!$K54+Sheet3!$L54*Sheet3!B$1) / VLOOKUP(Sheet3!$J54,Sheet2!$A$2:$N$39,14,FALSE) -> 20.569078 | AC68: =(Sheet3!$K54+Sheet3!$L54*Sheet3!C$1) / VLOOKUP(Sheet3!$J54,Sheet2!$A$2:$N$39,14,FALSE) -> 29.139527 | AD68: =(Sheet3!$K54+Sheet3!$L54*Sheet3!D$1) / VLOOKUP(Sheet3!$J54,Sheet2!$A$2:$N$39,14,FALSE) -> 37.709976 | AE68: =(Sheet3!$K54+Sheet3!$L54*Sheet3!E$1) / VLOOKUP(Sheet3!$J54,Sheet2!$A$2:$N$39,14,FALSE) -> 46.280425 | AF68: =(Sheet3!$K54+Sheet3!$L54*Sheet3!F$1) / VLOOKUP(Sheet3!$J54,Sheet2!$A$2:$N$39,14,FALSE) -> 54.850874 | AG68: =(Sheet3!$K54+Sheet3!$L54*Sheet3!G$1) / VLOOKUP(Sheet3!$J54,Sheet2!$A$2:$N$39,14,FALSE) -> 63.421323 | AI68: =A68 -> Ice Lance | AJ68: =C68/VLOOKUP(Sheet3!$J54,Sheet2!$A$2:$N$39,13,FALSE) -> 0.32444732 | AK68: =D68/VLOOKUP(Sheet3!$J54,Sheet2!$A$2:$N$39,13,FALSE) -> 0.38973567 | AL68: =E68/VLOOKUP(Sheet3!$J54,Sheet2!$A$2:$N$39,13,FALSE) -> 0.45502403 | AM68: =F68/VLOOKUP(Sheet3!$J54,Sheet2!$A$2:$N$39,13,FALSE) -> 0.52031238 | AN68: =G68/VLOOKUP(Sheet3!$J54,Sheet2!$A$2:$N$39,13,FALSE) -> 0.58560074 | AO68: =H68/VLOOKUP(Sheet3!$J54,Sheet2!$A$2:$N$39,13,FALSE) -> 0.65088909
A69: =Sheet3!A55 -> Lunge | B69: =Sheet3!J55 -> Master of the Hunt | C69: =Sheet3!C55 -> 286.25 | D69: =Sheet3!D55 -> 374.5 | E69: =Sheet3!E55 -> 462.75 | F69: =Sheet3!F55 -> 551 | G69: =Sheet3!G55 -> 639.25 | H69: =Sheet3!H55 -> 727.5 | K69: =A69 -> Lunge | L69: =Sheet5!C69/(Sheet3!$M55+Sheet3!$N55*Sheet3!B$1) -> 35.78125 | M69: =Sheet5!D69/(Sheet3!$M55+Sheet3!$N55*Sheet3!C$1) -> 46.8125 | N69: =Sheet5!E69/(Sheet3!$M55+Sheet3!$N55*Sheet3!D$1) -> 57.84375 | O69: =Sheet5!F69/(Sheet3!$M55+Sheet3!$N55*Sheet3!E$1) -> 68.875 | P69: =Sheet5!G69/(Sheet3!$M55+Sheet3!$N55*Sheet3!F$1) -> 79.90625 | Q69: =Sheet5!H69/(Sheet3!$M55+Sheet3!$N55*Sheet3!G$1) -> 90.9375 | S69: =A69 -> Lunge | T69: =Sheet5!C69/(Sheet3!$K55+Sheet3!$L55*Sheet3!B$1) -> 7.15625 | U69: =Sheet5!D69/(Sheet3!$K55+Sheet3!$L55*Sheet3!C$1) -> 7.9680851 | V69: =Sheet5!E69/(Sheet3!$K55+Sheet3!$L55*Sheet3!D$1) -> 8.5694444 | W69: =Sheet5!F69/(Sheet3!$K55+Sheet3!$L55*Sheet3!E$1) -> 9.0327869 | X69: =Sheet5!G69/(Sheet3!$K55+Sheet3!$L55*Sheet3!F$1) -> 9.4007353 | Y69: =Sheet5!H69/(Sheet3!$K55+Sheet3!$L55*Sheet3!G$1) -> 9.7 | AA69: =S69 -> Lunge | AB69: =(Sheet3!$K55+Sheet3!$L55*Sheet3!B$1) / VLOOKUP(Sheet3!$J55,Sheet2!$A$2:$N$39,14,FALSE) -> 23.696682 | AC69: =(Sheet3!$K55+Sheet3!$L55*Sheet3!C$1) / VLOOKUP(Sheet3!$J55,Sheet2!$A$2:$N$39,14,FALSE) -> 27.843602 | AD69: =(Sheet3!$K55+Sheet3!$L55*Sheet3!D$1) / VLOOKUP(Sheet3!$J55,Sheet2!$A$2:$N$39,14,FALSE) -> 31.990521 | AE69: =(Sheet3!$K55+Sheet3!$L55*Sheet3!E$1) / VLOOKUP(Sheet3!$J55,Sheet2!$A$2:$N$39,14,FALSE) -> 36.137441 | AF69: =(Sheet3!$K55+Sheet3!$L55*Sheet3!F$1) / VLOOKUP(Sheet3!$J55,Sheet2!$A$2:$N$39,14,FALSE) -> 40.28436 | AG69: =(Sheet3!$K55+Sheet3!$L55*Sheet3!G$1) / VLOOKUP(Sheet3!$J55,Sheet2!$A$2:$N$39,14,FALSE) -> 44.43128 | AI69: =A69 -> Lunge | AJ69: =C69/VLOOKUP(Sheet3!$J55,Sheet2!$A$2:$N$39,13,FALSE) -> 0.10621521 | AK69: =D69/VLOOKUP(Sheet3!$J55,Sheet2!$A$2:$N$39,13,FALSE) -> 0.13896104 | AL69: =E69/VLOOKUP(Sheet3!$J55,Sheet2!$A$2:$N$39,13,FALSE) -> 0.17170686 | AM69: =F69/VLOOKUP(Sheet3!$J55,Sheet2!$A$2:$N$39,13,FALSE) -> 0.20445269 | AN69: =G69/VLOOKUP(Sheet3!$J55,Sheet2!$A$2:$N$39,13,FALSE) -> 0.23719852 | AO69: =H69/VLOOKUP(Sheet3!$J55,Sheet2!$A$2:$N$39,13,FALSE) -> 0.26994434
A70: =Sheet3!A56 -> Smite | B70: =Sheet3!J56 -> Scarab | C70: =Sheet3!C56 -> 191.65 | D70: =Sheet3!D56 -> 267.0625 | E70: =Sheet3!E56 -> 342.475 | F70: =Sheet3!F56 -> 417.8875 | G70: =Sheet3!G56 -> 493.3 | H70: =Sheet3!H56 -> 568.7125 | K70: =A70 -> Smite | L70: =Sheet5!C70/(Sheet3!$M56+Sheet3!$N56*Sheet3!B$1) -> 23.95625 | M70: =Sheet5!D70/(Sheet3!$M56+Sheet3!$N56*Sheet3!C$1) -> 33.382812 | N70: =Sheet5!E70/(Sheet3!$M56+Sheet3!$N56*Sheet3!D$1) -> 42.809375 | O70: =Sheet5!F70/(Sheet3!$M56+Sheet3!$N56*Sheet3!E$1) -> 52.235938 | P70: =Sheet5!G70/(Sheet3!$M56+Sheet3!$N56*Sheet3!F$1) -> 61.6625 | Q70: =Sheet5!H70/(Sheet3!$M56+Sheet3!$N56*Sheet3!G$1) -> 71.089063 | S70: =A70 -> Smite | T70: =Sheet5!C70/(Sheet3!$K56+Sheet3!$L56*Sheet3!B$1) -> 2.1294444 | U70: =Sheet5!D70/(Sheet3!$K56+Sheet3!$L56*Sheet3!C$1) -> 2.9673611 | V70: =Sheet5!E70/(Sheet3!$K56+Sheet3!$L56*Sheet3!D$1) -> 3.8052778 | W70: =Sheet5!F70/(Sheet3!$K56+Sheet3!$L56*Sheet3!E$1) -> 4.6431944 | X70: =Sheet5!G70/(Sheet3!$K56+Sheet3!$L56*Sheet3!F$1) -> 5.4811111 | Y70: =Sheet5!H70/(Sheet3!$K56+Sheet3!$L56*Sheet3!G$1) -> 6.3190278 | AA70: =S70 -> Smite | AB70: =(Sheet3!$K56+Sheet3!$L56*Sheet3!B$1) / VLOOKUP(Sheet3!$J56,Sheet2!$A$2:$N$39,14,FALSE) -> 11.465698 | AC70: =(Sheet3!$K56+Sheet3!$L56*Sheet3!C$1) / VLOOKUP(Sheet3!$J56,Sheet2!$A$2:$N$39,14,FALSE) -> 11.465698 | AD70: =(Sheet3!$K56+Sheet3!$L56*Sheet3!D$1) / VLOOKUP(Sheet3!$J56,Sheet2!$A$2:$N$39,14,FALSE) -> 11.465698 | AE70: =(Sheet3!$K56+Sheet3!$L56*Sheet3!E$1) / VLOOKUP(Sheet3!$J56,Sheet2!$A$2:$N$39,14,FALSE) -> 11.465698 | AF70: =(Sheet3!$K56+Sheet3!$L56*Sheet3!F$1) / VLOOKUP(Sheet3!$J56,Sheet2!$A$2:$N$39,14,FALSE) -> 11.465698 | AG70: =(Sheet3!$K56+Sheet3!$L56*Sheet3!G$1) / VLOOKUP(Sheet3!$J56,Sheet2!$A$2:$N$39,14,FALSE) -> 11.465698 | AI70: =A70 -> Smite | AJ70: =C70/VLOOKUP(Sheet3!$J56,Sheet2!$A$2:$N$39,13,FALSE) -> 0.098345093 | AK70: =D70/VLOOKUP(Sheet3!$J56,Sheet2!$A$2:$N$39,13,FALSE) -> 0.13704298 | AL70: =E70/VLOOKUP(Sheet3!$J56,Sheet2!$A$2:$N$39,13,FALSE) -> 0.17574086 | AM70: =F70/VLOOKUP(Sheet3!$J56,Sheet2!$A$2:$N$39,13,FALSE) -> 0.21443874 | AN70: =G70/VLOOKUP(Sheet3!$J56,Sheet2!$A$2:$N$39,13,FALSE) -> 0.25313663 | AO70: =H70/VLOOKUP(Sheet3!$J56,Sheet2!$A$2:$N$39,13,FALSE) -> 0.29183451
A71: =Sheet3!A57 -> Maw of Death | B71: =Sheet3!J57 -> Behemoth | C71: =Sheet3!C57 -> 256.95 | D71: =Sheet3!D57 -> 310.7425 | E71: =Sheet3!E57 -> 364.535 | F71: =Sheet3!F57 -> 418.3275 | G71: =Sheet3!G57 -> 472.12 | H71: =Sheet3!H57 -> 525.9125 | K71: =A71 -> Maw of Death | L71: =Sheet5!C71/(Sheet3!$M57+Sheet3!$N57*Sheet3!B$1) -> 32.11875 | M71: =Sheet5!D71/(Sheet3!$M57+Sheet3!$N57*Sheet3!C$1) -> 38.842812 | N71: =Sheet5!E71/(Sheet3!$M57+Sheet3!$N57*Sheet3!D$1) -> 45.566875 | O71: =Sheet5!F71/(Sheet3!$M57+Sheet3!$N57*Sheet3!E$1) -> 52.290937 | P71: =Sheet5!G71/(Sheet3!$M57+Sheet3!$N57*Sheet3!F$1) -> 59.015 | Q71: =Sheet5!H71/(Sheet3!$M57+Sheet3!$N57*Sheet3!G$1) -> 65.739062 | S71: =A71 -> Maw of Death | T71: =Sheet5!C71/(Sheet3!$K57+Sheet3!$L57*Sheet3!B$1) -> 7.3414286 | U71: =Sheet5!D71/(Sheet3!$K57+Sheet3!$L57*Sheet3!C$1) -> 7.5790854 | V71: =Sheet5!E71/(Sheet3!$K57+Sheet3!$L57*Sheet3!D$1) -> 7.7560638 | W71: =Sheet5!F71/(Sheet3!$K57+Sheet3!$L57*Sheet3!E$1) -> 7.8929717 | X71: =Sheet5!G71/(Sheet3!$K57+Sheet3!$L57*Sheet3!F$1) -> 8.0020339 | Y71: =Sheet5!H71/(Sheet3!$K57+Sheet3!$L57*Sheet3!G$1) -> 8.0909615 | AA71: =S71 -> Maw of Death | AB71: =(Sheet3!$K57+Sheet3!$L57*Sheet3!B$1) / VLOOKUP(Sheet3!$J57,Sheet2!$A$2:$N$39,14,FALSE) -> 21.875 | AC71: =(Sheet3!$K57+Sheet3!$L57*Sheet3!C$1) / VLOOKUP(Sheet3!$J57,Sheet2!$A$2:$N$39,14,FALSE) -> 25.625 | AD71: =(Sheet3!$K57+Sheet3!$L57*Sheet3!D$1) / VLOOKUP(Sheet3!$J57,Sheet2!$A$2:$N$39,14,FALSE) -> 29.375 | AE71: =(Sheet3!$K57+Sheet3!$L57*Sheet3!E$1) / VLOOKUP(Sheet3!$J57,Sheet2!$A$2:$N$39,14,FALSE) -> 33.125 | AF71: =(Sheet3!$K57+Sheet3!$L57*Sheet3!F$1) / VLOOKUP(Sheet3!$J57,Sheet2!$A$2:$N$39,14,FALSE) -> 36.875 | AG71: =(Sheet3!$K57+Sheet3!$L57*Sheet3!G$1) / VLOOKUP(Sheet3!$J57,Sheet2!$A$2:$N$39,14,FALSE) -> 40.625 | AI71: =A71 -> Maw of Death | AJ71: =C71/VLOOKUP(Sheet3!$J57,Sheet2!$A$2:$N$39,13,FALSE) -> 0.086246539 | AK71: =D71/VLOOKUP(Sheet3!$J57,Sheet2!$A$2:$N$39,13,FALSE) -> 0.10430226 | AL71: =E71/VLOOKUP(Sheet3!$J57,Sheet2!$A$2:$N$39,13,FALSE) -> 0.12235798 | AM71: =F71/VLOOKUP(Sheet3!$J57,Sheet2!$A$2:$N$39,13,FALSE) -> 0.14041369 | AN71: =G71/VLOOKUP(Sheet3!$J57,Sheet2!$A$2:$N$39,13,FALSE) -> 0.15846941 | AO71: =H71/VLOOKUP(Sheet3!$J57,Sheet2!$A$2:$N$39,13,FALSE) -> 0.17652513
... A84: =Sheet3!A70 -> Doom Hammer | B84: =Sheet3!J70 -> Blackguard | C84: =Sheet3!C70 -> 208.7 | D84: =Sheet3!D70 -> 260.44 | E84: =Sheet3!E70 -> 312.18 | F84: =Sheet3!F70 -> 363.92 | G84: =Sheet3!G70 -> 415.66 | H84: =Sheet3!H70 -> 467.4 | K84: =A84 -> Doom Hammer | L84: =Sheet5!C84/(Sheet3!$M70+Sheet3!$N70*Sheet3!B$1) -> 11.594444 | M84: =Sheet5!D84/(Sheet3!$M70+Sheet3!$N70*Sheet3!C$1) -> 14.468889 | N84: =Sheet5!E84/(Sheet3!$M70+Sheet3!$N70*Sheet3!D$1) -> 17.343333 | O84: =Sheet5!F84/(Sheet3!$M70+Sheet3!$N70*Sheet3!E$1) -> 20.217778 | P84: =Sheet5!G84/(Sheet3!$M70+Sheet3!$N70*Sheet3!F$1) -> 23.092222 | Q84: =Sheet5!H84/(Sheet3!$M70+Sheet3!$N70*Sheet3!G$1) -> 25.966667 | S84: =A84 -> Doom Hammer | T84: =Sheet5!C84/(Sheet3!$K70+Sheet3!$L70*Sheet3!B$1) -> 3.4783333 | U84: =Sheet5!D84/(Sheet3!$K70+Sheet3!$L70*Sheet3!C$1) -> 3.7744928 | V84: =Sheet5!E84/(Sheet3!$K70+Sheet3!$L70*Sheet3!D$1) -> 4.0023077 | W84: =Sheet5!F84/(Sheet3!$K70+Sheet3!$L70*Sheet3!E$1) -> 4.1829885 | X84: =Sheet5!G84/(Sheet3!$K70+Sheet3!$L70*Sheet3!F$1) -> 4.3297917 | Y84: =Sheet5!H84/(Sheet3!$K70+Sheet3!$L70*Sheet3!G$1) -> 4.4514286 | AA84: =S84 -> Doom Hammer | AB84: =(Sheet3!$K70+Sheet3!$L70*Sheet3!B$1) / VLOOKUP(Sheet3!$J70,Sheet2!$A$2:$N$39,14,FALSE) -> 31.471282 | AC84: =(Sheet3!$K70+Sheet3!$L70*Sheet3!C$1) / VLOOKUP(Sheet3!$J70,Sheet2!$A$2:$N$39,14,FALSE) -> 36.191975 | AD84: =(Sheet3!$K70+Sheet3!$L70*Sheet3!D$1) / VLOOKUP(Sheet3!$J70,Sheet2!$A$2:$N$39,14,FALSE) -> 40.912667 | AE84: =(Sheet3!$K70+Sheet3!$L70*Sheet3!E$1) / VLOOKUP(Sheet3!$J70,Sheet2!$A$2:$N$39,14,FALSE) -> 45.63336 | AF84: =(Sheet3!$K70+Sheet3!$L70*Sheet3!F$1) / VLOOKUP(Sheet3!$J70,Sheet2!$A$2:$N$39,14,FALSE) -> 50.354052 | AG84: =(Sheet3!$K70+Sheet3!$L70*Sheet3!G$1) / VLOOKUP(Sheet3!$J70,Sheet2!$A$2:$N$39,14,FALSE) -> 55.074744 | AI84: =A84 -> Doom Hammer | AJ84: =C84/VLOOKUP(Sheet3!$J70,Sheet2!$A$2:$N$39,13,FALSE) -> 0.073087025 | AK84: =D84/VLOOKUP(Sheet3!$J70,Sheet2!$A$2:$N$39,13,FALSE) -> 0.091206444 | AL84: =E84/VLOOKUP(Sheet3!$J70,Sheet2!$A$2:$N$39,13,FALSE) -> 0.10932586 | AM84: =F84/VLOOKUP(Sheet3!$J70,Sheet2!$A$2:$N$39,13,FALSE) -> 0.12744528 | AN84: =G84/VLOOKUP(Sheet3!$J70,Sheet2!$A$2:$N$39,13,FALSE) -> 0.1455647 | AO84: =H84/VLOOKUP(Sheet3!$J70,Sheet2!$A$2:$N$39,13,FALSE) -> 0.16368412

Sheet Sheet6

Sheet Sheet7
A1: Single Target Damage | D1: Maximum Damage per second | J1: Damage per mana | M1: Time to regenerate mana | U1: Scaling (per cast) | X1: Scaling (DPS) | AA1: Glass Cannon (single spell) | AD1: Factored Cast | AG1: Factored DPS
A2: =Sheet5!A79 -> Attack of Opportunity | B2: =Sheet5!H79 -> 1680.52 | D2: =Sheet5!A79 -> Attack of Opportunity | E2: =Sheet5!Q79 -> 152.77455 | J2: =Sheet5!S63 -> Soulstrike | K2: =Sheet5!Y63 -> 13.1989 | M2: =Sheet5!AA39 -> Rockslide | N2: =Sheet5!AB39 -> 39.877301 | O2: =Sheet5!AC39 -> 54.601227 | P2: =Sheet5!AD39 -> 69.325153 | Q2: =Sheet5!AE39 -> 84.04908 | R2: =Sheet5!AF39 -> 98.773006 | S2: =Sheet5!AG39 -> 113.49693 | U2: =Sheet5!A81 -> Infernal Binding | V2: =Sheet5!H81/Sheet5!C81 -> 4.8373445 | X2: =Sheet5!A81 -> Infernal Binding | Y2: =Sheet5!Q81/Sheet5!L81 -> 4.8373445 | AA2: =Sheet5!A79 -> Attack of Opportunity | AB2: =Sheet5!AO79 -> 1.4027713 | AD2: =Sheet5!A63 -> Soulstrike | AE2: =Sheet5!H63/VLOOKUP(Sheet5!B63,Sheet2!$A$2:$O$39,15,FALSE) -> 1496.937 | AG2: =Sheet5!A69 -> Lunge | AH2: =Sheet5!Q69/VLOOKUP(Sheet5!B69,Sheet2!$A$2:$O$39,15,FALSE) -> 131.568
A3: =Sheet5!A63 -> Soulstrike | B3: =Sheet5!H63 -> 1583.868 | D3: =Sheet5!K65 -> Degeneration | E3: =Sheet5!Q65 -> 92.8057 | J3: =Sheet5!A79 -> Attack of Opportunity | K3: =Sheet5!Y79 -> 12.927077 | M3: =Sheet5!AA38 -> Holy Strike | N3: =Sheet5!AB38 -> 24.322446 | O3: =Sheet5!AC38 -> 35.441279 | P3: =Sheet5!AD38 -> 46.560111 | Q3: =Sheet5!AE38 -> 57.678944 | R3: =Sheet5!AF38 -> 68.797776 | S3: =Sheet5!AG38 -> 79.916609 | U3: =Sheet5!A80 -> Necrotic Shot | V3: =Sheet5!H80/Sheet5!C80 -> 4.501804 | X3: =Sheet5!A80 -> Necrotic Shot | Y3: =Sheet5!Q80/Sheet5!L80 -> 4.501804 | AA3: =Sheet5!A63 -> Soulstrike | AB3: =Sheet5!AO63 -> 0.89966941 | AD3: =Sheet5!A72 -> Cinderfury | AE3: =Sheet5!H72/VLOOKUP(Sheet5!B72,Sheet2!$A$2:$O$39,15,FALSE) -> 1246.4369 | AG3: =Sheet5!A66 -> Smash | AH3: =Sheet5!Q66/VLOOKUP(Sheet5!B66,Sheet2!$A$2:$O$39,15,FALSE) -> 116.89867
A4: =Sheet5!A65 -> Degeneration | B4: =Sheet5!H65 -> 1392.0855 | D4: =Sheet5!K69 -> Lunge | E4: =Sheet5!Q69 -> 90.9375 | J4: =Sheet5!S72 -> Cinderfury | K4: =Sheet5!Y72 -> 10.550267 | M4: =Sheet5!AA36 -> Arctic Cataclysm | N4: =Sheet5!AB36 -> 9.5569663 | O4: =Sheet5!AC36 -> 12.833641 | P4: =Sheet5!AD36 -> 16.110315 | Q4: =Sheet5!AE36 -> 19.386989 | R4: =Sheet5!AF36 -> 22.663663 | S4: =Sheet5!AG36 -> 25.940337 | U4: =Sheet5!A52 -> Siphon Glyph | V4: =Sheet5!H52/Sheet5!C52 -> 4.3333333 | X4: =Sheet5!A52 -> Siphon Glyph | Y4: =Sheet5!Q52/Sheet5!L52 -> 4.3333333 | AA4: =Sheet5!A65 -> Degeneration | AB4: =Sheet5!AO65 -> 0.85759156 | AD4: =Sheet5!A65 -> Degeneration | AE4: =Sheet5!H65/VLOOKUP(Sheet5!B65,Sheet2!$A$2:$O$39,15,FALSE) -> 1213.109 | AG4: =Sheet5!A74 -> Mortal Strike | AH4: =Sheet5!Q74/VLOOKUP(Sheet5!B74,Sheet2!$A$2:$O$39,15,FALSE) -> 110.2521
A5: =Sheet5!A60 -> Hold Person | B5: =Sheet5!H60 -> 944.8075 | D5: =Sheet5!K61 -> Chasten | E5: =Sheet5!Q61 -> 79.681688 | J5: =Sheet5!S65 -> Degeneration | K5: =Sheet5!Y65 -> 9.9434679 | M5: =Sheet5!A51 -> Tempest | N5: =Sheet5!AB51 -> 25.211597 | O5: =Sheet5!AC51 -> 34.936071 | P5: =Sheet5!AD51 -> 44.660544 | Q5: =Sheet5!AE51 -> 54.385017 | R5: =Sheet5!AF51 -> 64.10949 | S5: =Sheet5!AG51 -> 73.833964 | U5: =Sheet5!A67 -> Grasping Tree | V5: =Sheet5!H67/Sheet5!C67 -> 4.2825596 | X5: =Sheet5!K67 -> Grasping Tree | Y5: =Sheet5!Q67/Sheet5!L67 -> 4.2825596 | AA5: =Sheet5!A82 -> Swoop | AB5: =Sheet5!AO82 -> 0.75456258 | AD5: =Sheet5!A79 -> Attack of Opportunity | AE5: =Sheet5!H79/VLOOKUP(Sheet5!B79,Sheet2!$A$2:$O$39,15,FALSE) -> 1080.8091 | AG5: =Sheet5!A71 -> Maw of Death | AH5: =Sheet5!Q71/VLOOKUP(Sheet5!B71,Sheet2!$A$2:$O$39,15,FALSE) -> 105.14266
A6: =Sheet5!A49 -> Lightning Tether | B6: =Sheet5!H49 -> 886.53935 | D6: =Sheet5!K63 -> Soulstrike | E6: =Sheet5!Q63 -> 79.1934 | J6: =Sheet5!S69 -> Lunge | K6: =Sheet5!Y69 -> 9.7 | M6: =Sheet5!A81 -> Infernal Binding | N6: =Sheet5!AB81 -> 23.329445 | O6: =Sheet5!AC81 -> 33.327779 | P6: =Sheet5!AD81 -> 43.326112 | Q6: =Sheet5!AE81 -> 53.324446 | R6: =Sheet5!AF81 -> 63.32278 | S6: =Sheet5!AG81 -> 73.321113 | U6: =Sheet5!A65 -> Degeneration | V6: =Sheet5!H65/Sheet5!C65 -> 3.7549442 | X6: =Sheet5!K65 -> Degeneration | Y6: =Sheet5!Q65/Sheet5!L65 -> 3.7549442 | AA6: =Sheet5!A57 -> Blade Rain | AB6: =Sheet5!AO57 -> 0.72330809 | AD6: =Sheet5!A69 -> Lunge | AE6: =Sheet5!H69/VLOOKUP(Sheet5!B69,Sheet2!$A$2:$O$39,15,FALSE) -> 1052.544 | AG6: =Sheet5!A79 -> Attack of Opportunity | AH6: =Sheet5!Q79/VLOOKUP(Sheet5!B79,Sheet2!$A$2:$O$39,15,FALSE) -> 98.255374
A7: =Sheet5!A68 -> Ice Lance | B7: =Sheet5!H68 -> 880.3275 | D7: =Sheet5!K35 -> Incinerate | E7: =Sheet5!Q35 -> 77.077 | J7: =Sheet5!S61 -> Chasten | K7: =Sheet5!Y61 -> 9.1064786 | M7: =Sheet5!AA68 -> Ice Lance | N7: =Sheet5!AB68 -> 20.569078 | O7: =Sheet5!AC68 -> 29.139527 | P7: =Sheet5!AD68 -> 37.709976 | Q7: =Sheet5!AE68 -> 46.280425 | R7: =Sheet5!AF68 -> 54.850874 | S7: =Sheet5!AG68 -> 63.421323 | U7: =Sheet5!A63 -> Soulstrike | V7: =Sheet5!H63/Sheet5!C63 -> 3.2698873 | X7: =Sheet5!K63 -> Soulstrike | Y7: =Sheet5!Q63/Sheet5!L63 -> 3.2698873 | AA7: =Sheet5!A60 -> Hold Person | AB7: =Sheet5!AO60 -> 0.71807524 | AD7: =Sheet5!A66 -> Smash | AE7: =Sheet5!H66/VLOOKUP(Sheet5!B66,Sheet2!$A$2:$O$39,15,FALSE) -> 935.18937 | AG7: =Sheet5!A42 -> Terra Smash | AH7: =Sheet5!Q42/VLOOKUP(Sheet5!B42,Sheet2!$A$2:$O$39,15,FALSE) -> 89.615718
A8: =Sheet5!A41 -> Frost Spire | B8: =Sheet5!H41 -> 829.5651 | D8: =Sheet5!K70 -> Smite | E8: =Sheet5!Q70 -> 71.089063 | J8: =Sheet5!S73 -> Rend Soul | K8: =Sheet5!Y73 -> 9.0842471 | M8: =Sheet5!AA44 -> Pyroclasm | N8: =Sheet5!AB44 -> 31.545741 | O8: =Sheet5!AC44 -> 43.112513 | P8: =Sheet5!AD44 -> 54.679285 | Q8: =Sheet5!AE44 -> 66.246057 | R8: =Sheet5!AF44 -> 77.812829 | S8: =Sheet5!AG44 -> 89.3796 | U8: =Sheet5!A60 -> Hold Person | V8: =Sheet5!H60/Sheet5!C60 -> 3.2671952 | X8: =Sheet5!K60 -> Hold Person | Y8: =Sheet5!Q60/Sheet5!L60 -> 3.2671952 | AA8: =Sheet5!A68 -> Ice Lance | AB8: =Sheet5!AO68 -> 0.65088909 | AD8: =Sheet5!A74 -> Mortal Strike | AE8: =Sheet5!H74/VLOOKUP(Sheet5!B74,Sheet2!$A$2:$O$39,15,FALSE) -> 882.0168 | AG8: =Sheet5!A72 -> Cinderfury | AH8: =Sheet5!Q72/VLOOKUP(Sheet5!B72,Sheet2!$A$2:$O$39,15,FALSE) -> 89.03121
A9: =Sheet5!A72 -> Cinderfury | B9: =Sheet5!H72 -> 791.27 | D9: =Sheet5!K66 -> Smash | E9: =Sheet5!Q66 -> 70.825 | J9: =Sheet5!S66 -> Smash | K9: =Sheet5!Y66 -> 8.7169231 | M9: =Sheet5!AA76 -> Dominant Blow (Str) | N9: =Sheet5!AB76 -> 40.622884 | O9: =Sheet5!AC76 -> 48.296096 | P9: =Sheet5!AD76 -> 55.969307 | Q9: =Sheet5!AE76 -> 63.642519 | R9: =Sheet5!AF76 -> 71.31573 | S9: =Sheet5!AG76 -> 78.988942 | U9: =Sheet5!A62 -> Demoralizing Blow | V9: =Sheet5!H62/Sheet5!C62 -> 3.0746528 | X9: =Sheet5!K73 -> Rend Soul | Y9: =Sheet5!Q73/Sheet5!L73 -> 3.2105715 | AA9: =Sheet5!A49 -> Lightning Tether | AB9: =Sheet5!AO49 -> 0.63132587 | AD9: =Sheet5!A71 -> Maw of Death | AE9: =Sheet5!H71/VLOOKUP(Sheet5!B71,Sheet2!$A$2:$O$39,15,FALSE) -> 841.14126 | AG9: =Sheet5!A37 -> Caustic Breath | AH9: =Sheet5!Q37/VLOOKUP(Sheet5!B37,Sheet2!$A$2:$O$39,15,FALSE) -> 84.765569
A10: =Sheet5!A73 -> Rend Soul | B10: =Sheet5!H73 -> 772.161 | D10: =Sheet5!K74 -> Mortal Strike | E10: =Sheet5!Q74 -> 69.440625 | J10: =Sheet5!S71 -> Maw of Death | K10: =Sheet5!Y71 -> 8.0909615 | M10: =Sheet5!AA77 -> Dominant Blow (Agi) | N10: =Sheet5!AB77 -> 40.622884 | O10: =Sheet5!AC77 -> 48.296096 | P10: =Sheet5!AD77 -> 55.969307 | Q10: =Sheet5!AE77 -> 63.642519 | R10: =Sheet5!AF77 -> 71.31573 | S10: =Sheet5!AG77 -> 78.988942 | U10: =Sheet5!A58 -> Wilting | V10: =Sheet5!H58/Sheet5!C58 -> 3.0433884 | X10: =Sheet5!K62 -> Demoralizing Blow | Y10: =Sheet5!Q62/Sheet5!L62 -> 3.0746528 | AA10: =Sheet5!A41 -> Frost Spire | AB10: =Sheet5!AO41 -> 0.61335682 | AD10: =Sheet5!A39 -> Rockslide | AE10: =Sheet5!H39/VLOOKUP(Sheet5!B39,Sheet2!$A$2:$O$39,15,FALSE) -> 750.80266 | AG10: =Sheet5!A65 -> Degeneration | AH10: =Sheet5!Q65/VLOOKUP(Sheet5!B65,Sheet2!$A$2:$O$39,15,FALSE) -> 80.873932
A11: =Sheet5!A69 -> Lunge | B11: =Sheet5!H69 -> 727.5 | D11: =Sheet5!K71 -> Maw of Death | E11: =Sheet5!Q71 -> 65.739062 | J11: =Sheet5!A82 -> Swoop | K11: =Sheet5!Y82 -> 7.3768421 | M11: =Sheet5!AA78 -> Dominant Blow (Int) | N11: =Sheet5!AB78 -> 40.622884 | O11: =Sheet5!AC78 -> 48.296096 | P11: =Sheet5!AD78 -> 55.969307 | Q11: =Sheet5!AE78 -> 63.642519 | R11: =Sheet5!AF78 -> 71.31573 | S11: =Sheet5!AG78 -> 78.988942 | U11: =Sheet5!A70 -> Smite | V11: =Sheet5!H70/Sheet5!C70 -> 2.9674537 | X11: =Sheet5!A58 -> Wilting | Y11: =Sheet5!Q58/Sheet5!L58 -> 3.0433884 | AA11: =Sheet5!A51 -> Tempest | AB11: =Sheet5!AO51 -> 0.5283118 | AD11: =Sheet5!A44 -> Pyroclasm | AE11: =Sheet5!H44/VLOOKUP(Sheet5!B44,Sheet2!$A$2:$O$39,15,FALSE) -> 735.7868 | AG11: =Sheet5!A61 -> Chasten | AH11: =Sheet5!Q61/VLOOKUP(Sheet5!B61,Sheet2!$A$2:$O$39,15,FALSE) -> 78.163678
A12: =Sheet5!A58 -> Wilting | B12: =Sheet5!H58 -> 718.0875 | D12: =Sheet5!K73 -> Rend Soul | E12: =Sheet5!Q73 -> 64.34675 | J12: =Sheet5!A49 -> Lightning Tether | K12: =Sheet5!Y49 -> 7.0923148 | M12: =Sheet5!AA60 -> Hold Person | N12: =Sheet5!AB60 -> 27.012426 | O12: =Sheet5!AC60 -> 33.495408 | P12: =Sheet5!AD60 -> 39.97839 | Q12: =Sheet5!AE60 -> 46.461372 | R12: =Sheet5!AF60 -> 52.944354 | S12: =Sheet5!AG60 -> 59.427337 | U12: =Sheet5!A79 -> Attack of Opportunity | V12: =Sheet5!H79/Sheet5!C79 -> 2.9627305 | X12: =Sheet5!K70 -> Smite | Y12: =Sheet5!Q70/Sheet5!L70 -> 2.9674537 | AA12: =Sheet5!A73 -> Rend Soul | AB12: =Sheet5!AO73 -> 0.52014887 | AD12: =Sheet5!A42 -> Terra Smash | AE12: =Sheet5!H42/VLOOKUP(Sheet5!B42,Sheet2!$A$2:$O$39,15,FALSE) -> 716.92575 | AG12: =Sheet5!A63 -> Soulstrike | AH12: =Sheet5!Q63/VLOOKUP(Sheet5!B63,Sheet2!$A$2:$O$39,15,FALSE) -> 74.846848
A13: =Sheet5!A82 -> Swoop | B13: =Sheet5!H82 -> 700.8 | D13: =Sheet5!A54 -> Explosives | E13: =Sheet5!Q54 -> 62.686364 | J13: =Sheet5!S42 -> Terra Smash | K13: =Sheet5!Y42 -> 6.644 | M13: =Sheet5!AA43 -> Pestilence | N13: =Sheet5!AB43 -> 21.276596 | O13: =Sheet5!AC43 -> 28.723404 | P13: =Sheet5!AD43 -> 36.170213 | Q13: =Sheet5!AE43 -> 43.617021 | R13: =Sheet5!AF43 -> 51.06383 | S13: =Sheet5!AG43 -> 58.510638 | U13: =Sheet5!A74 -> Mortal Strike | V13: =Sheet5!H74/Sheet5!C74 -> 2.9016715 | X13: =Sheet5!A79 -> Attack of Opportunity | Y13: =Sheet5!Q79/Sheet5!L79 -> 2.9627305 | AA13: =Sheet5!A58 -> Wilting | AB13: =Sheet5!AO58 -> 0.50119525 | AD13: =Sheet5!A84 -> Doom Hammer | AE13: =Sheet5!H84/VLOOKUP(Sheet5!B84,Sheet2!$A$2:$O$39,15,FALSE) -> 716.50524 | AG13: =Sheet5!A70 -> Smite | AH13: =Sheet5!Q70/VLOOKUP(Sheet5!B70,Sheet2!$A$2:$O$39,15,FALSE) -> 74.371649
A14: =Sheet5!A51 -> Tempest | B14: =Sheet5!H51 -> 695.12625 | D14: =Sheet5!K42 -> Terra Smash | E14: =Sheet5!Q42 -> 62.2875 | J14: =Sheet5!S70 -> Smite | K14: =Sheet5!Y70 -> 6.3190278 | M14: =Sheet5!AA34 -> Gale | N14: =Sheet5!AB34 -> 19.177127 | O14: =Sheet5!AC34 -> 26.847978 | P14: =Sheet5!AD34 -> 34.518828 | Q14: =Sheet5!AE34 -> 42.189679 | R14: =Sheet5!AF34 -> 49.86053 | S14: =Sheet5!AG34 -> 57.531381 | U14: =Sheet5!A51 -> Tempest | V14: =Sheet5!H51/Sheet5!C51 -> 2.8788613 | X14: =Sheet5!K74 -> Mortal Strike | Y14: =Sheet5!Q74/Sheet5!L74 -> 2.9016715 | AA14: =Sheet5!A50 -> Snowblast | AB14: =Sheet5!AO50 -> 0.4411402 | AD14: =Sheet5!A37 -> Caustic Breath | AE14: =Sheet5!H37/VLOOKUP(Sheet5!B37,Sheet2!$A$2:$O$39,15,FALSE) -> 678.12455 | AG14: =Sheet5!A35 -> Incinerate | AH14: =Sheet5!Q35/VLOOKUP(Sheet5!B35,Sheet2!$A$2:$O$39,15,FALSE) -> 72.846607
A15: =Sheet5!A57 -> Blade Rain | B15: =Sheet5!H57 -> 671.77239 | D15: =Sheet5!A49 -> Lightning Tether | E15: =Sheet5!Q49 -> 59.102623 | J15: =Sheet5!A58 -> Wilting | K15: =Sheet5!Y58 -> 6.2442391 | M15: =Sheet5!AA65 -> Degeneration | N15: =Sheet5!AB65 -> 18.008284 | O15: =Sheet5!AC65 -> 24.491266 | P15: =Sheet5!AD65 -> 30.974248 | Q15: =Sheet5!AE65 -> 37.45723 | R15: =Sheet5!AF65 -> 43.940212 | S15: =Sheet5!AG65 -> 50.423195 | U15: =Sheet5!A78 -> Dominant Blow (Int) | V15: =Sheet5!H78/Sheet5!C78 -> 2.8276923 | X15: =Sheet5!A51 -> Tempest | Y15: =Sheet5!Q51/Sheet5!L51 -> 2.8788613 | AA15: =Sheet5!A38 -> Holy Strike | AB15: =Sheet5!AO38 -> 0.43024414 | AD15: =Sheet5!A49 -> Lightning Tether | AE15: =Sheet5!H49/VLOOKUP(Sheet5!B49,Sheet2!$A$2:$O$39,15,FALSE) -> 668.32998 | AG15: =Sheet5!A75 -> Shatter | AH15: =Sheet5!Q75/VLOOKUP(Sheet5!B75,Sheet2!$A$2:$O$39,15,FALSE) -> 69.232492
A16: =Sheet5!A61 -> Chasten | B16: =Sheet5!H61 -> 637.4535 | D16: =Sheet5!K75 -> Shatter | E16: =Sheet5!Q75 -> 58.143333 | J16: =Sheet5!S60 -> Hold Person | K16: =Sheet5!Y60 -> 5.7261061 | M16: =Sheet5!AA41 -> Frost Spire | N16: =Sheet5!AB41 -> 23.997257 | O16: =Sheet5!AC41 -> 29.482345 | P16: =Sheet5!AD41 -> 34.967432 | Q16: =Sheet5!AE41 -> 40.45252 | R16: =Sheet5!AF41 -> 45.937607 | S16: =Sheet5!AG41 -> 51.422695 | U16: =Sheet5!A83 -> Entangling Seed | V16: =Sheet5!H83/Sheet5!C83 -> 2.8122232 | X16: =Sheet5!K78 -> Dominant Blow (Int) | Y16: =Sheet5!Q78/Sheet5!L78 -> 2.8276923 | AA16: =Sheet5!A34 -> Gale | AB16: =Sheet5!AO34 -> 0.40074526 | AD16: =Sheet5!A60 -> Hold Person | AE16: =Sheet5!H60/VLOOKUP(Sheet5!B60,Sheet2!$A$2:$O$39,15,FALSE) -> 667.36774 | AG16: =Sheet5!A59 -> Slice | AH16: =Sheet5!Q59/VLOOKUP(Sheet5!B59,Sheet2!$A$2:$O$39,15,FALSE) -> 66.051471
A17: =Sheet5!A50 -> Snowblast | B17: =Sheet5!H50 -> 619.47113 | D17: =Sheet5!K72 -> Cinderfury | E17: =Sheet5!Q72 -> 56.519286 | J17: =Sheet5!A80 -> Necrotic Shot | K17: =Sheet5!Y80 -> 5.7037857 | M17: =Sheet5!A56 -> Neutralize | N17: =Sheet5!AB56 -> 5.4510766 | O17: =Sheet5!AC56 -> 7.7677841 | P17: =Sheet5!AD56 -> 10.084492 | Q17: =Sheet5!AE56 -> 12.401199 | R17: =Sheet5!AF56 -> 14.717907 | S17: =Sheet5!AG56 -> 17.034614 | U17: =Sheet5!A72 -> Cinderfury | V17: =Sheet5!H72/Sheet5!C72 -> 2.7595383 | X17: =Sheet5!A83 -> Entangling Seed | Y17: =Sheet5!Q83/Sheet5!L83 -> 2.8122232 | AA17: =Sheet5!A61 -> Chasten | AB17: =Sheet5!AO61 -> 0.34885949 | AD17: =Sheet5!A68 -> Ice Lance | AE17: =Sheet5!H68/VLOOKUP(Sheet5!B68,Sheet2!$A$2:$O$39,15,FALSE) -> 639.1901 | AG17: =Sheet5!A46 -> Shadowclap | AH17: =Sheet5!Q46/VLOOKUP(Sheet5!B46,Sheet2!$A$2:$O$39,15,FALSE) -> 60.322193
A18: =Sheet5!A38 -> Holy Strike | B18: =Sheet5!H38 -> 573.19275 | D18: =Sheet5!K37 -> Caustic Breath | E18: =Sheet5!Q37 -> 52.87875 | J18: =Sheet5!A50 -> Snowblast | K18: =Sheet5!Y50 -> 5.6315557 | M18: =Sheet5!A83 -> Entangling Seed | N18: =Sheet5!AB83 -> 21.276596 | O18: =Sheet5!AC83 -> 26.950355 | P18: =Sheet5!AD83 -> 32.624113 | Q18: =Sheet5!AE83 -> 38.297872 | R18: =Sheet5!AF83 -> 43.971631 | S18: =Sheet5!AG83 -> 49.64539 | U18: =Sheet5!A48 -> Pheonix Strike | V18: =Sheet5!H48/Sheet5!C48 -> 2.7354172 | X18: =Sheet5!K72 -> Cinderfury | Y18: =Sheet5!Q72/Sheet5!L72 -> 2.7595383 | AA18: =Sheet5!A62 -> Demoralizing Blow | AB18: =Sheet5!AO62 -> 0.34195791 | AD18: =Sheet5!A61 -> Chasten | AE18: =Sheet5!H61/VLOOKUP(Sheet5!B61,Sheet2!$A$2:$O$39,15,FALSE) -> 625.30943 | AG18: =Sheet5!A73 -> Rend Soul | AH18: =Sheet5!Q73/VLOOKUP(Sheet5!B73,Sheet2!$A$2:$O$39,15,FALSE) -> 51.280862
A19: =Sheet5!A70 -> Smite | B19: =Sheet5!H70 -> 568.7125 | D19: =Sheet5!K60 -> Hold Person | E19: =Sheet5!Q60 -> 52.489306 | J19: =Sheet5!A57 -> Blade Rain | K19: =Sheet5!Y57 -> 5.5981032 | M19: =Sheet5!A79 -> Attack of Opportunity | N19: =Sheet5!AB79 -> 19.061234 | O19: =Sheet5!AC79 -> 27.63879 | P19: =Sheet5!AD79 -> 36.216345 | Q19: =Sheet5!AE79 -> 44.7939 | R19: =Sheet5!AF79 -> 53.371456 | S19: =Sheet5!AG79 -> 61.949011 | U19: =Sheet5!A55 -> Blast Arrow | V19: =Sheet5!H55/Sheet5!C55 -> 2.7196323 | X19: =Sheet5!K48 -> Pheonix Strike | Y19: =Sheet5!Q48/Sheet5!L48 -> 2.7354172 | AA19: =Sheet5!A43 -> Pestilence | AB19: =Sheet5!AO43 -> 0.31418956 | AD19: =Sheet5!A73 -> Rend Soul | AE19: =Sheet5!H73/VLOOKUP(Sheet5!B73,Sheet2!$A$2:$O$39,15,FALSE) -> 615.37034 | AG19: =Sheet5!A48 -> Pheonix Strike | AH19: =Sheet5!Q48/VLOOKUP(Sheet5!B48,Sheet2!$A$2:$O$39,15,FALSE) -> 50.454092
A20: =Sheet5!A66 -> Smash | B20: =Sheet5!H66 -> 566.6 | D20: =Sheet5!K68 -> Ice Lance | E20: =Sheet5!Q68 -> 51.783971 | J20: =Sheet5!S41 -> Frost Spire | K20: =Sheet5!Y41 -> 5.530434 | M20: =Sheet5!AA67 -> Grasping Tree | N20: =Sheet5!AB67 -> 27.262814 | O20: =Sheet5!AC67 -> 35.441658 | P20: =Sheet5!AD67 -> 43.620502 | Q20: =Sheet5!AE67 -> 51.799346 | R20: =Sheet5!AF67 -> 59.97819 | S20: =Sheet5!AG67 -> 68.157034 | U20: =Sheet5!A54 -> Explosives | V20: =Sheet5!H54/Sheet5!C54 -> 2.7065057 | X20: =Sheet5!A55 -> Blast Arrow | Y20: =Sheet5!Q55/Sheet5!L55 -> 2.7196323 | AA20: =Sheet5!A81 -> Infernal Binding | AB20: =Sheet5!AO81 -> 0.3000843 | AD20: =Sheet5!A41 -> Frost Spire | AE20: =Sheet5!H41/VLOOKUP(Sheet5!B41,Sheet2!$A$2:$O$39,15,FALSE) -> 602.33242 | AG20: =Sheet5!A52 -> Siphon Glyph | AH20: =Sheet5!Q52/VLOOKUP(Sheet5!B52,Sheet2!$A$2:$O$39,15,FALSE) -> 47.836597
A21: =Sheet5!A74 -> Mortal Strike | B21: =Sheet5!H74 -> 555.525 | D21: =Sheet5!K38 -> Holy Strike | E21: =Sheet5!Q38 -> 50.950467 | J21: =Sheet5!S75 -> Shatter | K21: =Sheet5!Y75 -> 5.3670769 | M21: =Sheet5!AA62 -> Demoralizing Blow | N21: =Sheet5!AB62 -> 24.691358 | O21: =Sheet5!AC62 -> 31.604938 | P21: =Sheet5!AD62 -> 38.518519 | Q21: =Sheet5!AE62 -> 45.432099 | R21: =Sheet5!AF62 -> 52.345679 | S21: =Sheet5!AG62 -> 59.259259 | U21: =Sheet5!A42 -> Terra Smash | V21: =Sheet5!H42/Sheet5!C42 -> 2.6964286 | X21: =Sheet5!A54 -> Explosives | Y21: =Sheet5!Q54/Sheet5!L54 -> 2.7065057 | AA21: =Sheet5!A70 -> Smite | AB21: =Sheet5!AO70 -> 0.29183451 | AD21: =Sheet5!A70 -> Smite | AE21: =Sheet5!H70/VLOOKUP(Sheet5!B70,Sheet2!$A$2:$O$39,15,FALSE) -> 594.97319 | AG21: =Sheet5!A49 -> Lightning Tether | AH21: =Sheet5!Q49/VLOOKUP(Sheet5!B49,Sheet2!$A$2:$O$39,15,FALSE) -> 44.555332
A22: =Sheet5!A34 -> Gale | B22: =Sheet5!H34 -> 544.713 | D22: =Sheet5!K34 -> Gale | E22: =Sheet5!Q34 -> 49.519364 | J22: =Sheet5!S74 -> Mortal Strike | K22: =Sheet5!Y74 -> 5.2907143 | M22: =Sheet5!AA35 -> Incinerate | N22: =Sheet5!AB35 -> 20.190896 | O22: =Sheet5!AC35 -> 25.330396 | P22: =Sheet5!AD35 -> 30.469897 | Q22: =Sheet5!AE35 -> 35.609398 | R22: =Sheet5!AF35 -> 40.748899 | S22: =Sheet5!AG35 -> 45.888399 | U22: =Sheet5!A76 -> Dominant Blow (Str) | V22: =Sheet5!H76/Sheet5!C76 -> 2.6590992 | X22: =Sheet5!K42 -> Terra Smash | Y22: =Sheet5!Q42/Sheet5!L42 -> 2.6964286 | AA22: =Sheet5!A54 -> Explosives | AB22: =Sheet5!AO54 -> 0.28779215 | AD22: =Sheet5!A52 -> Siphon Glyph | AE22: =Sheet5!H52/VLOOKUP(Sheet5!B52,Sheet2!$A$2:$O$39,15,FALSE) -> 574.03917 | AG22: =Sheet5!A39 -> Rockslide | AH22: =Sheet5!Q39/VLOOKUP(Sheet5!B39,Sheet2!$A$2:$O$39,15,FALSE) -> 41.711259
A23: =Sheet5!A52 -> Siphon Glyph | B23: =Sheet5!H52 -> 529.152 | D23: =Sheet5!K48 -> Pheonix Strike | E23: =Sheet5!Q48 -> 49.019531 | J23: =Sheet5!S47 -> Inferno | K23: =Sheet5!Y47 -> 4.9422115 | M23: =Sheet5!A49 -> Lightning Tether | N23: =Sheet5!AB49 -> 21.723389 | O23: =Sheet5!AC49 -> 26.430123 | P23: =Sheet5!AD49 -> 31.136857 | Q23: =Sheet5!AE49 -> 35.843592 | R23: =Sheet5!AF49 -> 40.550326 | S23: =Sheet5!AG49 -> 45.25706 | U23: =Sheet5!A44 -> Pyroclasm | V23: =Sheet5!H44/Sheet5!C44 -> 2.638347 | X23: =Sheet5!K76 -> Dominant Blow (Str) | Y23: =Sheet5!Q76/Sheet5!L76 -> 2.6590992 | AA23: =Sheet5!A40 -> Rogue Wave | AB23: =Sheet5!AO40 -> 0.28754119 | AD23: =Sheet5!A58 -> Wilting | AE23: =Sheet5!H58/VLOOKUP(Sheet5!B58,Sheet2!$A$2:$O$39,15,FALSE) -> 552.32701 | AG23: =Sheet5!A54 -> Explosives | AH23: =Sheet5!Q54/VLOOKUP(Sheet5!B54,Sheet2!$A$2:$O$39,15,FALSE) -> 40.316089
A24: =Sheet5!A71 -> Maw of Death | B24: =Sheet5!H71 -> 525.9125 | D24: =Sheet5!K43 -> Pestilence | E24: =Sheet5!Q43 -> 47.975 | J24: =Sheet5!S48 -> Pheonix Strike | K24: =Sheet5!Y48 -> 4.9019531 | M24: =Sheet5!AA63 -> Soulstrike | N24: =Sheet5!AB63 -> 23.861968 | O24: =Sheet5!AC63 -> 27.900147 | P24: =Sheet5!AD63 -> 31.938326 | Q24: =Sheet5!AE63 -> 35.976505 | R24: =Sheet5!AF63 -> 40.014684 | S24: =Sheet5!AG63 -> 44.052863 | U24: =Sheet5!A69 -> Lunge | V24: =Sheet5!H69/Sheet5!C69 -> 2.5414847 | X24: =Sheet5!K44 -> Pyroclasm | Y24: =Sheet5!Q44/Sheet5!L44 -> 2.638347 | AA24: =Sheet5!A77 -> Dominant Blow (Agi) | AB24: =Sheet5!AO77 -> 0.27609484 | AD24: =Sheet5!A67 -> Grasping Tree | AE24: =Sheet5!H67/VLOOKUP(Sheet5!B67,Sheet2!$A$2:$O$39,15,FALSE) -> 543.1566 | AG24: =Sheet5!A84 -> Doom Hammer | AH24: =Sheet5!Q84/VLOOKUP(Sheet5!B84,Sheet2!$A$2:$O$39,15,FALSE) -> 39.805846
A25: =Sheet5!A42 -> Terra Smash | B25: =Sheet5!H42 -> 498.3 | D25: =Sheet5!K77 -> Dominant Blow (Agi) | E25: =Sheet5!Q77 -> 45.667813 | J25: =Sheet5!S68 -> Ice Lance | K25: =Sheet5!Y68 -> 4.758527 | M25: =Sheet5!A52 -> Siphon Glyph | N25: =Sheet5!AB52 -> 6.4300412 | O25: =Sheet5!AC52 -> 8.2304527 | P25: =Sheet5!AD52 -> 10.030864 | Q25: =Sheet5!AE52 -> 11.831276 | R25: =Sheet5!AF52 -> 13.631687 | S25: =Sheet5!AG52 -> 15.432099 | U25: =Sheet5!A53 -> Hazard Slash | V25: =Sheet5!H53/Sheet5!C53 -> 2.5158867 | X25: =Sheet5!K69 -> Lunge | Y25: =Sheet5!Q69/Sheet5!L69 -> 2.5414847 | AA25: =Sheet5!A76 -> Dominant Blow (Str) | AB25: =Sheet5!AO76 -> 0.27440015 | AD25: =Sheet5!A59 -> Slice | AE25: =Sheet5!H59/VLOOKUP(Sheet5!B59,Sheet2!$A$2:$O$39,15,FALSE) -> 528.41177 | AG25: =Sheet5!A68 -> Ice Lance | AH25: =Sheet5!Q68/VLOOKUP(Sheet5!B68,Sheet2!$A$2:$O$39,15,FALSE) -> 37.599418
A26: =Sheet5!A84 -> Doom Hammer | B26: =Sheet5!H84 -> 467.4 | D26: =Sheet5!K76 -> Dominant Blow (Str) | E26: =Sheet5!Q76 -> 45.3875 | J26: =Sheet5!S84 -> Doom Hammer | K26: =Sheet5!Y84 -> 4.4514286 | M26: =Sheet5!A57 -> Blade Rain | N26: =Sheet5!AB57 -> 36.849378 | O26: =Sheet5!AC57 -> 40.534316 | P26: =Sheet5!AD57 -> 44.219254 | Q26: =Sheet5!AE57 -> 47.904192 | R26: =Sheet5!AF57 -> 51.589129 | S26: =Sheet5!AG57 -> 55.274067 | U26: =Sheet5!A47 -> Inferno | V26: =Sheet5!H47/Sheet5!C47 -> 2.4658895 | X26: =Sheet5!A53 -> Hazard Slash | Y26: =Sheet5!Q53/Sheet5!L53 -> 2.5158867 | AA26: =Sheet5!A69 -> Lunge | AB26: =Sheet5!AO69 -> 0.26994434 | AD26: =Sheet5!A51 -> Tempest | AE26: =Sheet5!H51/VLOOKUP(Sheet5!B51,Sheet2!$A$2:$O$39,15,FALSE) -> 491.0046 | AG26: =Sheet5!A60 -> Hold Person | AH26: =Sheet5!Q60/VLOOKUP(Sheet5!B60,Sheet2!$A$2:$O$39,15,FALSE) -> 37.075985
A27: =Sheet5!A44 -> Pyroclasm | B27: =Sheet5!H44 -> 467.09625 | D27: =Sheet5!A57 -> Blade Rain | E27: =Sheet5!Q57 -> 44.784826 | J27: =Sheet5!A52 -> Siphon Glyph | K27: =Sheet5!Y52 -> 4.4096 | M27: =Sheet5!AA74 -> Mortal Strike | N27: =Sheet5!AB74 -> 25.210084 | O27: =Sheet5!AC74 -> 31.932773 | P27: =Sheet5!AD74 -> 38.655462 | Q27: =Sheet5!AE74 -> 45.378151 | R27: =Sheet5!AF74 -> 52.10084 | S27: =Sheet5!AG74 -> 58.823529 | U27: =Sheet5!A34 -> Gale | V27: =Sheet5!H34/Sheet5!C34 -> 2.3928388 | X27: =Sheet5!K47 -> Inferno | Y27: =Sheet5!Q47/Sheet5!L47 -> 2.4658895 | AA27: =Sheet5!A72 -> Cinderfury | AB27: =Sheet5!AO72 -> 0.26966687 | AD27: =Sheet5!A46 -> Shadowclap | AE27: =Sheet5!H46/VLOOKUP(Sheet5!B46,Sheet2!$A$2:$O$39,15,FALSE) -> 482.57754 | AG27: =Sheet5!A38 -> Holy Strike | AH27: =Sheet5!Q38/VLOOKUP(Sheet5!B38,Sheet2!$A$2:$O$39,15,FALSE) -> 36.440338
A28: =Sheet5!A39 -> Rockslide | B28: =Sheet5!H39 -> 454.88625 | D28: =Sheet5!A52 -> Siphon Glyph | E28: =Sheet5!Q52 -> 44.096 | J28: =Sheet5!S37 -> Caustic Breath | K28: =Sheet5!Y37 -> 4.2303 | M28: =Sheet5!A58 -> Wilting | N28: =Sheet5!AB58 -> 21.276596 | O28: =Sheet5!AC58 -> 25.177305 | P28: =Sheet5!AD58 -> 29.078014 | Q28: =Sheet5!AE58 -> 32.978723 | R28: =Sheet5!AF58 -> 36.879433 | S28: =Sheet5!AG58 -> 40.780142 | U28: =Sheet5!A49 -> Lightning Tether | V28: =Sheet5!H49/Sheet5!C49 -> 2.369686 | X28: =Sheet5!K34 -> Gale | Y28: =Sheet5!Q34/Sheet5!L34 -> 2.3928388 | AA28: =Sheet5!A52 -> Siphon Glyph | AB28: =Sheet5!AO52 -> 0.26185921 | AD28: =Sheet5!A50 -> Snowblast | AE28: =Sheet5!H50/VLOOKUP(Sheet5!B50,Sheet2!$A$2:$O$39,15,FALSE) -> 466.9969 | AG28: =Sheet5!A34 -> Gale | AH28: =Sheet5!Q34/VLOOKUP(Sheet5!B34,Sheet2!$A$2:$O$39,15,FALSE) -> 36.13457
A29: =Sheet5!A62 -> Demoralizing Blow | B29: =Sheet5!H62 -> 442.75 | D29: =Sheet5!A51 -> Tempest | E29: =Sheet5!Q51 -> 43.445391 | J29: =Sheet5!A55 -> Blast Arrow | K29: =Sheet5!Y55 -> 4.142 | M29: =Sheet5!A50 -> Snowblast | N29: =Sheet5!AB50 -> 23.533671 | O29: =Sheet5!AC50 -> 26.79218 | P29: =Sheet5!AD50 -> 30.050688 | Q29: =Sheet5!AE50 -> 33.309196 | R29: =Sheet5!AF50 -> 36.567705 | S29: =Sheet5!AG50 -> 39.826213 | U29: =Sheet5!A39 -> Rockslide | V29: =Sheet5!H39/Sheet5!C39 -> 2.3488759 | X29: =Sheet5!A49 -> Lightning Tether | Y29: =Sheet5!Q49/Sheet5!L49 -> 2.369686 | AA29: =Sheet5!A78 -> Dominant Blow (Int) | AB29: =Sheet5!AO78 -> 0.25341583 | AD29: =Sheet5!A75 -> Shatter | AE29: =Sheet5!H75/VLOOKUP(Sheet5!B75,Sheet2!$A$2:$O$39,15,FALSE) -> 415.39495 | AG29: =Sheet5!A64 -> Echoing Strike | AH29: =Sheet5!Q64/VLOOKUP(Sheet5!B64,Sheet2!$A$2:$O$39,15,FALSE) -> 35.664477
A30: =Sheet5!A43 -> Pestilence | B30: =Sheet5!H43 -> 431.775 | D30: =Sheet5!K78 -> Dominant Blow (Int) | E30: =Sheet5!Q78 -> 41.916562 | J30: =Sheet5!A53 -> Hazard Slash | K30: =Sheet5!Y53 -> 3.9426042 | M30: =Sheet5!A54 -> Explosives | N30: =Sheet5!AB54 -> 14.295926 | O30: =Sheet5!AC54 -> 21.443888 | P30: =Sheet5!AD54 -> 28.591851 | Q30: =Sheet5!AE54 -> 35.739814 | R30: =Sheet5!AF54 -> 42.887777 | S30: =Sheet5!AG54 -> 50.03574 | U30: =Sheet5!A35 -> Incinerate | V30: =Sheet5!H35/Sheet5!C35 -> 2.3434783 | X30: =Sheet5!K39 -> Rockslide | Y30: =Sheet5!Q39/Sheet5!L39 -> 2.3488759 | AA30: =Sheet5!A83 -> Entangling Seed | AB30: =Sheet5!AO83 -> 0.22160181 | AD30: =Sheet5!A38 -> Holy Strike | AE30: =Sheet5!H38/VLOOKUP(Sheet5!B38,Sheet2!$A$2:$O$39,15,FALSE) -> 409.9538 | AG30: =Sheet5!A43 -> Pestilence | AH30: =Sheet5!Q43/VLOOKUP(Sheet5!B43,Sheet2!$A$2:$O$39,15,FALSE) -> 35.393966
A31: =Sheet5!A37 -> Caustic Breath | B31: =Sheet5!H37 -> 423.03 | D31: =Sheet5!A50 -> Snowblast | E31: =Sheet5!Q50 -> 41.298075 | J31: =Sheet5!S62 -> Demoralizing Blow | K31: =Sheet5!Y62 -> 3.6895833 | M31: =Sheet5!AA40 -> Rogue Wave | N31: =Sheet5!AB40 -> 24.276053 | O31: =Sheet5!AC40 -> 27.39726 | P31: =Sheet5!AD40 -> 30.518467 | Q31: =Sheet5!AE40 -> 33.639674 | R31: =Sheet5!AF40 -> 36.760881 | S31: =Sheet5!AG40 -> 39.882088 | U31: =Sheet5!A56 -> Neutralize | V31: =Sheet5!H56/Sheet5!C56 -> 2.3281812 | X31: =Sheet5!K35 -> Incinerate | Y31: =Sheet5!Q35/Sheet5!L35 -> 2.3434783 | AA31: =Sheet5!A45 -> Whirl | AB31: =Sheet5!AO45 -> 0.21773611 | AD31: =Sheet5!A48 -> Pheonix Strike | AE31: =Sheet5!H48/VLOOKUP(Sheet5!B48,Sheet2!$A$2:$O$39,15,FALSE) -> 403.63274 | AG31: =Sheet5!A77 -> Dominant Blow (Agi) | AH31: =Sheet5!Q77/VLOOKUP(Sheet5!B77,Sheet2!$A$2:$O$39,15,FALSE) -> 32.441476
A32: =Sheet5!A81 -> Infernal Binding | B32: =Sheet5!H81 -> 416.89212 | D32: =Sheet5!K59 -> Slice | E32: =Sheet5!Q59 -> 41.297812 | J32: =Sheet5!S64 -> Echoing Strike | K32: =Sheet5!Y64 -> 3.6378889 | M32: =Sheet5!AA37 -> Caustic Breath | N32: =Sheet5!AB37 -> 22.408964 | O32: =Sheet5!AC37 -> 29.131653 | P32: =Sheet5!AD37 -> 35.854342 | Q32: =Sheet5!AE37 -> 42.577031 | R32: =Sheet5!AF37 -> 49.29972 | S32: =Sheet5!AG37 -> 56.022409 | U32: =Sheet5!A43 -> Pestilence | V32: =Sheet5!H43/Sheet5!C43 -> 2.3195004 | X32: =Sheet5!A56 -> Neutralize | Y32: =Sheet5!Q56/Sheet5!L56 -> 2.3281812 | AA32: =Sheet5!A48 -> Pheonix Strike | AB32: =Sheet5!AO48 -> 0.20454101 | AD32: =Sheet5!A36 -> Arctic Cataclysm | AE32: =Sheet5!H36/VLOOKUP(Sheet5!B36,Sheet2!$A$2:$O$39,15,FALSE) -> 401.38612 | AG32: =Sheet5!A76 -> Dominant Blow (Str) | AH32: =Sheet5!Q76/VLOOKUP(Sheet5!B76,Sheet2!$A$2:$O$39,15,FALSE) -> 32.242348
A33: =Sheet5!A40 -> Rogue Wave | B33: =Sheet5!H40 -> 401.4075 | D33: =Sheet5!K64 -> Echoing Strike | E33: =Sheet5!Q64 -> 40.92625 | J33: =Sheet5!S40 -> Rogue Wave | K33: =Sheet5!Y40 -> 3.4905 | M33: =Sheet5!AA59 -> Slice | N33: =Sheet5!AB59 -> 32.305433 | O33: =Sheet5!AC59 -> 37.004405 | P33: =Sheet5!AD59 -> 41.703377 | Q33: =Sheet5!AE59 -> 46.402349 | R33: =Sheet5!AF59 -> 51.101322 | S33: =Sheet5!AG59 -> 55.800294 | U33: =Sheet5!A46 -> Shadowclap | V33: =Sheet5!H46/Sheet5!C46 -> 2.3067432 | X33: =Sheet5!K43 -> Pestilence | Y33: =Sheet5!Q43/Sheet5!L43 -> 2.3195004 | AA33: =Sheet5!A74 -> Mortal Strike | AB33: =Sheet5!AO74 -> 0.18783601 | AD33: =Sheet5!A34 -> Gale | AE33: =Sheet5!H34/VLOOKUP(Sheet5!B34,Sheet2!$A$2:$O$39,15,FALSE) -> 397.48027 | AG33: =Sheet5!A50 -> Snowblast | AH33: =Sheet5!Q50/VLOOKUP(Sheet5!B50,Sheet2!$A$2:$O$39,15,FALSE) -> 31.133127
A34: =Sheet5!A48 -> Pheonix Strike | B34: =Sheet5!H48 -> 392.15625 | D34: =Sheet5!K41 -> Frost Spire | E34: =Sheet5!Q41 -> 39.5031 | J34: =Sheet5!S59 -> Slice | K34: =Sheet5!Y59 -> 3.4777105 | M34: =Sheet5!AA84 -> Doom Hammer | N34: =Sheet5!AB84 -> 31.471282 | O34: =Sheet5!AC84 -> 36.191975 | P34: =Sheet5!AD84 -> 40.912667 | Q34: =Sheet5!AE84 -> 45.63336 | R34: =Sheet5!AF84 -> 50.354052 | S34: =Sheet5!AG84 -> 55.074744 | U34: =Sheet5!A75 -> Shatter | V34: =Sheet5!H75/Sheet5!C75 -> 2.280727 | X34: =Sheet5!K46 -> Shadowclap | Y34: =Sheet5!Q46/Sheet5!L46 -> 2.3067432 | AA34: =Sheet5!A42 -> Terra Smash | AB34: =Sheet5!AO42 -> 0.18593284 | AD34: =Sheet5!A53 -> Hazard Slash | AE34: =Sheet5!H53/VLOOKUP(Sheet5!B53,Sheet2!$A$2:$O$39,15,FALSE) -> 384.93444 | AG34: =Sheet5!A51 -> Tempest | AH34: =Sheet5!Q51/VLOOKUP(Sheet5!B51,Sheet2!$A$2:$O$39,15,FALSE) -> 30.687788
A35: =Sheet5!A77 -> Dominant Blow (Agi) | B35: =Sheet5!H77 -> 365.3425 | D35: =Sheet5!K46 -> Shadowclap | E35: =Sheet5!Q46 -> 39.350156 | J35: =Sheet5!A51 -> Tempest | K35: =Sheet5!Y51 -> 3.3908598 | M35: =Sheet5!AA45 -> Whirl | N35: =Sheet5!AB45 -> 21.992523 | O35: =Sheet5!AC45 -> 27.270728 | P35: =Sheet5!AD45 -> 32.548933 | Q35: =Sheet5!AE45 -> 37.827139 | R35: =Sheet5!AF45 -> 43.105344 | S35: =Sheet5!AG45 -> 48.38355 | U35: =Sheet5!A59 -> Slice | V35: =Sheet5!H59/Sheet5!C59 -> 2.2758318 | X35: =Sheet5!K75 -> Shatter | Y35: =Sheet5!Q75/Sheet5!L75 -> 2.280727 | AA35: =Sheet5!A66 -> Smash | AB35: =Sheet5!AO66 -> 0.18429013 | AD35: =Sheet5!A82 -> Swoop | AE35: =Sheet5!H82/VLOOKUP(Sheet5!B82,Sheet2!$A$2:$O$39,15,FALSE) -> 349.4149 | AG35: =Sheet5!A78 -> Dominant Blow (Int) | AH35: =Sheet5!Q78/VLOOKUP(Sheet5!B78,Sheet2!$A$2:$O$39,15,FALSE) -> 29.776665
A36: =Sheet5!A76 -> Dominant Blow (Str) | B36: =Sheet5!H76 -> 363.1 | D36: =Sheet5!A58 -> Wilting | E36: =Sheet5!Q58 -> 37.794079 | J36: =Sheet5!S34 -> Gale | K36: =Sheet5!Y34 -> 3.3012909 | M36: =Sheet5!AA46 -> Shadowclap | N36: =Sheet5!AB46 -> 20.980855 | O36: =Sheet5!AC46 -> 27.275111 | P36: =Sheet5!AD46 -> 33.569368 | Q36: =Sheet5!AE46 -> 39.863624 | R36: =Sheet5!AF46 -> 46.157881 | S36: =Sheet5!AG46 -> 52.452137 | U36: =Sheet5!A77 -> Dominant Blow (Agi) | V36: =Sheet5!H77/Sheet5!C77 -> 2.2470861 | X36: =Sheet5!K59 -> Slice | Y36: =Sheet5!Q59/Sheet5!L59 -> 2.2758318 | AA36: =Sheet5!A71 -> Maw of Death | AB36: =Sheet5!AO71 -> 0.17652513 | AD36: =Sheet5!A57 -> Blade Rain | AE36: =Sheet5!H57/VLOOKUP(Sheet5!B57,Sheet2!$A$2:$O$39,15,FALSE) -> 334.94189 | AG36: =Sheet5!A58 -> Wilting | AH36: =Sheet5!Q58/VLOOKUP(Sheet5!B58,Sheet2!$A$2:$O$39,15,FALSE) -> 29.069842
A37: =Sheet5!A53 -> Hazard Slash | B37: =Sheet5!H53 -> 354.83438 | D37: =Sheet5!K62 -> Demoralizing Blow | E37: =Sheet5!Q62 -> 36.895833 | J37: =Sheet5!A54 -> Explosives | K37: =Sheet5!Y54 -> 3.2835714 | M37: =Sheet5!A82 -> Swoop | N37: =Sheet5!AB82 -> 27.637034 | O37: =Sheet5!AC82 -> 30.861354 | P37: =Sheet5!AD82 -> 34.085675 | Q37: =Sheet5!AE82 -> 37.309995 | R37: =Sheet5!AF82 -> 40.534316 | S37: =Sheet5!AG82 -> 43.758637 | U37: =Sheet5!A84 -> Doom Hammer | V37: =Sheet5!H84/Sheet5!C84 -> 2.2395783 | X37: =Sheet5!K77 -> Dominant Blow (Agi) | Y37: =Sheet5!Q77/Sheet5!L77 -> 2.2470861 | AA37: =Sheet5!A53 -> Hazard Slash | AB37: =Sheet5!AO53 -> 0.17559539 | AD37: =Sheet5!A47 -> Inferno | AE37: =Sheet5!H47/VLOOKUP(Sheet5!B47,Sheet2!$A$2:$O$39,15,FALSE) -> 330.64498 | AG37: =Sheet5!A41 -> Frost Spire | AH37: =Sheet5!Q41/VLOOKUP(Sheet5!B41,Sheet2!$A$2:$O$39,15,FALSE) -> 28.682496
A38: =Sheet5!A75 -> Shatter | B38: =Sheet5!H75 -> 348.86 | D38: =Sheet5!K45 -> Whirl | E38: =Sheet5!Q45 -> 35.014688 | J38: =Sheet5!S46 -> Shadowclap | K38: =Sheet5!Y46 -> 3.1480125 | M38: =Sheet5!A53 -> Hazard Slash | N38: =Sheet5!AB53 -> 5.787037 | O38: =Sheet5!AC53 -> 6.9444444 | P38: =Sheet5!AD53 -> 8.1018519 | Q38: =Sheet5!AE53 -> 9.2592593 | R38: =Sheet5!AF53 -> 10.416667 | S38: =Sheet5!AG53 -> 11.574074 | U38: =Sheet5!A61 -> Chasten | V38: =Sheet5!H61/Sheet5!C61 -> 2.1982595 | X38: =Sheet5!K84 -> Doom Hammer | Y38: =Sheet5!Q84/Sheet5!L84 -> 2.2395783 | AA38: =Sheet5!A55 -> Blast Arrow | AB38: =Sheet5!AO55 -> 0.17306407 | AD38: =Sheet5!A43 -> Pestilence | AE38: =Sheet5!H43/VLOOKUP(Sheet5!B43,Sheet2!$A$2:$O$39,15,FALSE) -> 318.54569 | AG38: =Sheet5!A67 -> Grasping Tree | AH38: =Sheet5!Q67/VLOOKUP(Sheet5!B67,Sheet2!$A$2:$O$39,15,FALSE) -> 28.587189
A39: =Sheet5!A54 -> Explosives | B39: =Sheet5!H54 -> 344.775 | D39: =Sheet5!A81 -> Infernal Binding | E39: =Sheet5!Q81 -> 27.792808 | J39: =Sheet5!S44 -> Pyroclasm | K39: =Sheet5!Y44 -> 2.747625 | M39: =Sheet5!AA70 -> Smite | N39: =Sheet5!AB70 -> 11.465698 | O39: =Sheet5!AC70 -> 11.465698 | P39: =Sheet5!AD70 -> 11.465698 | Q39: =Sheet5!AE70 -> 11.465698 | R39: =Sheet5!AF70 -> 11.465698 | S39: =Sheet5!AG70 -> 11.465698 | U39: =Sheet5!A41 -> Frost Spire | V39: =Sheet5!H41/Sheet5!C41 -> 2.1246679 | X39: =Sheet5!K61 -> Chasten | Y39: =Sheet5!Q61/Sheet5!L61 -> 2.1982595 | AA39: =Sheet5!A47 -> Inferno | AB39: =Sheet5!AO47 -> 0.16755444 | AD39: =Sheet5!A81 -> Infernal Binding | AE39: =Sheet5!H81/VLOOKUP(Sheet5!B81,Sheet2!$A$2:$O$39,15,FALSE) -> 310.92281 | AG39: =Sheet5!A44 -> Pyroclasm | AH39: =Sheet5!Q44/VLOOKUP(Sheet5!B44,Sheet2!$A$2:$O$39,15,FALSE) -> 28.299492
A40: =Sheet5!A67 -> Grasping Tree | B40: =Sheet5!H67 -> 341.32 | D40: =Sheet5!K40 -> Rogue Wave | E40: =Sheet5!Q40 -> 26.7605 | J40: =Sheet5!S67 -> Grasping Tree | K40: =Sheet5!Y67 -> 2.73056 | M40: =Sheet5!AA48 -> Pheonix Strike | N40: =Sheet5!AB48 -> 5.4712078 | O40: =Sheet5!AC48 -> 6.5654493 | P40: =Sheet5!AD48 -> 7.6596909 | Q40: =Sheet5!AE48 -> 8.7539324 | R40: =Sheet5!AF48 -> 9.848174 | S40: =Sheet5!AG48 -> 10.942416 | U40: =Sheet5!A38 -> Holy Strike | V40: =Sheet5!H38/Sheet5!C38 -> 2.1136478 | X40: =Sheet5!K41 -> Frost Spire | Y40: =Sheet5!Q41/Sheet5!L41 -> 2.1246679 | AA40: =Sheet5!A84 -> Doom Hammer | AB40: =Sheet5!AO84 -> 0.16368412 | AD40: =Sheet5!A62 -> Demoralizing Blow | AE40: =Sheet5!H62/VLOOKUP(Sheet5!B62,Sheet2!$A$2:$O$39,15,FALSE) -> 307.7464 | AG40: =Sheet5!A62 -> Demoralizing Blow | AH40: =Sheet5!Q62/VLOOKUP(Sheet5!B62,Sheet2!$A$2:$O$39,15,FALSE) -> 25.645534
A41: =Sheet5!A36 -> Arctic Cataclysm | B41: =Sheet5!H36 -> 337.095 | D41: =Sheet5!K84 -> Doom Hammer | E41: =Sheet5!Q84 -> 25.966667 | J41: =Sheet5!S43 -> Pestilence | K41: =Sheet5!Y43 -> 2.6168182 | M41: =Sheet5!AA69 -> Lunge | N41: =Sheet5!AB69 -> 23.696682 | O41: =Sheet5!AC69 -> 27.843602 | P41: =Sheet5!AD69 -> 31.990521 | Q41: =Sheet5!AE69 -> 36.137441 | R41: =Sheet5!AF69 -> 40.28436 | S41: =Sheet5!AG69 -> 44.43128 | U41: =Sheet5!A36 -> Arctic Cataclysm | V41: =Sheet5!H36/Sheet5!C36 -> 2.0564605 | X41: =Sheet5!K36 -> Arctic Cataclysm | Y41: =Sheet5!Q36/Sheet5!L36 -> 2.0564605 | AA41: =Sheet5!A44 -> Pyroclasm | AB41: =Sheet5!AO44 -> 0.15918761 | AD41: =Sheet5!A40 -> Rogue Wave | AE41: =Sheet5!H40/VLOOKUP(Sheet5!B40,Sheet2!$A$2:$O$39,15,FALSE) -> 300.82879 | AG41: =Sheet5!A36 -> Arctic Cataclysm | AH41: =Sheet5!Q36/VLOOKUP(Sheet5!B36,Sheet2!$A$2:$O$39,15,FALSE) -> 25.086632
A42: =Sheet5!A78 -> Dominant Blow (Int) | B42: =Sheet5!H78 -> 335.3325 | D42: =Sheet5!K39 -> Rockslide | E42: =Sheet5!Q39 -> 25.271458 | J42: =Sheet5!S45 -> Whirl | K42: =Sheet5!Y45 -> 2.5465227 | M42: =Sheet5!A55 -> Blast Arrow | N42: =Sheet5!AB55 -> 10.220769 | O42: =Sheet5!AC55 -> 10.220769 | P42: =Sheet5!AD55 -> 10.220769 | Q42: =Sheet5!AE55 -> 10.220769 | R42: =Sheet5!AF55 -> 10.220769 | S42: =Sheet5!AG55 -> 10.220769 | U42: =Sheet5!A71 -> Maw of Death | V42: =Sheet5!H71/Sheet5!C71 -> 2.0467503 | X42: =Sheet5!K71 -> Maw of Death | Y42: =Sheet5!Q71/Sheet5!L71 -> 2.0467503 | AA42: =Sheet5!A75 -> Shatter | AB42: =Sheet5!AO75 -> 0.15728584 | AD42: =Sheet5!A55 -> Blast Arrow | AE42: =Sheet5!H55/VLOOKUP(Sheet5!B55,Sheet2!$A$2:$O$39,15,FALSE) -> 299.35348 | AG42: =Sheet5!A45 -> Whirl | AH42: =Sheet5!Q45/VLOOKUP(Sheet5!B45,Sheet2!$A$2:$O$39,15,FALSE) -> 24.182909
A43: =Sheet5!A59 -> Slice | B43: =Sheet5!H59 -> 330.3825 | D43: =Sheet5!A80 -> Necrotic Shot | E43: =Sheet5!Q80 -> 24.954062 | J43: =Sheet5!S38 -> Holy Strike | K43: =Sheet5!Y38 -> 2.4921424 | M43: =Sheet5!AA42 -> Terra Smash | N43: =Sheet5!AB42 -> 19.547612 | O43: =Sheet5!AC42 -> 24.015638 | P43: =Sheet5!AD42 -> 28.483664 | Q43: =Sheet5!AE42 -> 32.951689 | R43: =Sheet5!AF42 -> 37.419715 | S43: =Sheet5!AG42 -> 41.887741 | U43: =Sheet5!A68 -> Ice Lance | V43: =Sheet5!H68/Sheet5!C68 -> 2.0061472 | X43: =Sheet5!K68 -> Ice Lance | Y43: =Sheet5!Q68/Sheet5!L68 -> 2.0061472 | AA43: =Sheet5!A36 -> Arctic Cataclysm | AB43: =Sheet5!AO36 -> 0.15198151 | AD43: =Sheet5!A77 -> Dominant Blow (Agi) | AE43: =Sheet5!H77/VLOOKUP(Sheet5!B77,Sheet2!$A$2:$O$39,15,FALSE) -> 259.53181 | AG43: =Sheet5!A57 -> Blade Rain | AH43: =Sheet5!Q57/VLOOKUP(Sheet5!B57,Sheet2!$A$2:$O$39,15,FALSE) -> 22.32946
A44: =Sheet5!A47 -> Inferno | B44: =Sheet5!H47 -> 321.24375 | D44: =Sheet5!A82 -> Swoop | E44: =Sheet5!Q82 -> 23.36 | J44: =Sheet5!S39 -> Rockslide | K44: =Sheet5!Y39 -> 2.4588446 | M44: =Sheet5!AA71 -> Maw of Death | N44: =Sheet5!AB71 -> 21.875 | O44: =Sheet5!AC71 -> 25.625 | P44: =Sheet5!AD71 -> 29.375 | Q44: =Sheet5!AE71 -> 33.125 | R44: =Sheet5!AF71 -> 36.875 | S44: =Sheet5!AG71 -> 40.625 | U44: =Sheet5!A37 -> Caustic Breath | V44: =Sheet5!H37/Sheet5!C37 -> 2.0026985 | X44: =Sheet5!K37 -> Caustic Breath | Y44: =Sheet5!Q37/Sheet5!L37 -> 2.0026985 | AA44: =Sheet5!A39 -> Rockslide | AB44: =Sheet5!AO39 -> 0.14795455 | AD44: =Sheet5!A76 -> Dominant Blow (Str) | AE44: =Sheet5!H76/VLOOKUP(Sheet5!B76,Sheet2!$A$2:$O$39,15,FALSE) -> 257.93878 | AG44: =Sheet5!A47 -> Inferno | AH44: =Sheet5!Q47/VLOOKUP(Sheet5!B47,Sheet2!$A$2:$O$39,15,FALSE) -> 22.042998
A45: =Sheet5!A83 -> Entangling Seed | B45: =Sheet5!H83 -> 317.5 | D45: =Sheet5!K47 -> Inferno | E45: =Sheet5!Q47 -> 21.41625 | J45: =Sheet5!A83 -> Entangling Seed | K45: =Sheet5!Y83 -> 2.2678571 | M45: =Sheet5!AA73 -> Rend Soul | N45: =Sheet5!AB73 -> 18.599932 | O45: =Sheet5!AC73 -> 20.629016 | P45: =Sheet5!AD73 -> 22.658099 | Q45: =Sheet5!AE73 -> 24.687183 | R45: =Sheet5!AF73 -> 26.716266 | S45: =Sheet5!AG73 -> 28.74535 | U45: =Sheet5!A50 -> Snowblast | V45: =Sheet5!H50/Sheet5!C50 -> 1.9629109 | X45: =Sheet5!A50 -> Snowblast | Y45: =Sheet5!Q50/Sheet5!L50 -> 1.9629109 | AA45: =Sheet5!A80 -> Necrotic Shot | AB45: =Sheet5!AO80 -> 0.14369804 | AD45: =Sheet5!A83 -> Entangling Seed | AE45: =Sheet5!H83/VLOOKUP(Sheet5!B83,Sheet2!$A$2:$O$39,15,FALSE) -> 244.20955 | AG45: =Sheet5!A81 -> Infernal Binding | AH45: =Sheet5!Q81/VLOOKUP(Sheet5!B81,Sheet2!$A$2:$O$39,15,FALSE) -> 20.728187
A46: =Sheet5!A46 -> Shadowclap | B46: =Sheet5!H46 -> 314.80125 | D46: =Sheet5!K36 -> Arctic Cataclysm | E46: =Sheet5!Q36 -> 21.068437 | J46: =Sheet5!S77 -> Dominant Blow (Agi) | K46: =Sheet5!Y77 -> 2.0876714 | M46: =Sheet5!AA66 -> Smash | N46: =Sheet5!AB66 -> 21.472393 | O46: =Sheet5!AC66 -> 25.153374 | P46: =Sheet5!AD66 -> 28.834356 | Q46: =Sheet5!AE66 -> 32.515337 | R46: =Sheet5!AF66 -> 36.196319 | S46: =Sheet5!AG66 -> 39.877301 | U46: =Sheet5!A45 -> Whirl | V46: =Sheet5!H45/Sheet5!C45 -> 1.9106791 | X46: =Sheet5!K45 -> Whirl | Y46: =Sheet5!Q45/Sheet5!L45 -> 1.9106791 | AA46: =Sheet5!A37 -> Caustic Breath | AB46: =Sheet5!AO37 -> 0.14167113 | AD46: =Sheet5!A78 -> Dominant Blow (Int) | AE46: =Sheet5!H78/VLOOKUP(Sheet5!B78,Sheet2!$A$2:$O$39,15,FALSE) -> 238.21332 | AG46: =Sheet5!A40 -> Rogue Wave | AH46: =Sheet5!Q40/VLOOKUP(Sheet5!B40,Sheet2!$A$2:$O$39,15,FALSE) -> 20.055253
A47: =Sheet5!A55 -> Blast Arrow | B47: =Sheet5!H55 -> 310.65 | D47: =Sheet5!K44 -> Pyroclasm | E47: =Sheet5!Q44 -> 17.96524 | J47: =Sheet5!S76 -> Dominant Blow (Str) | K47: =Sheet5!Y76 -> 2.0748571 | M47: =Sheet5!AA72 -> Cinderfury | N47: =Sheet5!AB72 -> 23.659306 | O47: =Sheet5!AC72 -> 26.81388 | P47: =Sheet5!AD72 -> 29.968454 | Q47: =Sheet5!AE72 -> 33.123028 | R47: =Sheet5!AF72 -> 36.277603 | S47: =Sheet5!AG72 -> 39.432177 | U47: =Sheet5!A64 -> Echoing Strike | V47: =Sheet5!H64/Sheet5!C64 -> 1.8568552 | X47: =Sheet5!K64 -> Echoing Strike | Y47: =Sheet5!Q64/Sheet5!L64 -> 1.8568552 | AA47: =Sheet5!A56 -> Neutralize | AB47: =Sheet5!AO56 -> 0.13531337 | AD47: =Sheet5!A56 -> Neutralize | AE47: =Sheet5!H56/VLOOKUP(Sheet5!B56,Sheet2!$A$2:$O$39,15,FALSE) -> 234.0551 | AG47: =Sheet5!A80 -> Necrotic Shot | AH47: =Sheet5!Q80/VLOOKUP(Sheet5!B80,Sheet2!$A$2:$O$39,15,FALSE) -> 18.611019
A48: =Sheet5!A45 -> Whirl | B48: =Sheet5!H45 -> 280.1175 | D48: =Sheet5!K67 -> Grasping Tree | E48: =Sheet5!Q67 -> 17.964211 | J48: =Sheet5!A56 -> Neutralize | K48: =Sheet5!Y56 -> 1.9431 | M48: =Sheet5!AA61 -> Chasten | N48: =Sheet5!AB61 -> 18.559762 | O48: =Sheet5!AC61 -> 20.044543 | P48: =Sheet5!AD61 -> 21.529324 | Q48: =Sheet5!AE61 -> 23.014105 | R48: =Sheet5!AF61 -> 24.498886 | S48: =Sheet5!AG61 -> 25.983667 | U48: =Sheet5!A66 -> Smash | V48: =Sheet5!H66/Sheet5!C66 -> 1.7824617 | X48: =Sheet5!K66 -> Smash | Y48: =Sheet5!Q66/Sheet5!L66 -> 1.7824617 | AA48: =Sheet5!A35 -> Incinerate | AB48: =Sheet5!AO35 -> 0.13134394 | AD48: =Sheet5!A54 -> Explosives | AE48: =Sheet5!H54/VLOOKUP(Sheet5!B54,Sheet2!$A$2:$O$39,15,FALSE) -> 221.73849 | AG48: =Sheet5!A56 -> Neutralize | AH48: =Sheet5!Q56/VLOOKUP(Sheet5!B56,Sheet2!$A$2:$O$39,15,FALSE) -> 11.702755
A49: =Sheet5!A56 -> Neutralize | B49: =Sheet5!H56 -> 242.8875 | D49: =Sheet5!A83 -> Entangling Seed | E49: =Sheet5!Q83 -> 14.431818 | J49: =Sheet5!S78 -> Dominant Blow (Int) | K49: =Sheet5!Y78 -> 1.9161857 | M49: =Sheet5!AA47 -> Inferno | N49: =Sheet5!AB47 -> 6.8390097 | O49: =Sheet5!AC47 -> 7.2493503 | P49: =Sheet5!AD47 -> 7.6596909 | Q49: =Sheet5!AE47 -> 8.0700315 | R49: =Sheet5!AF47 -> 8.480372 | S49: =Sheet5!AG47 -> 8.8907126 | U49: =Sheet5!A82 -> Swoop | V49: =Sheet5!H82/Sheet5!C82 -> 1.6935718 | X49: =Sheet5!A82 -> Swoop | Y49: =Sheet5!Q82/Sheet5!L82 -> 1.6935718 | AA49: =Sheet5!A67 -> Grasping Tree | AB49: =Sheet5!AO67 -> 0.11514548 | AD49: =Sheet5!A35 -> Incinerate | AE49: =Sheet5!H35/VLOOKUP(Sheet5!B35,Sheet2!$A$2:$O$39,15,FALSE) -> 218.53982 | AG49: =Sheet5!A82 -> Swoop | AH49: =Sheet5!Q82/VLOOKUP(Sheet5!B82,Sheet2!$A$2:$O$39,15,FALSE) -> 11.647163
A50: =Sheet5!A35 -> Incinerate | B50: =Sheet5!H35 -> 231.231 | D50: =Sheet5!A56 -> Neutralize | E50: =Sheet5!Q56 -> 12.144375 | J50: =Sheet5!A81 -> Infernal Binding | K50: =Sheet5!Y81 -> 1.8949642 | M50: =Sheet5!AA75 -> Shatter | N50: =Sheet5!AB75 -> 4.7784832 | O50: =Sheet5!AC75 -> 5.5976517 | P50: =Sheet5!AD75 -> 6.4168203 | Q50: =Sheet5!AE75 -> 7.2359888 | R50: =Sheet5!AF75 -> 8.0551573 | S50: =Sheet5!AG75 -> 8.8743259 | U50: =Sheet5!A57 -> Blade Rain | V50: =Sheet5!H57/Sheet5!C57 -> 1.6447246 | X50: =Sheet5!A57 -> Blade Rain | Y50: =Sheet5!Q57/Sheet5!L57 -> 1.6447246 | AA50: =Sheet5!A59 -> Slice | AB50: =Sheet5!AO59 -> 0.11089452 | AD50: =Sheet5!A45 -> Whirl | AE50: =Sheet5!H45/VLOOKUP(Sheet5!B45,Sheet2!$A$2:$O$39,15,FALSE) -> 193.46327 | AG50: =Sheet5!A83 -> Entangling Seed | AH50: =Sheet5!Q83/VLOOKUP(Sheet5!B83,Sheet2!$A$2:$O$39,15,FALSE) -> 11.100434
A51: =Sheet5!A80 -> Necrotic Shot | B51: =Sheet5!H80 -> 199.6325 | D51: =Sheet5!A55 -> Blast Arrow | E51: =Sheet5!Q55 -> 10.355 | J51: =Sheet5!S35 -> Incinerate | K51: =Sheet5!Y35 -> 1.849848 | M51: =Sheet5!AA64 -> Echoing Strike | N51: =Sheet5!AB64 -> 9.0041419 | O51: =Sheet5!AC64 -> 10.444805 | P51: =Sheet5!AD64 -> 11.885467 | Q51: =Sheet5!AE64 -> 13.32613 | R51: =Sheet5!AF64 -> 14.766793 | S51: =Sheet5!AG64 -> 16.207455 | U51: =Sheet5!A40 -> Rogue Wave | V51: =Sheet5!H40/Sheet5!C40 -> 1.6439231 | X51: =Sheet5!K40 -> Rogue Wave | Y51: =Sheet5!Q40/Sheet5!L40 -> 1.6439231 | AA51: =Sheet5!A46 -> Shadowclap | AB51: =Sheet5!AO46 -> 0.11024383 | AD51: =Sheet5!A80 -> Necrotic Shot | AE51: =Sheet5!H80/VLOOKUP(Sheet5!B80,Sheet2!$A$2:$O$39,15,FALSE) -> 148.88815 | AG51: =Sheet5!A53 -> Hazard Slash | AH51: =Sheet5!Q53/VLOOKUP(Sheet5!B53,Sheet2!$A$2:$O$39,15,FALSE) -> 10.998127
A52: =Sheet5!A64 -> Echoing Strike | B52: =Sheet5!H64 -> 163.705 | D52: =Sheet5!A53 -> Hazard Slash | E52: =Sheet5!Q53 -> 10.138125 | J52: =Sheet5!S36 -> Arctic Cataclysm | K52: =Sheet5!Y36 -> 1.7741842 | M52: =Sheet5!A80 -> Necrotic Shot | N52: =Sheet5!AB80 -> 6.6655557 | O52: =Sheet5!AC80 -> 7.6653891 | P52: =Sheet5!AD80 -> 8.6652225 | Q52: =Sheet5!AE80 -> 9.6650558 | R52: =Sheet5!AF80 -> 10.664889 | S52: =Sheet5!AG80 -> 11.664723 | U52: =Sheet5!A73 -> Rend Soul | V52: =Sheet5!H73/Sheet5!C73 -> 1.4269207 | X52: =Sheet5!K38 -> Holy Strike | Y52: =Sheet5!Q38/Sheet5!L38 -> 1.4090985 | AA52: =Sheet5!A64 -> Echoing Strike | AB52: =Sheet5!AO64 -> 0.10085015 | AD52: =Sheet5!A64 -> Echoing Strike | AE52: =Sheet5!H64/VLOOKUP(Sheet5!B64,Sheet2!$A$2:$O$39,15,FALSE) -> 142.65791 | AG52: =Sheet5!A55 -> Blast Arrow | AH52: =Sheet5!Q55/VLOOKUP(Sheet5!B55,Sheet2!$A$2:$O$39,15,FALSE) -> 9.9784492
A55: Heroes
A56: Starting Stats | D56: Growth | J56: Burst Potential | L56: of Average Health | M56: of Self Health | O56: Factored Burst | Q56: of Average Health | R56: of Self Health | T56: DPS Potential | W56: Factored DPS Potential
A57: =Sheet2!A39 -> Crimson Squall | B57: =Sheet2!P39 -> 60 | D57: =Sheet2!A39 -> Crimson Squall | E57: =Sheet2!Q39 -> 5.85 | G57: =Sheet2!A2 -> Arcane Archer | H57: =SUMIF(Sheet5!$B$34:$B$84,Sheet7!G57,Sheet5!$H$34:$H$84) -> 0 | I57: =SUMIF(Sheet5!$B$34:$B$84,Sheet7!G57,Sheet5!$Q$34:$Q$84) -> 0 | J57: =Sheet2!A32 -> Infiltrator | K57: =Sheet7!H87 -> 2025.295 | L57: =Sheet7!H87/Sheet2!$M$41 -> 1.0872685 | M57: =Sheet7!H87/VLOOKUP(Sheet7!$G87,Sheet2!$A$2:$N$39,13,FALSE) -> 1.6905634 | O57: =Sheet7!G72 -> Emberwraith | P57: =Sheet7!H72/VLOOKUP(Sheet7!$G72,Sheet2!$A$2:$O$39,15,FALSE) -> 1982.2237 | Q57: =Sheet7!P57/Sheet2!$M$41 -> 1.0641459 | R57: =P57/VLOOKUP(Sheet7!$O57,Sheet2!$A$2:$N$39,13,FALSE) -> 0.67554698 | T57: =Sheet2!A32 -> Infiltrator | U57: =Sheet7!I87 -> 215.46091 | W57: =Sheet7!G67 -> Colossus | X57: =Sheet7!I67/VLOOKUP(Sheet7!$G67,Sheet2!$A$2:$O$39,15,FALSE) -> 158.60993
A58: =Sheet2!A23 -> Mystic Swashbuckler | B58: =Sheet2!P23 -> 58 | D58: =Sheet2!A37 -> Nephilim | E58: =Sheet2!Q37 -> 5.8 | G58: =Sheet2!A3 -> Blazing Priest | H58: =SUMIF(Sheet5!$B$34:$B$84,Sheet7!G58,Sheet5!$H$34:$H$84) -> 637.4535 | I58: =SUMIF(Sheet5!$B$34:$B$84,Sheet7!G58,Sheet5!$Q$34:$Q$84) -> 79.681688 | J58: =Sheet7!G63 -> Soul Binder | K58: =Sheet7!H63 -> 1815.099 | L58: =Sheet7!H63/Sheet2!$M$41 -> 0.97442589 | M58: =Sheet7!H63/VLOOKUP(Sheet7!$G63,Sheet2!$A$2:$N$39,13,FALSE) -> 1.0310133 | O58: =Sheet7!G63 -> Soul Binder | P58: =Sheet7!H63/VLOOKUP(Sheet7!$G63,Sheet2!$A$2:$O$39,15,FALSE) -> 1715.4768 | Q58: =Sheet7!P58/Sheet2!$M$41 -> 0.92094424 | R58: =P58/VLOOKUP(Sheet7!$O58,Sheet2!$A$2:$N$39,13,FALSE) -> 0.97442589 | T58: =Sheet7!G63 -> Soul Binder | U58: =Sheet7!I63 -> 156.2704 | W58: =Sheet7!G63 -> Soul Binder | X58: =Sheet7!I63/VLOOKUP(Sheet7!$G63,Sheet2!$A$2:$O$39,15,FALSE) -> 147.69345
A59: =Sheet2!A18 -> Forlorn Martyr | B59: =Sheet2!P18 -> 57 | D59: =Sheet2!A5 -> Arboreal Crusader | E59: =Sheet2!Q5 -> 5.75 | G59: =Sheet2!A4 -> Time Cleric | H59: =SUMIF(Sheet5!$B$34:$B$84,Sheet7!G59,Sheet5!$H$34:$H$84) -> 1555.7905 | I59: =SUMIF(Sheet5!$B$34:$B$84,Sheet7!G59,Sheet5!$Q$34:$Q$84) -> 133.73195 | J59: =Sheet7!G69 -> Icespinner | K59: =Sheet7!H69 -> 1709.8926 | L59: =Sheet7!H69/Sheet2!$M$41 -> 0.91794641 | M59: =Sheet7!H69/VLOOKUP(Sheet7!$G69,Sheet2!$A$2:$N$39,13,FALSE) -> 1.2642459 | O59: =Sheet7!G67 -> Colossus | P59: =Sheet7!H67/VLOOKUP(Sheet7!$G67,Sheet2!$A$2:$O$39,15,FALSE) -> 1685.992 | Q59: =Sheet7!P59/Sheet2!$M$41 -> 0.90511552 | R59: =P59/VLOOKUP(Sheet7!$O59,Sheet2!$A$2:$N$39,13,FALSE) -> 0.54837926 | T59: =Sheet7!G59 -> Time Cleric | U59: =Sheet7!I59 -> 133.73195 | W59: =Sheet2!A32 -> Infiltrator | X59: =Sheet7!I87/VLOOKUP(Sheet7!$G87,Sheet2!$A$2:$O$39,15,FALSE) -> 138.57146
A60: =Sheet2!A20 -> Fire Knight | B60: =Sheet2!P20 -> 57 | D60: =Sheet2!A18 -> Forlorn Martyr | E60: =Sheet2!Q18 -> 5.75 | G60: =Sheet2!A5 -> Arboreal Crusader | H60: =SUMIF(Sheet5!$B$34:$B$84,Sheet7!G60,Sheet5!$H$34:$H$84) -> 544.713 | I60: =SUMIF(Sheet5!$B$34:$B$84,Sheet7!G60,Sheet5!$Q$34:$Q$84) -> 49.519364 | J60: =Sheet7!G77 -> Aeromancess | K60: =Sheet7!H77 -> 1639.9338 | L60: =Sheet7!H77/Sheet2!$M$41 -> 0.88038939 | M60: =Sheet7!H77/VLOOKUP(Sheet7!$G77,Sheet2!$A$2:$N$39,13,FALSE) -> 1.246387 | O60: =Sheet7!G59 -> Time Cleric | P60: =Sheet7!H59/VLOOKUP(Sheet7!$G59,Sheet2!$A$2:$O$39,15,FALSE) -> 1355.7669 | Q60: =Sheet7!P60/Sheet2!$M$41 -> 0.72783598 | R60: =P60/VLOOKUP(Sheet7!$O60,Sheet2!$A$2:$N$39,13,FALSE) -> 0.83521755 | T60: =Sheet7!G84 -> Crimson Squall | U60: =Sheet7!I84 -> 132.97188 | W60: =Sheet7!G80 -> Master of the Hunt | X60: =Sheet7!I80/VLOOKUP(Sheet7!$G80,Sheet2!$A$2:$O$39,15,FALSE) -> 131.568
A61: =Sheet2!A34 -> Arcane Mistress | B61: =Sheet2!P34 -> 57 | D61: =Sheet2!A10 -> Acid Reaver | E61: =Sheet2!Q10 -> 5.7 | G61: =Sheet2!A6 -> Dread Shaman | H61: =SUMIF(Sheet5!$B$34:$B$84,Sheet7!G61,Sheet5!$H$34:$H$84) -> 0 | I61: =SUMIF(Sheet5!$B$34:$B$84,Sheet7!G61,Sheet5!$Q$34:$Q$84) -> 0 | J61: =Sheet7!G59 -> Time Cleric | K61: =Sheet7!H59 -> 1555.7905 | L61: =Sheet7!H59/Sheet2!$M$41 -> 0.83521755 | M61: =Sheet7!H59/VLOOKUP(Sheet7!$G59,Sheet2!$A$2:$N$39,13,FALSE) -> 0.95844171 | O61: =Sheet2!A32 -> Infiltrator | P61: =Sheet7!H87/VLOOKUP(Sheet7!$G87,Sheet2!$A$2:$O$39,15,FALSE) -> 1302.5476 | Q61: =Sheet7!P61/Sheet2!$M$41 -> 0.6992655 | R61: =P61/VLOOKUP(Sheet7!$O61,Sheet2!$A$2:$N$39,13,FALSE) -> 1.0872685 | T61: =Sheet2!A30 -> Stormweaver | U61: =Sheet7!I85 -> 100.4007 | W61: =Sheet7!G72 -> Emberwraith | X61: =Sheet7!I72/VLOOKUP(Sheet7!$G72,Sheet2!$A$2:$O$39,15,FALSE) -> 117.3307
A62: =Sheet2!A25 -> Master of the Hunt | B62: =Sheet2!P25 -> 56 | D62: =Sheet2!A32 -> Infiltrator | E62: =Sheet2!Q32 -> 5.65 | G62: =Sheet2!A7 -> Scarab | H62: =SUMIF(Sheet5!$B$34:$B$84,Sheet7!G62,Sheet5!$H$34:$H$84) -> 568.7125 | I62: =SUMIF(Sheet5!$B$34:$B$84,Sheet7!G62,Sheet5!$Q$34:$Q$84) -> 71.089063 | J62: =Sheet2!A30 -> Stormweaver | K62: =Sheet7!H85 -> 1506.0105 | L62: =Sheet7!H85/Sheet2!$M$41 -> 0.80849342 | M62: =Sheet7!H85/VLOOKUP(Sheet7!$G85,Sheet2!$A$2:$N$39,13,FALSE) -> 1.0724661 | O62: =Sheet7!G69 -> Icespinner | P62: =Sheet7!H69/VLOOKUP(Sheet7!$G69,Sheet2!$A$2:$O$39,15,FALSE) -> 1241.5225 | Q62: =Sheet7!P62/Sheet2!$M$41 -> 0.66650452 | R62: =P62/VLOOKUP(Sheet7!$O62,Sheet2!$A$2:$N$39,13,FALSE) -> 0.91794641 | T62: =Sheet7!G67 -> Colossus | U62: =Sheet7!I67 -> 96.096458 | W62: =Sheet7!G59 -> Time Cleric | X62: =Sheet7!I59/VLOOKUP(Sheet7!$G59,Sheet2!$A$2:$O$39,15,FALSE) -> 116.53841
A63: =Sheet2!A37 -> Nephilim | B63: =Sheet2!P37 -> 56 | D63: =Sheet2!A8 -> Soul Binder | E63: =Sheet2!Q8 -> 5.6 | G63: =Sheet2!A8 -> Soul Binder | H63: =SUMIF(Sheet5!$B$34:$B$84,Sheet7!G63,Sheet5!$H$34:$H$84) -> 1815.099 | I63: =SUMIF(Sheet5!$B$34:$B$84,Sheet7!G63,Sheet5!$Q$34:$Q$84) -> 156.2704 | J63: =Sheet2!A35 -> Grim Hag | K63: =Sheet7!H90 -> 1372.5724 | L63: =Sheet7!H90/Sheet2!$M$41 -> 0.73685792 | M63: =Sheet7!H90/VLOOKUP(Sheet7!$G90,Sheet2!$A$2:$N$39,13,FALSE) -> 1.4778707 | O63: =Sheet7!G74 -> Blackguard | P63: =Sheet7!H74/VLOOKUP(Sheet7!$G74,Sheet2!$A$2:$O$39,15,FALSE) -> 1199.0828 | Q63: =Sheet7!P63/Sheet2!$M$41 -> 0.64372098 | R63: =P63/VLOOKUP(Sheet7!$O63,Sheet2!$A$2:$N$39,13,FALSE) -> 0.41992043 | T63: =Sheet7!G77 -> Aeromancess | U63: =Sheet7!I77 -> 95.934696 | W63: =Sheet7!G83 -> Sorrow Liege | X63: =Sheet7!I83/VLOOKUP(Sheet7!$G83,Sheet2!$A$2:$O$39,15,FALSE) -> 110.2521
A64: =Sheet2!A4 -> Time Cleric | B64: =Sheet2!P4 -> 55 | D64: =Sheet2!A19 -> Blackguard | E64: =Sheet2!Q19 -> 5.6 | G64: =Sheet2!A9 -> Glacial Tyrant | H64: =SUMIF(Sheet5!$B$34:$B$84,Sheet7!G64,Sheet5!$H$34:$H$84) -> 685.955 | I64: =SUMIF(Sheet5!$B$34:$B$84,Sheet7!G64,Sheet5!$Q$34:$Q$84) -> 79.211771 | J64: =Sheet7!G72 -> Emberwraith | K64: =Sheet7!H72 -> 1258.3663 | L64: =Sheet7!H72/Sheet2!$M$41 -> 0.67554698 | M64: =Sheet7!H72/VLOOKUP(Sheet7!$G72,Sheet2!$A$2:$N$39,13,FALSE) -> 0.42885448 | O64: =Sheet7!G77 -> Aeromancess | P64: =Sheet7!H77/VLOOKUP(Sheet7!$G77,Sheet2!$A$2:$O$39,15,FALSE) -> 1158.3723 | Q64: =Sheet7!P64/Sheet2!$M$41 -> 0.6218658 | R64: =P64/VLOOKUP(Sheet7!$O64,Sheet2!$A$2:$N$39,13,FALSE) -> 0.88038939 | T64: =Sheet7!G69 -> Icespinner | U64: =Sheet7!I69 -> 91.287071 | W64: =Sheet7!G81 -> Behemoth | X64: =Sheet7!I81/VLOOKUP(Sheet7!$G81,Sheet2!$A$2:$O$39,15,FALSE) -> 105.14266
A65: =Sheet2!A7 -> Scarab | B65: =Sheet2!P7 -> 55 | D65: =Sheet2!A20 -> Fire Knight | E65: =Sheet2!Q20 -> 5.6 | G65: =Sheet2!A10 -> Acid Reaver | H65: =SUMIF(Sheet5!$B$34:$B$84,Sheet7!G65,Sheet5!$H$34:$H$84) -> 423.03 | I65: =SUMIF(Sheet5!$B$34:$B$84,Sheet7!G65,Sheet5!$Q$34:$Q$84) -> 52.87875 | J65: =Sheet7!G84 -> Crimson Squall | K65: =Sheet7!H84 -> 1063.775 | L65: =Sheet7!H84/Sheet2!$M$41 -> 0.57108174 | M65: =Sheet7!H84/VLOOKUP(Sheet7!$G84,Sheet2!$A$2:$N$39,13,FALSE) -> 0.80391083 | O65: =Sheet2!A30 -> Stormweaver | P65: =Sheet7!H85/VLOOKUP(Sheet7!$G85,Sheet2!$A$2:$O$39,15,FALSE) -> 1135.3269 | Q65: =Sheet7!P65/Sheet2!$M$41 -> 0.60949398 | R65: =P65/VLOOKUP(Sheet7!$O65,Sheet2!$A$2:$N$39,13,FALSE) -> 0.80849342 | T65: =Sheet7!G80 -> Master of the Hunt | U65: =Sheet7!I80 -> 90.9375 | W65: =Sheet7!G74 -> Blackguard | X65: =Sheet7!I74/VLOOKUP(Sheet7!$G74,Sheet2!$A$2:$O$39,15,FALSE) -> 100.12804
A66: =Sheet2!A13 -> Crest Witch | B66: =Sheet2!P13 -> 55 | D66: =Sheet2!A4 -> Time Cleric | E66: =Sheet2!Q4 -> 5.55 | G66: =Sheet2!A11 -> Divine Wizard | H66: =SUMIF(Sheet5!$B$34:$B$84,Sheet7!G66,Sheet5!$H$34:$H$84) -> 573.19275 | I66: =SUMIF(Sheet5!$B$34:$B$84,Sheet7!G66,Sheet5!$Q$34:$Q$84) -> 50.950467 | J66: =Sheet2!A36 -> Putrid Eidolon | K66: =Sheet7!H91 -> 1035.5875 | L66: =Sheet7!H91/Sheet2!$M$41 -> 0.55594944 | M66: =Sheet7!H91/VLOOKUP(Sheet7!$G91,Sheet2!$A$2:$N$39,13,FALSE) -> 0.72279707 | O66: =Sheet7!G80 -> Master of the Hunt | P66: =Sheet7!H80/VLOOKUP(Sheet7!$G80,Sheet2!$A$2:$O$39,15,FALSE) -> 1052.544 | Q66: =Sheet7!P66/Sheet2!$M$41 -> 0.56505245 | R66: =P66/VLOOKUP(Sheet7!$O66,Sheet2!$A$2:$N$39,13,FALSE) -> 0.39055436 | T66: =Sheet7!G58 -> Blazing Priest | U66: =Sheet7!I58 -> 79.681688 | W66: =Sheet7!G84 -> Crimson Squall | X66: =Sheet7!I84/VLOOKUP(Sheet7!$G84,Sheet2!$A$2:$O$39,15,FALSE) -> 94.460489
A67: =Sheet2!A29 -> High Oracle | B67: =Sheet2!P29 -> 54 | D67: =Sheet2!A13 -> Crest Witch | E67: =Sheet2!Q13 -> 5.55 | G67: =Sheet2!A12 -> Colossus | H67: =SUMIF(Sheet5!$B$34:$B$84,Sheet7!G67,Sheet5!$H$34:$H$84) -> 1021.4863 | I67: =SUMIF(Sheet5!$B$34:$B$84,Sheet7!G67,Sheet5!$Q$34:$Q$84) -> 96.096458 | J67: =Sheet7!G67 -> Colossus | K67: =Sheet7!H67 -> 1021.4863 | L67: =Sheet7!H67/Sheet2!$M$41 -> 0.54837926 | M67: =Sheet7!H67/VLOOKUP(Sheet7!$G67,Sheet2!$A$2:$N$39,13,FALSE) -> 0.33224467 | O67: =Sheet2!A31 -> Rune Knight | P67: =Sheet7!H86/VLOOKUP(Sheet7!$G86,Sheet2!$A$2:$O$39,15,FALSE) -> 958.97361 | Q67: =Sheet7!P67/Sheet2!$M$41 -> 0.51481969 | R67: =P67/VLOOKUP(Sheet7!$O67,Sheet2!$A$2:$N$39,13,FALSE) -> 0.47456321 | T67: =Sheet7!G64 -> Glacial Tyrant | U67: =Sheet7!I64 -> 79.211771 | W67: =Sheet7!G64 -> Glacial Tyrant | X67: =Sheet7!I64/VLOOKUP(Sheet7!$G64,Sheet2!$A$2:$O$39,15,FALSE) -> 94.319124
A68: =Sheet2!A2 -> Arcane Archer | B68: =Sheet2!P2 -> 53 | D68: =Sheet2!A17 -> Emberwraith | E68: =Sheet2!Q17 -> 5.55 | G68: =Sheet2!A13 -> Crest Witch | H68: =SUMIF(Sheet5!$B$34:$B$84,Sheet7!G68,Sheet5!$H$34:$H$84) -> 401.4075 | I68: =SUMIF(Sheet5!$B$34:$B$84,Sheet7!G68,Sheet5!$Q$34:$Q$84) -> 26.7605 | J68: =Sheet2!A31 -> Rune Knight | K68: =Sheet7!H86 -> 883.98637 | L68: =Sheet7!H86/Sheet2!$M$41 -> 0.47456321 | M68: =Sheet7!H86/VLOOKUP(Sheet7!$G86,Sheet2!$A$2:$N$39,13,FALSE) -> 0.4374546 | O68: =Sheet7!G83 -> Sorrow Liege | P68: =Sheet7!H83/VLOOKUP(Sheet7!$G83,Sheet2!$A$2:$O$39,15,FALSE) -> 882.0168 | Q68: =Sheet7!P68/Sheet2!$M$41 -> 0.47350585 | R68: =P68/VLOOKUP(Sheet7!$O68,Sheet2!$A$2:$N$39,13,FALSE) -> 0.29823053 | T68: =Sheet7!G72 -> Emberwraith | U68: =Sheet7!I72 -> 74.484526 | W68: =Sheet7!G70 -> Ascendant | X68: =Sheet7!I70/VLOOKUP(Sheet7!$G70,Sheet2!$A$2:$O$39,15,FALSE) -> 89.615718
A69: =Sheet2!A3 -> Blazing Priest | B69: =Sheet2!P3 -> 53 | D69: =Sheet2!A23 -> Mystic Swashbuckler | E69: =Sheet2!Q23 -> 5.5 | G69: =Sheet2!A14 -> Icespinner | H69: =SUMIF(Sheet5!$B$34:$B$84,Sheet7!G69,Sheet5!$H$34:$H$84) -> 1709.8926 | I69: =SUMIF(Sheet5!$B$34:$B$84,Sheet7!G69,Sheet5!$Q$34:$Q$84) -> 91.287071 | J69: =Sheet7!G74 -> Blackguard | K69: =Sheet7!H74 -> 782.20125 | L69: =Sheet7!H74/Sheet2!$M$41 -> 0.41992043 | M69: =Sheet7!H74/VLOOKUP(Sheet7!$G74,Sheet2!$A$2:$N$39,13,FALSE) -> 0.27392795 | O69: =Sheet7!G81 -> Behemoth | P69: =Sheet7!H81/VLOOKUP(Sheet7!$G81,Sheet2!$A$2:$O$39,15,FALSE) -> 841.14126 | Q69: =Sheet7!P69/Sheet2!$M$41 -> 0.45156205 | R69: =P69/VLOOKUP(Sheet7!$O69,Sheet2!$A$2:$N$39,13,FALSE) -> 0.28233323 | T69: =Sheet7!G62 -> Scarab | U69: =Sheet7!I62 -> 71.089063 | W69: =Sheet7!G65 -> Acid Reaver | X69: =Sheet7!I65/VLOOKUP(Sheet7!$G65,Sheet2!$A$2:$O$39,15,FALSE) -> 84.765569
A70: =Sheet2!A8 -> Soul Binder | B70: =Sheet2!P8 -> 53 | D70: =Sheet2!A28 -> Sorrow Liege | E70: =Sheet2!Q28 -> 5.5 | G70: =Sheet2!A15 -> Ascendant | H70: =SUMIF(Sheet5!$B$34:$B$84,Sheet7!G70,Sheet5!$H$34:$H$84) -> 498.3 | I70: =SUMIF(Sheet5!$B$34:$B$84,Sheet7!G70,Sheet5!$Q$34:$Q$84) -> 62.2875 | J70: =Sheet7!G82 -> Incarnation | K70: =Sheet7!H82 -> 772.161 | L70: =Sheet7!H82/Sheet2!$M$41 -> 0.41453037 | M70: =Sheet7!H82/VLOOKUP(Sheet7!$G82,Sheet2!$A$2:$N$39,13,FALSE) -> 0.52014887 | O70: =Sheet7!G64 -> Glacial Tyrant | P70: =Sheet7!H64/VLOOKUP(Sheet7!$G64,Sheet2!$A$2:$O$39,15,FALSE) -> 816.78107 | Q70: =Sheet7!P70/Sheet2!$M$41 -> 0.43848441 | R70: =P70/VLOOKUP(Sheet7!$O70,Sheet2!$A$2:$N$39,13,FALSE) -> 0.36825116 | T70: =Sheet7!G75 -> Fire Knight | U70: =Sheet7!I75 -> 70.435781 | W70: =Sheet7!G58 -> Blazing Priest | X70: =Sheet7!I58/VLOOKUP(Sheet7!$G58,Sheet2!$A$2:$O$39,15,FALSE) -> 78.163678
A71: =Sheet2!A17 -> Emberwraith | B71: =Sheet2!P17 -> 53 | D71: =Sheet2!A31 -> Rune Knight | E71: =Sheet2!Q31 -> 5.5 | G71: =Sheet2!A16 -> Defiler | H71: =SUMIF(Sheet5!$B$34:$B$84,Sheet7!G71,Sheet5!$H$34:$H$84) -> 431.775 | I71: =SUMIF(Sheet5!$B$34:$B$84,Sheet7!G71,Sheet5!$Q$34:$Q$84) -> 47.975 | J71: =Sheet7!G80 -> Master of the Hunt | K71: =Sheet7!H80 -> 727.5 | L71: =Sheet7!H80/Sheet2!$M$41 -> 0.39055436 | M71: =Sheet7!H80/VLOOKUP(Sheet7!$G80,Sheet2!$A$2:$N$39,13,FALSE) -> 0.26994434 | O71: =Sheet2!A36 -> Putrid Eidolon | P71: =Sheet7!H91/VLOOKUP(Sheet7!$G91,Sheet2!$A$2:$O$39,15,FALSE) -> 796.53656 | Q71: =Sheet7!P71/Sheet2!$M$41 -> 0.42761626 | R71: =P71/VLOOKUP(Sheet7!$O71,Sheet2!$A$2:$N$39,13,FALSE) -> 0.55594944 | T71: =Sheet7!G83 -> Sorrow Liege | U71: =Sheet7!I83 -> 69.440625 | W71: =Sheet2!A30 -> Stormweaver | X71: =Sheet7!I85/VLOOKUP(Sheet7!$G85,Sheet2!$A$2:$O$39,15,FALSE) -> 75.688459
A72: =Sheet2!A19 -> Blackguard | B72: =Sheet2!P19 -> 53 | D72: =Sheet2!A2 -> Arcane Archer | E72: =Sheet2!Q2 -> 5.45 | G72: =Sheet2!A17 -> Emberwraith | H72: =SUMIF(Sheet5!$B$34:$B$84,Sheet7!G72,Sheet5!$H$34:$H$84) -> 1258.3663 | I72: =SUMIF(Sheet5!$B$34:$B$84,Sheet7!G72,Sheet5!$Q$34:$Q$84) -> 74.484526 | J72: =Sheet7!G75 -> Fire Knight | K72: =Sheet7!H75 -> 713.4 | L72: =Sheet7!H75/Sheet2!$M$41 -> 0.38298486 | M72: =Sheet7!H75/VLOOKUP(Sheet7!$G75,Sheet2!$A$2:$N$39,13,FALSE) -> 0.37209545 | O72: =Sheet7!G84 -> Crimson Squall | P72: =Sheet7!H84/VLOOKUP(Sheet7!$G84,Sheet2!$A$2:$O$39,15,FALSE) -> 755.68391 | Q72: =Sheet7!P72/Sheet2!$M$41 -> 0.40568474 | R72: =P72/VLOOKUP(Sheet7!$O72,Sheet2!$A$2:$N$39,13,FALSE) -> 0.57108174 | T72: =Sheet2!A35 -> Grim Hag | U72: =Sheet7!I90 -> 68.144826 | W72: =Sheet7!G62 -> Scarab | X72: =Sheet7!I62/VLOOKUP(Sheet7!$G62,Sheet2!$A$2:$O$39,15,FALSE) -> 74.371649
A73: =Sheet2!A28 -> Sorrow Liege | B73: =Sheet2!P28 -> 53 | D73: =Sheet2!A33 -> Tactician | E73: =Sheet2!Q33 -> 5.45 | G73: =Sheet2!A18 -> Forlorn Martyr | H73: =SUMIF(Sheet5!$B$34:$B$84,Sheet7!G73,Sheet5!$H$34:$H$84) -> 280.1175 | I73: =SUMIF(Sheet5!$B$34:$B$84,Sheet7!G73,Sheet5!$Q$34:$Q$84) -> 35.014688 | J73: =Sheet7!G64 -> Glacial Tyrant | K73: =Sheet7!H64 -> 685.955 | L73: =Sheet7!H64/Sheet2!$M$41 -> 0.36825116 | M73: =Sheet7!H64/VLOOKUP(Sheet7!$G64,Sheet2!$A$2:$N$39,13,FALSE) -> 0.30926736 | O73: =Sheet7!G75 -> Fire Knight | P73: =Sheet7!H75/VLOOKUP(Sheet7!$G75,Sheet2!$A$2:$O$39,15,FALSE) -> 734.27771 | Q73: =Sheet7!P73/Sheet2!$M$41 -> 0.39419294 | R73: =P73/VLOOKUP(Sheet7!$O73,Sheet2!$A$2:$N$39,13,FALSE) -> 0.38298486 | T73: =Sheet7!G81 -> Behemoth | U73: =Sheet7!I81 -> 65.739062 | W73: =Sheet7!G75 -> Fire Knight | X73: =Sheet7!I75/VLOOKUP(Sheet7!$G75,Sheet2!$A$2:$O$39,15,FALSE) -> 72.497091
A74: =Sheet2!A32 -> Infiltrator | B74: =Sheet2!P32 -> 53 | D74: =Sheet2!A34 -> Arcane Mistress | E74: =Sheet2!Q34 -> 5.35 | G74: =Sheet2!A19 -> Blackguard | H74: =SUMIF(Sheet5!$B$34:$B$84,Sheet7!G74,Sheet5!$H$34:$H$84) -> 782.20125 | I74: =SUMIF(Sheet5!$B$34:$B$84,Sheet7!G74,Sheet5!$Q$34:$Q$84) -> 65.316823 | J74: =Sheet7!G58 -> Blazing Priest | K74: =Sheet7!H58 -> 637.4535 | L74: =Sheet7!H58/Sheet2!$M$41 -> 0.3422134 | M74: =Sheet7!H58/VLOOKUP(Sheet7!$G58,Sheet2!$A$2:$N$39,13,FALSE) -> 0.34885949 | O74: =Sheet7!G70 -> Ascendant | P74: =Sheet7!H70/VLOOKUP(Sheet7!$G70,Sheet2!$A$2:$O$39,15,FALSE) -> 716.92575 | Q74: =Sheet7!P74/Sheet2!$M$41 -> 0.38487763 | R74: =P74/VLOOKUP(Sheet7!$O74,Sheet2!$A$2:$N$39,13,FALSE) -> 0.26750961 | T74: =Sheet7!G74 -> Blackguard | U74: =Sheet7!I74 -> 65.316823 | W74: =Sheet7!G77 -> Aeromancess | X74: =Sheet7!I77/VLOOKUP(Sheet7!$G77,Sheet2!$A$2:$O$39,15,FALSE) -> 67.763773
A75: =Sheet2!A33 -> Tactician | B75: =Sheet2!P33 -> 53 | D75: =Sheet2!A29 -> High Oracle | E75: =Sheet2!Q29 -> 5.35 | G75: =Sheet2!A20 -> Fire Knight | H75: =SUMIF(Sheet5!$B$34:$B$84,Sheet7!G75,Sheet5!$H$34:$H$84) -> 713.4 | I75: =SUMIF(Sheet5!$B$34:$B$84,Sheet7!G75,Sheet5!$Q$34:$Q$84) -> 70.435781 | J75: =Sheet2!A34 -> Arcane Mistress | K75: =Sheet7!H89 -> 616.52462 | L75: =Sheet7!H89/Sheet2!$M$41 -> 0.33097784 | M75: =Sheet7!H89/VLOOKUP(Sheet7!$G89,Sheet2!$A$2:$N$39,13,FALSE) -> 0.44378234 | O75: =Sheet2!A35 -> Grim Hag | P75: =Sheet7!H90/VLOOKUP(Sheet7!$G90,Sheet2!$A$2:$O$39,15,FALSE) -> 684.35679 | Q75: =Sheet7!P75/Sheet2!$M$41 -> 0.36739317 | R75: =P75/VLOOKUP(Sheet7!$O75,Sheet2!$A$2:$N$39,13,FALSE) -> 0.73685792 | T75: =Sheet7!G82 -> Incarnation | U75: =Sheet7!I82 -> 64.34675 | W75: =Sheet7!G69 -> Icespinner | X75: =Sheet7!I69/VLOOKUP(Sheet7!$G69,Sheet2!$A$2:$O$39,15,FALSE) -> 66.281914
A76: =Sheet2!A35 -> Grim Hag | B76: =Sheet2!P35 -> 53 | D76: =Sheet2!A25 -> Master of the Hunt | E76: =Sheet2!Q25 -> 5.3 | G76: =Sheet2!A21 -> Wretched Chef | H76: =SUMIF(Sheet5!$B$34:$B$84,Sheet7!G76,Sheet5!$H$34:$H$84) -> 330.3825 | I76: =SUMIF(Sheet5!$B$34:$B$84,Sheet7!G76,Sheet5!$Q$34:$Q$84) -> 41.297812 | J76: =Sheet7!G66 -> Divine Wizard | K76: =Sheet7!H66 -> 573.19275 | L76: =Sheet7!H66/Sheet2!$M$41 -> 0.30771537 | M76: =Sheet7!H66/VLOOKUP(Sheet7!$G66,Sheet2!$A$2:$N$39,13,FALSE) -> 0.43024414 | O76: =Sheet7!G65 -> Acid Reaver | P76: =Sheet7!H65/VLOOKUP(Sheet7!$G65,Sheet2!$A$2:$O$39,15,FALSE) -> 678.12455 | Q76: =Sheet7!P76/Sheet2!$M$41 -> 0.36404742 | R76: =P76/VLOOKUP(Sheet7!$O76,Sheet2!$A$2:$N$39,13,FALSE) -> 0.22710132 | T76: =Sheet7!G70 -> Ascendant | U76: =Sheet7!I70 -> 62.2875 | W76: =Sheet7!G76 -> Wretched Chef | X76: =Sheet7!I76/VLOOKUP(Sheet7!$G76,Sheet2!$A$2:$O$39,15,FALSE) -> 66.051471
A77: =Sheet2!A38 -> Scarlet Maiden | B77: =Sheet2!P38 -> 53 | D77: =Sheet2!A24 -> Elder Treant | E77: =Sheet2!Q24 -> 5.25 | G77: =Sheet2!A22 -> Aeromancess | H77: =SUMIF(Sheet5!$B$34:$B$84,Sheet7!G77,Sheet5!$H$34:$H$84) -> 1639.9338 | I77: =SUMIF(Sheet5!$B$34:$B$84,Sheet7!G77,Sheet5!$Q$34:$Q$84) -> 95.934696 | J77: =Sheet7!G62 -> Scarab | K77: =Sheet7!H62 -> 568.7125 | L77: =Sheet7!H62/Sheet2!$M$41 -> 0.30531017 | M77: =Sheet7!H62/VLOOKUP(Sheet7!$G62,Sheet2!$A$2:$N$39,13,FALSE) -> 0.29183451 | O77: =Sheet7!G58 -> Blazing Priest | P77: =Sheet7!H58/VLOOKUP(Sheet7!$G58,Sheet2!$A$2:$O$39,15,FALSE) -> 625.30943 | Q77: =Sheet7!P77/Sheet2!$M$41 -> 0.33569392 | R77: =P77/VLOOKUP(Sheet7!$O77,Sheet2!$A$2:$N$39,13,FALSE) -> 0.3422134 | T77: =Sheet2!A31 -> Rune Knight | U77: =Sheet7!I86 -> 54.234125 | W77: =Sheet2!A31 -> Rune Knight | X77: =Sheet7!I86/VLOOKUP(Sheet7!$G86,Sheet2!$A$2:$O$39,15,FALSE) -> 58.834724
A78: =Sheet2!A6 -> Dread Shaman | B78: =Sheet2!P6 -> 52 | D78: =Sheet2!A35 -> Grim Hag | E78: =Sheet2!Q35 -> 5.25 | G78: =Sheet2!A23 -> Mystic Swashbuckler | H78: =SUMIF(Sheet5!$B$34:$B$84,Sheet7!G78,Sheet5!$H$34:$H$84) -> 442.75 | I78: =SUMIF(Sheet5!$B$34:$B$84,Sheet7!G78,Sheet5!$Q$34:$Q$84) -> 36.895833 | J78: =Sheet7!G83 -> Sorrow Liege | K78: =Sheet7!H83 -> 555.525 | L78: =Sheet7!H83/Sheet2!$M$41 -> 0.29823053 | M78: =Sheet7!H83/VLOOKUP(Sheet7!$G83,Sheet2!$A$2:$N$39,13,FALSE) -> 0.18783601 | O78: =Sheet7!G82 -> Incarnation | P78: =Sheet7!H82/VLOOKUP(Sheet7!$G82,Sheet2!$A$2:$O$39,15,FALSE) -> 615.37034 | Q78: =Sheet7!P78/Sheet2!$M$41 -> 0.33035817 | R78: =P78/VLOOKUP(Sheet7!$O78,Sheet2!$A$2:$N$39,13,FALSE) -> 0.41453037 | T78: =Sheet7!G65 -> Acid Reaver | U78: =Sheet7!I65 -> 52.87875 | W78: =Sheet7!G82 -> Incarnation | X78: =Sheet7!I82/VLOOKUP(Sheet7!$G82,Sheet2!$A$2:$O$39,15,FALSE) -> 51.280862
A79: =Sheet2!A10 -> Acid Reaver | B79: =Sheet2!P10 -> 52 | D79: =Sheet2!A38 -> Scarlet Maiden | E79: =Sheet2!Q38 -> 5.2 | G79: =Sheet2!A24 -> Elder Treant | H79: =SUMIF(Sheet5!$B$34:$B$84,Sheet7!G79,Sheet5!$H$34:$H$84) -> 341.32 | I79: =SUMIF(Sheet5!$B$34:$B$84,Sheet7!G79,Sheet5!$Q$34:$Q$84) -> 17.964211 | J79: =Sheet2!A33 -> Tactician | K79: =Sheet7!H88 -> 553.5375 | L79: =Sheet7!H88/Sheet2!$M$41 -> 0.29716355 | M79: =Sheet7!H88/VLOOKUP(Sheet7!$G88,Sheet2!$A$2:$N$39,13,FALSE) -> 0.30837744 | O79: =Sheet7!G62 -> Scarab | P79: =Sheet7!H62/VLOOKUP(Sheet7!$G62,Sheet2!$A$2:$O$39,15,FALSE) -> 594.97319 | Q79: =Sheet7!P79/Sheet2!$M$41 -> 0.31940808 | R79: =P79/VLOOKUP(Sheet7!$O79,Sheet2!$A$2:$N$39,13,FALSE) -> 0.30531017 | T79: =Sheet2!A34 -> Arcane Mistress | U79: =Sheet7!I89 -> 52.74687 | W79: =Sheet2!A36 -> Putrid Eidolon | X79: =Sheet7!I91/VLOOKUP(Sheet7!$G91,Sheet2!$A$2:$O$39,15,FALSE) -> 40.170277
A80: =Sheet2!A24 -> Elder Treant | B80: =Sheet2!P24 -> 52 | D80: =Sheet2!A7 -> Scarab | E80: =Sheet2!Q7 -> 5.15 | G80: =Sheet2!A25 -> Master of the Hunt | H80: =SUMIF(Sheet5!$B$34:$B$84,Sheet7!G80,Sheet5!$H$34:$H$84) -> 727.5 | I80: =SUMIF(Sheet5!$B$34:$B$84,Sheet7!G80,Sheet5!$Q$34:$Q$84) -> 90.9375 | J80: =Sheet7!G60 -> Arboreal Crusader | K80: =Sheet7!H60 -> 544.713 | L80: =Sheet7!H60/Sheet2!$M$41 -> 0.29242617 | M80: =Sheet7!H60/VLOOKUP(Sheet7!$G60,Sheet2!$A$2:$N$39,13,FALSE) -> 0.40074526 | O80: =Sheet7!G79 -> Elder Treant | P80: =Sheet7!H79/VLOOKUP(Sheet7!$G79,Sheet2!$A$2:$O$39,15,FALSE) -> 543.1566 | Q80: =Sheet7!P80/Sheet2!$M$41 -> 0.29159063 | R80: =P80/VLOOKUP(Sheet7!$O80,Sheet2!$A$2:$N$39,13,FALSE) -> 0.18323576 | T80: =Sheet2!A36 -> Putrid Eidolon | U80: =Sheet7!I91 -> 52.225897 | W80: =Sheet2!A34 -> Arcane Mistress | X80: =Sheet7!I89/VLOOKUP(Sheet7!$G89,Sheet2!$A$2:$O$39,15,FALSE) -> 39.339207
