Workbook

Sheet Sheet1
A1: Level | B1: 30 | C1: =B1-1 -> 29
A2: Use Items | B2: TRUE
A3: Item Set | B3: Str | C3: Str+Int | D3: Agi | E3: Int
A4: Bonus Str | B4: 95 | C4: 35 | D4: 5 | E4: 25
A5: Bonus Agi | B5: 0 | C5: 0 | D5: 120 | E5: 25
A6: Bonus Int | B6: 0 | C6: 70 | D6: 25 | E6: 85
A7: Bonus Health | B7: 0 | C7: 0 | D7: 0 | E7: 0
A8: Mana Regen | B8: 0 | C8: 2 | D8: 0 | E8: 0
A9: Evocation | B9: 0 | C9: 0 | D9: 0 | E9: 0.3
B11: 3370 | C11: 2925 | D11: 2750 | E11: 4000
B12: 3500 | C12: 3250 | D12: 3250 | E12: 2750
B13: 3500 | C13: 2625 | D13: 2440 | E13: 2925
C14: 2500 | D14: 3500 | E14: 2625
B17: =SUM(B11:B14) -> 10370 | C17: =SUM(C11:C14) -> 11300 | D17: =SUM(D11:D14) -> 11940 | E17: =SUM(E11:E14) -> 12300

Sheet Sheet2
A1: Name | B1: Strength | C1: Str/level | D1: Agility | E1: Agi/level | F1: Int | G1: Int/level | I1: ="Str @" & Sheet1!$B$1 -> Str @30 | J1: ="Agi @" & Sheet1!$B$1 -> Agi @30 | K1: ="Int @" & Sheet1!$B$1 -> Int @30 | M1: Health | N1: Mana Regen | O1: Balance Factor | P1: Starting Stat Total | Q1: Growth Total | S1: Item Set | T1: Evocation Bonus
A2: Arcane Archer | B2: 15 | C2: 1.6 | D2: 17 | E2: 1.35 | F2: 21 | G2: 2.5 | I2: =Sheet2!B2+Sheet1!$C$1*Sheet2!C2+IF(Sheet1!$B$2,OFFSET(Sheet1!$A$4,0,Sheet2!$S2),0) -> 86.4 | J2: =D2+Sheet1!$C$1*Sheet2!E2+IF(Sheet1!$B$2,OFFSET(Sheet1!$A$5,0,Sheet2!$S2),0) -> 81.15 | K2: =F2+Sheet1!$C$1*Sheet2!G2+IF(Sheet1!$B$2,OFFSET(Sheet1!$A$6,0,Sheet2!$S2),0) -> 178.5 | M2: =Sheet2!I2*15+100+IF(Sheet1!$B$2,OFFSET(Sheet1!$A$7,0,Sheet2!$S2),0) -> 1396 | N2: =(1.2 + K2*0.01) * (1 +IF(Sheet1!$B$2,OFFSET(Sheet1!$A$8,0,Sheet2!$S2),0)) -> 2.985 | O2: =$M$41/M2 -> 1.3343387 | P2: =B2+D2+F2 -> 53 | Q2: =C2+E2+G2 -> 5.45 | S2: 4 | T2: =1+IF(Sheet1!$B$2,OFFSET(Sheet1!$A$9,0,Sheet2!$S2),0) -> 1.3
A3: Blazing Priest | B3: 22 | C3: 2.35 | D3: 13 | E3: 1 | F3: 18 | G3: 1.6 | I3: =Sheet2!B3+Sheet1!$C$1*Sheet2!C3+IF(Sheet1!$B$2,OFFSET(Sheet1!$A$4,0,Sheet2!$S3),0) -> 115.15 | J3: =D3+Sheet1!$C$1*Sheet2!E3+IF(Sheet1!$B$2,OFFSET(Sheet1!$A$5,0,Sheet2!$S3),0) -> 67 | K3: =F3+Sheet1!$C$1*Sheet2!G3+IF(Sheet1!$B$2,OFFSET(Sheet1!$A$6,0,Sheet2!$S3),0) -> 149.4 | M3: =Sheet2!I3*15+100+IF(Sheet1!$B$2,OFFSET(Sheet1!$A$7,0,Sheet2!$S3),0) -> 1827.25 | N3: =(1.2 + K3*0.01) * (1 +IF(Sheet1!$B$2,OFFSET(Sheet1!$A$8,0,Sheet2!$S3),0)) -> 2.694 | O3: =$M$41/M3 -> 1.0194209 | P3: =B3+D3+F3 -> 53 | Q3: =C3+E3+G3 -> 4.95 | S3: 4 | T3: =1+IF(Sheet1!$B$2,OFFSET(Sheet1!$A$9,0,Sheet2!$S3),0) -> 1.3
A4: Time Cleric | B4: 20 | C4: 1.95 | D4: 16 | E4: 1.75 | F4: 19 | G4: 1.85 | I4: =Sheet2!B4+Sheet1!$C$1*Sheet2!C4+IF(Sheet1!$B$2,OFFSET(Sheet1!$A$4,0,Sheet2!$S4),0) -> 101.55 | J4: =D4+Sheet1!$C$1*Sheet2!E4+IF(Sheet1!$B$2,OFFSET(Sheet1!$A$5,0,Sheet2!$S4),0) -> 91.75 | K4: =F4+Sheet1!$C$1*Sheet2!G4+IF(Sheet1!$B$2,OFFSET(Sheet1!$A$6,0,Sheet2!$S4),0) -> 157.65 | M4: =Sheet2!I4*15+100+IF(Sheet1!$B$2,OFFSET(Sheet1!$A$7,0,Sheet2!$S4),0) -> 1623.25 | N4: =(1.2 + K4*0.01) * (1 +IF(Sheet1!$B$2,OFFSET(Sheet1!$A$8,0,Sheet2!$S4),0)) -> 2.7765 | O4: =$M$41/M4 -> 1.1475354 | P4: =B4+D4+F4 -> 55 | Q4: =C4+E4+G4 -> 5.55 | S4: 4 | T4: =1+IF(Sheet1!$B$2,OFFSET(Sheet1!$A$9,0,Sheet2!$S4),0) -> 1.3
A5: Arboreal Crusader | B5: 14 | C5: 1.55 | D5: 17 | E5: 2 | F5: 18 | G5: 2.2 | I5: =Sheet2!B5+Sheet1!$C$1*Sheet2!C5+IF(Sheet1!$B$2,OFFSET(Sheet1!$A$4,0,Sheet2!$S5),0) -> 83.95 | J5: =D5+Sheet1!$C$1*Sheet2!E5+IF(Sheet1!$B$2,OFFSET(Sheet1!$A$5,0,Sheet2!$S5),0) -> 100 | K5: =F5+Sheet1!$C$1*Sheet2!G5+IF(Sheet1!$B$2,OFFSET(Sheet1!$A$6,0,Sheet2!$S5),0) -> 166.8 | M5: =Sheet2!I5*15+100+IF(Sheet1!$B$2,OFFSET(Sheet1!$A$7,0,Sheet2!$S5),0) -> 1359.25 | N5: =(1.2 + K5*0.01) * (1 +IF(Sheet1!$B$2,OFFSET(Sheet1!$A$8,0,Sheet2!$S5),0)) -> 2.868 | O5: =$M$41/M5 -> 1.3704152 | P5: =B5+D5+F5 -> 49 | Q5: =C5+E5+G5 -> 5.75 | S5: 4 | T5: =1+IF(Sheet1!$B$2,OFFSET(Sheet1!$A$9,0,Sheet2!$S5),0) -> 1.3
A6: Dread Shaman | B6: 15 | C6: 1.65 | D6: 18 | E6: 1.45 | F6: 19 | G6: 1.75 | I6: =Sheet2!B6+Sheet1!$C$1*Sheet2!C6+IF(Sheet1!$B$2,OFFSET(Sheet1!$A$4,0,Sheet2!$S6),0) -> 87.85 | J6: =D6+Sheet1!$C$1*Sheet2!E6+IF(Sheet1!$B$2,OFFSET(Sheet1!$A$5,0,Sheet2!$S6),0) -> 85.05 | K6: =F6+Sheet1!$C$1*Sheet2!G6+IF(Sheet1!$B$2,OFFSET(Sheet1!$A$6,0,Sheet2!$S6),0) -> 154.75 | M6: =Sheet2!I6*15+100+IF(Sheet1!$B$2,OFFSET(Sheet1!$A$7,0,Sheet2!$S6),0) -> 1417.75 | N6: =(1.2 + K6*0.01) * (1 +IF(Sheet1!$B$2,OFFSET(Sheet1!$A$8,0,Sheet2!$S6),0)) -> 2.7475 | O6: =$M$41/M6 -> 1.3138683 | P6: =B6+D6+F6 -> 52 | Q6: =C6+E6+G6 -> 4.85 | S6: 4 | T6: =1+IF(Sheet1!$B$2,OFFSET(Sheet1!$A$9,0,Sheet2!$S6),0) -> 1.3
A7: Scarab | B7: 23 | C7: 2.25 | D7: 14 | E7: 1.05 | F7: 18 | G7: 1.85 | I7: =Sheet2!B7+Sheet1!$C$1*Sheet2!C7+IF(Sheet1!$B$2,OFFSET(Sheet1!$A$4,0,Sheet2!$S7),0) -> 123.25 | J7: =D7+Sheet1!$C$1*Sheet2!E7+IF(Sheet1!$B$2,OFFSET(Sheet1!$A$5,0,Sheet2!$S7),0) -> 44.45 | K7: =F7+Sheet1!$C$1*Sheet2!G7+IF(Sheet1!$B$2,OFFSET(Sheet1!$A$6,0,Sheet2!$S7),0) -> 141.65 | M7: =Sheet2!I7*15+100+IF(Sheet1!$B$2,OFFSET(Sheet1!$A$7,0,Sheet2!$S7),0) -> 1948.75 | N7: =(1.2 + K7*0.01) * (1 +IF(Sheet1!$B$2,OFFSET(Sheet1!$A$8,0,Sheet2!$S7),0)) -> 7.8495 | O7: =$M$41/M7 -> 0.95586239 | P7: =B7+D7+F7 -> 55 | Q7: =C7+E7+G7 -> 5.15 | S7: 2 | T7: =1+IF(Sheet1!$B$2,OFFSET(Sheet1!$A$9,0,Sheet2!$S7),0) -> 1
A8: Soul Binder | B8: 19 | C8: 2.3 | D8: 13 | E8: 1.7 | F8: 21 | G8: 1.6 | I8: =Sheet2!B8+Sheet1!$C$1*Sheet2!C8+IF(Sheet1!$B$2,OFFSET(Sheet1!$A$4,0,Sheet2!$S8),0) -> 110.7 | J8: =D8+Sheet1!$C$1*Sheet2!E8+IF(Sheet1!$B$2,OFFSET(Sheet1!$A$5,0,Sheet2!$S8),0) -> 87.3 | K8: =F8+Sheet1!$C$1*Sheet2!G8+IF(Sheet1!$B$2,OFFSET(Sheet1!$A$6,0,Sheet2!$S8),0) -> 152.4 | M8: =Sheet2!I8*15+100+IF(Sheet1!$B$2,OFFSET(Sheet1!$A$7,0,Sheet2!$S8),0) -> 1760.5 | N8: =(1.2 + K8*0.01) * (1 +IF(Sheet1!$B$2,OFFSET(Sheet1!$A$8,0,Sheet2!$S8),0)) -> 2.724 | O8: =$M$41/M8 -> 1.0580726 | P8: =B8+D8+F8 -> 53 | Q8: =C8+E8+G8 -> 5.6 | S8: 4 | T8: =1+IF(Sheet1!$B$2,OFFSET(Sheet1!$A$9,0,Sheet2!$S8),0) -> 1.3
A9: Glacial Tyrant | B9: 25 | C9: 2.8 | D9: 9 | E9: 0.9 | F9: 15 | G9: 1.35 | I9: =Sheet2!B9+Sheet1!$C$1*Sheet2!C9+IF(Sheet1!$B$2,OFFSET(Sheet1!$A$4,0,Sheet2!$S9),0) -> 141.2 | J9: =D9+Sheet1!$C$1*Sheet2!E9+IF(Sheet1!$B$2,OFFSET(Sheet1!$A$5,0,Sheet2!$S9),0) -> 35.1 | K9: =F9+Sheet1!$C$1*Sheet2!G9+IF(Sheet1!$B$2,OFFSET(Sheet1!$A$6,0,Sheet2!$S9),0) -> 124.15 | M9: =Sheet2!I9*15+100+IF(Sheet1!$B$2,OFFSET(Sheet1!$A$7,0,Sheet2!$S9),0) -> 2218 | N9: =(1.2 + K9*0.01) * (1 +IF(Sheet1!$B$2,OFFSET(Sheet1!$A$8,0,Sheet2!$S9),0)) -> 7.3245 | O9: =$M$41/M9 -> 0.83982725 | P9: =B9+D9+F9 -> 49 | Q9: =C9+E9+G9 -> 5.05 | S9: 2 | T9: =1+IF(Sheet1!$B$2,OFFSET(Sheet1!$A$9,0,Sheet2!$S9),0) -> 1
A10: Acid Reaver | B10: 22 | C10: 2.6 | D10: 15 | E10: 1.6 | F10: 15 | G10: 1.5 | I10: =Sheet2!B10+Sheet1!$C$1*Sheet2!C10+IF(Sheet1!$B$2,OFFSET(Sheet1!$A$4,0,Sheet2!$S10),0) -> 192.4 | J10: =D10+Sheet1!$C$1*Sheet2!E10+IF(Sheet1!$B$2,OFFSET(Sheet1!$A$5,0,Sheet2!$S10),0) -> 61.4 | K10: =F10+Sheet1!$C$1*Sheet2!G10+IF(Sheet1!$B$2,OFFSET(Sheet1!$A$6,0,Sheet2!$S10),0) -> 58.5 | M10: =Sheet2!I10*15+100+IF(Sheet1!$B$2,OFFSET(Sheet1!$A$7,0,Sheet2!$S10),0) -> 2986 | N10: =(1.2 + K10*0.01) * (1 +IF(Sheet1!$B$2,OFFSET(Sheet1!$A$8,0,Sheet2!$S10),0)) -> 1.785 | O10: =$M$41/M10 -> 0.62382346 | P10: =B10+D10+F10 -> 52 | Q10: =C10+E10+G10 -> 5.7 | S10: 1 | T10: =1+IF(Sheet1!$B$2,OFFSET(Sheet1!$A$9,0,Sheet2!$S10),0) -> 1
A11: Divine Wizard | B11: 18 | C11: 1.35 | D11: 14 | E11: 1.1 | F11: 19 | G11: 2.2 | I11: =Sheet2!B11+Sheet1!$C$1*Sheet2!C11+IF(Sheet1!$B$2,OFFSET(Sheet1!$A$4,0,Sheet2!$S11),0) -> 82.15 | J11: =D11+Sheet1!$C$1*Sheet2!E11+IF(Sheet1!$B$2,OFFSET(Sheet1!$A$5,0,Sheet2!$S11),0) -> 70.9 | K11: =F11+Sheet1!$C$1*Sheet2!G11+IF(Sheet1!$B$2,OFFSET(Sheet1!$A$6,0,Sheet2!$S11),0) -> 167.8 | M11: =Sheet2!I11*15+100+IF(Sheet1!$B$2,OFFSET(Sheet1!$A$7,0,Sheet2!$S11),0) -> 1332.25 | N11: =(1.2 + K11*0.01) * (1 +IF(Sheet1!$B$2,OFFSET(Sheet1!$A$8,0,Sheet2!$S11),0)) -> 2.878 | O11: =$M$41/M11 -> 1.3981887 | P11: =B11+D11+F11 -> 51 | Q11: =C11+E11+G11 -> 4.65 | S11: 4 | T11: =1+IF(Sheet1!$B$2,OFFSET(Sheet1!$A$9,0,Sheet2!$S11),0) -> 1.3
A12: Colossus | B12: 25 | C12: 2.7 | D12: 10 | E12: 0.9 | F12: 14 | G12: 1 | I12: =Sheet2!B12+Sheet1!$C$1*Sheet2!C12+IF(Sheet1!$B$2,OFFSET(Sheet1!$A$4,0,Sheet2!$S12),0) -> 198.3 | J12: =D12+Sheet1!$C$1*Sheet2!E12+IF(Sheet1!$B$2,OFFSET(Sheet1!$A$5,0,Sheet2!$S12),0) -> 36.1 | K12: =F12+Sheet1!$C$1*Sheet2!G12+IF(Sheet1!$B$2,OFFSET(Sheet1!$A$6,0,Sheet2!$S12),0) -> 43 | M12: =Sheet2!I12*15+100+IF(Sheet1!$B$2,OFFSET(Sheet1!$A$7,0,Sheet2!$S12),0) -> 3074.5 | N12: =(1.2 + K12*0.01) * (1 +IF(Sheet1!$B$2,OFFSET(Sheet1!$A$8,0,Sheet2!$S12),0)) -> 1.63 | O12: =$M$41/M12 -> 0.60586659 | P12: =B12+D12+F12 -> 49 | Q12: =C12+E12+G12 -> 4.6 | S12: 1 | T12: =1+IF(Sheet1!$B$2,OFFSET(Sheet1!$A$9,0,Sheet2!$S12),0) -> 1
A13: Crest Witch | B13: 15 | C13: 1.6 | D13: 19 | E13: 1.8 | F13: 21 | G13: 2.15 | I13: =Sheet2!B13+Sheet1!$C$1*Sheet2!C13+IF(Sheet1!$B$2,OFFSET(Sheet1!$A$4,0,Sheet2!$S13),0) -> 86.4 | J13: =D13+Sheet1!$C$1*Sheet2!E13+IF(Sheet1!$B$2,OFFSET(Sheet1!$A$5,0,Sheet2!$S13),0) -> 96.2 | K13: =F13+Sheet1!$C$1*Sheet2!G13+IF(Sheet1!$B$2,OFFSET(Sheet1!$A$6,0,Sheet2!$S13),0) -> 168.35 | M13: =Sheet2!I13*15+100+IF(Sheet1!$B$2,OFFSET(Sheet1!$A$7,0,Sheet2!$S13),0) -> 1396 | N13: =(1.2 + K13*0.01) * (1 +IF(Sheet1!$B$2,OFFSET(Sheet1!$A$8,0,Sheet2!$S13),0)) -> 2.8835 | O13: =$M$41/M13 -> 1.3343387 | P13: =B13+D13+F13 -> 55 | Q13: =C13+E13+G13 -> 5.55 | S13: 4 | T13: =1+IF(Sheet1!$B$2,OFFSET(Sheet1!$A$9,0,Sheet2!$S13),0) -> 1.3
... A39: Crimson Squall | B39: 20 | C39: 1.95 | D39: 20 | E39: 1.95 | F39: 20 | G39: 1.95 | I39: =Sheet2!B39+Sheet1!$C$1*Sheet2!C39+IF(Sheet1!$B$2,OFFSET(Sheet1!$A$4,0,Sheet2!$S39),0) -> 81.55 | J39: =D39+Sheet1!$C$1*Sheet2!E39+IF(Sheet1!$B$2,OFFSET(Sheet1!$A$5,0,Sheet2!$S39),0) -> 196.55 | K39: =F39+Sheet1!$C$1*Sheet2!G39+IF(Sheet1!$B$2,OFFSET(Sheet1!$A$6,0,Sheet2!$S39),0) -> 101.55 | M39: =Sheet2!I39*15+100+IF(Sheet1!$B$2,OFFSET(Sheet1!$A$7,0,Sheet2!$S39),0) -> 1323.25 | N39: =(1.2 + K39*0.01) * (1 +IF(Sheet1!$B$2,OFFSET(Sheet1!$A$8,0,Sheet2!$S39),0)) -> 2.2155 | O39: =$M$41/M39 -> 1.4076984 | P39: =B39+D39+F39 -> 60 | Q39: =C39+E39+G39 -> 5.85 | S39: 3 | T39: =1+IF(Sheet1!$B$2,OFFSET(Sheet1!$A$9,0,Sheet2!$S39),0) -> 1
L41: Average | M41: =AVERAGE(M2:M39) -> 1862.7368 | N41: =AVERAGE(N2:N39) -> 3.0423158 | O41: =AVERAGE(O2:O39) -> 1.1230917 | P41: =AVERAGE(P2:P39) -> 52.763158 | Q41: =AVERAGE(Q2:Q39) -> 5.2592105

Sheet Sheet3
A1: Heal | B1: 0 | C1: =MIN(B1+1,FLOOR((Sheet1!$B$1-1)/5,1)) -> 1 | D1: =MIN(C1+1,FLOOR((Sheet1!$B$1-1)/5,1)) -> 2 | E1: =MIN(D1+1,FLOOR((Sheet1!$B$1-1)/5,1)) -> 3 | F1: =MIN(E1+1,FLOOR((Sheet1!$B$1-1)/5,1)) -> 4 | G1: =MIN(F1+1,FLOOR((Sheet1!$B$1-1)/5,1)) -> 5 | H1: =MIN(G1+1,FLOOR((Sheet1!$B$1-1)/5,1)) -> 5 | J1: Hero | K1: Mana | L1: Mana+ | M1: Cooldown | N1: Cd+ | O1: Base | P1: Base+ | Q1: Mod | R1: Mod+ | S1: Mod2 | T1: Mod2 +
A2: Flame of the Devout | C2: =($O2+B1*$P2+Sheet2!$K3*(Sheet3!$Q2+Sheet3!B1*Sheet3!$R2))*30*(0.25 + 0.75/2) -> 233.8125 | D2: =($O2+C1*$P2+Sheet2!$K3*(Sheet3!$Q2+Sheet3!C1*Sheet3!$R2))*30*(0.25 + 0.75/2) -> 355.575 | E2: =($O2+D1*$P2+Sheet2!$K3*(Sheet3!$Q2+Sheet3!D1*Sheet3!$R2))*30*(0.25 + 0.75/2) -> 477.3375 | F2: =($O2+E1*$P2+Sheet2!$K3*(Sheet3!$Q2+Sheet3!E1*Sheet3!$R2))*30*(0.25 + 0.75/2) -> 599.1 | G2: =($O2+F1*$P2+Sheet2!$K3*(Sheet3!$Q2+Sheet3!F1*Sheet3!$R2))*30*(0.25 + 0.75/2) -> 720.8625 | H2: =($O2+G1*$P2+Sheet2!$K3*(Sheet3!$Q2+Sheet3!G1*Sheet3!$R2))*30*(0.25 + 0.75/2) -> 842.625 | K2: 60 | L2: 17 | M2: 45 | N2: 0 | O2: 5 | P2: 5 | Q2: 0.05 | R2: 0.01
A3: (Heroes) | C3: =($O3+B$1*$P3+Sheet2!$K$3*(Sheet3!$Q3+Sheet3!B$1*Sheet3!$R3))*30*(0.25 + 0.75/2)*2 -> 467.625 | D3: =($O3+C$1*$P3+Sheet2!$K$3*(Sheet3!$Q3+Sheet3!C$1*Sheet3!$R3))*30*(0.25 + 0.75/2)*2 -> 711.15 | E3: =($O3+D$1*$P3+Sheet2!$K$3*(Sheet3!$Q3+Sheet3!D$1*Sheet3!$R3))*30*(0.25 + 0.75/2)*2 -> 954.675 | F3: =($O3+E$1*$P3+Sheet2!$K$3*(Sheet3!$Q3+Sheet3!E$1*Sheet3!$R3))*30*(0.25 + 0.75/2)*2 -> 1198.2 | G3: =($O3+F$1*$P3+Sheet2!$K$3*(Sheet3!$Q3+Sheet3!F$1*Sheet3!$R3))*30*(0.25 + 0.75/2)*2 -> 1441.725 | H3: =($O3+G$1*$P3+Sheet2!$K$3*(Sheet3!$Q3+Sheet3!G$1*Sheet3!$R3))*30*(0.25 + 0.75/2)*2 -> 1685.25 | K3: 60 | L3: 17 | M3: 45 | N3: 0 | O3: 5 | P3: 5 | Q3: 0.05 | R3: 0.01
A4: Ethereal Healing | C4: =($O4+B$1*$P4+Sheet2!$K2*(Sheet3!$Q4+Sheet3!B$1*Sheet3!$R4))*1.67 -> 565.295 | D4: =($O4+C$1*$P4+Sheet2!$K2*(Sheet3!$Q4+Sheet3!C$1*Sheet3!$R4))*1.67 -> 836.62825 | E4: =($O4+D$1*$P4+Sheet2!$K2*(Sheet3!$Q4+Sheet3!D$1*Sheet3!$R4))*1.67 -> 1107.9615 | F4: =($O4+E$1*$P4+Sheet2!$K2*(Sheet3!$Q4+Sheet3!E$1*Sheet3!$R4))*1.67 -> 1379.2947 | G4: =($O4+F$1*$P4+Sheet2!$K2*(Sheet3!$Q4+Sheet3!F$1*Sheet3!$R4))*1.67 -> 1650.628 | H4: =($O4+G$1*$P4+Sheet2!$K2*(Sheet3!$Q4+Sheet3!G$1*Sheet3!$R4))*1.67 -> 1921.9612 | K4: 40 | L4: 16 | M4: 18 | N4: 0 | O4: 160 | P4: 100 | Q4: 1 | R4: 0.35
A5: Mend | C5: =$O5+B$1*$P5+Sheet2!K8*(Sheet3!$Q5+Sheet3!B$1*Sheet3!$R5) -> 300 | D5: =$O5+C$1*$P5+Sheet2!L8*(Sheet3!$Q5+Sheet3!C$1*Sheet3!$R5) -> 500 | E5: =$O5+D$1*$P5+Sheet2!M8*(Sheet3!$Q5+Sheet3!D$1*Sheet3!$R5) -> 700 | F5: =$O5+E$1*$P5+Sheet2!N8*(Sheet3!$Q5+Sheet3!E$1*Sheet3!$R5) -> 900 | G5: =$O5+F$1*$P5+Sheet2!O8*(Sheet3!$Q5+Sheet3!F$1*Sheet3!$R5) -> 1100 | H5: =$O5+G$1*$P5+Sheet2!P8*(Sheet3!$Q5+Sheet3!G$1*Sheet3!$R5) -> 1300 | K5: 20 | L5: 10 | M5: 90 | N5: -10 | O5: 300 | P5: 200
A6: Rapid Healing | C6: =$O6+B$1*$P6+Sheet2!$K4*(Sheet3!$Q6+Sheet3!B$1*Sheet3!$R6) -> 306.12 | D6: =$O6+C$1*$P6+Sheet2!$K4*(Sheet3!$Q6+Sheet3!C$1*Sheet3!$R6) -> 485.5325 | E6: =$O6+D$1*$P6+Sheet2!$K4*(Sheet3!$Q6+Sheet3!D$1*Sheet3!$R6) -> 664.945 | F6: =$O6+E$1*$P6+Sheet2!$K4*(Sheet3!$Q6+Sheet3!E$1*Sheet3!$R6) -> 844.3575 | G6: =$O6+F$1*$P6+Sheet2!$K4*(Sheet3!$Q6+Sheet3!F$1*Sheet3!$R6) -> 1023.77 | H6: =$O6+G$1*$P6+Sheet2!$K4*(Sheet3!$Q6+Sheet3!G$1*Sheet3!$R6) -> 1203.1825 | K6: 55 | L6: 9 | M6: 14 | N6: 0 | O6: 180 | P6: 140 | Q6: 0.8 | R6: 0.25
A7: Mass Regen | C7: =$O7+B$1*$P7+Sheet2!$K6*(Sheet3!$Q7+Sheet3!B$1*Sheet3!$R7) -> 254.75 | D7: =$O7+C$1*$P7+Sheet2!$K6*(Sheet3!$Q7+Sheet3!C$1*Sheet3!$R7) -> 416.65 | E7: =$O7+D$1*$P7+Sheet2!$K6*(Sheet3!$Q7+Sheet3!D$1*Sheet3!$R7) -> 578.55 | F7: =$O7+E$1*$P7+Sheet2!$K6*(Sheet3!$Q7+Sheet3!E$1*Sheet3!$R7) -> 740.45 | G7: =$O7+F$1*$P7+Sheet2!$K6*(Sheet3!$Q7+Sheet3!F$1*Sheet3!$R7) -> 902.35 | H7: =$O7+G$1*$P7+Sheet2!$K6*(Sheet3!$Q7+Sheet3!G$1*Sheet3!$R7) -> 1064.25 | K7: 60 | L7: 20 | M7: 15 | N7: 0 | O7: 100 | P7: 100 | Q7: 1 | R7: 0.4
A8: Cure Wounds | C8: =$O8+B$1*$P8+Sheet2!$K5*(Sheet3!$Q8+Sheet3!B$1*Sheet3!$R8) -> 316.8 | D8: =$O8+C$1*$P8+Sheet2!$K5*(Sheet3!$Q8+Sheet3!C$1*Sheet3!$R8) -> 508.52 | E8: =$O8+D$1*$P8+Sheet2!$K5*(Sheet3!$Q8+Sheet3!D$1*Sheet3!$R8) -> 700.24 | F8: =$O8+E$1*$P8+Sheet2!$K5*(Sheet3!$Q8+Sheet3!E$1*Sheet3!$R8) -> 891.96 | G8: =$O8+F$1*$P8+Sheet2!$K5*(Sheet3!$Q8+Sheet3!F$1*Sheet3!$R8) -> 1083.68 | H8: =$O8+G$1*$P8+Sheet2!$K5*(Sheet3!$Q8+Sheet3!G$1*Sheet3!$R8) -> 1275.4 | K8: 40 | L8: 35 | M8: 12 | N8: 0 | O8: 150 | P8: 125 | Q8: 1 | R8: 0.4
A9: Life Wave | C9: =$O9+B$1*$P9+Sheet2!$K7*(Sheet3!$Q9+Sheet3!B$1*Sheet3!$R9) -> 261.65 | D9: =$O9+C$1*$P9+Sheet2!$K7*(Sheet3!$Q9+Sheet3!C$1*Sheet3!$R9) -> 483.3 | E9: =$O9+D$1*$P9+Sheet2!$K7*(Sheet3!$Q9+Sheet3!D$1*Sheet3!$R9) -> 704.95 | F9: =$O9+E$1*$P9+Sheet2!$K7*(Sheet3!$Q9+Sheet3!E$1*Sheet3!$R9) -> 926.6 | G9: =$O9+F$1*$P9+Sheet2!$K7*(Sheet3!$Q9+Sheet3!F$1*Sheet3!$R9) -> 1148.25 | H9: =$O9+G$1*$P9+Sheet2!$K7*(Sheet3!$Q9+Sheet3!G$1*Sheet3!$R9) -> 1369.9 | K9: 50 | L9: 20 | M9: 15 | N9: 0 | O9: 120 | P9: 80 | Q9: 1 | R9: 1
A15: AoE Damage
A16: Gale | C16: =($O16+B$1*$P16+Sheet2!$K$5*(Sheet3!$Q16+Sheet3!B$1*Sheet3!$R16))*Sheet2!$T5 -> 303.524 | D16: =($O16+C$1*$P16+Sheet2!$K$5*(Sheet3!$Q16+Sheet3!C$1*Sheet3!$R16))*Sheet2!$T5 -> 388.076 | E16: =($O16+D$1*$P16+Sheet2!$K$5*(Sheet3!$Q16+Sheet3!D$1*Sheet3!$R16))*Sheet2!$T5 -> 472.628 | F16: =($O16+E$1*$P16+Sheet2!$K$5*(Sheet3!$Q16+Sheet3!E$1*Sheet3!$R16))*Sheet2!$T5 -> 557.18 | G16: =($O16+F$1*$P16+Sheet2!$K$5*(Sheet3!$Q16+Sheet3!F$1*Sheet3!$R16))*Sheet2!$T5 -> 641.732 | H16: =($O16+G$1*$P16+Sheet2!$K$5*(Sheet3!$Q16+Sheet3!G$1*Sheet3!$R16))*Sheet2!$T5 -> 726.284 | J16: =Sheet2!A5 -> Arboreal Crusader | K16: 55 | L16: 22 | M16: 11 | N16: 0 | O16: 50 | P16: 15 | Q16: 1.1 | R16: 0.3
A17: Incinerate | C17: =($O17+B$1*$P17+Sheet2!$K$8*(Sheet3!$Q17+Sheet3!B$1*Sheet3!$R17))*Sheet2!$T8 -> 131.56 | D17: =($O17+C$1*$P17+Sheet2!$K$8*(Sheet3!$Q17+Sheet3!C$1*Sheet3!$R17))*Sheet2!$T8 -> 166.9096 | E17: =($O17+D$1*$P17+Sheet2!$K$8*(Sheet3!$Q17+Sheet3!D$1*Sheet3!$R17))*Sheet2!$T8 -> 202.2592 | F17: =($O17+E$1*$P17+Sheet2!$K$8*(Sheet3!$Q17+Sheet3!E$1*Sheet3!$R17))*Sheet2!$T8 -> 237.6088 | G17: =($O17+F$1*$P17+Sheet2!$K$8*(Sheet3!$Q17+Sheet3!F$1*Sheet3!$R17))*Sheet2!$T8 -> 272.9584 | H17: =($O17+G$1*$P17+Sheet2!$K$8*(Sheet3!$Q17+Sheet3!G$1*Sheet3!$R17))*Sheet2!$T8 -> 308.308 | J17: =Sheet2!A8 -> Soul Binder | K17: 55 | L17: 14 | M17: 3 | N17: 0 | O17: 25 | P17: 15 | Q17: 0.5 | R17: 0.08
A18: Arctic Cataclysm | C18: =($O18+B$1*$P18+Sheet2!$I$9*(Sheet3!$Q18+Sheet3!B$1*Sheet3!$R18))*Sheet2!$T9 -> 218.56 | D18: =($O18+C$1*$P18+Sheet2!$I$9*(Sheet3!$Q18+Sheet3!C$1*Sheet3!$R18))*Sheet2!$T9 -> 264.74 | E18: =($O18+D$1*$P18+Sheet2!$I$9*(Sheet3!$Q18+Sheet3!D$1*Sheet3!$R18))*Sheet2!$T9 -> 310.92 | F18: =($O18+E$1*$P18+Sheet2!$I$9*(Sheet3!$Q18+Sheet3!E$1*Sheet3!$R18))*Sheet2!$T9 -> 357.1 | G18: =($O18+F$1*$P18+Sheet2!$I$9*(Sheet3!$Q18+Sheet3!F$1*Sheet3!$R18))*Sheet2!$T9 -> 403.28 | H18: =($O18+G$1*$P18+Sheet2!$I$9*(Sheet3!$Q18+Sheet3!G$1*Sheet3!$R18))*Sheet2!$T9 -> 449.46 | J18: =Sheet2!A9 -> Glacial Tyrant | K18: 70 | L18: 24 | M18: 16 | N18: 0 | O18: 35 | P18: 25 | Q18: 1.3 | R18: 0.15
A19: Caustic Breath | C19: =($O19+B$1*$P19+Sheet2!$I$10*(Sheet3!$Q19+Sheet3!B$1*Sheet3!$R19))*Sheet2!$T10 -> 281.64 | D19: =($O19+C$1*$P19+Sheet2!$I$10*(Sheet3!$Q19+Sheet3!C$1*Sheet3!$R19))*Sheet2!$T10 -> 338.12 | E19: =($O19+D$1*$P19+Sheet2!$I$10*(Sheet3!$Q19+Sheet3!D$1*Sheet3!$R19))*Sheet2!$T10 -> 394.6 | F19: =($O19+E$1*$P19+Sheet2!$I$10*(Sheet3!$Q19+Sheet3!E$1*Sheet3!$R19))*Sheet2!$T10 -> 451.08 | G19: =($O19+F$1*$P19+Sheet2!$I$10*(Sheet3!$Q19+Sheet3!F$1*Sheet3!$R19))*Sheet2!$T10 -> 507.56 | H19: =($O19+G$1*$P19+Sheet2!$I$10*(Sheet3!$Q19+Sheet3!G$1*Sheet3!$R19))*Sheet2!$T10 -> 564.04 | J19: =Sheet2!A10 -> Acid Reaver | K19: 40 | L19: 12 | M19: 8 | N19: 0 | O19: 70 | P19: 18 | Q19: 1.1 | R19: 0.2
A20: Holy Strike | C20: =($O20+B$1*$P20+Sheet2!$K$11*(Sheet3!$Q20+Sheet3!B$1*Sheet3!$R20))*Sheet2!$T11 -> 361.582 | D20: =($O20+C$1*$P20+Sheet2!$K$11*(Sheet3!$Q20+Sheet3!C$1*Sheet3!$R20))*Sheet2!$T11 -> 442.117 | E20: =($O20+D$1*$P20+Sheet2!$K$11*(Sheet3!$Q20+Sheet3!D$1*Sheet3!$R20))*Sheet2!$T11 -> 522.652 | F20: =($O20+E$1*$P20+Sheet2!$K$11*(Sheet3!$Q20+Sheet3!E$1*Sheet3!$R20))*Sheet2!$T11 -> 603.187 | G20: =($O20+F$1*$P20+Sheet2!$K$11*(Sheet3!$Q20+Sheet3!F$1*Sheet3!$R20))*Sheet2!$T11 -> 683.722 | H20: =($O20+G$1*$P20+Sheet2!$K$11*(Sheet3!$Q20+Sheet3!G$1*Sheet3!$R20))*Sheet2!$T11 -> 764.257 | J20: =Sheet2!A11 -> Divine Wizard | K20: 70 | L20: 32 | M20: 7.5 | N20: 0.75 | O20: 60 | P20: 20 | Q20: 1.3 | R20: 0.25
A21: Rockslide | C21: =($O21+B$1*$P21+Sheet2!$I$12*(Sheet3!$Q21+Sheet3!B$1*Sheet3!$R21)) -> 258.215 | D21: =($O21+C$1*$P21+Sheet2!$I$12*(Sheet3!$Q21+Sheet3!C$1*Sheet3!$R21)) -> 327.875 | E21: =($O21+D$1*$P21+Sheet2!$I$12*(Sheet3!$Q21+Sheet3!D$1*Sheet3!$R21)) -> 397.535 | F21: =($O21+E$1*$P21+Sheet2!$I$12*(Sheet3!$Q21+Sheet3!E$1*Sheet3!$R21)) -> 467.195 | G21: =($O21+F$1*$P21+Sheet2!$I$12*(Sheet3!$Q21+Sheet3!F$1*Sheet3!$R21)) -> 536.855 | H21: =($O21+G$1*$P21+Sheet2!$I$12*(Sheet3!$Q21+Sheet3!G$1*Sheet3!$R21)) -> 606.515 | J21: =Sheet2!A12 -> Colossus | K21: 65 | L21: 24 | M21: 18 | N21: 0 | O21: 50 | P21: 30 | Q21: 1.05 | R21: 0.2
A22: Rogue Wave | C22: =($O22+B$1*$P22+Sheet2!$K$13*(Sheet3!$Q22+Sheet3!B$1*Sheet3!$R22))*Sheet2!$T13 -> 325.56875 | D22: =($O22+C$1*$P22+Sheet2!$K$13*(Sheet3!$Q22+Sheet3!C$1*Sheet3!$R22))*Sheet2!$T13 -> 367.497 | E22: =($O22+D$1*$P22+Sheet2!$K$13*(Sheet3!$Q22+Sheet3!D$1*Sheet3!$R22))*Sheet2!$T13 -> 409.42525 | F22: =($O22+E$1*$P22+Sheet2!$K$13*(Sheet3!$Q22+Sheet3!E$1*Sheet3!$R22))*Sheet2!$T13 -> 451.3535 | G22: =($O22+F$1*$P22+Sheet2!$K$13*(Sheet3!$Q22+Sheet3!F$1*Sheet3!$R22))*Sheet2!$T13 -> 493.28175 | H22: =($O22+G$1*$P22+Sheet2!$K$13*(Sheet3!$Q22+Sheet3!G$1*Sheet3!$R22))*Sheet2!$T13 -> 535.21 | J22: =Sheet2!A13 -> Crest Witch | K22: 70 | L22: 9 | M22: 15 | N22: 0 | O22: 40 | P22: 7 | Q22: 1.25 | R22: 0.15
A23: Frost Spire | C23: =($O23+B$1*$P23+Sheet2!$K$14*(Sheet3!$Q23+Sheet3!B$1*Sheet3!$R23))*14*Sheet2!$T14 -> 520.5928 | D23: =($O23+C$1*$P23+Sheet2!$K$14*(Sheet3!$Q23+Sheet3!C$1*Sheet3!$R23))*14*Sheet2!$T14 -> 637.6916 | E23: =($O23+D$1*$P23+Sheet2!$K$14*(Sheet3!$Q23+Sheet3!D$1*Sheet3!$R23))*14*Sheet2!$T14 -> 754.7904 | F23: =($O23+E$1*$P23+Sheet2!$K$14*(Sheet3!$Q23+Sheet3!E$1*Sheet3!$R23))*14*Sheet2!$T14 -> 871.8892 | G23: =($O23+F$1*$P23+Sheet2!$K$14*(Sheet3!$Q23+Sheet3!F$1*Sheet3!$R23))*14*Sheet2!$T14 -> 988.988 | H23: =($O23+G$1*$P23+Sheet2!$K$14*(Sheet3!$Q23+Sheet3!G$1*Sheet3!$R23))*14*Sheet2!$T14 -> 1106.0868 | J23: =Sheet2!A14 -> Icespinner | K23: 70 | L23: 16 | M23: 21 | N23: 0 | O23: 8 | P23: 3 | Q23: 0.12 | R23: 0.02
A24: Terra Smash | C24: =($O24+B$1*$P24+Sheet2!$I$15*(Sheet3!$Q24+Sheet3!B$1*Sheet3!$R24)) -> 246.4 | D24: =($O24+C$1*$P24+Sheet2!$I$15*(Sheet3!$Q24+Sheet3!C$1*Sheet3!$R24)) -> 330 | E24: =($O24+D$1*$P24+Sheet2!$I$15*(Sheet3!$Q24+Sheet3!D$1*Sheet3!$R24)) -> 413.6 | F24: =($O24+E$1*$P24+Sheet2!$I$15*(Sheet3!$Q24+Sheet3!E$1*Sheet3!$R24)) -> 497.2 | G24: =($O24+F$1*$P24+Sheet2!$I$15*(Sheet3!$Q24+Sheet3!F$1*Sheet3!$R24)) -> 580.8 | H24: =($O24+G$1*$P24+Sheet2!$I$15*(Sheet3!$Q24+Sheet3!G$1*Sheet3!$R24)) -> 664.4 | J24: =Sheet2!A15 -> Ascendant | K24: 35 | L24: 8 | M24: 8 | N24: 0 | O24: 40 | P24: 32 | Q24: 1.2 | R24: 0.3
A25: Pestilence | C25: =($O25+B$1*$P25+Sheet2!$K$16*(Sheet3!$Q25+Sheet3!B$1*Sheet3!$R25)) -> 248.2 | D25: =($O25+C$1*$P25+Sheet2!$K$16*(Sheet3!$Q25+Sheet3!C$1*Sheet3!$R25)) -> 313.7 | E25: =($O25+D$1*$P25+Sheet2!$K$16*(Sheet3!$Q25+Sheet3!D$1*Sheet3!$R25)) -> 379.2 | F25: =($O25+E$1*$P25+Sheet2!$K$16*(Sheet3!$Q25+Sheet3!E$1*Sheet3!$R25)) -> 444.7 | G25: =($O25+F$1*$P25+Sheet2!$K$16*(Sheet3!$Q25+Sheet3!F$1*Sheet3!$R25)) -> 510.2 | H25: =($O25+G$1*$P25+Sheet2!$K$16*(Sheet3!$Q25+Sheet3!G$1*Sheet3!$R25)) -> 575.7 | J25: =Sheet2!A16 -> Defiler | K25: 60 | L25: 21 | M25: 9 | N25: 0 | O25: 70 | P25: 25 | Q25: 1.1 | R25: 0.25
A26: Pyroclasm | C26: =($O26+B$1*$P26+Sheet2!$I$17*(Sheet3!$Q26+Sheet3!B$1*Sheet3!$R26))*Sheet2!$T17 -> 236.055 | D26: =($O26+C$1*$P26+Sheet2!$I$17*(Sheet3!$Q26+Sheet3!C$1*Sheet3!$R26))*Sheet2!$T17 -> 313.403 | E26: =($O26+D$1*$P26+Sheet2!$I$17*(Sheet3!$Q26+Sheet3!D$1*Sheet3!$R26))*Sheet2!$T17 -> 390.751 | F26: =($O26+E$1*$P26+Sheet2!$I$17*(Sheet3!$Q26+Sheet3!E$1*Sheet3!$R26))*Sheet2!$T17 -> 468.099 | G26: =($O26+F$1*$P26+Sheet2!$I$17*(Sheet3!$Q26+Sheet3!F$1*Sheet3!$R26))*Sheet2!$T17 -> 545.447 | H26: =($O26+G$1*$P26+Sheet2!$I$17*(Sheet3!$Q26+Sheet3!G$1*Sheet3!$R26))*Sheet2!$T17 -> 622.795 | J26: =Sheet2!A17 -> Emberwraith | K26: 60 | L26: 22 | M26: 26 | N26: 0 | O26: 66 | P26: 32 | Q26: 0.9 | R26: 0.24
A27: Whirl | C27: =($O27+B$1*$P27+Sheet2!$J$18*(Sheet3!$Q27+Sheet3!B$1*Sheet3!$R27)) -> 195.475 | D27: =($O27+C$1*$P27+Sheet2!$J$18*(Sheet3!$Q27+Sheet3!C$1*Sheet3!$R27)) -> 231.078 | E27: =($O27+D$1*$P27+Sheet2!$J$18*(Sheet3!$Q27+Sheet3!D$1*Sheet3!$R27)) -> 266.681 | F27: =($O27+E$1*$P27+Sheet2!$J$18*(Sheet3!$Q27+Sheet3!E$1*Sheet3!$R27)) -> 302.284 | G27: =($O27+F$1*$P27+Sheet2!$J$18*(Sheet3!$Q27+Sheet3!F$1*Sheet3!$R27)) -> 337.887 | H27: =($O27+G$1*$P27+Sheet2!$J$18*(Sheet3!$Q27+Sheet3!G$1*Sheet3!$R27)) -> 373.49 | J27: =Sheet2!A18 -> Forlorn Martyr | K27: 50 | L27: 12 | M27: 8 | N27: 0 | O27: 55 | P27: 15 | Q27: 0.75 | R27: 0.11
A28: Shadowclap | C28: =($O28+B$1*$P28+Sheet2!$I$19*(Sheet3!$Q28+Sheet3!B$1*Sheet3!$R28))*Sheet2!$T19 -> 181.96 | D28: =($O28+C$1*$P28+Sheet2!$I$19*(Sheet3!$Q28+Sheet3!C$1*Sheet3!$R28))*Sheet2!$T19 -> 229.515 | E28: =($O28+D$1*$P28+Sheet2!$I$19*(Sheet3!$Q28+Sheet3!D$1*Sheet3!$R28))*Sheet2!$T19 -> 277.07 | F28: =($O28+E$1*$P28+Sheet2!$I$19*(Sheet3!$Q28+Sheet3!E$1*Sheet3!$R28))*Sheet2!$T19 -> 324.625 | G28: =($O28+F$1*$P28+Sheet2!$I$19*(Sheet3!$Q28+Sheet3!F$1*Sheet3!$R28))*Sheet2!$T19 -> 372.18 | H28: =($O28+G$1*$P28+Sheet2!$I$19*(Sheet3!$Q28+Sheet3!G$1*Sheet3!$R28))*Sheet2!$T19 -> 419.735 | J28: =Sheet2!A19 -> Blackguard | K28: 40 | L28: 12 | M28: 8 | N28: 0 | O28: 35 | P28: 20 | Q28: 0.8 | R28: 0.15
A29: Inferno | C29: =($O29+B$1*$P29+Sheet2!$K$20*(Sheet3!$Q29+Sheet3!B$1*Sheet3!$R29))*Sheet2!$T20 -> 173.7 | D29: =($O29+C$1*$P29+Sheet2!$K$20*(Sheet3!$Q29+Sheet3!C$1*Sheet3!$R29))*Sheet2!$T20 -> 224.625 | E29: =($O29+D$1*$P29+Sheet2!$K$20*(Sheet3!$Q29+Sheet3!D$1*Sheet3!$R29))*Sheet2!$T20 -> 275.55 | F29: =($O29+E$1*$P29+Sheet2!$K$20*(Sheet3!$Q29+Sheet3!E$1*Sheet3!$R29))*Sheet2!$T20 -> 326.475 | G29: =($O29+F$1*$P29+Sheet2!$K$20*(Sheet3!$Q29+Sheet3!F$1*Sheet3!$R29))*Sheet2!$T20 -> 377.4 | H29: =($O29+G$1*$P29+Sheet2!$K$20*(Sheet3!$Q29+Sheet3!G$1*Sheet3!$R29))*Sheet2!$T20 -> 428.325 | J29: =Sheet2!A20 -> Fire Knight | K29: 50 | L29: 3 | M29: 15 | N29: 0 | O29: 50 | P29: 20 | Q29: 1 | R29: 0.25
A30: Pheonix Strike | C30: =($O30+B$1*$P30+Sheet2!$I$20*(Sheet3!$Q30+Sheet3!B$1*Sheet3!$R30))*Sheet2!$T20 -> 191.15 | D30: =($O30+C$1*$P30+Sheet2!$I$20*(Sheet3!$Q30+Sheet3!C$1*Sheet3!$R30))*Sheet2!$T20 -> 257.495 | E30: =($O30+D$1*$P30+Sheet2!$I$20*(Sheet3!$Q30+Sheet3!D$1*Sheet3!$R30))*Sheet2!$T20 -> 323.84 | F30: =($O30+E$1*$P30+Sheet2!$I$20*(Sheet3!$Q30+Sheet3!E$1*Sheet3!$R30))*Sheet2!$T20 -> 390.185 | G30: =($O30+F$1*$P30+Sheet2!$I$20*(Sheet3!$Q30+Sheet3!F$1*Sheet3!$R30))*Sheet2!$T20 -> 456.53 | H30: =($O30+G$1*$P30+Sheet2!$I$20*(Sheet3!$Q30+Sheet3!G$1*Sheet3!$R30))*Sheet2!$T20 -> 522.875 | J30: =Sheet2!A20 -> Fire Knight | K30: 40 | L30: 8 | M30: 8 | N30: 0 | O30: 70 | P30: 30 | Q30: 1 | R30: 0.3
A31: Lightning Tether | C31: =($O31+B$1*$P31+Sheet2!$K$30*(Sheet3!$Q31+Sheet3!B$1*Sheet3!$R31))*($S31+B$1*$T31+Sheet2!$I$30*(Sheet3!$U31+Sheet3!B$1*Sheet3!$V31))*Sheet2!$T30 -> 498.8224 | D31: =($O31+C$1*$P31+Sheet2!$K$30*(Sheet3!$Q31+Sheet3!C$1*Sheet3!$R31))*($S31+C$1*$T31+Sheet2!$I$30*(Sheet3!$U31+Sheet3!C$1*Sheet3!$V31))*Sheet2!$T30 -> 616.94602 | E31: =($O31+D$1*$P31+Sheet2!$K$30*(Sheet3!$Q31+Sheet3!D$1*Sheet3!$R31))*($S31+D$1*$T31+Sheet2!$I$30*(Sheet3!$U31+Sheet3!D$1*Sheet3!$V31))*Sheet2!$T30 -> 744.33083 | F31: =($O31+E$1*$P31+Sheet2!$K$30*(Sheet3!$Q31+Sheet3!E$1*Sheet3!$R31))*($S31+E$1*$T31+Sheet2!$I$30*(Sheet3!$U31+Sheet3!E$1*Sheet3!$V31))*Sheet2!$T30 -> 880.97684 | G31: =($O31+F$1*$P31+Sheet2!$K$30*(Sheet3!$Q31+Sheet3!F$1*Sheet3!$R31))*($S31+F$1*$T31+Sheet2!$I$30*(Sheet3!$U31+Sheet3!F$1*Sheet3!$V31))*Sheet2!$T30 -> 1026.8841 | H31: =($O31+G$1*$P31+Sheet2!$K$30*(Sheet3!$Q31+Sheet3!G$1*Sheet3!$R31))*($S31+G$1*$T31+Sheet2!$I$30*(Sheet3!$U31+Sheet3!G$1*Sheet3!$V31))*Sheet2!$T30 -> 1182.0525 | J31: =Sheet2!A30 -> Stormweaver | K31: 60 | L31: 13 | M31: 15 | N31: 0 | O31: 20 | P31: 2 | Q31: 0.3 | R31: 0.01 | S31: 4 | T31: 1 | U31: 0.02 | V31: 0
A32: Snowblast | C32: =($O32+B$1*$P32+Sheet2!$K$30*(Sheet3!$Q32+Sheet3!B$1*Sheet3!$R32))*(0.5 + 0.5 * FLOOR($S32+B$1*$T32+Sheet2!$I$30*(Sheet3!$U32+Sheet3!B$1*Sheet3!$V32),1))*Sheet2!$T30 -> 420.784 | D32: =($O32+C$1*$P32+Sheet2!$K$30*(Sheet3!$Q32+Sheet3!C$1*Sheet3!$R32))*(0.5 + 0.5 * FLOOR($S32+C$1*$T32+Sheet2!$I$30*(Sheet3!$U32+Sheet3!C$1*Sheet3!$V32),1))*Sheet2!$T30 -> 501.8195 | E32: =($O32+D$1*$P32+Sheet2!$K$30*(Sheet3!$Q32+Sheet3!D$1*Sheet3!$R32))*(0.5 + 0.5 * FLOOR($S32+D$1*$T32+Sheet2!$I$30*(Sheet3!$U32+Sheet3!D$1*Sheet3!$V32),1))*Sheet2!$T30 -> 582.855 | F32: =($O32+E$1*$P32+Sheet2!$K$30*(Sheet3!$Q32+Sheet3!E$1*Sheet3!$R32))*(0.5 + 0.5 * FLOOR($S32+E$1*$T32+Sheet2!$I$30*(Sheet3!$U32+Sheet3!E$1*Sheet3!$V32),1))*Sheet2!$T30 -> 663.8905 | G32: =($O32+F$1*$P32+Sheet2!$K$30*(Sheet3!$Q32+Sheet3!F$1*Sheet3!$R32))*(0.5 + 0.5 * FLOOR($S32+F$1*$T32+Sheet2!$I$30*(Sheet3!$U32+Sheet3!F$1*Sheet3!$V32),1))*Sheet2!$T30 -> 744.926 | H32: =($O32+G$1*$P32+Sheet2!$K$30*(Sheet3!$Q32+Sheet3!G$1*Sheet3!$R32))*(0.5 + 0.5 * FLOOR($S32+G$1*$T32+Sheet2!$I$30*(Sheet3!$U32+Sheet3!G$1*Sheet3!$V32),1))*Sheet2!$T30 -> 825.9615 | J32: =Sheet2!A30 -> Stormweaver | K32: 65 | L32: 9 | M32: 15 | N32: 0 | O32: 30 | P32: 10 | Q32: 0.4 | R32: 0.05 | S32: 5 | T32: 0 | U32: 0.02 | V32: 0
A33: Tempest | C33: =($O33+B$1*$P33+Sheet2!$K$22*(Sheet3!$Q33+Sheet3!B$1*Sheet3!$R33))*10*Sheet2!$T22 -> 321.945 | D33: =($O33+C$1*$P33+Sheet2!$K$22*(Sheet3!$Q33+Sheet3!C$1*Sheet3!$R33))*10*Sheet2!$T22 -> 442.923 | E33: =($O33+D$1*$P33+Sheet2!$K$22*(Sheet3!$Q33+Sheet3!D$1*Sheet3!$R33))*10*Sheet2!$T22 -> 563.901 | F33: =($O33+E$1*$P33+Sheet2!$K$22*(Sheet3!$Q33+Sheet3!E$1*Sheet3!$R33))*10*Sheet2!$T22 -> 684.879 | G33: =($O33+F$1*$P33+Sheet2!$K$22*(Sheet3!$Q33+Sheet3!F$1*Sheet3!$R33))*10*Sheet2!$T22 -> 805.857 | H33: =($O33+G$1*$P33+Sheet2!$K$22*(Sheet3!$Q33+Sheet3!G$1*Sheet3!$R33))*10*Sheet2!$T22 -> 926.835 | J33: =Sheet2!A22 -> Aeromancess | K33: 70 | L33: 27 | M33: 16 | N33: 0 | O33: 9 | P33: 3 | Q33: 0.1 | R33: 0.04
A34: Siphon Glyph | C34: =($O34+B$1*$P34)*(Sheet3!$Q34+Sheet2!$K$31*Sheet3!$R34)*Sheet2!$T31 -> 162.816 | D34: =($O34+C$1*$P34)*(Sheet3!$Q34+Sheet2!$K$31*Sheet3!$R34)*Sheet2!$T31 -> 271.36 | E34: =($O34+D$1*$P34)*(Sheet3!$Q34+Sheet2!$K$31*Sheet3!$R34)*Sheet2!$T31 -> 379.904 | F34: =($O34+E$1*$P34)*(Sheet3!$Q34+Sheet2!$K$31*Sheet3!$R34)*Sheet2!$T31 -> 488.448 | G34: =($O34+F$1*$P34)*(Sheet3!$Q34+Sheet2!$K$31*Sheet3!$R34)*Sheet2!$T31 -> 596.992 | H34: =($O34+G$1*$P34)*(Sheet3!$Q34+Sheet2!$K$31*Sheet3!$R34)*Sheet2!$T31 -> 705.536 | J34: =Sheet2!A31 -> Rune Knight | K34: 50 | L34: 14 | M34: 12 | N34: 0 | O34: 24 | P34: 16 | Q34: 4 | R34: 0.02
A35: Hazard Slash | C35: =($O35+B$1*$P35+Sheet2!$I$31*(Sheet3!$Q35+Sheet3!B$1*Sheet3!$R35))*Sheet2!$T31 -> 188.05 | D35: =($O35+C$1*$P35+Sheet2!$I$31*(Sheet3!$Q35+Sheet3!C$1*Sheet3!$R35))*Sheet2!$T31 -> 245.0625 | E35: =($O35+D$1*$P35+Sheet2!$I$31*(Sheet3!$Q35+Sheet3!D$1*Sheet3!$R35))*Sheet2!$T31 -> 302.075 | F35: =($O35+E$1*$P35+Sheet2!$I$31*(Sheet3!$Q35+Sheet3!E$1*Sheet3!$R35))*Sheet2!$T31 -> 359.0875 | G35: =($O35+F$1*$P35+Sheet2!$I$31*(Sheet3!$Q35+Sheet3!F$1*Sheet3!$R35))*Sheet2!$T31 -> 416.1 | H35: =($O35+G$1*$P35+Sheet2!$I$31*(Sheet3!$Q35+Sheet3!G$1*Sheet3!$R35))*Sheet2!$T31 -> 473.1125 | J35: =Sheet2!A31 -> Rune Knight | K35: 45 | L35: 9 | M35: 35 | N35: 0 | O35: 60 | P35: 25 | Q35: 1 | R35: 0.25
A36: Explosives | C36: =($O36+B$1*$P36+Sheet2!$K$32*(Sheet3!$Q36+Sheet3!B$1*Sheet3!$R36)) -> 169.85 | D36: =($O36+C$1*$P36+Sheet2!$K$32*(Sheet3!$Q36+Sheet3!C$1*Sheet3!$R36)) -> 227.82 | E36: =($O36+D$1*$P36+Sheet2!$K$32*(Sheet3!$Q36+Sheet3!D$1*Sheet3!$R36)) -> 285.79 | F36: =($O36+E$1*$P36+Sheet2!$K$32*(Sheet3!$Q36+Sheet3!E$1*Sheet3!$R36)) -> 343.76 | G36: =($O36+F$1*$P36+Sheet2!$K$32*(Sheet3!$Q36+Sheet3!F$1*Sheet3!$R36)) -> 401.73 | H36: =($O36+G$1*$P36+Sheet2!$K$32*(Sheet3!$Q36+Sheet3!G$1*Sheet3!$R36)) -> 459.7 | J36: =Sheet2!A32 -> Infiltrator | K36: 30 | L36: 15 | M36: 5.5 | N36: 0 | O36: 80 | P36: 40 | Q36: 1 | R36: 0.2
A37: Blast Arrow | C37: =($O37+B$1*$P37+Sheet2!$K$33*(Sheet3!$Q37+Sheet3!B$1*Sheet3!$R37)) -> 152.3 | D37: =($O37+C$1*$P37+Sheet2!$K$33*(Sheet3!$Q37+Sheet3!C$1*Sheet3!$R37)) -> 204.68 | E37: =($O37+D$1*$P37+Sheet2!$K$33*(Sheet3!$Q37+Sheet3!D$1*Sheet3!$R37)) -> 257.06 | F37: =($O37+E$1*$P37+Sheet2!$K$33*(Sheet3!$Q37+Sheet3!E$1*Sheet3!$R37)) -> 309.44 | G37: =($O37+F$1*$P37+Sheet2!$K$33*(Sheet3!$Q37+Sheet3!F$1*Sheet3!$R37)) -> 361.82 | H37: =($O37+G$1*$P37+Sheet2!$K$33*(Sheet3!$Q37+Sheet3!G$1*Sheet3!$R37)) -> 414.2 | J37: =Sheet2!A33 -> Tactician | K37: 75 | L37: 0 | M37: 30 | N37: 0 | O37: 90 | P37: 15 | Q37: 0.5 | R37: 0.3
A38: Neutralize | C38: =($O38+B$1*$P38+Sheet2!$I$33*(Sheet3!$Q38+Sheet3!B$1*Sheet3!$R38)) -> 139.1 | D38: =($O38+C$1*$P38+Sheet2!$I$33*(Sheet3!$Q38+Sheet3!C$1*Sheet3!$R38)) -> 176.05 | E38: =($O38+D$1*$P38+Sheet2!$I$33*(Sheet3!$Q38+Sheet3!D$1*Sheet3!$R38)) -> 213 | F38: =($O38+E$1*$P38+Sheet2!$I$33*(Sheet3!$Q38+Sheet3!E$1*Sheet3!$R38)) -> 249.95 | G38: =($O38+F$1*$P38+Sheet2!$I$33*(Sheet3!$Q38+Sheet3!F$1*Sheet3!$R38)) -> 286.9 | H38: =($O38+G$1*$P38+Sheet2!$I$33*(Sheet3!$Q38+Sheet3!G$1*Sheet3!$R38)) -> 323.85 | J38: =Sheet2!A33 -> Tactician | K38: 40 | L38: 17 | M38: 20 | N38: 0 | O38: 60 | P38: 20 | Q38: 0.7 | R38: 0.15
A39: Blade Rain | C39: =($O39+B$1*$P39+Sheet2!$J$35*(Sheet3!$Q39+Sheet3!B$1*Sheet3!$R39))*(1+($S39+B$1*$T39+Sheet2!$K$35*(Sheet3!$U39+Sheet3!B$1*Sheet3!$V39))/5)*Sheet2!$T35 -> 544.58754 | D39: =($O39+C$1*$P39+Sheet2!$J$35*(Sheet3!$Q39+Sheet3!C$1*Sheet3!$R39))*(1+($S39+C$1*$T39+Sheet2!$K$35*(Sheet3!$U39+Sheet3!C$1*Sheet3!$V39))/5)*Sheet2!$T35 -> 614.80934 | E39: =($O39+D$1*$P39+Sheet2!$J$35*(Sheet3!$Q39+Sheet3!D$1*Sheet3!$R39))*(1+($S39+D$1*$T39+Sheet2!$K$35*(Sheet3!$U39+Sheet3!D$1*Sheet3!$V39))/5)*Sheet2!$T35 -> 685.03113 | F39: =($O39+E$1*$P39+Sheet2!$J$35*(Sheet3!$Q39+Sheet3!E$1*Sheet3!$R39))*(1+($S39+E$1*$T39+Sheet2!$K$35*(Sheet3!$U39+Sheet3!E$1*Sheet3!$V39))/5)*Sheet2!$T35 -> 755.25293 | G39: =($O39+F$1*$P39+Sheet2!$J$35*(Sheet3!$Q39+Sheet3!F$1*Sheet3!$R39))*(1+($S39+F$1*$T39+Sheet2!$K$35*(Sheet3!$U39+Sheet3!F$1*Sheet3!$V39))/5)*Sheet2!$T35 -> 825.47472 | H39: =($O39+G$1*$P39+Sheet2!$J$35*(Sheet3!$Q39+Sheet3!G$1*Sheet3!$R39))*(1+($S39+G$1*$T39+Sheet2!$K$35*(Sheet3!$U39+Sheet3!G$1*Sheet3!$V39))/5)*Sheet2!$T35 -> 895.69652 | J39: =Sheet2!A35 -> Grim Hag | K39: 80 | L39: 8 | M39: 15 | N39: 0 | O39: 50 | P39: 12 | Q39: 0.6 | R39: 0.05 | S39: 6 | T39: 0 | U39: 0.05 | V39: 0
A40: Wilting | C40: =($O40+B$1*$P40+Sheet2!$K$36*(Sheet3!$Q40+Sheet3!B$1*Sheet3!$R40))*Sheet2!$T36 -> 314.6 | D40: =($O40+C$1*$P40+Sheet2!$K$36*(Sheet3!$Q40+Sheet3!C$1*Sheet3!$R40))*Sheet2!$T36 -> 443.17 | E40: =($O40+D$1*$P40+Sheet2!$K$36*(Sheet3!$Q40+Sheet3!D$1*Sheet3!$R40))*Sheet2!$T36 -> 571.74 | F40: =($O40+E$1*$P40+Sheet2!$K$36*(Sheet3!$Q40+Sheet3!E$1*Sheet3!$R40))*Sheet2!$T36 -> 700.31 | G40: =($O40+F$1*$P40+Sheet2!$K$36*(Sheet3!$Q40+Sheet3!F$1*Sheet3!$R40))*Sheet2!$T36 -> 828.88 | H40: =($O40+G$1*$P40+Sheet2!$K$36*(Sheet3!$Q40+Sheet3!G$1*Sheet3!$R40))*Sheet2!$T36 -> 957.45 | J40: =Sheet2!A36 -> Putrid Eidolon | K40: 60 | L40: 11 | M40: 19 | N40: 0 | O40: 80 | P40: 26 | Q40: 1 | R40: 0.45
A41: Slice | C41: =($O41+B$1*$P41+Sheet2!$I$21*(Sheet3!$Q41+Sheet3!B$1*Sheet3!$R41)) -> 193.56 | D41: =($O41+C$1*$P41+Sheet2!$I$21*(Sheet3!$Q41+Sheet3!C$1*Sheet3!$R41)) -> 242.95 | E41: =($O41+D$1*$P41+Sheet2!$I$21*(Sheet3!$Q41+Sheet3!D$1*Sheet3!$R41)) -> 292.34 | F41: =($O41+E$1*$P41+Sheet2!$I$21*(Sheet3!$Q41+Sheet3!E$1*Sheet3!$R41)) -> 341.73 | G41: =($O41+F$1*$P41+Sheet2!$I$21*(Sheet3!$Q41+Sheet3!F$1*Sheet3!$R41)) -> 391.12 | H41: =($O41+G$1*$P41+Sheet2!$I$21*(Sheet3!$Q41+Sheet3!G$1*Sheet3!$R41)) -> 440.51 | J41: =Sheet2!A21 -> Wretched Chef | K41: 55 | L41: 8 | M41: 8 | N41: 0 | O41: 40 | P41: 11 | Q41: 0.8 | R41: 0.2
A45: Single Target
A46: Hold Person | C46: =($O46+B$1*$P46+Sheet2!$K$22*(Sheet3!$Q46+Sheet3!B$1*Sheet3!$R46)) * ($S46+B$1*$T46) -> 289.18 | D46: =($O46+C$1*$P46+Sheet2!$K$22*(Sheet3!$Q46+Sheet3!C$1*Sheet3!$R46)) * ($S46+C$1*$T46) -> 390.2203 | E46: =($O46+D$1*$P46+Sheet2!$K$22*(Sheet3!$Q46+Sheet3!D$1*Sheet3!$R46)) * ($S46+D$1*$T46) -> 506.3032 | F46: =($O46+E$1*$P46+Sheet2!$K$22*(Sheet3!$Q46+Sheet3!E$1*Sheet3!$R46)) * ($S46+E$1*$T46) -> 637.4287 | G46: =($O46+F$1*$P46+Sheet2!$K$22*(Sheet3!$Q46+Sheet3!F$1*Sheet3!$R46)) * ($S46+F$1*$T46) -> 783.5968 | H46: =($O46+G$1*$P46+Sheet2!$K$22*(Sheet3!$Q46+Sheet3!G$1*Sheet3!$R46)) * ($S46+G$1*$T46) -> 944.8075 | J46: =Sheet2!A22 -> Aeromancess | K46: 75 | L46: 18 | M46: 18 | N46: 0 | O46: 50 | P46: 3 | Q46: 0.6 | R46: 0.14 | S46: 2 | T46: 0.3
A47: Chasten | C47: =($O47+B$1*$P47+Sheet2!$I$3*(Sheet3!$Q47+Sheet3!B$1*Sheet3!$R47))+($S47+B$1*$T47+Sheet2!$K$3*(Sheet3!$U47+Sheet3!B$1*Sheet3!$V47))*Sheet2!$T3 -> 289.981 | D47: =($O47+C$1*$P47+Sheet2!$I$3*(Sheet3!$Q47+Sheet3!C$1*Sheet3!$R47))+($S47+C$1*$T47+Sheet2!$K$3*(Sheet3!$U47+Sheet3!C$1*Sheet3!$V47))*Sheet2!$T3 -> 359.4755 | E47: =($O47+D$1*$P47+Sheet2!$I$3*(Sheet3!$Q47+Sheet3!D$1*Sheet3!$R47))+($S47+D$1*$T47+Sheet2!$K$3*(Sheet3!$U47+Sheet3!D$1*Sheet3!$V47))*Sheet2!$T3 -> 428.97 | F47: =($O47+E$1*$P47+Sheet2!$I$3*(Sheet3!$Q47+Sheet3!E$1*Sheet3!$R47))+($S47+E$1*$T47+Sheet2!$K$3*(Sheet3!$U47+Sheet3!E$1*Sheet3!$V47))*Sheet2!$T3 -> 498.4645 | G47: =($O47+F$1*$P47+Sheet2!$I$3*(Sheet3!$Q47+Sheet3!F$1*Sheet3!$R47))+($S47+F$1*$T47+Sheet2!$K$3*(Sheet3!$U47+Sheet3!F$1*Sheet3!$V47))*Sheet2!$T3 -> 567.959 | H47: =($O47+G$1*$P47+Sheet2!$I$3*(Sheet3!$Q47+Sheet3!G$1*Sheet3!$R47))+($S47+G$1*$T47+Sheet2!$K$3*(Sheet3!$U47+Sheet3!G$1*Sheet3!$V47))*Sheet2!$T3 -> 637.4535 | J47: =Sheet2!A3 -> Blazing Priest | K47: 50 | L47: 4 | M47: 8 | N47: 0 | O47: 15 | P47: 12 | Q47: 0.7 | R47: 0.15 | S47: 30 | T47: 16 | U47: 0.8 | V47: 0.1
A48: Demoralizing Blow | C48: =($O48+B$1*$P48+Sheet2!$K$23*(Sheet3!$Q48+Sheet3!B$1*Sheet3!$R48))*Sheet2!$T23 -> 144 | D48: =($O48+C$1*$P48+Sheet2!$K$23*(Sheet3!$Q48+Sheet3!C$1*Sheet3!$R48))*Sheet2!$T23 -> 203.75 | E48: =($O48+D$1*$P48+Sheet2!$K$23*(Sheet3!$Q48+Sheet3!D$1*Sheet3!$R48))*Sheet2!$T23 -> 263.5 | F48: =($O48+E$1*$P48+Sheet2!$K$23*(Sheet3!$Q48+Sheet3!E$1*Sheet3!$R48))*Sheet2!$T23 -> 323.25 | G48: =($O48+F$1*$P48+Sheet2!$K$23*(Sheet3!$Q48+Sheet3!F$1*Sheet3!$R48))*Sheet2!$T23 -> 383 | H48: =($O48+G$1*$P48+Sheet2!$K$23*(Sheet3!$Q48+Sheet3!G$1*Sheet3!$R48))*Sheet2!$T23 -> 442.75 | J48: =Sheet2!A23 -> Mystic Swashbuckler | K48: 50 | L48: 14 | M48: 12 | N48: 0 | O48: 45 | P48: 35 | Q48: 1.2 | R48: 0.3
...

Sheet Sheet4
B1: Int | C1: 1 | D1: 2 | E1: 3 | F1: 4 | G1: 5 | H1: 6
A2: 5 | B2: =Sheet2!$F$5+(A2-1)*Sheet2!$G$5+Sheet1!$B$6 -> 26.8 | C2: =Sheet3!$O$8+(Sheet4!C$1-1)*Sheet3!$P$8+$B2*(Sheet3!$Q$8+(Sheet4!C$1-1)*Sheet3!$R$8) -> 176.8 | D2: =Sheet3!$O$8+(Sheet4!D$1-1)*Sheet3!$P$8+$B2*(Sheet3!$Q$8+(Sheet4!D$1-1)*Sheet3!$R$8) -> 312.52 | E2: =Sheet3!$O$8+(Sheet4!E$1-1)*Sheet3!$P$8+$B2*(Sheet3!$Q$8+(Sheet4!E$1-1)*Sheet3!$R$8) -> 448.24 | F2: =Sheet3!$O$8+(Sheet4!F$1-1)*Sheet3!$P$8+$B2*(Sheet3!$Q$8+(Sheet4!F$1-1)*Sheet3!$R$8) -> 583.96 | G2: =Sheet3!$O$8+(Sheet4!G$1-1)*Sheet3!$P$8+$B2*(Sheet3!$Q$8+(Sheet4!G$1-1)*Sheet3!$R$8) -> 719.68 | H2: =Sheet3!$O$8+(Sheet4!H$1-1)*Sheet3!$P$8+$B2*(Sheet3!$Q$8+(Sheet4!H$1-1)*Sheet3!$R$8) -> 855.4
A3: 10 | B3: =Sheet2!$F$5+(A3-1)*Sheet2!$G$5+Sheet1!$B$6 -> 37.8 | C3: =Sheet3!$O$8+(Sheet4!C$1-1)*Sheet3!$P$8+$B3*(Sheet3!$Q$8+(Sheet4!C$1-1)*Sheet3!$R$8) -> 187.8 | D3: =Sheet3!$O$8+(Sheet4!D$1-1)*Sheet3!$P$8+$B3*(Sheet3!$Q$8+(Sheet4!D$1-1)*Sheet3!$R$8) -> 327.92 | E3: =Sheet3!$O$8+(Sheet4!E$1-1)*Sheet3!$P$8+$B3*(Sheet3!$Q$8+(Sheet4!E$1-1)*Sheet3!$R$8) -> 468.04 | F3: =Sheet3!$O$8+(Sheet4!F$1-1)*Sheet3!$P$8+$B3*(Sheet3!$Q$8+(Sheet4!F$1-1)*Sheet3!$R$8) -> 608.16 | G3: =Sheet3!$O$8+(Sheet4!G$1-1)*Sheet3!$P$8+$B3*(Sheet3!$Q$8+(Sheet4!G$1-1)*Sheet3!$R$8) -> 748.28 | H3: =Sheet3!$O$8+(Sheet4!H$1-1)*Sheet3!$P$8+$B3*(Sheet3!$Q$8+(Sheet4!H$1-1)*Sheet3!$R$8) -> 888.4
A4: 15 | B4: =Sheet2!$F$5+(A4-1)*Sheet2!$G$5+Sheet1!$B$6 -> 48.8 | C4: =Sheet3!$O$8+(Sheet4!C$1-1)*Sheet3!$P$8+$B4*(Sheet3!$Q$8+(Sheet4!C$1-1)*Sheet3!$R$8) -> 198.8 | D4: =Sheet3!$O$8+(Sheet4!D$1-1)*Sheet3!$P$8+$B4*(Sheet3!$Q$8+(Sheet4!D$1-1)*Sheet3!$R$8) -> 343.32 | E4: =Sheet3!$O$8+(Sheet4!E$1-1)*Sheet3!$P$8+$B4*(Sheet3!$Q$8+(Sheet4!E$1-1)*Sheet3!$R$8) -> 487.84 | F4: =Sheet3!$O$8+(Sheet4!F$1-1)*Sheet3!$P$8+$B4*(Sheet3!$Q$8+(Sheet4!F$1-1)*Sheet3!$R$8) -> 632.36 | G4: =Sheet3!$O$8+(Sheet4!G$1-1)*Sheet3!$P$8+$B4*(Sheet3!$Q$8+(Sheet4!G$1-1)*Sheet3!$R$8) -> 776.88 | H4: =Sheet3!$O$8+(Sheet4!H$1-1)*Sheet3!$P$8+$B4*(Sheet3!$Q$8+(Sheet4!H$1-1)*Sheet3!$R$8) -> 921.4
A5: 20 | B5: =Sheet2!$F$5+(A5-1)*Sheet2!$G$5+Sheet1!$B$6 -> 59.8 | C5: =Sheet3!$O$8+(Sheet4!C$1-1)*Sheet3!$P$8+$B5*(Sheet3!$Q$8+(Sheet4!C$1-1)*Sheet3!$R$8) -> 209.8 | D5: =Sheet3!$O$8+(Sheet4!D$1-1)*Sheet3!$P$8+$B5*(Sheet3!$Q$8+(Sheet4!D$1-1)*Sheet3!$R$8) -> 358.72 | E5: =Sheet3!$O$8+(Sheet4!E$1-1)*Sheet3!$P$8+$B5*(Sheet3!$Q$8+(Sheet4!E$1-1)*Sheet3!$R$8) -> 507.64 | F5: =Sheet3!$O$8+(Sheet4!F$1-1)*Sheet3!$P$8+$B5*(Sheet3!$Q$8+(Sheet4!F$1-1)*Sheet3!$R$8) -> 656.56 | G5: =Sheet3!$O$8+(Sheet4!G$1-1)*Sheet3!$P$8+$B5*(Sheet3!$Q$8+(Sheet4!G$1-1)*Sheet3!$R$8) -> 805.48 | H5: =Sheet3!$O$8+(Sheet4!H$1-1)*Sheet3!$P$8+$B5*(Sheet3!$Q$8+(Sheet4!H$1-1)*Sheet3!$R$8) -> 954.4
A6: 25 | B6: =Sheet2!$F$5+(A6-1)*Sheet2!$G$5+Sheet1!$B$6 -> 70.8 | C6: =Sheet3!$O$8+(Sheet4!C$1-1)*Sheet3!$P$8+$B6*(Sheet3!$Q$8+(Sheet4!C$1-1)*Sheet3!$R$8) -> 220.8 | D6: =Sheet3!$O$8+(Sheet4!D$1-1)*Sheet3!$P$8+$B6*(Sheet3!$Q$8+(Sheet4!D$1-1)*Sheet3!$R$8) -> 374.12 | E6: =Sheet3!$O$8+(Sheet4!E$1-1)*Sheet3!$P$8+$B6*(Sheet3!$Q$8+(Sheet4!E$1-1)*Sheet3!$R$8) -> 527.44 | F6: =Sheet3!$O$8+(Sheet4!F$1-1)*Sheet3!$P$8+$B6*(Sheet3!$Q$8+(Sheet4!F$1-1)*Sheet3!$R$8) -> 680.76 | G6: =Sheet3!$O$8+(Sheet4!G$1-1)*Sheet3!$P$8+$B6*(Sheet3!$Q$8+(Sheet4!G$1-1)*Sheet3!$R$8) -> 834.08 | H6: =Sheet3!$O$8+(Sheet4!H$1-1)*Sheet3!$P$8+$B6*(Sheet3!$Q$8+(Sheet4!H$1-1)*Sheet3!$R$8) -> 987.4
A7: 30 | B7: =Sheet2!$F$5+(A7-1)*Sheet2!$G$5+Sheet1!$B$6 -> 81.8 | C7: =Sheet3!$O$8+(Sheet4!C$1-1)*Sheet3!$P$8+$B7*(Sheet3!$Q$8+(Sheet4!C$1-1)*Sheet3!$R$8) -> 231.8 | D7: =Sheet3!$O$8+(Sheet4!D$1-1)*Sheet3!$P$8+$B7*(Sheet3!$Q$8+(Sheet4!D$1-1)*Sheet3!$R$8) -> 389.52 | E7: =Sheet3!$O$8+(Sheet4!E$1-1)*Sheet3!$P$8+$B7*(Sheet3!$Q$8+(Sheet4!E$1-1)*Sheet3!$R$8) -> 547.24 | F7: =Sheet3!$O$8+(Sheet4!F$1-1)*Sheet3!$P$8+$B7*(Sheet3!$Q$8+(Sheet4!F$1-1)*Sheet3!$R$8) -> 704.96 | G7: =Sheet3!$O$8+(Sheet4!G$1-1)*Sheet3!$P$8+$B7*(Sheet3!$Q$8+(Sheet4!G$1-1)*Sheet3!$R$8) -> 862.68 | H7: =Sheet3!$O$8+(Sheet4!H$1-1)*Sheet3!$P$8+$B7*(Sheet3!$Q$8+(Sheet4!H$1-1)*Sheet3!$R$8) -> 1020.4
A8: 35 | B8: =Sheet2!$F$5+(A8-1)*Sheet2!$G$5+Sheet1!$B$6 -> 92.8 | C8: =Sheet3!$O$8+(Sheet4!C$1-1)*Sheet3!$P$8+$B8*(Sheet3!$Q$8+(Sheet4!C$1-1)*Sheet3!$R$8) -> 242.8 | D8: =Sheet3!$O$8+(Sheet4!D$1-1)*Sheet3!$P$8+$B8*(Sheet3!$Q$8+(Sheet4!D$1-1)*Sheet3!$R$8) -> 404.92 | E8: =Sheet3!$O$8+(Sheet4!E$1-1)*Sheet3!$P$8+$B8*(Sheet3!$Q$8+(Sheet4!E$1-1)*Sheet3!$R$8) -> 567.04 | F8: =Sheet3!$O$8+(Sheet4!F$1-1)*Sheet3!$P$8+$B8*(Sheet3!$Q$8+(Sheet4!F$1-1)*Sheet3!$R$8) -> 729.16 | G8: =Sheet3!$O$8+(Sheet4!G$1-1)*Sheet3!$P$8+$B8*(Sheet3!$Q$8+(Sheet4!G$1-1)*Sheet3!$R$8) -> 891.28 | H8: =Sheet3!$O$8+(Sheet4!H$1-1)*Sheet3!$P$8+$B8*(Sheet3!$Q$8+(Sheet4!H$1-1)*Sheet3!$R$8) -> 1053.4
A9: 40 | B9: =Sheet2!$F$5+(A9-1)*Sheet2!$G$5+Sheet1!$B$6 -> 103.8 | C9: =Sheet3!$O$8+(Sheet4!C$1-1)*Sheet3!$P$8+$B9*(Sheet3!$Q$8+(Sheet4!C$1-1)*Sheet3!$R$8) -> 253.8 | D9: =Sheet3!$O$8+(Sheet4!D$1-1)*Sheet3!$P$8+$B9*(Sheet3!$Q$8+(Sheet4!D$1-1)*Sheet3!$R$8) -> 420.32 | E9: =Sheet3!$O$8+(Sheet4!E$1-1)*Sheet3!$P$8+$B9*(Sheet3!$Q$8+(Sheet4!E$1-1)*Sheet3!$R$8) -> 586.84 | F9: =Sheet3!$O$8+(Sheet4!F$1-1)*Sheet3!$P$8+$B9*(Sheet3!$Q$8+(Sheet4!F$1-1)*Sheet3!$R$8) -> 753.36 | G9: =Sheet3!$O$8+(Sheet4!G$1-1)*Sheet3!$P$8+$B9*(Sheet3!$Q$8+(Sheet4!G$1-1)*Sheet3!$R$8) -> 919.88 | H9: =Sheet3!$O$8+(Sheet4!H$1-1)*Sheet3!$P$8+$B9*(Sheet3!$Q$8+(Sheet4!H$1-1)*Sheet3!$R$8) -> 1086.4
B11: 8 | C11: =$B2*$B$11 -> 214.4 | D11: =$B2*$B$11 -> 214.4 | E11: =$B2*$B$11 -> 214.4 | F11: =$B2*$B$11 -> 214.4 | G11: =$B2*$B$11 -> 214.4 | H11: =$B2*$B$11 -> 214.4
C12: =$B3*$B$11 -> 302.4 | D12: =$B3*$B$11 -> 302.4 | E12: =$B3*$B$11 -> 302.4 | F12: =$B3*$B$11 -> 302.4 | G12: =$B3*$B$11 -> 302.4 | H12: =$B3*$B$11 -> 302.4
C13: =$B4*$B$11 -> 390.4 | D13: =$B4*$B$11 -> 390.4 | E13: =$B4*$B$11 -> 390.4 | F13: =$B4*$B$11 -> 390.4 | G13: =$B4*$B$11 -> 390.4 | H13: =$B4*$B$11 -> 390.4
C14: =$B5*$B$11 -> 478.4 | D14: =$B5*$B$11 -> 478.4 | E14: =$B5*$B$11 -> 478.4 | F14: =$B5*$B$11 -> 478.4 | G14: =$B5*$B$11 -> 478.4 | H14: =$B5*$B$11 -> 478.4
C15: =$B6*$B$11 -> 566.4 | D15: =$B6*$B$11 -> 566.4 | E15: =$B6*$B$11 -> 566.4 | F15: =$B6*$B$11 -> 566.4 | G15: =$B6*$B$11 -> 566.4 | H15: =$B6*$B$11 -> 566.4
C16: =$B7*$B$11 -> 654.4 | D16: =$B7*$B$11 -> 654.4 | E16: =$B7*$B$11 -> 654.4 | F16: =$B7*$B$11 -> 654.4 | G16: =$B7*$B$11 -> 654.4 | H16: =$B7*$B$11 -> 654.4
C17: =$B8*$B$11 -> 742.4 | D17: =$B8*$B$11 -> 742.4 | E17: =$B8*$B$11 -> 742.4 | F17: =$B8*$B$11 -> 742.4 | G17: =$B8*$B$11 -> 742.4 | H17: =$B8*$B$11 -> 742.4
C18: =$B9*$B$11 -> 830.4 | D18: =$B9*$B$11 -> 830.4 | E18: =$B9*$B$11 -> 830.4 | F18: =$B9*$B$11 -> 830.4 | G18: =$B9*$B$11 -> 830.4 | H18: =$B9*$B$11 -> 830.4
C20: =C11/C2 -> 1.2126697 | D20: =D11/D2 -> 0.68603609 | E20: =E11/E2 -> 0.47831519 | F20: =F11/F2 -> 0.36714843 | G20: =G11/G2 -> 0.29791018 | H20: =H11/H2 -> 0.25064297
C21: =C12/C3 -> 1.6102236 | D21: =D12/D3 -> 0.92217614 | E21: =E12/E3 -> 0.64609862 | F21: =F12/F3 -> 0.49723757 | G21: =G12/G3 -> 0.4041268 | H21: =H12/H3 -> 0.34038721
C22: =C13/C4 -> 1.9637827 | D22: =D13/D4 -> 1.1371315 | E22: =E13/E4 -> 0.80026238 | F22: =F13/F4 -> 0.61736985 | G22: =G13/G4 -> 0.50252291 | H22: =H13/H4 -> 0.42370306
C23: =C14/C5 -> 2.2802669 | D23: =D14/D5 -> 1.3336307 | E23: =E14/E5 -> 0.94240013 | F23: =F14/F5 -> 0.72864628 | G23: =G14/G5 -> 0.59393157 | H23: =H14/H5 -> 0.50125733
C24: =C15/C6 -> 2.5652174 | D24: =D15/D6 -> 1.5139527 | E24: =E15/E6 -> 1.0738662 | F24: =F15/F6 -> 0.83201128 | G24: =G15/G6 -> 0.67907155 | H24: =H15/H6 -> 0.57362771
C25: =C16/C7 -> 2.8231234 | D25: =D16/D7 -> 1.6800164 | E25: =E16/E7 -> 1.195819 | F25: =F16/F7 -> 0.92827962 | G25: =G16/G7 -> 0.75856633 | H25: =H16/H7 -> 0.64131713
C26: =C17/C8 -> 3.0576606 | D26: =D17/D8 -> 1.8334486 | E26: =E17/E8 -> 1.3092551 | F26: =F17/F8 -> 1.0181579 | G26: =G17/G8 -> 0.83295934 | H26: =H17/H8 -> 0.70476552
C27: =C18/C9 -> 3.2718676 | D27: =D18/D9 -> 1.9756376 | E27: =E18/E9 -> 1.4150365 | F27: =F18/F9 -> 1.1022619 | G27: =G18/G9 -> 0.90272644 | H27: =H18/H9 -> 0.76435935

Sheet Sheet5
A1: DPS | C1: 1 | D1: 2 | E1: 3 | F1: 4 | G1: 5 | H1: 6 | K1: DPM | L1: 1 | M1: 2 | N1: 3 | O1: 4 | P1: 5 | Q1: 6
A2: =Sheet3!A16 -> Gale | B2: =Sheet3!J16 -> Arboreal Crusader | C2: =Sheet3!C16/(Sheet3!$M16+Sheet3!$N16*Sheet3!B$1) -> 27.593091 | D2: =Sheet3!D16/(Sheet3!$M16+Sheet3!$N16*Sheet3!C$1) -> 35.279636 | E2: =Sheet3!E16/(Sheet3!$M16+Sheet3!$N16*Sheet3!D$1) -> 42.966182 | F2: =Sheet3!F16/(Sheet3!$M16+Sheet3!$N16*Sheet3!E$1) -> 50.652727 | G2: =Sheet3!G16/(Sheet3!$M16+Sheet3!$N16*Sheet3!F$1) -> 58.339273 | H2: =Sheet3!H16/(Sheet3!$M16+Sheet3!$N16*Sheet3!G$1) -> 66.025818 | L2: =Sheet3!C16/(Sheet3!$K16+Sheet3!$L16*Sheet3!B$1) -> 5.5186182 | M2: =Sheet3!D16/(Sheet3!$K16+Sheet3!$L16*Sheet3!C$1) -> 5.0399481 | N2: =Sheet3!E16/(Sheet3!$K16+Sheet3!$L16*Sheet3!D$1) -> 4.7740202 | O2: =Sheet3!F16/(Sheet3!$K16+Sheet3!$L16*Sheet3!E$1) -> 4.6047934 | P2: =Sheet3!G16/(Sheet3!$K16+Sheet3!$L16*Sheet3!F$1) -> 4.4876364 | Q2: =Sheet3!H16/(Sheet3!$K16+Sheet3!$L16*Sheet3!G$1) -> 4.4017212
A3: =Sheet3!A17 -> Incinerate | B3: =Sheet3!J17 -> Soul Binder | C3: =Sheet3!C17/(Sheet3!$M17+Sheet3!$N17*Sheet3!B$1) -> 43.853333 | D3: =Sheet3!D17/(Sheet3!$M17+Sheet3!$N17*Sheet3!C$1) -> 55.636533 | E3: =Sheet3!E17/(Sheet3!$M17+Sheet3!$N17*Sheet3!D$1) -> 67.419733 | F3: =Sheet3!F17/(Sheet3!$M17+Sheet3!$N17*Sheet3!E$1) -> 79.202933 | G3: =Sheet3!G17/(Sheet3!$M17+Sheet3!$N17*Sheet3!F$1) -> 90.986133 | H3: =Sheet3!H17/(Sheet3!$M17+Sheet3!$N17*Sheet3!G$1) -> 102.76933 | L3: =Sheet3!C17/(Sheet3!$K17+Sheet3!$L17*Sheet3!B$1) -> 2.392 | M3: =Sheet3!D17/(Sheet3!$K17+Sheet3!$L17*Sheet3!C$1) -> 2.4189797 | N3: =Sheet3!E17/(Sheet3!$K17+Sheet3!$L17*Sheet3!D$1) -> 2.4368578 | O3: =Sheet3!F17/(Sheet3!$K17+Sheet3!$L17*Sheet3!E$1) -> 2.4495753 | P3: =Sheet3!G17/(Sheet3!$K17+Sheet3!$L17*Sheet3!F$1) -> 2.4590847 | Q3: =Sheet3!H17/(Sheet3!$K17+Sheet3!$L17*Sheet3!G$1) -> 2.466464
A4: =Sheet3!A18 -> Arctic Cataclysm | B4: =Sheet3!J18 -> Glacial Tyrant | C4: =Sheet3!C18/(Sheet3!$M18+Sheet3!$N18*Sheet3!B$1) -> 13.66 | D4: =Sheet3!D18/(Sheet3!$M18+Sheet3!$N18*Sheet3!C$1) -> 16.54625 | E4: =Sheet3!E18/(Sheet3!$M18+Sheet3!$N18*Sheet3!D$1) -> 19.4325 | F4: =Sheet3!F18/(Sheet3!$M18+Sheet3!$N18*Sheet3!E$1) -> 22.31875 | G4: =Sheet3!G18/(Sheet3!$M18+Sheet3!$N18*Sheet3!F$1) -> 25.205 | H4: =Sheet3!H18/(Sheet3!$M18+Sheet3!$N18*Sheet3!G$1) -> 28.09125 | L4: =Sheet3!C18/(Sheet3!$K18+Sheet3!$L18*Sheet3!B$1) -> 3.1222857 | M4: =Sheet3!D18/(Sheet3!$K18+Sheet3!$L18*Sheet3!C$1) -> 2.816383 | N4: =Sheet3!E18/(Sheet3!$K18+Sheet3!$L18*Sheet3!D$1) -> 2.6349153 | O4: =Sheet3!F18/(Sheet3!$K18+Sheet3!$L18*Sheet3!E$1) -> 2.5147887 | P4: =Sheet3!G18/(Sheet3!$K18+Sheet3!$L18*Sheet3!F$1) -> 2.4293976 | Q4: =Sheet3!H18/(Sheet3!$K18+Sheet3!$L18*Sheet3!G$1) -> 2.3655789
A5: =Sheet3!A19 -> Caustic Breath | B5: =Sheet3!J19 -> Acid Reaver | C5: =Sheet3!C19/(Sheet3!$M19+Sheet3!$N19*Sheet3!B$1) -> 35.205 | D5: =Sheet3!D19/(Sheet3!$M19+Sheet3!$N19*Sheet3!C$1) -> 42.265 | E5: =Sheet3!E19/(Sheet3!$M19+Sheet3!$N19*Sheet3!D$1) -> 49.325 | F5: =Sheet3!F19/(Sheet3!$M19+Sheet3!$N19*Sheet3!E$1) -> 56.385 | G5: =Sheet3!G19/(Sheet3!$M19+Sheet3!$N19*Sheet3!F$1) -> 63.445 | H5: =Sheet3!H19/(Sheet3!$M19+Sheet3!$N19*Sheet3!G$1) -> 70.505 | L5: =Sheet3!C19/(Sheet3!$K19+Sheet3!$L19*Sheet3!B$1) -> 7.041 | M5: =Sheet3!D19/(Sheet3!$K19+Sheet3!$L19*Sheet3!C$1) -> 6.5023077 | N5: =Sheet3!E19/(Sheet3!$K19+Sheet3!$L19*Sheet3!D$1) -> 6.165625 | O5: =Sheet3!F19/(Sheet3!$K19+Sheet3!$L19*Sheet3!E$1) -> 5.9352632 | P5: =Sheet3!G19/(Sheet3!$K19+Sheet3!$L19*Sheet3!F$1) -> 5.7677273 | Q5: =Sheet3!H19/(Sheet3!$K19+Sheet3!$L19*Sheet3!G$1) -> 5.6404
A6: =Sheet3!A20 -> Holy Strike | B6: =Sheet3!J20 -> Divine Wizard | C6: =Sheet3!C20/(Sheet3!$M20+Sheet3!$N20*Sheet3!B$1) -> 48.210933 | D6: =Sheet3!D20/(Sheet3!$M20+Sheet3!$N20*Sheet3!C$1) -> 53.589939 | E6: =Sheet3!E20/(Sheet3!$M20+Sheet3!$N20*Sheet3!D$1) -> 58.072444 | F6: =Sheet3!F20/(Sheet3!$M20+Sheet3!$N20*Sheet3!E$1) -> 61.865333 | G6: =Sheet3!G20/(Sheet3!$M20+Sheet3!$N20*Sheet3!F$1) -> 65.116381 | H6: =Sheet3!H20/(Sheet3!$M20+Sheet3!$N20*Sheet3!G$1) -> 67.933956 | L6: =Sheet3!C20/(Sheet3!$K20+Sheet3!$L20*Sheet3!B$1) -> 5.1654571 | M6: =Sheet3!D20/(Sheet3!$K20+Sheet3!$L20*Sheet3!C$1) -> 4.3344804 | N6: =Sheet3!E20/(Sheet3!$K20+Sheet3!$L20*Sheet3!D$1) -> 3.9003881 | O6: =Sheet3!F20/(Sheet3!$K20+Sheet3!$L20*Sheet3!E$1) -> 3.6336566 | P6: =Sheet3!G20/(Sheet3!$K20+Sheet3!$L20*Sheet3!F$1) -> 3.4531414 | Q6: =Sheet3!H20/(Sheet3!$K20+Sheet3!$L20*Sheet3!G$1) -> 3.3228565
A7: =Sheet3!A21 -> Rockslide | B7: =Sheet3!J21 -> Colossus | C7: =Sheet3!C21/(Sheet3!$M21+Sheet3!$N21*Sheet3!B$1) -> 14.345278 | D7: =Sheet3!D21/(Sheet3!$M21+Sheet3!$N21*Sheet3!C$1) -> 18.215278 | E7: =Sheet3!E21/(Sheet3!$M21+Sheet3!$N21*Sheet3!D$1) -> 22.085278 | F7: =Sheet3!F21/(Sheet3!$M21+Sheet3!$N21*Sheet3!E$1) -> 25.955278 | G7: =Sheet3!G21/(Sheet3!$M21+Sheet3!$N21*Sheet3!F$1) -> 29.825278 | H7: =Sheet3!H21/(Sheet3!$M21+Sheet3!$N21*Sheet3!G$1) -> 33.695278 | L7: =Sheet3!C21/(Sheet3!$K21+Sheet3!$L21*Sheet3!B$1) -> 3.9725385 | M7: =Sheet3!D21/(Sheet3!$K21+Sheet3!$L21*Sheet3!C$1) -> 3.6839888 | N7: =Sheet3!E21/(Sheet3!$K21+Sheet3!$L21*Sheet3!D$1) -> 3.5180088 | O7: =Sheet3!F21/(Sheet3!$K21+Sheet3!$L21*Sheet3!E$1) -> 3.4101825 | P7: =Sheet3!G21/(Sheet3!$K21+Sheet3!$L21*Sheet3!F$1) -> 3.3345031 | Q7: =Sheet3!H21/(Sheet3!$K21+Sheet3!$L21*Sheet3!G$1) -> 3.2784595
A8: =Sheet3!A22 -> Rogue Wave | B8: =Sheet3!J22 -> Crest Witch | C8: =Sheet3!C22/(Sheet3!$M22+Sheet3!$N22*Sheet3!B$1) -> 21.704583 | D8: =Sheet3!D22/(Sheet3!$M22+Sheet3!$N22*Sheet3!C$1) -> 24.4998 | E8: =Sheet3!E22/(Sheet3!$M22+Sheet3!$N22*Sheet3!D$1) -> 27.295017 | F8: =Sheet3!F22/(Sheet3!$M22+Sheet3!$N22*Sheet3!E$1) -> 30.090233 | G8: =Sheet3!G22/(Sheet3!$M22+Sheet3!$N22*Sheet3!F$1) -> 32.88545 | H8: =Sheet3!H22/(Sheet3!$M22+Sheet3!$N22*Sheet3!G$1) -> 35.680667 | L8: =Sheet3!C22/(Sheet3!$K22+Sheet3!$L22*Sheet3!B$1) -> 4.6509821 | M8: =Sheet3!D22/(Sheet3!$K22+Sheet3!$L22*Sheet3!C$1) -> 4.6518608 | N8: =Sheet3!E22/(Sheet3!$K22+Sheet3!$L22*Sheet3!D$1) -> 4.6525597 | O8: =Sheet3!F22/(Sheet3!$K22+Sheet3!$L22*Sheet3!E$1) -> 4.6531289 | P8: =Sheet3!G22/(Sheet3!$K22+Sheet3!$L22*Sheet3!F$1) -> 4.6536014 | Q8: =Sheet3!H22/(Sheet3!$K22+Sheet3!$L22*Sheet3!G$1) -> 4.654
A9: =Sheet3!A23 -> Frost Spire | B9: =Sheet3!J23 -> Icespinner | C9: =Sheet3!C23/(Sheet3!$M23+Sheet3!$N23*Sheet3!B$1) -> 24.790133 | D9: =Sheet3!D23/(Sheet3!$M23+Sheet3!$N23*Sheet3!C$1) -> 30.366267 | E9: =Sheet3!E23/(Sheet3!$M23+Sheet3!$N23*Sheet3!D$1) -> 35.9424 | F9: =Sheet3!F23/(Sheet3!$M23+Sheet3!$N23*Sheet3!E$1) -> 41.518533 | G9: =Sheet3!G23/(Sheet3!$M23+Sheet3!$N23*Sheet3!F$1) -> 47.094667 | H9: =Sheet3!H23/(Sheet3!$M23+Sheet3!$N23*Sheet3!G$1) -> 52.6708 | L9: =Sheet3!C23/(Sheet3!$K23+Sheet3!$L23*Sheet3!B$1) -> 7.43704 | M9: =Sheet3!D23/(Sheet3!$K23+Sheet3!$L23*Sheet3!C$1) -> 7.4150186 | N9: =Sheet3!E23/(Sheet3!$K23+Sheet3!$L23*Sheet3!D$1) -> 7.3999059 | O9: =Sheet3!F23/(Sheet3!$K23+Sheet3!$L23*Sheet3!E$1) -> 7.3888915 | P9: =Sheet3!G23/(Sheet3!$K23+Sheet3!$L23*Sheet3!F$1) -> 7.3805075 | Q9: =Sheet3!H23/(Sheet3!$K23+Sheet3!$L23*Sheet3!G$1) -> 7.373912
A10: =Sheet3!A24 -> Terra Smash | B10: =Sheet3!J24 -> Ascendant | C10: =Sheet3!C24/(Sheet3!$M24+Sheet3!$N24*Sheet3!B$1) -> 30.8 | D10: =Sheet3!D24/(Sheet3!$M24+Sheet3!$N24*Sheet3!C$1) -> 41.25 | E10: =Sheet3!E24/(Sheet3!$M24+Sheet3!$N24*Sheet3!D$1) -> 51.7 | F10: =Sheet3!F24/(Sheet3!$M24+Sheet3!$N24*Sheet3!E$1) -> 62.15 | G10: =Sheet3!G24/(Sheet3!$M24+Sheet3!$N24*Sheet3!F$1) -> 72.6 | H10: =Sheet3!H24/(Sheet3!$M24+Sheet3!$N24*Sheet3!G$1) -> 83.05 | L10: =Sheet3!C24/(Sheet3!$K24+Sheet3!$L24*Sheet3!B$1) -> 7.04 | M10: =Sheet3!D24/(Sheet3!$K24+Sheet3!$L24*Sheet3!C$1) -> 7.6744186 | N10: =Sheet3!E24/(Sheet3!$K24+Sheet3!$L24*Sheet3!D$1) -> 8.1098039 | O10: =Sheet3!F24/(Sheet3!$K24+Sheet3!$L24*Sheet3!E$1) -> 8.4271186 | P10: =Sheet3!G24/(Sheet3!$K24+Sheet3!$L24*Sheet3!F$1) -> 8.6686567 | Q10: =Sheet3!H24/(Sheet3!$K24+Sheet3!$L24*Sheet3!G$1) -> 8.8586667
A11: =Sheet3!A25 -> Pestilence | B11: =Sheet3!J25 -> Defiler | C11: =Sheet3!C25/(Sheet3!$M25+Sheet3!$N25*Sheet3!B$1) -> 27.577778 | D11: =Sheet3!D25/(Sheet3!$M25+Sheet3!$N25*Sheet3!C$1) -> 34.855556 | E11: =Sheet3!E25/(Sheet3!$M25+Sheet3!$N25*Sheet3!D$1) -> 42.133333 | F11: =Sheet3!F25/(Sheet3!$M25+Sheet3!$N25*Sheet3!E$1) -> 49.411111 | G11: =Sheet3!G25/(Sheet3!$M25+Sheet3!$N25*Sheet3!F$1) -> 56.688889 | H11: =Sheet3!H25/(Sheet3!$M25+Sheet3!$N25*Sheet3!G$1) -> 63.966667 | L11: =Sheet3!C25/(Sheet3!$K25+Sheet3!$L25*Sheet3!B$1) -> 4.1366667 | M11: =Sheet3!D25/(Sheet3!$K25+Sheet3!$L25*Sheet3!C$1) -> 3.8728395 | N11: =Sheet3!E25/(Sheet3!$K25+Sheet3!$L25*Sheet3!D$1) -> 3.7176471 | O11: =Sheet3!F25/(Sheet3!$K25+Sheet3!$L25*Sheet3!E$1) -> 3.6154472 | P11: =Sheet3!G25/(Sheet3!$K25+Sheet3!$L25*Sheet3!F$1) -> 3.5430556 | Q11: =Sheet3!H25/(Sheet3!$K25+Sheet3!$L25*Sheet3!G$1) -> 3.4890909
A12: =Sheet3!A26 -> Pyroclasm | B12: =Sheet3!J26 -> Emberwraith | C12: =Sheet3!C26/(Sheet3!$M26+Sheet3!$N26*Sheet3!B$1) -> 9.0790385 | D12: =Sheet3!D26/(Sheet3!$M26+Sheet3!$N26*Sheet3!C$1) -> 12.053962 | E12: =Sheet3!E26/(Sheet3!$M26+Sheet3!$N26*Sheet3!D$1) -> 15.028885 | F12: =Sheet3!F26/(Sheet3!$M26+Sheet3!$N26*Sheet3!E$1) -> 18.003808 | G12: =Sheet3!G26/(Sheet3!$M26+Sheet3!$N26*Sheet3!F$1) -> 20.978731 | H12: =Sheet3!H26/(Sheet3!$M26+Sheet3!$N26*Sheet3!G$1) -> 23.953654 | L12: =Sheet3!C26/(Sheet3!$K26+Sheet3!$L26*Sheet3!B$1) -> 3.93425 | M12: =Sheet3!D26/(Sheet3!$K26+Sheet3!$L26*Sheet3!C$1) -> 3.8219878 | N12: =Sheet3!E26/(Sheet3!$K26+Sheet3!$L26*Sheet3!D$1) -> 3.7572212 | O12: =Sheet3!F26/(Sheet3!$K26+Sheet3!$L26*Sheet3!E$1) -> 3.7150714 | P12: =Sheet3!G26/(Sheet3!$K26+Sheet3!$L26*Sheet3!F$1) -> 3.6854527 | Q12: =Sheet3!H26/(Sheet3!$K26+Sheet3!$L26*Sheet3!G$1) -> 3.6635
A13: =Sheet3!A27 -> Whirl | B13: =Sheet3!J27 -> Forlorn Martyr | C13: =Sheet3!C27/(Sheet3!$M27+Sheet3!$N27*Sheet3!B$1) -> 24.434375 | D13: =Sheet3!D27/(Sheet3!$M27+Sheet3!$N27*Sheet3!C$1) -> 28.88475 | E13: =Sheet3!E27/(Sheet3!$M27+Sheet3!$N27*Sheet3!D$1) -> 33.335125 | F13: =Sheet3!F27/(Sheet3!$M27+Sheet3!$N27*Sheet3!E$1) -> 37.7855 | G13: =Sheet3!G27/(Sheet3!$M27+Sheet3!$N27*Sheet3!F$1) -> 42.235875 | H13: =Sheet3!H27/(Sheet3!$M27+Sheet3!$N27*Sheet3!G$1) -> 46.68625 | L13: =Sheet3!C27/(Sheet3!$K27+Sheet3!$L27*Sheet3!B$1) -> 3.9095 | M13: =Sheet3!D27/(Sheet3!$K27+Sheet3!$L27*Sheet3!C$1) -> 3.7270645 | N13: =Sheet3!E27/(Sheet3!$K27+Sheet3!$L27*Sheet3!D$1) -> 3.6037973 | O13: =Sheet3!F27/(Sheet3!$K27+Sheet3!$L27*Sheet3!E$1) -> 3.5149302 | P13: =Sheet3!G27/(Sheet3!$K27+Sheet3!$L27*Sheet3!F$1) -> 3.4478265 | Q13: =Sheet3!H27/(Sheet3!$K27+Sheet3!$L27*Sheet3!G$1) -> 3.3953636
... A27: =Sheet3!A41 -> Slice | B27: =Sheet3!J41 -> Wretched Chef | C27: =Sheet3!C41/(Sheet3!$M41+Sheet3!$N41*Sheet3!B$1) -> 24.195 | D27: =Sheet3!D41/(Sheet3!$M41+Sheet3!$N41*Sheet3!C$1) -> 30.36875 | E27: =Sheet3!E41/(Sheet3!$M41+Sheet3!$N41*Sheet3!D$1) -> 36.5425 | F27: =Sheet3!F41/(Sheet3!$M41+Sheet3!$N41*Sheet3!E$1) -> 42.71625 | G27: =Sheet3!G41/(Sheet3!$M41+Sheet3!$N41*Sheet3!F$1) -> 48.89 | H27: =Sheet3!H41/(Sheet3!$M41+Sheet3!$N41*Sheet3!G$1) -> 55.06375 | L27: =Sheet3!C41/(Sheet3!$K41+Sheet3!$L41*Sheet3!B$1) -> 3.5192727 | M27: =Sheet3!D41/(Sheet3!$K41+Sheet3!$L41*Sheet3!C$1) -> 3.8563492 | N27: =Sheet3!E41/(Sheet3!$K41+Sheet3!$L41*Sheet3!D$1) -> 4.1174648 | O27: =Sheet3!F41/(Sheet3!$K41+Sheet3!$L41*Sheet3!E$1) -> 4.3256962 | P27: =Sheet3!G41/(Sheet3!$K41+Sheet3!$L41*Sheet3!F$1) -> 4.4956322 | Q27: =Sheet3!H41/(Sheet3!$K41+Sheet3!$L41*Sheet3!G$1) -> 4.6369474
A33: Single Target | K33: DPS | S33: DPM | AA33: Recovery | AI33: Glass Cannon
A34: =Sheet3!A16 -> Gale | B34: =Sheet3!J16 -> Arboreal Crusader | C34: =Sheet3!C16 * 0.75 -> 227.643 | D34: =Sheet3!D16 * 0.75 -> 291.057 | E34: =Sheet3!E16 * 0.75 -> 354.471 | F34: =Sheet3!F16 * 0.75 -> 417.885 | G34: =Sheet3!G16 * 0.75 -> 481.299 | H34: =Sheet3!H16 * 0.75 -> 544.713 | K34: =A34 -> Gale | L34: =Sheet5!C34/(Sheet3!$M16+Sheet3!$N16*Sheet3!B$1) -> 20.694818 | M34: =Sheet5!D34/(Sheet3!$M16+Sheet3!$N16*Sheet3!C$1) -> 26.459727 | N34: =Sheet5!E34/(Sheet3!$M16+Sheet3!$N16*Sheet3!D$1) -> 32.224636 | O34: =Sheet5!F34/(Sheet3!$M16+Sheet3!$N16*Sheet3!E$1) -> 37.989545 | P34: =Sheet5!G34/(Sheet3!$M16+Sheet3!$N16*Sheet3!F$1) -> 43.754455 | Q34: =Sheet5!H34/(Sheet3!$M16+Sheet3!$N16*Sheet3!G$1) -> 49.519364 | S34: =A34 -> Gale | T34: =Sheet5!C34/(Sheet3!$K16+Sheet3!$L16*Sheet3!B$1) -> 4.1389636 | U34: =Sheet5!D34/(Sheet3!$K16+Sheet3!$L16*Sheet3!C$1) -> 3.779961 | V34: =Sheet5!E34/(Sheet3!$K16+Sheet3!$L16*Sheet3!D$1) -> 3.5805152 | W34: =Sheet5!F34/(Sheet3!$K16+Sheet3!$L16*Sheet3!E$1) -> 3.453595 | X34: =Sheet5!G34/(Sheet3!$K16+Sheet3!$L16*Sheet3!F$1) -> 3.3657273 | Y34: =Sheet5!H34/(Sheet3!$K16+Sheet3!$L16*Sheet3!G$1) -> 3.3012909 | AA34: =S34 -> Gale | AB34: =(Sheet3!$K16+Sheet3!$L16*Sheet3!B$1) / VLOOKUP(Sheet3!$J16,Sheet2!$A$2:$N$39,14,FALSE) -> 19.177127 | AC34: =(Sheet3!$K16+Sheet3!$L16*Sheet3!C$1) / VLOOKUP(Sheet3!$J16,Sheet2!$A$2:$N$39,14,FALSE) -> 26.847978 | AD34: =(Sheet3!$K16+Sheet3!$L16*Sheet3!D$1) / VLOOKUP(Sheet3!$J16,Sheet2!$A$2:$N$39,14,FALSE) -> 34.518828 | AE34: =(Sheet3!$K16+Sheet3!$L16*Sheet3!E$1) / VLOOKUP(Sheet3!$J16,Sheet2!$A$2:$N$39,14,FALSE) -> 42.189679 | AF34: =(Sheet3!$K16+Sheet3!$L16*Sheet3!F$1) / VLOOKUP(Sheet3!$J16,Sheet2!$A$2:$N$39,14,FALSE) -> 49.86053 | AG34: =(Sheet3!$K16+Sheet3!$L16*Sheet3!G$1) / VLOOKUP(Sheet3!$J16,Sheet2!$A$2:$N$39,14,FALSE) -> 57.531381 | AI34: =A34 -> Gale | AJ34: =C34/VLOOKUP(Sheet3!$J16,Sheet2!$A$2:$N$39,13,FALSE) -> 0.16747692 | AK34: =D34/VLOOKUP(Sheet3!$J16,Sheet2!$A$2:$N$39,13,FALSE) -> 0.21413059 | AL34: =E34/VLOOKUP(Sheet3!$J16,Sheet2!$A$2:$N$39,13,FALSE) -> 0.26078426 | AM34: =F34/VLOOKUP(Sheet3!$J16,Sheet2!$A$2:$N$39,13,FALSE) -> 0.30743793 | AN34: =G34/VLOOKUP(Sheet3!$J16,Sheet2!$A$2:$N$39,13,FALSE) -> 0.35409159 | AO34: =H34/VLOOKUP(Sheet3!$J16,Sheet2!$A$2:$N$39,13,FALSE) -> 0.40074526
