Workbook

Sheet Sheet1
A1: Level | B1: 30 | C1: =B1-1 -> 29
A2: Bonus Str | B2: 0
A3: Bonus Agi | B3: 0
A4: Bonus Int | B4: 0

Sheet Sheet2
A1: Name | B1: Strength | C1: Str/level | D1: Agility | E1: Agi/level | F1: Int | G1: Int/level | I1: ="Str @" & Sheet1!$B$1 -> Str @30 | J1: ="Agi @" & Sheet1!$B$1 -> Agi @30 | K1: ="Int @" & Sheet1!$B$1 -> Int @30 | M1: Health | N1: Mana Regen | O1: Balance Factor | P1: Starting Stat Total | Q1: Growth Total
A2: Arcane Archer | B2: 15 | C2: 1.6 | D2: 17 | E2: 1.35 | F2: 21 | G2: 2.5 | I2: =B2+Sheet1!$C$1*Sheet2!C2+Sheet1!$B$2 -> 61.4 | J2: =D2+Sheet1!$C$1*Sheet2!E2+Sheet1!$B$3 -> 56.15 | K2: =F2+Sheet1!$C$1*Sheet2!G2+Sheet1!$B$4 -> 93.5 | M2: =I2*15+100 -> 1021 | N2: =1.2 + K2*0.01 -> 2.135 | O2: =$M$31/M2 -> 1.2656797 | P2: =B2+D2+F2 -> 53 | Q2: =C2+E2+G2 -> 5.45
A3: Blazing Priest | B3: 22 | C3: 2.35 | D3: 13 | E3: 1 | F3: 18 | G3: 1.6 | I3: =B3+Sheet1!$C$1*Sheet2!C3+Sheet1!$B$2 -> 90.15 | J3: =D3+Sheet1!$C$1*Sheet2!E3+Sheet1!$B$3 -> 42 | K3: =F3+Sheet1!$C$1*Sheet2!G3+Sheet1!$B$4 -> 64.4 | M3: =I3*15+100 -> 1452.25 | N3: =1.2 + K3*0.01 -> 1.844 | O3: =$M$31/M3 -> 0.88983228 | P3: =B3+D3+F3 -> 53 | Q3: =C3+E3+G3 -> 4.95
A4: Time Cleric | B4: 20 | C4: 1.95 | D4: 16 | E4: 1.75 | F4: 19 | G4: 1.85 | I4: =B4+Sheet1!$C$1*Sheet2!C4+Sheet1!$B$2 -> 76.55 | J4: =D4+Sheet1!$C$1*Sheet2!E4+Sheet1!$B$3 -> 66.75 | K4: =F4+Sheet1!$C$1*Sheet2!G4+Sheet1!$B$4 -> 72.65 | M4: =I4*15+100 -> 1248.25 | N4: =1.2 + K4*0.01 -> 1.9265 | O4: =$M$31/M4 -> 1.0352565 | P4: =B4+D4+F4 -> 55 | Q4: =C4+E4+G4 -> 5.55
A5: Arboreal Crusader | B5: 14 | C5: 1.55 | D5: 17 | E5: 2 | F5: 18 | G5: 2.2 | I5: =B5+Sheet1!$C$1*Sheet2!C5+Sheet1!$B$2 -> 58.95 | J5: =D5+Sheet1!$C$1*Sheet2!E5+Sheet1!$B$3 -> 75 | K5: =F5+Sheet1!$C$1*Sheet2!G5+Sheet1!$B$4 -> 81.8 | M5: =I5*15+100 -> 984.25 | N5: =1.2 + K5*0.01 -> 2.018 | O5: =$M$31/M5 -> 1.3129377 | P5: =B5+D5+F5 -> 49 | Q5: =C5+E5+G5 -> 5.75
A6: Dread Shaman | B6: 15 | C6: 1.65 | D6: 18 | E6: 1.45 | F6: 19 | G6: 1.75 | I6: =B6+Sheet1!$C$1*Sheet2!C6+Sheet1!$B$2 -> 62.85 | J6: =D6+Sheet1!$C$1*Sheet2!E6+Sheet1!$B$3 -> 60.05 | K6: =F6+Sheet1!$C$1*Sheet2!G6+Sheet1!$B$4 -> 69.75 | M6: =I6*15+100 -> 1042.75 | N6: =1.2 + K6*0.01 -> 1.8975 | O6: =$M$31/M6 -> 1.2392797 | P6: =B6+D6+F6 -> 52 | Q6: =C6+E6+G6 -> 4.85
A7: Scarab | B7: 23 | C7: 2.25 | D7: 14 | E7: 1.05 | F7: 18 | G7: 1.85 | I7: =B7+Sheet1!$C$1*Sheet2!C7+Sheet1!$B$2 -> 88.25 | J7: =D7+Sheet1!$C$1*Sheet2!E7+Sheet1!$B$3 -> 44.45 | K7: =F7+Sheet1!$C$1*Sheet2!G7+Sheet1!$B$4 -> 71.65 | M7: =I7*15+100 -> 1423.75 | N7: =1.2 + K7*0.01 -> 1.9165 | O7: =$M$31/M7 -> 0.90764455 | P7: =B7+D7+F7 -> 55 | Q7: =C7+E7+G7 -> 5.15
A8: Soul Binder | B8: 19 | C8: 2.3 | D8: 13 | E8: 1.7 | F8: 21 | G8: 1.6 | I8: =B8+Sheet1!$C$1*Sheet2!C8+Sheet1!$B$2 -> 85.7 | J8: =D8+Sheet1!$C$1*Sheet2!E8+Sheet1!$B$3 -> 62.3 | K8: =F8+Sheet1!$C$1*Sheet2!G8+Sheet1!$B$4 -> 67.4 | M8: =I8*15+100 -> 1385.5 | N8: =1.2 + K8*0.01 -> 1.874 | O8: =$M$31/M8 -> 0.93270222 | P8: =B8+D8+F8 -> 53 | Q8: =C8+E8+G8 -> 5.6
A9: Glacial Tyrant | B9: 25 | C9: 2.8 | D9: 9 | E9: 0.9 | F9: 15 | G9: 1.35 | I9: =B9+Sheet1!$C$1*Sheet2!C9+Sheet1!$B$2 -> 106.2 | J9: =D9+Sheet1!$C$1*Sheet2!E9+Sheet1!$B$3 -> 35.1 | K9: =F9+Sheet1!$C$1*Sheet2!G9+Sheet1!$B$4 -> 54.15 | M9: =I9*15+100 -> 1693 | N9: =1.2 + K9*0.01 -> 1.7415 | O9: =$M$31/M9 -> 0.76329529 | P9: =B9+D9+F9 -> 49 | Q9: =C9+E9+G9 -> 5.05
A10: Acid Reaver | B10: 22 | C10: 2.6 | D10: 15 | E10: 1.6 | F10: 15 | G10: 1.5 | I10: =B10+Sheet1!$C$1*Sheet2!C10+Sheet1!$B$2 -> 97.4 | J10: =D10+Sheet1!$C$1*Sheet2!E10+Sheet1!$B$3 -> 61.4 | K10: =F10+Sheet1!$C$1*Sheet2!G10+Sheet1!$B$4 -> 58.5 | M10: =I10*15+100 -> 1561 | N10: =1.2 + K10*0.01 -> 1.785 | O10: =$M$31/M10 -> 0.82784044 | P10: =B10+D10+F10 -> 52 | Q10: =C10+E10+G10 -> 5.7
A11: Divine Wizard | B11: 18 | C11: 1.35 | D11: 14 | E11: 1.1 | F11: 19 | G11: 2.2 | I11: =B11+Sheet1!$C$1*Sheet2!C11+Sheet1!$B$2 -> 57.15 | J11: =D11+Sheet1!$C$1*Sheet2!E11+Sheet1!$B$3 -> 45.9 | K11: =F11+Sheet1!$C$1*Sheet2!G11+Sheet1!$B$4 -> 82.8 | M11: =I11*15+100 -> 957.25 | N11: =1.2 + K11*0.01 -> 2.028 | O11: =$M$31/M11 -> 1.3499702 | P11: =B11+D11+F11 -> 51 | Q11: =C11+E11+G11 -> 4.65
A12: Colossus | B12: 25 | C12: 2.7 | D12: 10 | E12: 0.9 | F12: 14 | G12: 1 | I12: =B12+Sheet1!$C$1*Sheet2!C12+Sheet1!$B$2 -> 103.3 | J12: =D12+Sheet1!$C$1*Sheet2!E12+Sheet1!$B$3 -> 36.1 | K12: =F12+Sheet1!$C$1*Sheet2!G12+Sheet1!$B$4 -> 43 | M12: =I12*15+100 -> 1649.5 | N12: =1.2 + K12*0.01 -> 1.63 | O12: =$M$31/M12 -> 0.78342463 | P12: =B12+D12+F12 -> 49 | Q12: =C12+E12+G12 -> 4.6
A13: Crest Witch | B13: 15 | C13: 1.6 | D13: 19 | E13: 1.8 | F13: 21 | G13: 2.15 | I13: =B13+Sheet1!$C$1*Sheet2!C13+Sheet1!$B$2 -> 61.4 | J13: =D13+Sheet1!$C$1*Sheet2!E13+Sheet1!$B$3 -> 71.2 | K13: =F13+Sheet1!$C$1*Sheet2!G13+Sheet1!$B$4 -> 83.35 | M13: =I13*15+100 -> 1021 | N13: =1.2 + K13*0.01 -> 2.0335 | O13: =$M$31/M13 -> 1.2656797 | P13: =B13+D13+F13 -> 55 | Q13: =C13+E13+G13 -> 5.55
... A29: Crimson Squall | B29: 20 | C29: 1.95 | D29: 20 | E29: 1.95 | F29: 20 | G29: 1.95 | I29: =B29+Sheet1!$C$1*Sheet2!C29+Sheet1!$B$2 -> 76.55 | J29: =D29+Sheet1!$C$1*Sheet2!E29+Sheet1!$B$3 -> 76.55 | K29: =F29+Sheet1!$C$1*Sheet2!G29+Sheet1!$B$4 -> 76.55 | M29: =I29*15+100 -> 1248.25 | N29: =1.2 + K29*0.01 -> 1.9655 | O29: =$M$31/M29 -> 1.0352565 | P29: =B29+D29+F29 -> 60 | Q29: =C29+E29+G29 -> 5.85
L31: Average | M31: =AVERAGE(M2:M29) -> 1292.2589 | N31: =AVERAGE(N2:N29) -> 1.8789107 | P31: =AVERAGE(P2:P29) -> 52.678571 | Q31: =AVERAGE(Q2:Q29) -> 5.2375

Sheet Sheet3
A1: Heal | B1: 0 | C1: =MIN(B1+1,FLOOR((Sheet1!$B$1-1)/5,1)) -> 1 | D1: =MIN(C1+1,FLOOR((Sheet1!$B$1-1)/5,1)) -> 2 | E1: =MIN(D1+1,FLOOR((Sheet1!$B$1-1)/5,1)) -> 3 | F1: =MIN(E1+1,FLOOR((Sheet1!$B$1-1)/5,1)) -> 4 | G1: =MIN(F1+1,FLOOR((Sheet1!$B$1-1)/5,1)) -> 5 | H1: =MIN(G1+1,FLOOR((Sheet1!$B$1-1)/5,1)) -> 5 | J1: Hero | K1: Mana | L1: Mana+ | M1: Cooldown | N1: Cd+ | O1: Base | P1: Base+ | Q1: Mod | R1: Mod+ | S1: Mod2 | T1: Mod2 +
A2: Flame of the Devout | C2: =($O2+B1*$P2+Sheet2!$K3*(Sheet3!$Q2+Sheet3!B1*Sheet3!$R2))*30*(0.25 + 0.75/2) -> 154.125 | D2: =($O2+C1*$P2+Sheet2!$K3*(Sheet3!$Q2+Sheet3!C1*Sheet3!$R2))*30*(0.25 + 0.75/2) -> 259.95 | E2: =($O2+D1*$P2+Sheet2!$K3*(Sheet3!$Q2+Sheet3!D1*Sheet3!$R2))*30*(0.25 + 0.75/2) -> 365.775 | F2: =($O2+E1*$P2+Sheet2!$K3*(Sheet3!$Q2+Sheet3!E1*Sheet3!$R2))*30*(0.25 + 0.75/2) -> 471.6 | G2: =($O2+F1*$P2+Sheet2!$K3*(Sheet3!$Q2+Sheet3!F1*Sheet3!$R2))*30*(0.25 + 0.75/2) -> 577.425 | H2: =($O2+G1*$P2+Sheet2!$K3*(Sheet3!$Q2+Sheet3!G1*Sheet3!$R2))*30*(0.25 + 0.75/2) -> 683.25 | K2: 60 | L2: 17 | M2: 45 | N2: 0 | O2: 5 | P2: 5 | Q2: 0.05 | R2: 0.01
A3: (Heroes) | C3: =($O3+B$1*$P3+Sheet2!$K$3*(Sheet3!$Q3+Sheet3!B$1*Sheet3!$R3))*30*(0.25 + 0.75/2)*2 -> 308.25 | D3: =($O3+C$1*$P3+Sheet2!$K$3*(Sheet3!$Q3+Sheet3!C$1*Sheet3!$R3))*30*(0.25 + 0.75/2)*2 -> 519.9 | E3: =($O3+D$1*$P3+Sheet2!$K$3*(Sheet3!$Q3+Sheet3!D$1*Sheet3!$R3))*30*(0.25 + 0.75/2)*2 -> 731.55 | F3: =($O3+E$1*$P3+Sheet2!$K$3*(Sheet3!$Q3+Sheet3!E$1*Sheet3!$R3))*30*(0.25 + 0.75/2)*2 -> 943.2 | G3: =($O3+F$1*$P3+Sheet2!$K$3*(Sheet3!$Q3+Sheet3!F$1*Sheet3!$R3))*30*(0.25 + 0.75/2)*2 -> 1154.85 | H3: =($O3+G$1*$P3+Sheet2!$K$3*(Sheet3!$Q3+Sheet3!G$1*Sheet3!$R3))*30*(0.25 + 0.75/2)*2 -> 1366.5 | K3: 60 | L3: 17 | M3: 45 | N3: 0 | O3: 5 | P3: 5 | Q3: 0.05 | R3: 0.01
A4: Ethereal Healing | C4: =($O4+B$1*$P4+Sheet2!$K2*(Sheet3!$Q4+Sheet3!B$1*Sheet3!$R4))*1.67 -> 423.345 | D4: =($O4+C$1*$P4+Sheet2!$K2*(Sheet3!$Q4+Sheet3!C$1*Sheet3!$R4))*1.67 -> 644.99575 | E4: =($O4+D$1*$P4+Sheet2!$K2*(Sheet3!$Q4+Sheet3!D$1*Sheet3!$R4))*1.67 -> 866.6465 | F4: =($O4+E$1*$P4+Sheet2!$K2*(Sheet3!$Q4+Sheet3!E$1*Sheet3!$R4))*1.67 -> 1088.2972 | G4: =($O4+F$1*$P4+Sheet2!$K2*(Sheet3!$Q4+Sheet3!F$1*Sheet3!$R4))*1.67 -> 1309.948 | H4: =($O4+G$1*$P4+Sheet2!$K2*(Sheet3!$Q4+Sheet3!G$1*Sheet3!$R4))*1.67 -> 1531.5987 | K4: 40 | L4: 16 | M4: 18 | N4: 0 | O4: 160 | P4: 100 | Q4: 1 | R4: 0.35
A5: Mend | C5: =$O5+B$1*$P5+Sheet2!K8*(Sheet3!$Q5+Sheet3!B$1*Sheet3!$R5) -> 300 | D5: =$O5+C$1*$P5+Sheet2!L8*(Sheet3!$Q5+Sheet3!C$1*Sheet3!$R5) -> 500 | E5: =$O5+D$1*$P5+Sheet2!M8*(Sheet3!$Q5+Sheet3!D$1*Sheet3!$R5) -> 700 | F5: =$O5+E$1*$P5+Sheet2!N8*(Sheet3!$Q5+Sheet3!E$1*Sheet3!$R5) -> 900 | G5: =$O5+F$1*$P5+Sheet2!O8*(Sheet3!$Q5+Sheet3!F$1*Sheet3!$R5) -> 1100 | H5: =$O5+G$1*$P5+Sheet2!P8*(Sheet3!$Q5+Sheet3!G$1*Sheet3!$R5) -> 1300 | K5: 20 | L5: 10 | M5: 90 | N5: -10 | O5: 300 | P5: 200
A6: Rapid Healing | C6: =$O6+B$1*$P6+Sheet2!$K4*(Sheet3!$Q6+Sheet3!B$1*Sheet3!$R6) -> 238.12 | D6: =$O6+C$1*$P6+Sheet2!$K4*(Sheet3!$Q6+Sheet3!C$1*Sheet3!$R6) -> 396.2825 | E6: =$O6+D$1*$P6+Sheet2!$K4*(Sheet3!$Q6+Sheet3!D$1*Sheet3!$R6) -> 554.445 | F6: =$O6+E$1*$P6+Sheet2!$K4*(Sheet3!$Q6+Sheet3!E$1*Sheet3!$R6) -> 712.6075 | G6: =$O6+F$1*$P6+Sheet2!$K4*(Sheet3!$Q6+Sheet3!F$1*Sheet3!$R6) -> 870.77 | H6: =$O6+G$1*$P6+Sheet2!$K4*(Sheet3!$Q6+Sheet3!G$1*Sheet3!$R6) -> 1028.9325 | K6: 55 | L6: 9 | M6: 14 | N6: 0 | O6: 180 | P6: 140 | Q6: 0.8 | R6: 0.25
A7: Mass Regen | C7: =$O7+B$1*$P7+Sheet2!$K6*(Sheet3!$Q7+Sheet3!B$1*Sheet3!$R7) -> 169.75 | D7: =$O7+C$1*$P7+Sheet2!$K6*(Sheet3!$Q7+Sheet3!C$1*Sheet3!$R7) -> 297.65 | E7: =$O7+D$1*$P7+Sheet2!$K6*(Sheet3!$Q7+Sheet3!D$1*Sheet3!$R7) -> 425.55 | F7: =$O7+E$1*$P7+Sheet2!$K6*(Sheet3!$Q7+Sheet3!E$1*Sheet3!$R7) -> 553.45 | G7: =$O7+F$1*$P7+Sheet2!$K6*(Sheet3!$Q7+Sheet3!F$1*Sheet3!$R7) -> 681.35 | H7: =$O7+G$1*$P7+Sheet2!$K6*(Sheet3!$Q7+Sheet3!G$1*Sheet3!$R7) -> 809.25 | K7: 60 | L7: 20 | M7: 15 | N7: 0 | O7: 100 | P7: 100 | Q7: 1 | R7: 0.4
A8: Cure Wounds | C8: =$O8+B$1*$P8+Sheet2!$K5*(Sheet3!$Q8+Sheet3!B$1*Sheet3!$R8) -> 231.8 | D8: =$O8+C$1*$P8+Sheet2!$K5*(Sheet3!$Q8+Sheet3!C$1*Sheet3!$R8) -> 389.52 | E8: =$O8+D$1*$P8+Sheet2!$K5*(Sheet3!$Q8+Sheet3!D$1*Sheet3!$R8) -> 547.24 | F8: =$O8+E$1*$P8+Sheet2!$K5*(Sheet3!$Q8+Sheet3!E$1*Sheet3!$R8) -> 704.96 | G8: =$O8+F$1*$P8+Sheet2!$K5*(Sheet3!$Q8+Sheet3!F$1*Sheet3!$R8) -> 862.68 | H8: =$O8+G$1*$P8+Sheet2!$K5*(Sheet3!$Q8+Sheet3!G$1*Sheet3!$R8) -> 1020.4 | K8: 40 | L8: 35 | M8: 12 | N8: 0 | O8: 150 | P8: 125 | Q8: 1 | R8: 0.4
A9: Life Wave | C9: =$O9+B$1*$P9+Sheet2!$K7*(Sheet3!$Q9+Sheet3!B$1*Sheet3!$R9) -> 191.65 | D9: =$O9+C$1*$P9+Sheet2!$K7*(Sheet3!$Q9+Sheet3!C$1*Sheet3!$R9) -> 343.3 | E9: =$O9+D$1*$P9+Sheet2!$K7*(Sheet3!$Q9+Sheet3!D$1*Sheet3!$R9) -> 494.95 | F9: =$O9+E$1*$P9+Sheet2!$K7*(Sheet3!$Q9+Sheet3!E$1*Sheet3!$R9) -> 646.6 | G9: =$O9+F$1*$P9+Sheet2!$K7*(Sheet3!$Q9+Sheet3!F$1*Sheet3!$R9) -> 798.25 | H9: =$O9+G$1*$P9+Sheet2!$K7*(Sheet3!$Q9+Sheet3!G$1*Sheet3!$R9) -> 949.9 | K9: 50 | L9: 20 | M9: 15 | N9: 0 | O9: 120 | P9: 80 | Q9: 1 | R9: 1
A15: AoE Damage
A16: Gale | C16: =($O16+B$1*$P16+Sheet2!$K$5*(Sheet3!$Q16+Sheet3!B$1*Sheet3!$R16)) -> 139.98 | D16: =($O16+C$1*$P16+Sheet2!$K$5*(Sheet3!$Q16+Sheet3!C$1*Sheet3!$R16)) -> 179.52 | E16: =($O16+D$1*$P16+Sheet2!$K$5*(Sheet3!$Q16+Sheet3!D$1*Sheet3!$R16)) -> 219.06 | F16: =($O16+E$1*$P16+Sheet2!$K$5*(Sheet3!$Q16+Sheet3!E$1*Sheet3!$R16)) -> 258.6 | G16: =($O16+F$1*$P16+Sheet2!$K$5*(Sheet3!$Q16+Sheet3!F$1*Sheet3!$R16)) -> 298.14 | H16: =($O16+G$1*$P16+Sheet2!$K$5*(Sheet3!$Q16+Sheet3!G$1*Sheet3!$R16)) -> 337.68 | J16: =Sheet2!A5 -> Arboreal Crusader | K16: 55 | L16: 22 | M16: 11 | N16: 0 | O16: 50 | P16: 15 | Q16: 1.1 | R16: 0.3
A17: Incinerate | C17: =($O17+B$1*$P17+Sheet2!$K$8*(Sheet3!$Q17+Sheet3!B$1*Sheet3!$R17)) -> 58.7 | D17: =($O17+C$1*$P17+Sheet2!$K$8*(Sheet3!$Q17+Sheet3!C$1*Sheet3!$R17)) -> 79.092 | E17: =($O17+D$1*$P17+Sheet2!$K$8*(Sheet3!$Q17+Sheet3!D$1*Sheet3!$R17)) -> 99.484 | F17: =($O17+E$1*$P17+Sheet2!$K$8*(Sheet3!$Q17+Sheet3!E$1*Sheet3!$R17)) -> 119.876 | G17: =($O17+F$1*$P17+Sheet2!$K$8*(Sheet3!$Q17+Sheet3!F$1*Sheet3!$R17)) -> 140.268 | H17: =($O17+G$1*$P17+Sheet2!$K$8*(Sheet3!$Q17+Sheet3!G$1*Sheet3!$R17)) -> 160.66 | J17: =Sheet2!A8 -> Soul Binder | K17: 55 | L17: 14 | M17: 3 | N17: 0 | O17: 25 | P17: 15 | Q17: 0.5 | R17: 0.08
A18: Arctic Cataclysm | C18: =($O18+B$1*$P18+Sheet2!$I$9*(Sheet3!$Q18+Sheet3!B$1*Sheet3!$R18)) -> 173.06 | D18: =($O18+C$1*$P18+Sheet2!$I$9*(Sheet3!$Q18+Sheet3!C$1*Sheet3!$R18)) -> 213.99 | E18: =($O18+D$1*$P18+Sheet2!$I$9*(Sheet3!$Q18+Sheet3!D$1*Sheet3!$R18)) -> 254.92 | F18: =($O18+E$1*$P18+Sheet2!$I$9*(Sheet3!$Q18+Sheet3!E$1*Sheet3!$R18)) -> 295.85 | G18: =($O18+F$1*$P18+Sheet2!$I$9*(Sheet3!$Q18+Sheet3!F$1*Sheet3!$R18)) -> 336.78 | H18: =($O18+G$1*$P18+Sheet2!$I$9*(Sheet3!$Q18+Sheet3!G$1*Sheet3!$R18)) -> 377.71 | J18: =Sheet2!A9 -> Glacial Tyrant | K18: 70 | L18: 24 | M18: 16 | N18: 0 | O18: 35 | P18: 25 | Q18: 1.3 | R18: 0.15
A19: Caustic Breath | C19: =($O19+B$1*$P19+Sheet2!$I$10*(Sheet3!$Q19+Sheet3!B$1*Sheet3!$R19)) -> 177.14 | D19: =($O19+C$1*$P19+Sheet2!$I$10*(Sheet3!$Q19+Sheet3!C$1*Sheet3!$R19)) -> 214.62 | E19: =($O19+D$1*$P19+Sheet2!$I$10*(Sheet3!$Q19+Sheet3!D$1*Sheet3!$R19)) -> 252.1 | F19: =($O19+E$1*$P19+Sheet2!$I$10*(Sheet3!$Q19+Sheet3!E$1*Sheet3!$R19)) -> 289.58 | G19: =($O19+F$1*$P19+Sheet2!$I$10*(Sheet3!$Q19+Sheet3!F$1*Sheet3!$R19)) -> 327.06 | H19: =($O19+G$1*$P19+Sheet2!$I$10*(Sheet3!$Q19+Sheet3!G$1*Sheet3!$R19)) -> 364.54 | J19: =Sheet2!A10 -> Acid Reaver | K19: 40 | L19: 12 | M19: 8 | N19: 0 | O19: 70 | P19: 18 | Q19: 1.1 | R19: 0.2
A20: Holy Strike | C20: =($O20+B$1*$P20+Sheet2!$K$11*(Sheet3!$Q20+Sheet3!B$1*Sheet3!$R20)) -> 167.64 | D20: =($O20+C$1*$P20+Sheet2!$K$11*(Sheet3!$Q20+Sheet3!C$1*Sheet3!$R20)) -> 208.34 | E20: =($O20+D$1*$P20+Sheet2!$K$11*(Sheet3!$Q20+Sheet3!D$1*Sheet3!$R20)) -> 249.04 | F20: =($O20+E$1*$P20+Sheet2!$K$11*(Sheet3!$Q20+Sheet3!E$1*Sheet3!$R20)) -> 289.74 | G20: =($O20+F$1*$P20+Sheet2!$K$11*(Sheet3!$Q20+Sheet3!F$1*Sheet3!$R20)) -> 330.44 | H20: =($O20+G$1*$P20+Sheet2!$K$11*(Sheet3!$Q20+Sheet3!G$1*Sheet3!$R20)) -> 371.14 | J20: =Sheet2!A11 -> Divine Wizard | K20: 70 | L20: 32 | M20: 7.5 | N20: 0.75 | O20: 60 | P20: 20 | Q20: 1.3 | R20: 0.25
A21: Rockslide | C21: =($O21+B$1*$P21+Sheet2!$I$12*(Sheet3!$Q21+Sheet3!B$1*Sheet3!$R21)) -> 158.465 | D21: =($O21+C$1*$P21+Sheet2!$I$12*(Sheet3!$Q21+Sheet3!C$1*Sheet3!$R21)) -> 209.125 | E21: =($O21+D$1*$P21+Sheet2!$I$12*(Sheet3!$Q21+Sheet3!D$1*Sheet3!$R21)) -> 259.785 | F21: =($O21+E$1*$P21+Sheet2!$I$12*(Sheet3!$Q21+Sheet3!E$1*Sheet3!$R21)) -> 310.445 | G21: =($O21+F$1*$P21+Sheet2!$I$12*(Sheet3!$Q21+Sheet3!F$1*Sheet3!$R21)) -> 361.105 | H21: =($O21+G$1*$P21+Sheet2!$I$12*(Sheet3!$Q21+Sheet3!G$1*Sheet3!$R21)) -> 411.765 | J21: =Sheet2!A12 -> Colossus | K21: 65 | L21: 24 | M21: 18 | N21: 0 | O21: 50 | P21: 30 | Q21: 1.05 | R21: 0.2
A22: Rogue Wave | C22: =($O22+B$1*$P22+Sheet2!$K$13*(Sheet3!$Q22+Sheet3!B$1*Sheet3!$R22)) -> 144.1875 | D22: =($O22+C$1*$P22+Sheet2!$K$13*(Sheet3!$Q22+Sheet3!C$1*Sheet3!$R22)) -> 163.69 | E22: =($O22+D$1*$P22+Sheet2!$K$13*(Sheet3!$Q22+Sheet3!D$1*Sheet3!$R22)) -> 183.1925 | F22: =($O22+E$1*$P22+Sheet2!$K$13*(Sheet3!$Q22+Sheet3!E$1*Sheet3!$R22)) -> 202.695 | G22: =($O22+F$1*$P22+Sheet2!$K$13*(Sheet3!$Q22+Sheet3!F$1*Sheet3!$R22)) -> 222.1975 | H22: =($O22+G$1*$P22+Sheet2!$K$13*(Sheet3!$Q22+Sheet3!G$1*Sheet3!$R22)) -> 241.7 | J22: =Sheet2!A13 -> Crest Witch | K22: 70 | L22: 9 | M22: 15 | N22: 0 | O22: 40 | P22: 7 | Q22: 1.25 | R22: 0.15
A23: Frost Spire | C23: =($O23+B$1*$P23+Sheet2!$K$14*(Sheet3!$Q23+Sheet3!B$1*Sheet3!$R23))*14 -> 257.656 | D23: =($O23+C$1*$P23+Sheet2!$K$14*(Sheet3!$Q23+Sheet3!C$1*Sheet3!$R23))*14 -> 323.932 | E23: =($O23+D$1*$P23+Sheet2!$K$14*(Sheet3!$Q23+Sheet3!D$1*Sheet3!$R23))*14 -> 390.208 | F23: =($O23+E$1*$P23+Sheet2!$K$14*(Sheet3!$Q23+Sheet3!E$1*Sheet3!$R23))*14 -> 456.484 | G23: =($O23+F$1*$P23+Sheet2!$K$14*(Sheet3!$Q23+Sheet3!F$1*Sheet3!$R23))*14 -> 522.76 | H23: =($O23+G$1*$P23+Sheet2!$K$14*(Sheet3!$Q23+Sheet3!G$1*Sheet3!$R23))*14 -> 589.036 | J23: =Sheet2!A14 -> Icespinner | K23: 70 | L23: 16 | M23: 21 | N23: 0 | O23: 8 | P23: 3 | Q23: 0.12 | R23: 0.02
A24: Terra Smash | C24: =($O24+B$1*$P24+Sheet2!$I$15*(Sheet3!$Q24+Sheet3!B$1*Sheet3!$R24)) -> 132.4 | D24: =($O24+C$1*$P24+Sheet2!$I$15*(Sheet3!$Q24+Sheet3!C$1*Sheet3!$R24)) -> 187.5 | E24: =($O24+D$1*$P24+Sheet2!$I$15*(Sheet3!$Q24+Sheet3!D$1*Sheet3!$R24)) -> 242.6 | F24: =($O24+E$1*$P24+Sheet2!$I$15*(Sheet3!$Q24+Sheet3!E$1*Sheet3!$R24)) -> 297.7 | G24: =($O24+F$1*$P24+Sheet2!$I$15*(Sheet3!$Q24+Sheet3!F$1*Sheet3!$R24)) -> 352.8 | H24: =($O24+G$1*$P24+Sheet2!$I$15*(Sheet3!$Q24+Sheet3!G$1*Sheet3!$R24)) -> 407.9 | J24: =Sheet2!A15 -> Ascendant | K24: 35 | L24: 8 | M24: 8 | N24: 0 | O24: 40 | P24: 32 | Q24: 1.2 | R24: 0.3
A25: Pestilence | C25: =($O25+B$1*$P25+Sheet2!$K$16*(Sheet3!$Q25+Sheet3!B$1*Sheet3!$R25)) -> 154.7 | D25: =($O25+C$1*$P25+Sheet2!$K$16*(Sheet3!$Q25+Sheet3!C$1*Sheet3!$R25)) -> 198.95 | E25: =($O25+D$1*$P25+Sheet2!$K$16*(Sheet3!$Q25+Sheet3!D$1*Sheet3!$R25)) -> 243.2 | F25: =($O25+E$1*$P25+Sheet2!$K$16*(Sheet3!$Q25+Sheet3!E$1*Sheet3!$R25)) -> 287.45 | G25: =($O25+F$1*$P25+Sheet2!$K$16*(Sheet3!$Q25+Sheet3!F$1*Sheet3!$R25)) -> 331.7 | H25: =($O25+G$1*$P25+Sheet2!$K$16*(Sheet3!$Q25+Sheet3!G$1*Sheet3!$R25)) -> 375.95 | J25: =Sheet2!A16 -> Defiler | K25: 60 | L25: 21 | M25: 9 | N25: 0 | O25: 70 | P25: 25 | Q25: 1.1 | R25: 0.25
A26: Pyroclasm | C26: =($O26+B$1*$P26+Sheet2!$I$17*(Sheet3!$Q26+Sheet3!B$1*Sheet3!$R26)) -> 150.555 | D26: =($O26+C$1*$P26+Sheet2!$I$17*(Sheet3!$Q26+Sheet3!C$1*Sheet3!$R26)) -> 205.103 | E26: =($O26+D$1*$P26+Sheet2!$I$17*(Sheet3!$Q26+Sheet3!D$1*Sheet3!$R26)) -> 259.651 | F26: =($O26+E$1*$P26+Sheet2!$I$17*(Sheet3!$Q26+Sheet3!E$1*Sheet3!$R26)) -> 314.199 | G26: =($O26+F$1*$P26+Sheet2!$I$17*(Sheet3!$Q26+Sheet3!F$1*Sheet3!$R26)) -> 368.747 | H26: =($O26+G$1*$P26+Sheet2!$I$17*(Sheet3!$Q26+Sheet3!G$1*Sheet3!$R26)) -> 423.295 | J26: =Sheet2!A17 -> Emberwraith | K26: 60 | L26: 22 | M26: 26 | N26: 0 | O26: 66 | P26: 32 | Q26: 0.9 | R26: 0.24
A27: Whirl | C27: =($O27+B$1*$P27+Sheet2!$J$18*(Sheet3!$Q27+Sheet3!B$1*Sheet3!$R27)) -> 105.475 | D27: =($O27+C$1*$P27+Sheet2!$J$18*(Sheet3!$Q27+Sheet3!C$1*Sheet3!$R27)) -> 127.878 | E27: =($O27+D$1*$P27+Sheet2!$J$18*(Sheet3!$Q27+Sheet3!D$1*Sheet3!$R27)) -> 150.281 | F27: =($O27+E$1*$P27+Sheet2!$J$18*(Sheet3!$Q27+Sheet3!E$1*Sheet3!$R27)) -> 172.684 | G27: =($O27+F$1*$P27+Sheet2!$J$18*(Sheet3!$Q27+Sheet3!F$1*Sheet3!$R27)) -> 195.087 | H27: =($O27+G$1*$P27+Sheet2!$J$18*(Sheet3!$Q27+Sheet3!G$1*Sheet3!$R27)) -> 217.49 | J27: =Sheet2!A18 -> Forlorn Martyr | K27: 50 | L27: 12 | M27: 8 | N27: 0 | O27: 55 | P27: 15 | Q27: 0.75 | R27: 0.11
A28: Shadowclap | C28: =($O28+B$1*$P28+Sheet2!$I$19*(Sheet3!$Q28+Sheet3!B$1*Sheet3!$R28)) -> 105.96 | D28: =($O28+C$1*$P28+Sheet2!$I$19*(Sheet3!$Q28+Sheet3!C$1*Sheet3!$R28)) -> 139.265 | E28: =($O28+D$1*$P28+Sheet2!$I$19*(Sheet3!$Q28+Sheet3!D$1*Sheet3!$R28)) -> 172.57 | F28: =($O28+E$1*$P28+Sheet2!$I$19*(Sheet3!$Q28+Sheet3!E$1*Sheet3!$R28)) -> 205.875 | G28: =($O28+F$1*$P28+Sheet2!$I$19*(Sheet3!$Q28+Sheet3!F$1*Sheet3!$R28)) -> 239.18 | H28: =($O28+G$1*$P28+Sheet2!$I$19*(Sheet3!$Q28+Sheet3!G$1*Sheet3!$R28)) -> 272.485 | J28: =Sheet2!A19 -> Blackguard | K28: 40 | L28: 12 | M28: 8 | N28: 0 | O28: 35 | P28: 20 | Q28: 0.8 | R28: 0.15
A29: Inferno | C29: =($O29+B$1*$P29+Sheet2!$K$20*(Sheet3!$Q29+Sheet3!B$1*Sheet3!$R29)) -> 103.7 | D29: =($O29+C$1*$P29+Sheet2!$K$20*(Sheet3!$Q29+Sheet3!C$1*Sheet3!$R29)) -> 137.125 | E29: =($O29+D$1*$P29+Sheet2!$K$20*(Sheet3!$Q29+Sheet3!D$1*Sheet3!$R29)) -> 170.55 | F29: =($O29+E$1*$P29+Sheet2!$K$20*(Sheet3!$Q29+Sheet3!E$1*Sheet3!$R29)) -> 203.975 | G29: =($O29+F$1*$P29+Sheet2!$K$20*(Sheet3!$Q29+Sheet3!F$1*Sheet3!$R29)) -> 237.4 | H29: =($O29+G$1*$P29+Sheet2!$K$20*(Sheet3!$Q29+Sheet3!G$1*Sheet3!$R29)) -> 270.825 | J29: =Sheet2!A20 -> Fire Knight | K29: 50 | L29: 3 | M29: 15 | N29: 0 | O29: 50 | P29: 20 | Q29: 1 | R29: 0.25
A30: Pheonix Strike | C30: =($O30+B$1*$P30+Sheet2!$I$20*(Sheet3!$Q30+Sheet3!B$1*Sheet3!$R30)) -> 156.15 | D30: =($O30+C$1*$P30+Sheet2!$I$20*(Sheet3!$Q30+Sheet3!C$1*Sheet3!$R30)) -> 211.995 | E30: =($O30+D$1*$P30+Sheet2!$I$20*(Sheet3!$Q30+Sheet3!D$1*Sheet3!$R30)) -> 267.84 | F30: =($O30+E$1*$P30+Sheet2!$I$20*(Sheet3!$Q30+Sheet3!E$1*Sheet3!$R30)) -> 323.685 | G30: =($O30+F$1*$P30+Sheet2!$I$20*(Sheet3!$Q30+Sheet3!F$1*Sheet3!$R30)) -> 379.53 | H30: =($O30+G$1*$P30+Sheet2!$I$20*(Sheet3!$Q30+Sheet3!G$1*Sheet3!$R30)) -> 435.375 | J30: =Sheet2!A20 -> Fire Knight | K30: 40 | L30: 8 | M30: 8 | N30: 0 | O30: 70 | P30: 30 | Q30: 1 | R30: 0.3
A31: Slice | C31: =($O31+B$1*$P31+Sheet2!$I$21*(Sheet3!$Q31+Sheet3!B$1*Sheet3!$R31)) -> 117.56 | D31: =($O31+C$1*$P31+Sheet2!$I$21*(Sheet3!$Q31+Sheet3!C$1*Sheet3!$R31)) -> 147.95 | E31: =($O31+D$1*$P31+Sheet2!$I$21*(Sheet3!$Q31+Sheet3!D$1*Sheet3!$R31)) -> 178.34 | F31: =($O31+E$1*$P31+Sheet2!$I$21*(Sheet3!$Q31+Sheet3!E$1*Sheet3!$R31)) -> 208.73 | G31: =($O31+F$1*$P31+Sheet2!$I$21*(Sheet3!$Q31+Sheet3!F$1*Sheet3!$R31)) -> 239.12 | H31: =($O31+G$1*$P31+Sheet2!$I$21*(Sheet3!$Q31+Sheet3!G$1*Sheet3!$R31)) -> 269.51 | J31: =Sheet2!A21 -> Wretched Chef | K31: 55 | L31: 8 | M31: 8 | N31: 0 | O31: 40 | P31: 11 | Q31: 0.8 | R31: 0.2
A35: Single Target
A36: Hold Person | C36: =($O36+B$1*$P36+Sheet2!$K$22*(Sheet3!$Q36+Sheet3!B$1*Sheet3!$R36)) * ($S36+B$1*$T36) -> 187.18 | D36: =($O36+C$1*$P36+Sheet2!$K$22*(Sheet3!$Q36+Sheet3!C$1*Sheet3!$R36)) * ($S36+C$1*$T36) -> 245.5503 | E36: =($O36+D$1*$P36+Sheet2!$K$22*(Sheet3!$Q36+Sheet3!D$1*Sheet3!$R36)) * ($S36+D$1*$T36) -> 311.8232 | F36: =($O36+E$1*$P36+Sheet2!$K$22*(Sheet3!$Q36+Sheet3!E$1*Sheet3!$R36)) * ($S36+E$1*$T36) -> 385.9987 | G36: =($O36+F$1*$P36+Sheet2!$K$22*(Sheet3!$Q36+Sheet3!F$1*Sheet3!$R36)) * ($S36+F$1*$T36) -> 468.0768 | H36: =($O36+G$1*$P36+Sheet2!$K$22*(Sheet3!$Q36+Sheet3!G$1*Sheet3!$R36)) * ($S36+G$1*$T36) -> 558.0575 | J36: =Sheet2!A22 -> Aeromancess | K36: 75 | L36: 18 | M36: 18 | N36: 0 | O36: 50 | P36: 3 | Q36: 0.6 | R36: 0.14 | S36: 2 | T36: 0.3
A37: Chasten | C37: =($O37+B$1*$P37+Sheet2!$I$3*(Sheet3!$Q37+Sheet3!B$1*Sheet3!$R37))+($S37+B$1*$T37+Sheet2!$K$3*(Sheet3!$U37+Sheet3!B$1*Sheet3!$V37)) -> 159.625 | D37: =($O37+C$1*$P37+Sheet2!$I$3*(Sheet3!$Q37+Sheet3!C$1*Sheet3!$R37))+($S37+C$1*$T37+Sheet2!$K$3*(Sheet3!$U37+Sheet3!C$1*Sheet3!$V37)) -> 207.5875 | E37: =($O37+D$1*$P37+Sheet2!$I$3*(Sheet3!$Q37+Sheet3!D$1*Sheet3!$R37))+($S37+D$1*$T37+Sheet2!$K$3*(Sheet3!$U37+Sheet3!D$1*Sheet3!$V37)) -> 255.55 | F37: =($O37+E$1*$P37+Sheet2!$I$3*(Sheet3!$Q37+Sheet3!E$1*Sheet3!$R37))+($S37+E$1*$T37+Sheet2!$K$3*(Sheet3!$U37+Sheet3!E$1*Sheet3!$V37)) -> 303.5125 | G37: =($O37+F$1*$P37+Sheet2!$I$3*(Sheet3!$Q37+Sheet3!F$1*Sheet3!$R37))+($S37+F$1*$T37+Sheet2!$K$3*(Sheet3!$U37+Sheet3!F$1*Sheet3!$V37)) -> 351.475 | H37: =($O37+G$1*$P37+Sheet2!$I$3*(Sheet3!$Q37+Sheet3!G$1*Sheet3!$R37))+($S37+G$1*$T37+Sheet2!$K$3*(Sheet3!$U37+Sheet3!G$1*Sheet3!$V37)) -> 399.4375 | J37: =Sheet2!A3 -> Blazing Priest | K37: 50 | L37: 4 | M37: 8 | N37: 0 | O37: 15 | P37: 12 | Q37: 0.7 | R37: 0.15 | S37: 30 | T37: 16 | U37: 0.8 | V37: 0.1
A38: Demoralizing Blow | C38: =($O38+B$1*$P38+Sheet2!$K$23*(Sheet3!$Q38+Sheet3!B$1*Sheet3!$R38)) -> 114 | D38: =($O38+C$1*$P38+Sheet2!$K$23*(Sheet3!$Q38+Sheet3!C$1*Sheet3!$R38)) -> 166.25 | E38: =($O38+D$1*$P38+Sheet2!$K$23*(Sheet3!$Q38+Sheet3!D$1*Sheet3!$R38)) -> 218.5 | F38: =($O38+E$1*$P38+Sheet2!$K$23*(Sheet3!$Q38+Sheet3!E$1*Sheet3!$R38)) -> 270.75 | G38: =($O38+F$1*$P38+Sheet2!$K$23*(Sheet3!$Q38+Sheet3!F$1*Sheet3!$R38)) -> 323 | H38: =($O38+G$1*$P38+Sheet2!$K$23*(Sheet3!$Q38+Sheet3!G$1*Sheet3!$R38)) -> 375.25 | J38: =Sheet2!A23 -> Mystic Swashbuckler | K38: 50 | L38: 14 | M38: 12 | N38: 0 | O38: 45 | P38: 35 | Q38: 1.2 | R38: 0.3
A39: Soulstrike | C39: =($O39+B$1*$P39+Sheet2!$K$8*(Sheet3!$Q39+Sheet3!B$1*Sheet3!$R39))*6 -> 245.1 | D39: =($O39+C$1*$P39+Sheet2!$K$8*(Sheet3!$Q39+Sheet3!C$1*Sheet3!$R39))*6 -> 373.452 | E39: =($O39+D$1*$P39+Sheet2!$K$8*(Sheet3!$Q39+Sheet3!D$1*Sheet3!$R39))*6 -> 501.804 | F39: =($O39+E$1*$P39+Sheet2!$K$8*(Sheet3!$Q39+Sheet3!E$1*Sheet3!$R39))*6 -> 630.156 | G39: =($O39+F$1*$P39+Sheet2!$K$8*(Sheet3!$Q39+Sheet3!F$1*Sheet3!$R39))*6 -> 758.508 | H39: =($O39+G$1*$P39+Sheet2!$K$8*(Sheet3!$Q39+Sheet3!G$1*Sheet3!$R39))*6 -> 886.86 | J39: =Sheet2!A8 -> Soul Binder | K39: 65 | L39: 11 | M39: 20 | N39: 0 | O39: 24 | P39: 16 | Q39: 0.25 | R39: 0.08
A40: Echoing Strike | C40: =($O40+B$1*$P40+Sheet2!$I$4*(Sheet3!$Q40+Sheet3!B$1*Sheet3!$R40)) -> 69.4125 | D40: =($O40+C$1*$P40+Sheet2!$I$4*(Sheet3!$Q40+Sheet3!C$1*Sheet3!$R40)) -> 82.771 | E40: =($O40+D$1*$P40+Sheet2!$I$4*(Sheet3!$Q40+Sheet3!D$1*Sheet3!$R40)) -> 96.1295 | F40: =($O40+E$1*$P40+Sheet2!$I$4*(Sheet3!$Q40+Sheet3!E$1*Sheet3!$R40)) -> 109.488 | G40: =($O40+F$1*$P40+Sheet2!$I$4*(Sheet3!$Q40+Sheet3!F$1*Sheet3!$R40)) -> 122.8465 | H40: =($O40+G$1*$P40+Sheet2!$I$4*(Sheet3!$Q40+Sheet3!G$1*Sheet3!$R40)) -> 136.205 | J40: =Sheet2!A4 -> Time Cleric | K40: 25 | L40: 4 | M40: 4 | N40: 0 | O40: 12 | P40: 8 | Q40: 0.75 | R40: 0.07
A41: Degeneration | C41: =($O41+B$1*$P41+Sheet2!$K$4*(Sheet3!$Q41+Sheet3!B$1*Sheet3!$R41))*6 -> 183.18 | D41: =($O41+C$1*$P41+Sheet2!$K$4*(Sheet3!$Q41+Sheet3!C$1*Sheet3!$R41))*6 -> 294.411 | E41: =($O41+D$1*$P41+Sheet2!$K$4*(Sheet3!$Q41+Sheet3!D$1*Sheet3!$R41))*6 -> 405.642 | F41: =($O41+E$1*$P41+Sheet2!$K$4*(Sheet3!$Q41+Sheet3!E$1*Sheet3!$R41))*6 -> 516.873 | G41: =($O41+F$1*$P41+Sheet2!$K$4*(Sheet3!$Q41+Sheet3!F$1*Sheet3!$R41))*6 -> 628.104 | H41: =($O41+G$1*$P41+Sheet2!$K$4*(Sheet3!$Q41+Sheet3!G$1*Sheet3!$R41))*6 -> 739.335 | J41: =Sheet2!A4 -> Time Cleric | K41: 50 | L41: 18 | M41: 15 | N41: 0 | O41: 16 | P41: 12 | Q41: 0.2 | R41: 0.09
A42: Smash | C42: =($O42+B$1*$P42+Sheet2!$I$12*(Sheet3!$Q42+Sheet3!B$1*Sheet3!$R42)) -> 199.125 | D42: =($O42+C$1*$P42+Sheet2!$I$12*(Sheet3!$Q42+Sheet3!C$1*Sheet3!$R42)) -> 234.62 | E42: =($O42+D$1*$P42+Sheet2!$I$12*(Sheet3!$Q42+Sheet3!D$1*Sheet3!$R42)) -> 270.115 | F42: =($O42+E$1*$P42+Sheet2!$I$12*(Sheet3!$Q42+Sheet3!E$1*Sheet3!$R42)) -> 305.61 | G42: =($O42+F$1*$P42+Sheet2!$I$12*(Sheet3!$Q42+Sheet3!F$1*Sheet3!$R42)) -> 341.105 | H42: =($O42+G$1*$P42+Sheet2!$I$12*(Sheet3!$Q42+Sheet3!G$1*Sheet3!$R42)) -> 376.6 | J42: =Sheet2!A12 -> Colossus | K42: 35 | L42: 6 | M42: 8 | N42: 0 | O42: 70 | P42: 20 | Q42: 1.25 | R42: 0.15
A43: Grasping Tree | C43: =($O43+B$1*$P43+Sheet2!$K$24*(Sheet3!$Q43+Sheet3!B$1*Sheet3!$R43)) * ($S43+B$1*$T43) -> 79.7 | D43: =($O43+C$1*$P43+Sheet2!$K$24*(Sheet3!$Q43+Sheet3!C$1*Sheet3!$R43)) * ($S43+C$1*$T43) -> 120.318 | E43: =($O43+D$1*$P43+Sheet2!$K$24*(Sheet3!$Q43+Sheet3!D$1*Sheet3!$R43)) * ($S43+D$1*$T43) -> 166.789 | F43: =($O43+E$1*$P43+Sheet2!$K$24*(Sheet3!$Q43+Sheet3!E$1*Sheet3!$R43)) * ($S43+E$1*$T43) -> 219.113 | G43: =($O43+F$1*$P43+Sheet2!$K$24*(Sheet3!$Q43+Sheet3!F$1*Sheet3!$R43)) * ($S43+F$1*$T43) -> 277.29 | H43: =($O43+G$1*$P43+Sheet2!$K$24*(Sheet3!$Q43+Sheet3!G$1*Sheet3!$R43)) * ($S43+G$1*$T43) -> 341.32 | J43: =Sheet2!A24 -> Elder Treant | K43: 50 | L43: 15 | M43: 19 | N43: 0 | O43: 24 | P43: 2 | Q43: 0.25 | R43: 0.03 | S43: 2 | T43: 0.75
A44: Ice Lance | C44: =($O44+B$1*$P44+Sheet2!$K$14*(Sheet3!$Q44+Sheet3!B$1*Sheet3!$R44))+($S44+B$1*$T44+Sheet2!$K$14*(Sheet3!$U44+Sheet3!B$1*Sheet3!$V44)) -> 210.05 | D44: =($O44+C$1*$P44+Sheet2!$K$14*(Sheet3!$Q44+Sheet3!C$1*Sheet3!$R44))+($S44+C$1*$T44+Sheet2!$K$14*(Sheet3!$U44+Sheet3!C$1*Sheet3!$V44)) -> 256.725 | E44: =($O44+D$1*$P44+Sheet2!$K$14*(Sheet3!$Q44+Sheet3!D$1*Sheet3!$R44))+($S44+D$1*$T44+Sheet2!$K$14*(Sheet3!$U44+Sheet3!D$1*Sheet3!$V44)) -> 303.4 | F44: =($O44+E$1*$P44+Sheet2!$K$14*(Sheet3!$Q44+Sheet3!E$1*Sheet3!$R44))+($S44+E$1*$T44+Sheet2!$K$14*(Sheet3!$U44+Sheet3!E$1*Sheet3!$V44)) -> 350.075 | G44: =($O44+F$1*$P44+Sheet2!$K$14*(Sheet3!$Q44+Sheet3!F$1*Sheet3!$R44))+($S44+F$1*$T44+Sheet2!$K$14*(Sheet3!$U44+Sheet3!F$1*Sheet3!$V44)) -> 396.75 | H44: =($O44+G$1*$P44+Sheet2!$K$14*(Sheet3!$Q44+Sheet3!G$1*Sheet3!$R44))+($S44+G$1*$T44+Sheet2!$K$14*(Sheet3!$U44+Sheet3!G$1*Sheet3!$V44)) -> 443.425 | J44: =Sheet2!A14 -> Icespinner | K44: 60 | L44: 25 | M44: 17 | N44: 0 | O44: 50 | P44: 15 | Q44: 0.5 | R44: 0.1 | S44: 30 | T44: 10 | U44: 1 | V44: 0.15
A45: Lunge | C45: =($O45+B$1*$P45+Sheet2!$I$25*(Sheet3!$Q45+Sheet3!B$1*Sheet3!$R45)) -> 167.5 | D45: =($O45+C$1*$P45+Sheet2!$I$25*(Sheet3!$Q45+Sheet3!C$1*Sheet3!$R45)) -> 232 | E45: =($O45+D$1*$P45+Sheet2!$I$25*(Sheet3!$Q45+Sheet3!D$1*Sheet3!$R45)) -> 296.5 | F45: =($O45+E$1*$P45+Sheet2!$I$25*(Sheet3!$Q45+Sheet3!E$1*Sheet3!$R45)) -> 361 | G45: =($O45+F$1*$P45+Sheet2!$I$25*(Sheet3!$Q45+Sheet3!F$1*Sheet3!$R45)) -> 425.5 | H45: =($O45+G$1*$P45+Sheet2!$I$25*(Sheet3!$Q45+Sheet3!G$1*Sheet3!$R45)) -> 490 | J45: =Sheet2!A25 -> Master of the Hunt | K45: 40 | L45: 7 | M45: 8 | N45: 0 | O45: 70 | P45: 45 | Q45: 1.25 | R45: 0.25
A46: Smite | C46: =($O46+B$1*$P46+Sheet2!$K$7*(Sheet3!$Q46+Sheet3!B$1*Sheet3!$R46)) -> 121.65 | D46: =($O46+C$1*$P46+Sheet2!$K$7*(Sheet3!$Q46+Sheet3!C$1*Sheet3!$R46)) -> 179.5625 | E46: =($O46+D$1*$P46+Sheet2!$K$7*(Sheet3!$Q46+Sheet3!D$1*Sheet3!$R46)) -> 237.475 | F46: =($O46+E$1*$P46+Sheet2!$K$7*(Sheet3!$Q46+Sheet3!E$1*Sheet3!$R46)) -> 295.3875 | G46: =($O46+F$1*$P46+Sheet2!$K$7*(Sheet3!$Q46+Sheet3!F$1*Sheet3!$R46)) -> 353.3 | H46: =($O46+G$1*$P46+Sheet2!$K$7*(Sheet3!$Q46+Sheet3!G$1*Sheet3!$R46)) -> 411.2125 | J46: =Sheet2!A7 -> Scarab | K46: 90 | L46: 0 | M46: 8 | N46: 0 | O46: 50 | P46: 40 | Q46: 1 | R46: 0.25
A47: Maw of Death | C47: =($O47+B$1*$P47+Sheet2!$I$26*(Sheet3!$Q47+Sheet3!B$1*Sheet3!$R47)) -> 161.95 | D47: =($O47+C$1*$P47+Sheet2!$I$26*(Sheet3!$Q47+Sheet3!C$1*Sheet3!$R47)) -> 201.4925 | E47: =($O47+D$1*$P47+Sheet2!$I$26*(Sheet3!$Q47+Sheet3!D$1*Sheet3!$R47)) -> 241.035 | F47: =($O47+E$1*$P47+Sheet2!$I$26*(Sheet3!$Q47+Sheet3!E$1*Sheet3!$R47)) -> 280.5775 | G47: =($O47+F$1*$P47+Sheet2!$I$26*(Sheet3!$Q47+Sheet3!F$1*Sheet3!$R47)) -> 320.12 | H47: =($O47+G$1*$P47+Sheet2!$I$26*(Sheet3!$Q47+Sheet3!G$1*Sheet3!$R47)) -> 359.6625 | J47: =Sheet2!A26 -> Behemoth | K47: 35 | L47: 6 | M47: 8 | N47: 0 | O47: 65 | P47: 25 | Q47: 1 | R47: 0.15
A48: Cinderfury | C48: =($O48+B$1*$P48+Sheet2!$I$17*(Sheet3!$Q48+Sheet3!B$1*Sheet3!$R48))*4 -> 172.74 | D48: =($O48+C$1*$P48+Sheet2!$I$17*(Sheet3!$Q48+Sheet3!C$1*Sheet3!$R48))*4 -> 247.046 | E48: =($O48+D$1*$P48+Sheet2!$I$17*(Sheet3!$Q48+Sheet3!D$1*Sheet3!$R48))*4 -> 321.352 | F48: =($O48+E$1*$P48+Sheet2!$I$17*(Sheet3!$Q48+Sheet3!E$1*Sheet3!$R48))*4 -> 395.658 | G48: =($O48+F$1*$P48+Sheet2!$I$17*(Sheet3!$Q48+Sheet3!F$1*Sheet3!$R48))*4 -> 469.964 | H48: =($O48+G$1*$P48+Sheet2!$I$17*(Sheet3!$Q48+Sheet3!G$1*Sheet3!$R48))*4 -> 544.27 | J48: =Sheet2!A17 -> Emberwraith | K48: 45 | L48: 6 | M48: 14 | N48: 0 | O48: 15 | P48: 12 | Q48: 0.3 | R48: 0.07
...

Sheet Sheet4
B1: Int | C1: 1 | D1: 2 | E1: 3 | F1: 4 | G1: 5 | H1: 6
A2: 5 | B2: =Sheet2!$F$5+(A2-1)*Sheet2!$G$5+Sheet1!$B$4 -> 26.8 | C2: =Sheet3!$O$8+(Sheet4!C$1-1)*Sheet3!$P$8+$B2*(Sheet3!$Q$8+(Sheet4!C$1-1)*Sheet3!$R$8) -> 176.8 | D2: =Sheet3!$O$8+(Sheet4!D$1-1)*Sheet3!$P$8+$B2*(Sheet3!$Q$8+(Sheet4!D$1-1)*Sheet3!$R$8) -> 312.52 | E2: =Sheet3!$O$8+(Sheet4!E$1-1)*Sheet3!$P$8+$B2*(Sheet3!$Q$8+(Sheet4!E$1-1)*Sheet3!$R$8) -> 448.24 | F2: =Sheet3!$O$8+(Sheet4!F$1-1)*Sheet3!$P$8+$B2*(Sheet3!$Q$8+(Sheet4!F$1-1)*Sheet3!$R$8) -> 583.96 | G2: =Sheet3!$O$8+(Sheet4!G$1-1)*Sheet3!$P$8+$B2*(Sheet3!$Q$8+(Sheet4!G$1-1)*Sheet3!$R$8) -> 719.68 | H2: =Sheet3!$O$8+(Sheet4!H$1-1)*Sheet3!$P$8+$B2*(Sheet3!$Q$8+(Sheet4!H$1-1)*Sheet3!$R$8) -> 855.4
A3: 10 | B3: =Sheet2!$F$5+(A3-1)*Sheet2!$G$5+Sheet1!$B$4 -> 37.8 | C3: =Sheet3!$O$8+(Sheet4!C$1-1)*Sheet3!$P$8+$B3*(Sheet3!$Q$8+(Sheet4!C$1-1)*Sheet3!$R$8) -> 187.8 | D3: =Sheet3!$O$8+(Sheet4!D$1-1)*Sheet3!$P$8+$B3*(Sheet3!$Q$8+(Sheet4!D$1-1)*Sheet3!$R$8) -> 327.92 | E3: =Sheet3!$O$8+(Sheet4!E$1-1)*Sheet3!$P$8+$B3*(Sheet3!$Q$8+(Sheet4!E$1-1)*Sheet3!$R$8) -> 468.04 | F3: =Sheet3!$O$8+(Sheet4!F$1-1)*Sheet3!$P$8+$B3*(Sheet3!$Q$8+(Sheet4!F$1-1)*Sheet3!$R$8) -> 608.16 | G3: =Sheet3!$O$8+(Sheet4!G$1-1)*Sheet3!$P$8+$B3*(Sheet3!$Q$8+(Sheet4!G$1-1)*Sheet3!$R$8) -> 748.28 | H3: =Sheet3!$O$8+(Sheet4!H$1-1)*Sheet3!$P$8+$B3*(Sheet3!$Q$8+(Sheet4!H$1-1)*Sheet3!$R$8) -> 888.4
A4: 15 | B4: =Sheet2!$F$5+(A4-1)*Sheet2!$G$5+Sheet1!$B$4 -> 48.8 | C4: =Sheet3!$O$8+(Sheet4!C$1-1)*Sheet3!$P$8+$B4*(Sheet3!$Q$8+(Sheet4!C$1-1)*Sheet3!$R$8) -> 198.8 | D4: =Sheet3!$O$8+(Sheet4!D$1-1)*Sheet3!$P$8+$B4*(Sheet3!$Q$8+(Sheet4!D$1-1)*Sheet3!$R$8) -> 343.32 | E4: =Sheet3!$O$8+(Sheet4!E$1-1)*Sheet3!$P$8+$B4*(Sheet3!$Q$8+(Sheet4!E$1-1)*Sheet3!$R$8) -> 487.84 | F4: =Sheet3!$O$8+(Sheet4!F$1-1)*Sheet3!$P$8+$B4*(Sheet3!$Q$8+(Sheet4!F$1-1)*Sheet3!$R$8) -> 632.36 | G4: =Sheet3!$O$8+(Sheet4!G$1-1)*Sheet3!$P$8+$B4*(Sheet3!$Q$8+(Sheet4!G$1-1)*Sheet3!$R$8) -> 776.88 | H4: =Sheet3!$O$8+(Sheet4!H$1-1)*Sheet3!$P$8+$B4*(Sheet3!$Q$8+(Sheet4!H$1-1)*Sheet3!$R$8) -> 921.4
A5: 20 | B5: =Sheet2!$F$5+(A5-1)*Sheet2!$G$5+Sheet1!$B$4 -> 59.8 | C5: =Sheet3!$O$8+(Sheet4!C$1-1)*Sheet3!$P$8+$B5*(Sheet3!$Q$8+(Sheet4!C$1-1)*Sheet3!$R$8) -> 209.8 | D5: =Sheet3!$O$8+(Sheet4!D$1-1)*Sheet3!$P$8+$B5*(Sheet3!$Q$8+(Sheet4!D$1-1)*Sheet3!$R$8) -> 358.72 | E5: =Sheet3!$O$8+(Sheet4!E$1-1)*Sheet3!$P$8+$B5*(Sheet3!$Q$8+(Sheet4!E$1-1)*Sheet3!$R$8) -> 507.64 | F5: =Sheet3!$O$8+(Sheet4!F$1-1)*Sheet3!$P$8+$B5*(Sheet3!$Q$8+(Sheet4!F$1-1)*Sheet3!$R$8) -> 656.56 | G5: =Sheet3!$O$8+(Sheet4!G$1-1)*Sheet3!$P$8+$B5*(Sheet3!$Q$8+(Sheet4!G$1-1)*Sheet3!$R$8) -> 805.48 | H5: =Sheet3!$O$8+(Sheet4!H$1-1)*Sheet3!$P$8+$B5*(Sheet3!$Q$8+(Sheet4!H$1-1)*Sheet3!$R$8) -> 954.4
A6: 25 | B6: =Sheet2!$F$5+(A6-1)*Sheet2!$G$5+Sheet1!$B$4 -> 70.8 | C6: =Sheet3!$O$8+(Sheet4!C$1-1)*Sheet3!$P$8+$B6*(Sheet3!$Q$8+(Sheet4!C$1-1)*Sheet3!$R$8) -> 220.8 | D6: =Sheet3!$O$8+(Sheet4!D$1-1)*Sheet3!$P$8+$B6*(Sheet3!$Q$8+(Sheet4!D$1-1)*Sheet3!$R$8) -> 374.12 | E6: =Sheet3!$O$8+(Sheet4!E$1-1)*Sheet3!$P$8+$B6*(Sheet3!$Q$8+(Sheet4!E$1-1)*Sheet3!$R$8) -> 527.44 | F6: =Sheet3!$O$8+(Sheet4!F$1-1)*Sheet3!$P$8+$B6*(Sheet3!$Q$8+(Sheet4!F$1-1)*Sheet3!$R$8) -> 680.76 | G6: =Sheet3!$O$8+(Sheet4!G$1-1)*Sheet3!$P$8+$B6*(Sheet3!$Q$8+(Sheet4!G$1-1)*Sheet3!$R$8) -> 834.08 | H6: =Sheet3!$O$8+(Sheet4!H$1-1)*Sheet3!$P$8+$B6*(Sheet3!$Q$8+(Sheet4!H$1-1)*Sheet3!$R$8) -> 987.4
A7: 30 | B7: =Sheet2!$F$5+(A7-1)*Sheet2!$G$5+Sheet1!$B$4 -> 81.8 | C7: =Sheet3!$O$8+(Sheet4!C$1-1)*Sheet3!$P$8+$B7*(Sheet3!$Q$8+(Sheet4!C$1-1)*Sheet3!$R$8) -> 231.8 | D7: =Sheet3!$O$8+(Sheet4!D$1-1)*Sheet3!$P$8+$B7*(Sheet3!$Q$8+(Sheet4!D$1-1)*Sheet3!$R$8) -> 389.52 | E7: =Sheet3!$O$8+(Sheet4!E$1-1)*Sheet3!$P$8+$B7*(Sheet3!$Q$8+(Sheet4!E$1-1)*Sheet3!$R$8) -> 547.24 | F7: =Sheet3!$O$8+(Sheet4!F$1-1)*Sheet3!$P$8+$B7*(Sheet3!$Q$8+(Sheet4!F$1-1)*Sheet3!$R$8) -> 704.96 | G7: =Sheet3!$O$8+(Sheet4!G$1-1)*Sheet3!$P$8+$B7*(Sheet3!$Q$8+(Sheet4!G$1-1)*Sheet3!$R$8) -> 862.68 | H7: =Sheet3!$O$8+(Sheet4!H$1-1)*Sheet3!$P$8+$B7*(Sheet3!$Q$8+(Sheet4!H$1-1)*Sheet3!$R$8) -> 1020.4
A8: 35 | B8: =Sheet2!$F$5+(A8-1)*Sheet2!$G$5+Sheet1!$B$4 -> 92.8 | C8: =Sheet3!$O$8+(Sheet4!C$1-1)*Sheet3!$P$8+$B8*(Sheet3!$Q$8+(Sheet4!C$1-1)*Sheet3!$R$8) -> 242.8 | D8: =Sheet3!$O$8+(Sheet4!D$1-1)*Sheet3!$P$8+$B8*(Sheet3!$Q$8+(Sheet4!D$1-1)*Sheet3!$R$8) -> 404.92 | E8: =Sheet3!$O$8+(Sheet4!E$1-1)*Sheet3!$P$8+$B8*(Sheet3!$Q$8+(Sheet4!E$1-1)*Sheet3!$R$8) -> 567.04 | F8: =Sheet3!$O$8+(Sheet4!F$1-1)*Sheet3!$P$8+$B8*(Sheet3!$Q$8+(Sheet4!F$1-1)*Sheet3!$R$8) -> 729.16 | G8: =Sheet3!$O$8+(Sheet4!G$1-1)*Sheet3!$P$8+$B8*(Sheet3!$Q$8+(Sheet4!G$1-1)*Sheet3!$R$8) -> 891.28 | H8: =Sheet3!$O$8+(Sheet4!H$1-1)*Sheet3!$P$8+$B8*(Sheet3!$Q$8+(Sheet4!H$1-1)*Sheet3!$R$8) -> 1053.4
A9: 40 | B9: =Sheet2!$F$5+(A9-1)*Sheet2!$G$5+Sheet1!$B$4 -> 103.8 | C9: =Sheet3!$O$8+(Sheet4!C$1-1)*Sheet3!$P$8+$B9*(Sheet3!$Q$8+(Sheet4!C$1-1)*Sheet3!$R$8) -> 253.8 | D9: =Sheet3!$O$8+(Sheet4!D$1-1)*Sheet3!$P$8+$B9*(Sheet3!$Q$8+(Sheet4!D$1-1)*Sheet3!$R$8) -> 420.32 | E9: =Sheet3!$O$8+(Sheet4!E$1-1)*Sheet3!$P$8+$B9*(Sheet3!$Q$8+(Sheet4!E$1-1)*Sheet3!$R$8) -> 586.84 | F9: =Sheet3!$O$8+(Sheet4!F$1-1)*Sheet3!$P$8+$B9*(Sheet3!$Q$8+(Sheet4!F$1-1)*Sheet3!$R$8) -> 753.36 | G9: =Sheet3!$O$8+(Sheet4!G$1-1)*Sheet3!$P$8+$B9*(Sheet3!$Q$8+(Sheet4!G$1-1)*Sheet3!$R$8) -> 919.88 | H9: =Sheet3!$O$8+(Sheet4!H$1-1)*Sheet3!$P$8+$B9*(Sheet3!$Q$8+(Sheet4!H$1-1)*Sheet3!$R$8) -> 1086.4
B11: 8 | C11: =$B2*$B$11 -> 214.4 | D11: =$B2*$B$11 -> 214.4 | E11: =$B2*$B$11 -> 214.4 | F11: =$B2*$B$11 -> 214.4 | G11: =$B2*$B$11 -> 214.4 | H11: =$B2*$B$11 -> 214.4
C12: =$B3*$B$11 -> 302.4 | D12: =$B3*$B$11 -> 302.4 | E12: =$B3*$B$11 -> 302.4 | F12: =$B3*$B$11 -> 302.4 | G12: =$B3*$B$11 -> 302.4 | H12: =$B3*$B$11 -> 302.4
C13: =$B4*$B$11 -> 390.4 | D13: =$B4*$B$11 -> 390.4 | E13: =$B4*$B$11 -> 390.4 | F13: =$B4*$B$11 -> 390.4 | G13: =$B4*$B$11 -> 390.4 | H13: =$B4*$B$11 -> 390.4
C14: =$B5*$B$11 -> 478.4 | D14: =$B5*$B$11 -> 478.4 | E14: =$B5*$B$11 -> 478.4 | F14: =$B5*$B$11 -> 478.4 | G14: =$B5*$B$11 -> 478.4 | H14: =$B5*$B$11 -> 478.4
C15: =$B6*$B$11 -> 566.4 | D15: =$B6*$B$11 -> 566.4 | E15: =$B6*$B$11 -> 566.4 | F15: =$B6*$B$11 -> 566.4 | G15: =$B6*$B$11 -> 566.4 | H15: =$B6*$B$11 -> 566.4
C16: =$B7*$B$11 -> 654.4 | D16: =$B7*$B$11 -> 654.4 | E16: =$B7*$B$11 -> 654.4 | F16: =$B7*$B$11 -> 654.4 | G16: =$B7*$B$11 -> 654.4 | H16: =$B7*$B$11 -> 654.4
C17: =$B8*$B$11 -> 742.4 | D17: =$B8*$B$11 -> 742.4 | E17: =$B8*$B$11 -> 742.4 | F17: =$B8*$B$11 -> 742.4 | G17: =$B8*$B$11 -> 742.4 | H17: =$B8*$B$11 -> 742.4
C18: =$B9*$B$11 -> 830.4 | D18: =$B9*$B$11 -> 830.4 | E18: =$B9*$B$11 -> 830.4 | F18: =$B9*$B$11 -> 830.4 | G18: =$B9*$B$11 -> 830.4 | H18: =$B9*$B$11 -> 830.4
C20: =C11/C2 -> 1.2126697 | D20: =D11/D2 -> 0.68603609 | E20: =E11/E2 -> 0.47831519 | F20: =F11/F2 -> 0.36714843 | G20: =G11/G2 -> 0.29791018 | H20: =H11/H2 -> 0.25064297
C21: =C12/C3 -> 1.6102236 | D21: =D12/D3 -> 0.92217614 | E21: =E12/E3 -> 0.64609862 | F21: =F12/F3 -> 0.49723757 | G21: =G12/G3 -> 0.4041268 | H21: =H12/H3 -> 0.34038721
C22: =C13/C4 -> 1.9637827 | D22: =D13/D4 -> 1.1371315 | E22: =E13/E4 -> 0.80026238 | F22: =F13/F4 -> 0.61736985 | G22: =G13/G4 -> 0.50252291 | H22: =H13/H4 -> 0.42370306
C23: =C14/C5 -> 2.2802669 | D23: =D14/D5 -> 1.3336307 | E23: =E14/E5 -> 0.94240013 | F23: =F14/F5 -> 0.72864628 | G23: =G14/G5 -> 0.59393157 | H23: =H14/H5 -> 0.50125733
C24: =C15/C6 -> 2.5652174 | D24: =D15/D6 -> 1.5139527 | E24: =E15/E6 -> 1.0738662 | F24: =F15/F6 -> 0.83201128 | G24: =G15/G6 -> 0.67907155 | H24: =H15/H6 -> 0.57362771
C25: =C16/C7 -> 2.8231234 | D25: =D16/D7 -> 1.6800164 | E25: =E16/E7 -> 1.195819 | F25: =F16/F7 -> 0.92827962 | G25: =G16/G7 -> 0.75856633 | H25: =H16/H7 -> 0.64131713
C26: =C17/C8 -> 3.0576606 | D26: =D17/D8 -> 1.8334486 | E26: =E17/E8 -> 1.3092551 | F26: =F17/F8 -> 1.0181579 | G26: =G17/G8 -> 0.83295934 | H26: =H17/H8 -> 0.70476552
C27: =C18/C9 -> 3.2718676 | D27: =D18/D9 -> 1.9756376 | E27: =E18/E9 -> 1.4150365 | F27: =F18/F9 -> 1.1022619 | G27: =G18/G9 -> 0.90272644 | H27: =H18/H9 -> 0.76435935

Sheet Sheet5
A1: DPS | C1: 1 | D1: 2 | E1: 3 | F1: 4 | G1: 5 | H1: 6 | K1: DPM | L1: 1 | M1: 2 | N1: 3 | O1: 4 | P1: 5 | Q1: 6
A2: =Sheet3!A16 -> Gale | B2: =Sheet3!J16 -> Arboreal Crusader | C2: =Sheet3!C16/(Sheet3!$M16+Sheet3!$N16*Sheet3!B$1) -> 12.725455 | D2: =Sheet3!D16/(Sheet3!$M16+Sheet3!$N16*Sheet3!C$1) -> 16.32 | E2: =Sheet3!E16/(Sheet3!$M16+Sheet3!$N16*Sheet3!D$1) -> 19.914545 | F2: =Sheet3!F16/(Sheet3!$M16+Sheet3!$N16*Sheet3!E$1) -> 23.509091 | G2: =Sheet3!G16/(Sheet3!$M16+Sheet3!$N16*Sheet3!F$1) -> 27.103636 | H2: =Sheet3!H16/(Sheet3!$M16+Sheet3!$N16*Sheet3!G$1) -> 30.698182 | L2: =Sheet3!C16/(Sheet3!$K16+Sheet3!$L16*Sheet3!B$1) -> 2.5450909 | M2: =Sheet3!D16/(Sheet3!$K16+Sheet3!$L16*Sheet3!C$1) -> 2.3314286 | N2: =Sheet3!E16/(Sheet3!$K16+Sheet3!$L16*Sheet3!D$1) -> 2.2127273 | O2: =Sheet3!F16/(Sheet3!$K16+Sheet3!$L16*Sheet3!E$1) -> 2.1371901 | P2: =Sheet3!G16/(Sheet3!$K16+Sheet3!$L16*Sheet3!F$1) -> 2.0848951 | Q2: =Sheet3!H16/(Sheet3!$K16+Sheet3!$L16*Sheet3!G$1) -> 2.0465455
A3: =Sheet3!A17 -> Incinerate | B3: =Sheet3!J17 -> Soul Binder | C3: =Sheet3!C17/(Sheet3!$M17+Sheet3!$N17*Sheet3!B$1) -> 19.566667 | D3: =Sheet3!D17/(Sheet3!$M17+Sheet3!$N17*Sheet3!C$1) -> 26.364 | E3: =Sheet3!E17/(Sheet3!$M17+Sheet3!$N17*Sheet3!D$1) -> 33.161333 | F3: =Sheet3!F17/(Sheet3!$M17+Sheet3!$N17*Sheet3!E$1) -> 39.958667 | G3: =Sheet3!G17/(Sheet3!$M17+Sheet3!$N17*Sheet3!F$1) -> 46.756 | H3: =Sheet3!H17/(Sheet3!$M17+Sheet3!$N17*Sheet3!G$1) -> 53.553333 | L3: =Sheet3!C17/(Sheet3!$K17+Sheet3!$L17*Sheet3!B$1) -> 1.0672727 | M3: =Sheet3!D17/(Sheet3!$K17+Sheet3!$L17*Sheet3!C$1) -> 1.1462609 | N3: =Sheet3!E17/(Sheet3!$K17+Sheet3!$L17*Sheet3!D$1) -> 1.1986024 | O3: =Sheet3!F17/(Sheet3!$K17+Sheet3!$L17*Sheet3!E$1) -> 1.2358351 | P3: =Sheet3!G17/(Sheet3!$K17+Sheet3!$L17*Sheet3!F$1) -> 1.2636757 | Q3: =Sheet3!H17/(Sheet3!$K17+Sheet3!$L17*Sheet3!G$1) -> 1.28528
A4: =Sheet3!A18 -> Arctic Cataclysm | B4: =Sheet3!J18 -> Glacial Tyrant | C4: =Sheet3!C18/(Sheet3!$M18+Sheet3!$N18*Sheet3!B$1) -> 10.81625 | D4: =Sheet3!D18/(Sheet3!$M18+Sheet3!$N18*Sheet3!C$1) -> 13.374375 | E4: =Sheet3!E18/(Sheet3!$M18+Sheet3!$N18*Sheet3!D$1) -> 15.9325 | F4: =Sheet3!F18/(Sheet3!$M18+Sheet3!$N18*Sheet3!E$1) -> 18.490625 | G4: =Sheet3!G18/(Sheet3!$M18+Sheet3!$N18*Sheet3!F$1) -> 21.04875 | H4: =Sheet3!H18/(Sheet3!$M18+Sheet3!$N18*Sheet3!G$1) -> 23.606875 | L4: =Sheet3!C18/(Sheet3!$K18+Sheet3!$L18*Sheet3!B$1) -> 2.4722857 | M4: =Sheet3!D18/(Sheet3!$K18+Sheet3!$L18*Sheet3!C$1) -> 2.2764894 | N4: =Sheet3!E18/(Sheet3!$K18+Sheet3!$L18*Sheet3!D$1) -> 2.160339 | O4: =Sheet3!F18/(Sheet3!$K18+Sheet3!$L18*Sheet3!E$1) -> 2.0834507 | P4: =Sheet3!G18/(Sheet3!$K18+Sheet3!$L18*Sheet3!F$1) -> 2.0287952 | Q4: =Sheet3!H18/(Sheet3!$K18+Sheet3!$L18*Sheet3!G$1) -> 1.9879474
A5: =Sheet3!A19 -> Caustic Breath | B5: =Sheet3!J19 -> Acid Reaver | C5: =Sheet3!C19/(Sheet3!$M19+Sheet3!$N19*Sheet3!B$1) -> 22.1425 | D5: =Sheet3!D19/(Sheet3!$M19+Sheet3!$N19*Sheet3!C$1) -> 26.8275 | E5: =Sheet3!E19/(Sheet3!$M19+Sheet3!$N19*Sheet3!D$1) -> 31.5125 | F5: =Sheet3!F19/(Sheet3!$M19+Sheet3!$N19*Sheet3!E$1) -> 36.1975 | G5: =Sheet3!G19/(Sheet3!$M19+Sheet3!$N19*Sheet3!F$1) -> 40.8825 | H5: =Sheet3!H19/(Sheet3!$M19+Sheet3!$N19*Sheet3!G$1) -> 45.5675 | L5: =Sheet3!C19/(Sheet3!$K19+Sheet3!$L19*Sheet3!B$1) -> 4.4285 | M5: =Sheet3!D19/(Sheet3!$K19+Sheet3!$L19*Sheet3!C$1) -> 4.1273077 | N5: =Sheet3!E19/(Sheet3!$K19+Sheet3!$L19*Sheet3!D$1) -> 3.9390625 | O5: =Sheet3!F19/(Sheet3!$K19+Sheet3!$L19*Sheet3!E$1) -> 3.8102632 | P5: =Sheet3!G19/(Sheet3!$K19+Sheet3!$L19*Sheet3!F$1) -> 3.7165909 | Q5: =Sheet3!H19/(Sheet3!$K19+Sheet3!$L19*Sheet3!G$1) -> 3.6454
A6: =Sheet3!A20 -> Holy Strike | B6: =Sheet3!J20 -> Divine Wizard | C6: =Sheet3!C20/(Sheet3!$M20+Sheet3!$N20*Sheet3!B$1) -> 22.352 | D6: =Sheet3!D20/(Sheet3!$M20+Sheet3!$N20*Sheet3!C$1) -> 25.253333 | E6: =Sheet3!E20/(Sheet3!$M20+Sheet3!$N20*Sheet3!D$1) -> 27.671111 | F6: =Sheet3!F20/(Sheet3!$M20+Sheet3!$N20*Sheet3!E$1) -> 29.716923 | G6: =Sheet3!G20/(Sheet3!$M20+Sheet3!$N20*Sheet3!F$1) -> 31.470476 | H6: =Sheet3!H20/(Sheet3!$M20+Sheet3!$N20*Sheet3!G$1) -> 32.990222 | L6: =Sheet3!C20/(Sheet3!$K20+Sheet3!$L20*Sheet3!B$1) -> 2.3948571 | M6: =Sheet3!D20/(Sheet3!$K20+Sheet3!$L20*Sheet3!C$1) -> 2.042549 | N6: =Sheet3!E20/(Sheet3!$K20+Sheet3!$L20*Sheet3!D$1) -> 1.8585075 | O6: =Sheet3!F20/(Sheet3!$K20+Sheet3!$L20*Sheet3!E$1) -> 1.7454217 | P6: =Sheet3!G20/(Sheet3!$K20+Sheet3!$L20*Sheet3!F$1) -> 1.6688889 | Q6: =Sheet3!H20/(Sheet3!$K20+Sheet3!$L20*Sheet3!G$1) -> 1.6136522
A7: =Sheet3!A21 -> Rockslide | B7: =Sheet3!J21 -> Colossus | C7: =Sheet3!C21/(Sheet3!$M21+Sheet3!$N21*Sheet3!B$1) -> 8.8036111 | D7: =Sheet3!D21/(Sheet3!$M21+Sheet3!$N21*Sheet3!C$1) -> 11.618056 | E7: =Sheet3!E21/(Sheet3!$M21+Sheet3!$N21*Sheet3!D$1) -> 14.4325 | F7: =Sheet3!F21/(Sheet3!$M21+Sheet3!$N21*Sheet3!E$1) -> 17.246944 | G7: =Sheet3!G21/(Sheet3!$M21+Sheet3!$N21*Sheet3!F$1) -> 20.061389 | H7: =Sheet3!H21/(Sheet3!$M21+Sheet3!$N21*Sheet3!G$1) -> 22.875833 | L7: =Sheet3!C21/(Sheet3!$K21+Sheet3!$L21*Sheet3!B$1) -> 2.4379231 | M7: =Sheet3!D21/(Sheet3!$K21+Sheet3!$L21*Sheet3!C$1) -> 2.3497191 | N7: =Sheet3!E21/(Sheet3!$K21+Sheet3!$L21*Sheet3!D$1) -> 2.2989823 | O7: =Sheet3!F21/(Sheet3!$K21+Sheet3!$L21*Sheet3!E$1) -> 2.2660219 | P7: =Sheet3!G21/(Sheet3!$K21+Sheet3!$L21*Sheet3!F$1) -> 2.2428882 | Q7: =Sheet3!H21/(Sheet3!$K21+Sheet3!$L21*Sheet3!G$1) -> 2.2257568
A8: =Sheet3!A22 -> Rogue Wave | B8: =Sheet3!J22 -> Crest Witch | C8: =Sheet3!C22/(Sheet3!$M22+Sheet3!$N22*Sheet3!B$1) -> 9.6125 | D8: =Sheet3!D22/(Sheet3!$M22+Sheet3!$N22*Sheet3!C$1) -> 10.912667 | E8: =Sheet3!E22/(Sheet3!$M22+Sheet3!$N22*Sheet3!D$1) -> 12.212833 | F8: =Sheet3!F22/(Sheet3!$M22+Sheet3!$N22*Sheet3!E$1) -> 13.513 | G8: =Sheet3!G22/(Sheet3!$M22+Sheet3!$N22*Sheet3!F$1) -> 14.813167 | H8: =Sheet3!H22/(Sheet3!$M22+Sheet3!$N22*Sheet3!G$1) -> 16.113333 | L8: =Sheet3!C22/(Sheet3!$K22+Sheet3!$L22*Sheet3!B$1) -> 2.0598214 | M8: =Sheet3!D22/(Sheet3!$K22+Sheet3!$L22*Sheet3!C$1) -> 2.0720253 | N8: =Sheet3!E22/(Sheet3!$K22+Sheet3!$L22*Sheet3!D$1) -> 2.081733 | O8: =Sheet3!F22/(Sheet3!$K22+Sheet3!$L22*Sheet3!E$1) -> 2.0896392 | P8: =Sheet3!G22/(Sheet3!$K22+Sheet3!$L22*Sheet3!F$1) -> 2.0962028 | Q8: =Sheet3!H22/(Sheet3!$K22+Sheet3!$L22*Sheet3!G$1) -> 2.1017391
A9: =Sheet3!A23 -> Frost Spire | B9: =Sheet3!J23 -> Icespinner | C9: =Sheet3!C23/(Sheet3!$M23+Sheet3!$N23*Sheet3!B$1) -> 12.269333 | D9: =Sheet3!D23/(Sheet3!$M23+Sheet3!$N23*Sheet3!C$1) -> 15.425333 | E9: =Sheet3!E23/(Sheet3!$M23+Sheet3!$N23*Sheet3!D$1) -> 18.581333 | F9: =Sheet3!F23/(Sheet3!$M23+Sheet3!$N23*Sheet3!E$1) -> 21.737333 | G9: =Sheet3!G23/(Sheet3!$M23+Sheet3!$N23*Sheet3!F$1) -> 24.893333 | H9: =Sheet3!H23/(Sheet3!$M23+Sheet3!$N23*Sheet3!G$1) -> 28.049333 | L9: =Sheet3!C23/(Sheet3!$K23+Sheet3!$L23*Sheet3!B$1) -> 3.6808 | M9: =Sheet3!D23/(Sheet3!$K23+Sheet3!$L23*Sheet3!C$1) -> 3.7666512 | N9: =Sheet3!E23/(Sheet3!$K23+Sheet3!$L23*Sheet3!D$1) -> 3.8255686 | O9: =Sheet3!F23/(Sheet3!$K23+Sheet3!$L23*Sheet3!E$1) -> 3.8685085 | P9: =Sheet3!G23/(Sheet3!$K23+Sheet3!$L23*Sheet3!F$1) -> 3.901194 | Q9: =Sheet3!H23/(Sheet3!$K23+Sheet3!$L23*Sheet3!G$1) -> 3.9269067
A10: =Sheet3!A24 -> Terra Smash | B10: =Sheet3!J24 -> Ascendant | C10: =Sheet3!C24/(Sheet3!$M24+Sheet3!$N24*Sheet3!B$1) -> 16.55 | D10: =Sheet3!D24/(Sheet3!$M24+Sheet3!$N24*Sheet3!C$1) -> 23.4375 | E10: =Sheet3!E24/(Sheet3!$M24+Sheet3!$N24*Sheet3!D$1) -> 30.325 | F10: =Sheet3!F24/(Sheet3!$M24+Sheet3!$N24*Sheet3!E$1) -> 37.2125 | G10: =Sheet3!G24/(Sheet3!$M24+Sheet3!$N24*Sheet3!F$1) -> 44.1 | H10: =Sheet3!H24/(Sheet3!$M24+Sheet3!$N24*Sheet3!G$1) -> 50.9875 | L10: =Sheet3!C24/(Sheet3!$K24+Sheet3!$L24*Sheet3!B$1) -> 3.7828571 | M10: =Sheet3!D24/(Sheet3!$K24+Sheet3!$L24*Sheet3!C$1) -> 4.3604651 | N10: =Sheet3!E24/(Sheet3!$K24+Sheet3!$L24*Sheet3!D$1) -> 4.7568627 | O10: =Sheet3!F24/(Sheet3!$K24+Sheet3!$L24*Sheet3!E$1) -> 5.0457627 | P10: =Sheet3!G24/(Sheet3!$K24+Sheet3!$L24*Sheet3!F$1) -> 5.2656716 | Q10: =Sheet3!H24/(Sheet3!$K24+Sheet3!$L24*Sheet3!G$1) -> 5.4386667
A11: =Sheet3!A25 -> Pestilence | B11: =Sheet3!J25 -> Defiler | C11: =Sheet3!C25/(Sheet3!$M25+Sheet3!$N25*Sheet3!B$1) -> 17.188889 | D11: =Sheet3!D25/(Sheet3!$M25+Sheet3!$N25*Sheet3!C$1) -> 22.105556 | E11: =Sheet3!E25/(Sheet3!$M25+Sheet3!$N25*Sheet3!D$1) -> 27.022222 | F11: =Sheet3!F25/(Sheet3!$M25+Sheet3!$N25*Sheet3!E$1) -> 31.938889 | G11: =Sheet3!G25/(Sheet3!$M25+Sheet3!$N25*Sheet3!F$1) -> 36.855556 | H11: =Sheet3!H25/(Sheet3!$M25+Sheet3!$N25*Sheet3!G$1) -> 41.772222 | L11: =Sheet3!C25/(Sheet3!$K25+Sheet3!$L25*Sheet3!B$1) -> 2.5783333 | M11: =Sheet3!D25/(Sheet3!$K25+Sheet3!$L25*Sheet3!C$1) -> 2.4561728 | N11: =Sheet3!E25/(Sheet3!$K25+Sheet3!$L25*Sheet3!D$1) -> 2.3843137 | O11: =Sheet3!F25/(Sheet3!$K25+Sheet3!$L25*Sheet3!E$1) -> 2.3369919 | P11: =Sheet3!G25/(Sheet3!$K25+Sheet3!$L25*Sheet3!F$1) -> 2.3034722 | Q11: =Sheet3!H25/(Sheet3!$K25+Sheet3!$L25*Sheet3!G$1) -> 2.2784848
A12: =Sheet3!A26 -> Pyroclasm | B12: =Sheet3!J26 -> Emberwraith | C12: =Sheet3!C26/(Sheet3!$M26+Sheet3!$N26*Sheet3!B$1) -> 5.7905769 | D12: =Sheet3!D26/(Sheet3!$M26+Sheet3!$N26*Sheet3!C$1) -> 7.8885769 | E12: =Sheet3!E26/(Sheet3!$M26+Sheet3!$N26*Sheet3!D$1) -> 9.9865769 | F12: =Sheet3!F26/(Sheet3!$M26+Sheet3!$N26*Sheet3!E$1) -> 12.084577 | G12: =Sheet3!G26/(Sheet3!$M26+Sheet3!$N26*Sheet3!F$1) -> 14.182577 | H12: =Sheet3!H26/(Sheet3!$M26+Sheet3!$N26*Sheet3!G$1) -> 16.280577 | L12: =Sheet3!C26/(Sheet3!$K26+Sheet3!$L26*Sheet3!B$1) -> 2.50925 | M12: =Sheet3!D26/(Sheet3!$K26+Sheet3!$L26*Sheet3!C$1) -> 2.5012561 | N12: =Sheet3!E26/(Sheet3!$K26+Sheet3!$L26*Sheet3!D$1) -> 2.4966442 | O12: =Sheet3!F26/(Sheet3!$K26+Sheet3!$L26*Sheet3!E$1) -> 2.4936429 | P12: =Sheet3!G26/(Sheet3!$K26+Sheet3!$L26*Sheet3!F$1) -> 2.4915338 | Q12: =Sheet3!H26/(Sheet3!$K26+Sheet3!$L26*Sheet3!G$1) -> 2.4899706
A13: =Sheet3!A27 -> Whirl | B13: =Sheet3!J27 -> Forlorn Martyr | C13: =Sheet3!C27/(Sheet3!$M27+Sheet3!$N27*Sheet3!B$1) -> 13.184375 | D13: =Sheet3!D27/(Sheet3!$M27+Sheet3!$N27*Sheet3!C$1) -> 15.98475 | E13: =Sheet3!E27/(Sheet3!$M27+Sheet3!$N27*Sheet3!D$1) -> 18.785125 | F13: =Sheet3!F27/(Sheet3!$M27+Sheet3!$N27*Sheet3!E$1) -> 21.5855 | G13: =Sheet3!G27/(Sheet3!$M27+Sheet3!$N27*Sheet3!F$1) -> 24.385875 | H13: =Sheet3!H27/(Sheet3!$M27+Sheet3!$N27*Sheet3!G$1) -> 27.18625 | L13: =Sheet3!C27/(Sheet3!$K27+Sheet3!$L27*Sheet3!B$1) -> 2.1095 | M13: =Sheet3!D27/(Sheet3!$K27+Sheet3!$L27*Sheet3!C$1) -> 2.0625484 | N13: =Sheet3!E27/(Sheet3!$K27+Sheet3!$L27*Sheet3!D$1) -> 2.0308243 | O13: =Sheet3!F27/(Sheet3!$K27+Sheet3!$L27*Sheet3!E$1) -> 2.0079535 | P13: =Sheet3!G27/(Sheet3!$K27+Sheet3!$L27*Sheet3!F$1) -> 1.9906837 | Q13: =Sheet3!H27/(Sheet3!$K27+Sheet3!$L27*Sheet3!G$1) -> 1.9771818
... A17: =Sheet3!A31 -> Slice | B17: =Sheet3!J31 -> Wretched Chef | C17: =Sheet3!C31/(Sheet3!$M31+Sheet3!$N31*Sheet3!B$1) -> 14.695 | D17: =Sheet3!D31/(Sheet3!$M31+Sheet3!$N31*Sheet3!C$1) -> 18.49375 | E17: =Sheet3!E31/(Sheet3!$M31+Sheet3!$N31*Sheet3!D$1) -> 22.2925 | F17: =Sheet3!F31/(Sheet3!$M31+Sheet3!$N31*Sheet3!E$1) -> 26.09125 | G17: =Sheet3!G31/(Sheet3!$M31+Sheet3!$N31*Sheet3!F$1) -> 29.89 | H17: =Sheet3!H31/(Sheet3!$M31+Sheet3!$N31*Sheet3!G$1) -> 33.68875 | L17: =Sheet3!C31/(Sheet3!$K31+Sheet3!$L31*Sheet3!B$1) -> 2.1374545 | M17: =Sheet3!D31/(Sheet3!$K31+Sheet3!$L31*Sheet3!C$1) -> 2.3484127 | N17: =Sheet3!E31/(Sheet3!$K31+Sheet3!$L31*Sheet3!D$1) -> 2.511831 | O17: =Sheet3!F31/(Sheet3!$K31+Sheet3!$L31*Sheet3!E$1) -> 2.6421519 | P17: =Sheet3!G31/(Sheet3!$K31+Sheet3!$L31*Sheet3!F$1) -> 2.7485057 | Q17: =Sheet3!H31/(Sheet3!$K31+Sheet3!$L31*Sheet3!G$1) -> 2.8369474
A23: Single Target | K23: DPS | S23: DPM | AA23: Recovery | AI23: Glass Cannon
A24: =Sheet3!A16 -> Gale | B24: =Sheet3!J16 -> Arboreal Crusader | C24: =Sheet3!C16 * 0.75 -> 104.985 | D24: =Sheet3!D16 * 0.75 -> 134.64 | E24: =Sheet3!E16 * 0.75 -> 164.295 | F24: =Sheet3!F16 * 0.75 -> 193.95 | G24: =Sheet3!G16 * 0.75 -> 223.605 | H24: =Sheet3!H16 * 0.75 -> 253.26 | K24: =A24 -> Gale | L24: =Sheet5!C24/(Sheet3!$M16+Sheet3!$N16*Sheet3!B$1) -> 9.5440909 | M24: =Sheet5!D24/(Sheet3!$M16+Sheet3!$N16*Sheet3!C$1) -> 12.24 | N24: =Sheet5!E24/(Sheet3!$M16+Sheet3!$N16*Sheet3!D$1) -> 14.935909 | O24: =Sheet5!F24/(Sheet3!$M16+Sheet3!$N16*Sheet3!E$1) -> 17.631818 | P24: =Sheet5!G24/(Sheet3!$M16+Sheet3!$N16*Sheet3!F$1) -> 20.327727 | Q24: =Sheet5!H24/(Sheet3!$M16+Sheet3!$N16*Sheet3!G$1) -> 23.023636 | S24: =A24 -> Gale | T24: =Sheet5!C24/(Sheet3!$K16+Sheet3!$L16*Sheet3!B$1) -> 1.9088182 | U24: =Sheet5!D24/(Sheet3!$K16+Sheet3!$L16*Sheet3!C$1) -> 1.7485714 | V24: =Sheet5!E24/(Sheet3!$K16+Sheet3!$L16*Sheet3!D$1) -> 1.6595455 | W24: =Sheet5!F24/(Sheet3!$K16+Sheet3!$L16*Sheet3!E$1) -> 1.6028926 | X24: =Sheet5!G24/(Sheet3!$K16+Sheet3!$L16*Sheet3!F$1) -> 1.5636713 | Y24: =Sheet5!H24/(Sheet3!$K16+Sheet3!$L16*Sheet3!G$1) -> 1.5349091 | AA24: =S24 -> Gale | AB24: =(Sheet3!$K16+Sheet3!$L16*Sheet3!B$1) / VLOOKUP(Sheet3!$J16,Sheet2!$A$2:$N$29,14,FALSE) -> 27.254708 | AC24: =(Sheet3!$K16+Sheet3!$L16*Sheet3!C$1) / VLOOKUP(Sheet3!$J16,Sheet2!$A$2:$N$29,14,FALSE) -> 38.156591 | AD24: =(Sheet3!$K16+Sheet3!$L16*Sheet3!D$1) / VLOOKUP(Sheet3!$J16,Sheet2!$A$2:$N$29,14,FALSE) -> 49.058474 | AE24: =(Sheet3!$K16+Sheet3!$L16*Sheet3!E$1) / VLOOKUP(Sheet3!$J16,Sheet2!$A$2:$N$29,14,FALSE) -> 59.960357 | AF24: =(Sheet3!$K16+Sheet3!$L16*Sheet3!F$1) / VLOOKUP(Sheet3!$J16,Sheet2!$A$2:$N$29,14,FALSE) -> 70.86224 | AG24: =(Sheet3!$K16+Sheet3!$L16*Sheet3!G$1) / VLOOKUP(Sheet3!$J16,Sheet2!$A$2:$N$29,14,FALSE) -> 81.764123 | AI24: =A24 -> Gale | AJ24: =C24/VLOOKUP(Sheet3!$J16,Sheet2!$A$2:$N$29,13,FALSE) -> 0.10666497 | AK24: =D24/VLOOKUP(Sheet3!$J16,Sheet2!$A$2:$N$29,13,FALSE) -> 0.13679451 | AL24: =E24/VLOOKUP(Sheet3!$J16,Sheet2!$A$2:$N$29,13,FALSE) -> 0.16692405 | AM24: =F24/VLOOKUP(Sheet3!$J16,Sheet2!$A$2:$N$29,13,FALSE) -> 0.19705359 | AN24: =G24/VLOOKUP(Sheet3!$J16,Sheet2!$A$2:$N$29,13,FALSE) -> 0.22718313 | AO24: =H24/VLOOKUP(Sheet3!$J16,Sheet2!$A$2:$N$29,13,FALSE) -> 0.25731267
A25: =Sheet3!A17 -> Incinerate | B25: =Sheet3!J17 -> Soul Binder | C25: =Sheet3!C17 * 0.75 -> 44.025 | D25: =Sheet3!D17 * 0.75 -> 59.319 | E25: =Sheet3!E17 * 0.75 -> 74.613 | F25: =Sheet3!F17 * 0.75 -> 89.907 | G25: =Sheet3!G17 * 0.75 -> 105.201 | H25: =Sheet3!H17 * 0.75 -> 120.495 | K25: =A25 -> Incinerate | L25: =Sheet5!C25/(Sheet3!$M17+Sheet3!$N17*Sheet3!B$1) -> 14.675 | M25: =Sheet5!D25/(Sheet3!$M17+Sheet3!$N17*Sheet3!C$1) -> 19.773 | N25: =Sheet5!E25/(Sheet3!$M17+Sheet3!$N17*Sheet3!D$1) -> 24.871 | O25: =Sheet5!F25/(Sheet3!$M17+Sheet3!$N17*Sheet3!E$1) -> 29.969 | P25: =Sheet5!G25/(Sheet3!$M17+Sheet3!$N17*Sheet3!F$1) -> 35.067 | Q25: =Sheet5!H25/(Sheet3!$M17+Sheet3!$N17*Sheet3!G$1) -> 40.165 | S25: =A25 -> Incinerate | T25: =Sheet5!C25/(Sheet3!$K17+Sheet3!$L17*Sheet3!B$1) -> 0.80045455 | U25: =Sheet5!D25/(Sheet3!$K17+Sheet3!$L17*Sheet3!C$1) -> 0.85969565 | V25: =Sheet5!E25/(Sheet3!$K17+Sheet3!$L17*Sheet3!D$1) -> 0.89895181 | W25: =Sheet5!F25/(Sheet3!$K17+Sheet3!$L17*Sheet3!E$1) -> 0.92687629 | X25: =Sheet5!G25/(Sheet3!$K17+Sheet3!$L17*Sheet3!F$1) -> 0.94775676 | Y25: =Sheet5!H25/(Sheet3!$K17+Sheet3!$L17*Sheet3!G$1) -> 0.96396 | AA25: =S25 -> Incinerate | AB25: =(Sheet3!$K17+Sheet3!$L17*Sheet3!B$1) / VLOOKUP(Sheet3!$J17,Sheet2!$A$2:$N$29,14,FALSE) -> 29.348986 | AC25: =(Sheet3!$K17+Sheet3!$L17*Sheet3!C$1) / VLOOKUP(Sheet3!$J17,Sheet2!$A$2:$N$29,14,FALSE) -> 36.819637 | AD25: =(Sheet3!$K17+Sheet3!$L17*Sheet3!D$1) / VLOOKUP(Sheet3!$J17,Sheet2!$A$2:$N$29,14,FALSE) -> 44.290288 | AE25: =(Sheet3!$K17+Sheet3!$L17*Sheet3!E$1) / VLOOKUP(Sheet3!$J17,Sheet2!$A$2:$N$29,14,FALSE) -> 51.760939 | AF25: =(Sheet3!$K17+Sheet3!$L17*Sheet3!F$1) / VLOOKUP(Sheet3!$J17,Sheet2!$A$2:$N$29,14,FALSE) -> 59.23159 | AG25: =(Sheet3!$K17+Sheet3!$L17*Sheet3!G$1) / VLOOKUP(Sheet3!$J17,Sheet2!$A$2:$N$29,14,FALSE) -> 66.702241 | AI25: =A25 -> Incinerate | AJ25: =C25/VLOOKUP(Sheet3!$J17,Sheet2!$A$2:$N$29,13,FALSE) -> 0.031775532 | AK25: =D25/VLOOKUP(Sheet3!$J17,Sheet2!$A$2:$N$29,13,FALSE) -> 0.042814147 | AL25: =E25/VLOOKUP(Sheet3!$J17,Sheet2!$A$2:$N$29,13,FALSE) -> 0.053852761 | AM25: =F25/VLOOKUP(Sheet3!$J17,Sheet2!$A$2:$N$29,13,FALSE) -> 0.064891375 | AN25: =G25/VLOOKUP(Sheet3!$J17,Sheet2!$A$2:$N$29,13,FALSE) -> 0.075929989 | AO25: =H25/VLOOKUP(Sheet3!$J17,Sheet2!$A$2:$N$29,13,FALSE) -> 0.086968603
A26: =Sheet3!A18 -> Arctic Cataclysm | B26: =Sheet3!J18 -> Glacial Tyrant | C26: =Sheet3!C18 * 0.75 -> 129.795 | D26: =Sheet3!D18 * 0.75 -> 160.4925 | E26: =Sheet3!E18 * 0.75 -> 191.19 | F26: =Sheet3!F18 * 0.75 -> 221.8875 | G26: =Sheet3!G18 * 0.75 -> 252.585 | H26: =Sheet3!H18 * 0.75 -> 283.2825 | K26: =A26 -> Arctic Cataclysm | L26: =Sheet5!C26/(Sheet3!$M18+Sheet3!$N18*Sheet3!B$1) -> 8.1121875 | M26: =Sheet5!D26/(Sheet3!$M18+Sheet3!$N18*Sheet3!C$1) -> 10.030781 | N26: =Sheet5!E26/(Sheet3!$M18+Sheet3!$N18*Sheet3!D$1) -> 11.949375 | O26: =Sheet5!F26/(Sheet3!$M18+Sheet3!$N18*Sheet3!E$1) -> 13.867969 | P26: =Sheet5!G26/(Sheet3!$M18+Sheet3!$N18*Sheet3!F$1) -> 15.786562 | Q26: =Sheet5!H26/(Sheet3!$M18+Sheet3!$N18*Sheet3!G$1) -> 17.705156 | S26: =A26 -> Arctic Cataclysm | T26: =Sheet5!C26/(Sheet3!$K18+Sheet3!$L18*Sheet3!B$1) -> 1.8542143 | U26: =Sheet5!D26/(Sheet3!$K18+Sheet3!$L18*Sheet3!C$1) -> 1.707367 | V26: =Sheet5!E26/(Sheet3!$K18+Sheet3!$L18*Sheet3!D$1) -> 1.6202542 | W26: =Sheet5!F26/(Sheet3!$K18+Sheet3!$L18*Sheet3!E$1) -> 1.562588 | X26: =Sheet5!G26/(Sheet3!$K18+Sheet3!$L18*Sheet3!F$1) -> 1.5215964 | Y26: =Sheet5!H26/(Sheet3!$K18+Sheet3!$L18*Sheet3!G$1) -> 1.4909605 | AA26: =S26 -> Arctic Cataclysm | AB26: =(Sheet3!$K18+Sheet3!$L18*Sheet3!B$1) / VLOOKUP(Sheet3!$J18,Sheet2!$A$2:$N$29,14,FALSE) -> 40.195234 | AC26: =(Sheet3!$K18+Sheet3!$L18*Sheet3!C$1) / VLOOKUP(Sheet3!$J18,Sheet2!$A$2:$N$29,14,FALSE) -> 53.976457 | AD26: =(Sheet3!$K18+Sheet3!$L18*Sheet3!D$1) / VLOOKUP(Sheet3!$J18,Sheet2!$A$2:$N$29,14,FALSE) -> 67.75768 | AE26: =(Sheet3!$K18+Sheet3!$L18*Sheet3!E$1) / VLOOKUP(Sheet3!$J18,Sheet2!$A$2:$N$29,14,FALSE) -> 81.538903 | AF26: =(Sheet3!$K18+Sheet3!$L18*Sheet3!F$1) / VLOOKUP(Sheet3!$J18,Sheet2!$A$2:$N$29,14,FALSE) -> 95.320126 | AG26: =(Sheet3!$K18+Sheet3!$L18*Sheet3!G$1) / VLOOKUP(Sheet3!$J18,Sheet2!$A$2:$N$29,14,FALSE) -> 109.10135 | AI26: =A26 -> Arctic Cataclysm | AJ26: =C26/VLOOKUP(Sheet3!$J18,Sheet2!$A$2:$N$29,13,FALSE) -> 0.076665682 | AK26: =D26/VLOOKUP(Sheet3!$J18,Sheet2!$A$2:$N$29,13,FALSE) -> 0.094797696 | AL26: =E26/VLOOKUP(Sheet3!$J18,Sheet2!$A$2:$N$29,13,FALSE) -> 0.11292971 | AM26: =F26/VLOOKUP(Sheet3!$J18,Sheet2!$A$2:$N$29,13,FALSE) -> 0.13106172 | AN26: =G26/VLOOKUP(Sheet3!$J18,Sheet2!$A$2:$N$29,13,FALSE) -> 0.14919374 | AO26: =H26/VLOOKUP(Sheet3!$J18,Sheet2!$A$2:$N$29,13,FALSE) -> 0.16732575
A27: =Sheet3!A19 -> Caustic Breath | B27: =Sheet3!J19 -> Acid Reaver | C27: =Sheet3!C19 * 0.75 -> 132.855 | D27: =Sheet3!D19 * 0.75 -> 160.965 | E27: =Sheet3!E19 * 0.75 -> 189.075 | F27: =Sheet3!F19 * 0.75 -> 217.185 | G27: =Sheet3!G19 * 0.75 -> 245.295 | H27: =Sheet3!H19 * 0.75 -> 273.405 | K27: =A27 -> Caustic Breath | L27: =Sheet5!C27/(Sheet3!$M19+Sheet3!$N19*Sheet3!B$1) -> 16.606875 | M27: =Sheet5!D27/(Sheet3!$M19+Sheet3!$N19*Sheet3!C$1) -> 20.120625 | N27: =Sheet5!E27/(Sheet3!$M19+Sheet3!$N19*Sheet3!D$1) -> 23.634375 | O27: =Sheet5!F27/(Sheet3!$M19+Sheet3!$N19*Sheet3!E$1) -> 27.148125 | P27: =Sheet5!G27/(Sheet3!$M19+Sheet3!$N19*Sheet3!F$1) -> 30.661875 | Q27: =Sheet5!H27/(Sheet3!$M19+Sheet3!$N19*Sheet3!G$1) -> 34.175625 | S27: =A27 -> Caustic Breath | T27: =Sheet5!C27/(Sheet3!$K19+Sheet3!$L19*Sheet3!B$1) -> 3.321375 | U27: =Sheet5!D27/(Sheet3!$K19+Sheet3!$L19*Sheet3!C$1) -> 3.0954808 | V27: =Sheet5!E27/(Sheet3!$K19+Sheet3!$L19*Sheet3!D$1) -> 2.9542969 | W27: =Sheet5!F27/(Sheet3!$K19+Sheet3!$L19*Sheet3!E$1) -> 2.8576974 | X27: =Sheet5!G27/(Sheet3!$K19+Sheet3!$L19*Sheet3!F$1) -> 2.7874432 | Y27: =Sheet5!H27/(Sheet3!$K19+Sheet3!$L19*Sheet3!G$1) -> 2.73405 | AA27: =S27 -> Caustic Breath | AB27: =(Sheet3!$K19+Sheet3!$L19*Sheet3!B$1) / VLOOKUP(Sheet3!$J19,Sheet2!$A$2:$N$29,14,FALSE) -> 22.408964 | AC27: =(Sheet3!$K19+Sheet3!$L19*Sheet3!C$1) / VLOOKUP(Sheet3!$J19,Sheet2!$A$2:$N$29,14,FALSE) -> 29.131653 | AD27: =(Sheet3!$K19+Sheet3!$L19*Sheet3!D$1) / VLOOKUP(Sheet3!$J19,Sheet2!$A$2:$N$29,14,FALSE) -> 35.854342 | AE27: =(Sheet3!$K19+Sheet3!$L19*Sheet3!E$1) / VLOOKUP(Sheet3!$J19,Sheet2!$A$2:$N$29,14,FALSE) -> 42.577031 | AF27: =(Sheet3!$K19+Sheet3!$L19*Sheet3!F$1) / VLOOKUP(Sheet3!$J19,Sheet2!$A$2:$N$29,14,FALSE) -> 49.29972 | AG27: =(Sheet3!$K19+Sheet3!$L19*Sheet3!G$1) / VLOOKUP(Sheet3!$J19,Sheet2!$A$2:$N$29,14,FALSE) -> 56.022409 | AI27: =A27 -> Caustic Breath | AJ27: =C27/VLOOKUP(Sheet3!$J19,Sheet2!$A$2:$N$29,13,FALSE) -> 0.085108905 | AK27: =D27/VLOOKUP(Sheet3!$J19,Sheet2!$A$2:$N$29,13,FALSE) -> 0.10311659 | AL27: =E27/VLOOKUP(Sheet3!$J19,Sheet2!$A$2:$N$29,13,FALSE) -> 0.12112428 | AM27: =F27/VLOOKUP(Sheet3!$J19,Sheet2!$A$2:$N$29,13,FALSE) -> 0.13913197 | AN27: =G27/VLOOKUP(Sheet3!$J19,Sheet2!$A$2:$N$29,13,FALSE) -> 0.15713965 | AO27: =H27/VLOOKUP(Sheet3!$J19,Sheet2!$A$2:$N$29,13,FALSE) -> 0.17514734
