Workbook

Sheet Sheet1
A1: Level | B1: 30 | C1: =B1-1 -> 29
A2: Bonus Str | B2: 0
A3: Bonus Agi | B3: 0
A4: Bonus Int | B4: 0

Sheet Sheet2
A1: Name | B1: Strength | C1: Str/level | D1: Agility | E1: Agi/level | F1: Int | G1: Int/level | I1: ="Str @" & Sheet1!$B$1 -> Str @30 | J1: ="Agi @" & Sheet1!$B$1 -> Agi @30 | K1: ="Int @" & Sheet1!$B$1 -> Int @30 | M1: Health | N1: Mana Regen | O1: Balance Factor | P1: Starting Stat Total | Q1: Growth Total
A2: Arcane Archer | B2: 15 | C2: 1.6 | D2: 17 | E2: 1.35 | F2: 21 | G2: 2.5 | I2: =B2+Sheet1!$C$1*Sheet2!C2+Sheet1!$B$2 -> 61.4 | J2: =D2+Sheet1!$C$1*Sheet2!E2+Sheet1!$B$3 -> 56.15 | K2: =F2+Sheet1!$C$1*Sheet2!G2+Sheet1!$B$4 -> 93.5 | M2: =I2*15+100 -> 1021 | N2: =1.2 + K2*0.01 -> 2.135 | O2: =$M$31/M2 -> 1.2656797 | P2: =B2+D2+F2 -> 53 | Q2: =C2+E2+G2 -> 5.45
A3: Blazing Priest | B3: 22 | C3: 2.35 | D3: 13 | E3: 1 | F3: 18 | G3: 1.6 | I3: =B3+Sheet1!$C$1*Sheet2!C3+Sheet1!$B$2 -> 90.15 | J3: =D3+Sheet1!$C$1*Sheet2!E3+Sheet1!$B$3 -> 42 | K3: =F3+Sheet1!$C$1*Sheet2!G3+Sheet1!$B$4 -> 64.4 | M3: =I3*15+100 -> 1452.25 | N3: =1.2 + K3*0.01 -> 1.844 | O3: =$M$31/M3 -> 0.88983228 | P3: =B3+D3+F3 -> 53 | Q3: =C3+E3+G3 -> 4.95
A4: Time Cleric | B4: 20 | C4: 1.95 | D4: 16 | E4: 1.75 | F4: 19 | G4: 1.85 | I4: =B4+Sheet1!$C$1*Sheet2!C4+Sheet1!$B$2 -> 76.55 | J4: =D4+Sheet1!$C$1*Sheet2!E4+Sheet1!$B$3 -> 66.75 | K4: =F4+Sheet1!$C$1*Sheet2!G4+Sheet1!$B$4 -> 72.65 | M4: =I4*15+100 -> 1248.25 | N4: =1.2 + K4*0.01 -> 1.9265 | O4: =$M$31/M4 -> 1.0352565 | P4: =B4+D4+F4 -> 55 | Q4: =C4+E4+G4 -> 5.55
A5: Arboreal Crusader | B5: 14 | C5: 1.55 | D5: 17 | E5: 2 | F5: 18 | G5: 2.2 | I5: =B5+Sheet1!$C$1*Sheet2!C5+Sheet1!$B$2 -> 58.95 | J5: =D5+Sheet1!$C$1*Sheet2!E5+Sheet1!$B$3 -> 75 | K5: =F5+Sheet1!$C$1*Sheet2!G5+Sheet1!$B$4 -> 81.8 | M5: =I5*15+100 -> 984.25 | N5: =1.2 + K5*0.01 -> 2.018 | O5: =$M$31/M5 -> 1.3129377 | P5: =B5+D5+F5 -> 49 | Q5: =C5+E5+G5 -> 5.75
A6: Dread Shaman | B6: 15 | C6: 1.65 | D6: 18 | E6: 1.45 | F6: 19 | G6: 1.75 | I6: =B6+Sheet1!$C$1*Sheet2!C6+Sheet1!$B$2 -> 62.85 | J6: =D6+Sheet1!$C$1*Sheet2!E6+Sheet1!$B$3 -> 60.05 | K6: =F6+Sheet1!$C$1*Sheet2!G6+Sheet1!$B$4 -> 69.75 | M6: =I6*15+100 -> 1042.75 | N6: =1.2 + K6*0.01 -> 1.8975 | O6: =$M$31/M6 -> 1.2392797 | P6: =B6+D6+F6 -> 52 | Q6: =C6+E6+G6 -> 4.85
A7: Scarab | B7: 23 | C7: 2.25 | D7: 14 | E7: 1.05 | F7: 18 | G7: 1.85 | I7: =B7+Sheet1!$C$1*Sheet2!C7+Sheet1!$B$2 -> 88.25 | J7: =D7+Sheet1!$C$1*Sheet2!E7+Sheet1!$B$3 -> 44.45 | K7: =F7+Sheet1!$C$1*Sheet2!G7+Sheet1!$B$4 -> 71.65 | M7: =I7*15+100 -> 1423.75 | N7: =1.2 + K7*0.01 -> 1.9165 | O7: =$M$31/M7 -> 0.90764455 | P7: =B7+D7+F7 -> 55 | Q7: =C7+E7+G7 -> 5.15
A8: Soul Binder | B8: 19 | C8: 2.3 | D8: 13 | E8: 1.7 | F8: 21 | G8: 1.6 | I8: =B8+Sheet1!$C$1*Sheet2!C8+Sheet1!$B$2 -> 85.7 | J8: =D8+Sheet1!$C$1*Sheet2!E8+Sheet1!$B$3 -> 62.3 | K8: =F8+Sheet1!$C$1*Sheet2!G8+Sheet1!$B$4 -> 67.4 | M8: =I8*15+100 -> 1385.5 | N8: =1.2 + K8*0.01 -> 1.874 | O8: =$M$31/M8 -> 0.93270222 | P8: =B8+D8+F8 -> 53 | Q8: =C8+E8+G8 -> 5.6
A9: Glacial Tyrant | B9: 25 | C9: 2.8 | D9: 9 | E9: 0.9 | F9: 15 | G9: 1.35 | I9: =B9+Sheet1!$C$1*Sheet2!C9+Sheet1!$B$2 -> 106.2 | J9: =D9+Sheet1!$C$1*Sheet2!E9+Sheet1!$B$3 -> 35.1 | K9: =F9+Sheet1!$C$1*Sheet2!G9+Sheet1!$B$4 -> 54.15 | M9: =I9*15+100 -> 1693 | N9: =1.2 + K9*0.01 -> 1.7415 | O9: =$M$31/M9 -> 0.76329529 | P9: =B9+D9+F9 -> 49 | Q9: =C9+E9+G9 -> 5.05
A10: Acid Reaver | B10: 22 | C10: 2.6 | D10: 15 | E10: 1.6 | F10: 15 | G10: 1.5 | I10: =B10+Sheet1!$C$1*Sheet2!C10+Sheet1!$B$2 -> 97.4 | J10: =D10+Sheet1!$C$1*Sheet2!E10+Sheet1!$B$3 -> 61.4 | K10: =F10+Sheet1!$C$1*Sheet2!G10+Sheet1!$B$4 -> 58.5 | M10: =I10*15+100 -> 1561 | N10: =1.2 + K10*0.01 -> 1.785 | O10: =$M$31/M10 -> 0.82784044 | P10: =B10+D10+F10 -> 52 | Q10: =C10+E10+G10 -> 5.7
A11: Divine Wizard | B11: 18 | C11: 1.35 | D11: 14 | E11: 1.1 | F11: 19 | G11: 2.2 | I11: =B11+Sheet1!$C$1*Sheet2!C11+Sheet1!$B$2 -> 57.15 | J11: =D11+Sheet1!$C$1*Sheet2!E11+Sheet1!$B$3 -> 45.9 | K11: =F11+Sheet1!$C$1*Sheet2!G11+Sheet1!$B$4 -> 82.8 | M11: =I11*15+100 -> 957.25 | N11: =1.2 + K11*0.01 -> 2.028 | O11: =$M$31/M11 -> 1.3499702 | P11: =B11+D11+F11 -> 51 | Q11: =C11+E11+G11 -> 4.65
A12: Colossus | B12: 25 | C12: 2.7 | D12: 10 | E12: 0.9 | F12: 14 | G12: 1 | I12: =B12+Sheet1!$C$1*Sheet2!C12+Sheet1!$B$2 -> 103.3 | J12: =D12+Sheet1!$C$1*Sheet2!E12+Sheet1!$B$3 -> 36.1 | K12: =F12+Sheet1!$C$1*Sheet2!G12+Sheet1!$B$4 -> 43 | M12: =I12*15+100 -> 1649.5 | N12: =1.2 + K12*0.01 -> 1.63 | O12: =$M$31/M12 -> 0.78342463 | P12: =B12+D12+F12 -> 49 | Q12: =C12+E12+G12 -> 4.6
A13: Crest Witch | B13: 15 | C13: 1.6 | D13: 19 | E13: 1.8 | F13: 21 | G13: 2.15 | I13: =B13+Sheet1!$C$1*Sheet2!C13+Sheet1!$B$2 -> 61.4 | J13: =D13+Sheet1!$C$1*Sheet2!E13+Sheet1!$B$3 -> 71.2 | K13: =F13+Sheet1!$C$1*Sheet2!G13+Sheet1!$B$4 -> 83.35 | M13: =I13*15+100 -> 1021 | N13: =1.2 + K13*0.01 -> 2.0335 | O13: =$M$31/M13 -> 1.2656797 | P13: =B13+D13+F13 -> 55 | Q13: =C13+E13+G13 -> 5.55
... A29: Crimson Squall | B29: 20 | C29: 1.95 | D29: 20 | E29: 1.95 | F29: 20 | G29: 1.95 | I29: =B29+Sheet1!$C$1*Sheet2!C29+Sheet1!$B$2 -> 76.55 | J29: =D29+Sheet1!$C$1*Sheet2!E29+Sheet1!$B$3 -> 76.55 | K29: =F29+Sheet1!$C$1*Sheet2!G29+Sheet1!$B$4 -> 76.55 | M29: =I29*15+100 -> 1248.25 | N29: =1.2 + K29*0.01 -> 1.9655 | O29: =$M$31/M29 -> 1.0352565 | P29: =B29+D29+F29 -> 60 | Q29: =C29+E29+G29 -> 5.85
L31: Average | M31: =AVERAGE(M2:M29) -> 1292.2589 | N31: =AVERAGE(N2:N29) -> 1.8789107 | P31: =AVERAGE(P2:P29) -> 52.678571 | Q31: =AVERAGE(Q2:Q29) -> 5.2375

Sheet Sheet3
A1: Heal | B1: 0 | C1: =MIN(B1+1,FLOOR((Sheet1!$B$1-1)/5,1)) -> 1 | D1: =MIN(C1+1,FLOOR((Sheet1!$B$1-1)/5,1)) -> 2 | E1: =MIN(D1+1,FLOOR((Sheet1!$B$1-1)/5,1)) -> 3 | F1: =MIN(E1+1,FLOOR((Sheet1!$B$1-1)/5,1)) -> 4 | G1: =MIN(F1+1,FLOOR((Sheet1!$B$1-1)/5,1)) -> 5 | H1: =MIN(G1+1,FLOOR((Sheet1!$B$1-1)/5,1)) -> 5 | J1: Hero | K1: Mana | L1: Mana+ | M1: Cooldown | N1: Cd+ | O1: Base | P1: Base+ | Q1: Mod | R1: Mod+ | S1: Mod2 | T1: Mod2 +
A2: Flame of the Devout | C2: =($O2+B1*$P2+Sheet2!$K3*(Sheet3!$Q2+Sheet3!B1*Sheet3!$R2))*30*(0.25 + 0.75/2) -> 154.125 | D2: =($O2+C1*$P2+Sheet2!$K3*(Sheet3!$Q2+Sheet3!C1*Sheet3!$R2))*30*(0.25 + 0.75/2) -> 259.95 | E2: =($O2+D1*$P2+Sheet2!$K3*(Sheet3!$Q2+Sheet3!D1*Sheet3!$R2))*30*(0.25 + 0.75/2) -> 365.775 | F2: =($O2+E1*$P2+Sheet2!$K3*(Sheet3!$Q2+Sheet3!E1*Sheet3!$R2))*30*(0.25 + 0.75/2) -> 471.6 | G2: =($O2+F1*$P2+Sheet2!$K3*(Sheet3!$Q2+Sheet3!F1*Sheet3!$R2))*30*(0.25 + 0.75/2) -> 577.425 | H2: =($O2+G1*$P2+Sheet2!$K3*(Sheet3!$Q2+Sheet3!G1*Sheet3!$R2))*30*(0.25 + 0.75/2) -> 683.25 | K2: 60 | L2: 17 | M2: 45 | N2: 0 | O2: 5 | P2: 5 | Q2: 0.05 | R2: 0.01
A3: (Heroes) | C3: =($O3+B$1*$P3+Sheet2!$K$3*(Sheet3!$Q3+Sheet3!B$1*Sheet3!$R3))*30*(0.25 + 0.75/2)*2 -> 308.25 | D3: =($O3+C$1*$P3+Sheet2!$K$3*(Sheet3!$Q3+Sheet3!C$1*Sheet3!$R3))*30*(0.25 + 0.75/2)*2 -> 519.9 | E3: =($O3+D$1*$P3+Sheet2!$K$3*(Sheet3!$Q3+Sheet3!D$1*Sheet3!$R3))*30*(0.25 + 0.75/2)*2 -> 731.55 | F3: =($O3+E$1*$P3+Sheet2!$K$3*(Sheet3!$Q3+Sheet3!E$1*Sheet3!$R3))*30*(0.25 + 0.75/2)*2 -> 943.2 | G3: =($O3+F$1*$P3+Sheet2!$K$3*(Sheet3!$Q3+Sheet3!F$1*Sheet3!$R3))*30*(0.25 + 0.75/2)*2 -> 1154.85 | H3: =($O3+G$1*$P3+Sheet2!$K$3*(Sheet3!$Q3+Sheet3!G$1*Sheet3!$R3))*30*(0.25 + 0.75/2)*2 -> 1366.5 | K3: 60 | L3: 17 | M3: 45 | N3: 0 | O3: 5 | P3: 5 | Q3: 0.05 | R3: 0.01
A4: Ethereal Healing | C4: =($O4+B$1*$P4+Sheet2!$K2*(Sheet3!$Q4+Sheet3!B$1*Sheet3!$R4))*1.67 -> 423.345 | D4: =($O4+C$1*$P4+Sheet2!$K2*(Sheet3!$Q4+Sheet3!C$1*Sheet3!$R4))*1.67 -> 644.99575 | E4: =($O4+D$1*$P4+Sheet2!$K2*(Sheet3!$Q4+Sheet3!D$1*Sheet3!$R4))*1.67 -> 866.6465 | F4: =($O4+E$1*$P4+Sheet2!$K2*(Sheet3!$Q4+Sheet3!E$1*Sheet3!$R4))*1.67 -> 1088.2972 | G4: =($O4+F$1*$P4+Sheet2!$K2*(Sheet3!$Q4+Sheet3!F$1*Sheet3!$R4))*1.67 -> 1309.948 | H4: =($O4+G$1*$P4+Sheet2!$K2*(Sheet3!$Q4+Sheet3!G$1*Sheet3!$R4))*1.67 -> 1531.5987 | K4: 40 | L4: 16 | M4: 18 | N4: 0 | O4: 160 | P4: 100 | Q4: 1 | R4: 0.35
A5: Mend | C5: =$O5+B$1*$P5+Sheet2!K8*(Sheet3!$Q5+Sheet3!B$1*Sheet3!$R5) -> 300 | D5: =$O5+C$1*$P5+Sheet2!L8*(Sheet3!$Q5+Sheet3!C$1*Sheet3!$R5) -> 500 | E5: =$O5+D$1*$P5+Sheet2!M8*(Sheet3!$Q5+Sheet3!D$1*Sheet3!$R5) -> 700 | F5: =$O5+E$1*$P5+Sheet2!N8*(Sheet3!$Q5+Sheet3!E$1*Sheet3!$R5) -> 900 | G5: =$O5+F$1*$P5+Sheet2!O8*(Sheet3!$Q5+Sheet3!F$1*Sheet3!$R5) -> 1100 | H5: =$O5+G$1*$P5+Sheet2!P8*(Sheet3!$Q5+Sheet3!G$1*Sheet3!$R5) -> 1300 | K5: 20 | L5: 10 | M5: 90 | N5: -10 | O5: 300 | P5: 200
A6: Rapid Healing | C6: =$O6+B$1*$P6+Sheet2!$K4*(Sheet3!$Q6+Sheet3!B$1*Sheet3!$R6) -> 238.12 | D6: =$O6+C$1*$P6+Sheet2!$K4*(Sheet3!$Q6+Sheet3!C$1*Sheet3!$R6) -> 396.2825 | E6: =$O6+D$1*$P6+Sheet2!$K4*(Sheet3!$Q6+Sheet3!D$1*Sheet3!$R6) -> 554.445 | F6: =$O6+E$1*$P6+Sheet2!$K4*(Sheet3!$Q6+Sheet3!E$1*Sheet3!$R6) -> 712.6075 | G6: =$O6+F$1*$P6+Sheet2!$K4*(Sheet3!$Q6+Sheet3!F$1*Sheet3!$R6) -> 870.77 | H6: =$O6+G$1*$P6+Sheet2!$K4*(Sheet3!$Q6+Sheet3!G$1*Sheet3!$R6) -> 1028.9325 | K6: 55 | L6: 9 | M6: 14 | N6: 0 | O6: 180 | P6: 140 | Q6: 0.8 | R6: 0.25
A7: Mass Regen | C7: =$O7+B$1*$P7+Sheet2!$K6*(Sheet3!$Q7+Sheet3!B$1*Sheet3!$R7) -> 169.75 | D7: =$O7+C$1*$P7+Sheet2!$K6*(Sheet3!$Q7+Sheet3!C$1*Sheet3!$R7) -> 297.65 | E7: =$O7+D$1*$P7+Sheet2!$K6*(Sheet3!$Q7+Sheet3!D$1*Sheet3!$R7) -> 425.55 | F7: =$O7+E$1*$P7+Sheet2!$K6*(Sheet3!$Q7+Sheet3!E$1*Sheet3!$R7) -> 553.45 | G7: =$O7+F$1*$P7+Sheet2!$K6*(Sheet3!$Q7+Sheet3!F$1*Sheet3!$R7) -> 681.35 | H7: =$O7+G$1*$P7+Sheet2!$K6*(Sheet3!$Q7+Sheet3!G$1*Sheet3!$R7) -> 809.25 | K7: 60 | L7: 20 | M7: 15 | N7: 0 | O7: 100 | P7: 100 | Q7: 1 | R7: 0.4
A8: Cure Wounds | C8: =$O8+B$1*$P8+Sheet2!$K5*(Sheet3!$Q8+Sheet3!B$1*Sheet3!$R8) -> 231.8 | D8: =$O8+C$1*$P8+Sheet2!$K5*(Sheet3!$Q8+Sheet3!C$1*Sheet3!$R8) -> 389.52 | E8: =$O8+D$1*$P8+Sheet2!$K5*(Sheet3!$Q8+Sheet3!D$1*Sheet3!$R8) -> 547.24 | F8: =$O8+E$1*$P8+Sheet2!$K5*(Sheet3!$Q8+Sheet3!E$1*Sheet3!$R8) -> 704.96 | G8: =$O8+F$1*$P8+Sheet2!$K5*(Sheet3!$Q8+Sheet3!F$1*Sheet3!$R8) -> 862.68 | H8: =$O8+G$1*$P8+Sheet2!$K5*(Sheet3!$Q8+Sheet3!G$1*Sheet3!$R8) -> 1020.4 | K8: 40 | L8: 35 | M8: 12 | N8: 0 | O8: 150 | P8: 125 | Q8: 1 | R8: 0.4
A9: Life Wave | C9: =$O9+B$1*$P9+Sheet2!$K7*(Sheet3!$Q9+Sheet3!B$1*Sheet3!$R9) -> 191.65 | D9: =$O9+C$1*$P9+Sheet2!$K7*(Sheet3!$Q9+Sheet3!C$1*Sheet3!$R9) -> 343.3 | E9: =$O9+D$1*$P9+Sheet2!$K7*(Sheet3!$Q9+Sheet3!D$1*Sheet3!$R9) -> 494.95 | F9: =$O9+E$1*$P9+Sheet2!$K7*(Sheet3!$Q9+Sheet3!E$1*Sheet3!$R9) -> 646.6 | G9: =$O9+F$1*$P9+Sheet2!$K7*(Sheet3!$Q9+Sheet3!F$1*Sheet3!$R9) -> 798.25 | H9: =$O9+G$1*$P9+Sheet2!$K7*(Sheet3!$Q9+Sheet3!G$1*Sheet3!$R9) -> 949.9 | K9: 50 | L9: 20 | M9: 15 | N9: 0 | O9: 120 | P9: 80 | Q9: 1 | R9: 1
A15: AoE Damage
A16: Gale | C16: =($O16+B$1*$P16+Sheet2!$K$5*(Sheet3!$Q16+Sheet3!B$1*Sheet3!$R16)) -> 139.98 | D16: =($O16+C$1*$P16+Sheet2!$K$5*(Sheet3!$Q16+Sheet3!C$1*Sheet3!$R16)) -> 179.52 | E16: =($O16+D$1*$P16+Sheet2!$K$5*(Sheet3!$Q16+Sheet3!D$1*Sheet3!$R16)) -> 219.06 | F16: =($O16+E$1*$P16+Sheet2!$K$5*(Sheet3!$Q16+Sheet3!E$1*Sheet3!$R16)) -> 258.6 | G16: =($O16+F$1*$P16+Sheet2!$K$5*(Sheet3!$Q16+Sheet3!F$1*Sheet3!$R16)) -> 298.14 | H16: =($O16+G$1*$P16+Sheet2!$K$5*(Sheet3!$Q16+Sheet3!G$1*Sheet3!$R16)) -> 337.68 | J16: =Sheet2!A5 -> Arboreal Crusader | K16: 55 | L16: 22 | M16: 11 | N16: 0 | O16: 50 | P16: 15 | Q16: 1.1 | R16: 0.3
A17: Incinerate | C17: =($O17+B$1*$P17+Sheet2!$K$8*(Sheet3!$Q17+Sheet3!B$1*Sheet3!$R17)) -> 58.7 | D17: =($O17+C$1*$P17+Sheet2!$K$8*(Sheet3!$Q17+Sheet3!C$1*Sheet3!$R17)) -> 79.092 | E17: =($O17+D$1*$P17+Sheet2!$K$8*(Sheet3!$Q17+Sheet3!D$1*Sheet3!$R17)) -> 99.484 | F17: =($O17+E$1*$P17+Sheet2!$K$8*(Sheet3!$Q17+Sheet3!E$1*Sheet3!$R17)) -> 119.876 | G17: =($O17+F$1*$P17+Sheet2!$K$8*(Sheet3!$Q17+Sheet3!F$1*Sheet3!$R17)) -> 140.268 | H17: =($O17+G$1*$P17+Sheet2!$K$8*(Sheet3!$Q17+Sheet3!G$1*Sheet3!$R17)) -> 160.66 | J17: =Sheet2!A8 -> Soul Binder | K17: 55 | L17: 14 | M17: 3 | N17: 0 | O17: 25 | P17: 15 | Q17: 0.5 | R17: 0.08
A18: Arctic Cataclysm | C18: =($O18+B$1*$P18+Sheet2!$I$9*(Sheet3!$Q18+Sheet3!B$1*Sheet3!$R18)) -> 173.06 | D18: =($O18+C$1*$P18+Sheet2!$I$9*(Sheet3!$Q18+Sheet3!C$1*Sheet3!$R18)) -> 213.99 | E18: =($O18+D$1*$P18+Sheet2!$I$9*(Sheet3!$Q18+Sheet3!D$1*Sheet3!$R18)) -> 254.92 | F18: =($O18+E$1*$P18+Sheet2!$I$9*(Sheet3!$Q18+Sheet3!E$1*Sheet3!$R18)) -> 295.85 | G18: =($O18+F$1*$P18+Sheet2!$I$9*(Sheet3!$Q18+Sheet3!F$1*Sheet3!$R18)) -> 336.78 | H18: =($O18+G$1*$P18+Sheet2!$I$9*(Sheet3!$Q18+Sheet3!G$1*Sheet3!$R18)) -> 377.71 | J18: =Sheet2!A9 -> Glacial Tyrant | K18: 70 | L18: 24 | M18: 16 | N18: 0 | O18: 35 | P18: 25 | Q18: 1.3 | R18: 0.15
A19: Caustic Breath | C19: =($O19+B$1*$P19+Sheet2!$I$10*(Sheet3!$Q19+Sheet3!B$1*Sheet3!$R19)) -> 177.14 | D19: =($O19+C$1*$P19+Sheet2!$I$10*(Sheet3!$Q19+Sheet3!C$1*Sheet3!$R19)) -> 214.62 | E19: =($O19+D$1*$P19+Sheet2!$I$10*(Sheet3!$Q19+Sheet3!D$1*Sheet3!$R19)) -> 252.1 | F19: =($O19+E$1*$P19+Sheet2!$I$10*(Sheet3!$Q19+Sheet3!E$1*Sheet3!$R19)) -> 289.58 | G19: =($O19+F$1*$P19+Sheet2!$I$10*(Sheet3!$Q19+Sheet3!F$1*Sheet3!$R19)) -> 327.06 | H19: =($O19+G$1*$P19+Sheet2!$I$10*(Sheet3!$Q19+Sheet3!G$1*Sheet3!$R19)) -> 364.54 | J19: =Sheet2!A10 -> Acid Reaver | K19: 40 | L19: 12 | M19: 8 | N19: 0 | O19: 70 | P19: 18 | Q19: 1.1 | R19: 0.2
A20: Holy Strike | C20: =($O20+B$1*$P20+Sheet2!$K$11*(Sheet3!$Q20+Sheet3!B$1*Sheet3!$R20)) -> 167.64 | D20: =($O20+C$1*$P20+Sheet2!$K$11*(Sheet3!$Q20+Sheet3!C$1*Sheet3!$R20)) -> 208.34 | E20: =($O20+D$1*$P20+Sheet2!$K$11*(Sheet3!$Q20+Sheet3!D$1*Sheet3!$R20)) -> 249.04 | F20: =($O20+E$1*$P20+Sheet2!$K$11*(Sheet3!$Q20+Sheet3!E$1*Sheet3!$R20)) -> 289.74 | G20: =($O20+F$1*$P20+Sheet2!$K$11*(Sheet3!$Q20+Sheet3!F$1*Sheet3!$R20)) -> 330.44 | H20: =($O20+G$1*$P20+Sheet2!$K$11*(Sheet3!$Q20+Sheet3!G$1*Sheet3!$R20)) -> 371.14 | J20: =Sheet2!A11 -> Divine Wizard | K20: 70 | L20: 32 | M20: 7.5 | N20: 0.75 | O20: 60 | P20: 20 | Q20: 1.3 | R20: 0.25
A21: Rockslide | C21: =($O21+B$1*$P21+Sheet2!$I$12*(Sheet3!$Q21+Sheet3!B$1*Sheet3!$R21)) -> 158.465 | D21: =($O21+C$1*$P21+Sheet2!$I$12*(Sheet3!$Q21+Sheet3!C$1*Sheet3!$R21)) -> 209.125 | E21: =($O21+D$1*$P21+Sheet2!$I$12*(Sheet3!$Q21+Sheet3!D$1*Sheet3!$R21)) -> 259.785 | F21: =($O21+E$1*$P21+Sheet2!$I$12*(Sheet3!$Q21+Sheet3!E$1*Sheet3!$R21)) -> 310.445 | G21: =($O21+F$1*$P21+Sheet2!$I$12*(Sheet3!$Q21+Sheet3!F$1*Sheet3!$R21)) -> 361.105 | H21: =($O21+G$1*$P21+Sheet2!$I$12*(Sheet3!$Q21+Sheet3!G$1*Sheet3!$R21)) -> 411.765 | J21: =Sheet2!A12 -> Colossus | K21: 65 | L21: 24 | M21: 18 | N21: 0 | O21: 50 | P21: 30 | Q21: 1.05 | R21: 0.2
A22: Rogue Wave | C22: =($O22+B$1*$P22+Sheet2!$K$13*(Sheet3!$Q22+Sheet3!B$1*Sheet3!$R22)) -> 144.1875 | D22: =($O22+C$1*$P22+Sheet2!$K$13*(Sheet3!$Q22+Sheet3!C$1*Sheet3!$R22)) -> 163.69 | E22: =($O22+D$1*$P22+Sheet2!$K$13*(Sheet3!$Q22+Sheet3!D$1*Sheet3!$R22)) -> 183.1925 | F22: =($O22+E$1*$P22+Sheet2!$K$13*(Sheet3!$Q22+Sheet3!E$1*Sheet3!$R22)) -> 202.695 | G22: =($O22+F$1*$P22+Sheet2!$K$13*(Sheet3!$Q22+Sheet3!F$1*Sheet3!$R22)) -> 222.1975 | H22: =($O22+G$1*$P22+Sheet2!$K$13*(Sheet3!$Q22+Sheet3!G$1*Sheet3!$R22)) -> 241.7 | J22: =Sheet2!A13 -> Crest Witch | K22: 70 | L22: 9 | M22: 15 | N22: 0 | O22: 40 | P22: 7 | Q22: 1.25 | R22: 0.15
A23: Frost Spire | C23: =($O23+B$1*$P23+Sheet2!$K$14*(Sheet3!$Q23+Sheet3!B$1*Sheet3!$R23))*14 -> 257.656 | D23: =($O23+C$1*$P23+Sheet2!$K$14*(Sheet3!$Q23+Sheet3!C$1*Sheet3!$R23))*14 -> 323.932 | E23: =($O23+D$1*$P23+Sheet2!$K$14*(Sheet3!$Q23+Sheet3!D$1*Sheet3!$R23))*14 -> 390.208 | F23: =($O23+E$1*$P23+Sheet2!$K$14*(Sheet3!$Q23+Sheet3!E$1*Sheet3!$R23))*14 -> 456.484 | G23: =($O23+F$1*$P23+Sheet2!$K$14*(Sheet3!$Q23+Sheet3!F$1*Sheet3!$R23))*14 -> 522.76 | H23: =($O23+G$1*$P23+Sheet2!$K$14*(Sheet3!$Q23+Sheet3!G$1*Sheet3!$R23))*14 -> 589.036 | J23: =Sheet2!A14 -> Icespinner | K23: 70 | L23: 16 | M23: 21 | N23: 0 | O23: 8 | P23: 3 | Q23: 0.12 | R23: 0.02
A24: Terra Smash | C24: =($O24+B$1*$P24+Sheet2!$I$15*(Sheet3!$Q24+Sheet3!B$1*Sheet3!$R24)) -> 132.4 | D24: =($O24+C$1*$P24+Sheet2!$I$15*(Sheet3!$Q24+Sheet3!C$1*Sheet3!$R24)) -> 187.5 | E24: =($O24+D$1*$P24+Sheet2!$I$15*(Sheet3!$Q24+Sheet3!D$1*Sheet3!$R24)) -> 242.6 | F24: =($O24+E$1*$P24+Sheet2!$I$15*(Sheet3!$Q24+Sheet3!E$1*Sheet3!$R24)) -> 297.7 | G24: =($O24+F$1*$P24+Sheet2!$I$15*(Sheet3!$Q24+Sheet3!F$1*Sheet3!$R24)) -> 352.8 | H24: =($O24+G$1*$P24+Sheet2!$I$15*(Sheet3!$Q24+Sheet3!G$1*Sheet3!$R24)) -> 407.9 | J24: =Sheet2!A15 -> Ascendant | K24: 35 | L24: 8 | M24: 8 | N24: 0 | O24: 40 | P24: 32 | Q24: 1.2 | R24: 0.3
A25: Pestilence | C25: =($O25+B$1*$P25+Sheet2!$K$16*(Sheet3!$Q25+Sheet3!B$1*Sheet3!$R25)) -> 154.7 | D25: =($O25+C$1*$P25+Sheet2!$K$16*(Sheet3!$Q25+Sheet3!C$1*Sheet3!$R25)) -> 198.95 | E25: =($O25+D$1*$P25+Sheet2!$K$16*(Sheet3!$Q25+Sheet3!D$1*Sheet3!$R25)) -> 243.2 | F25: =($O25+E$1*$P25+Sheet2!$K$16*(Sheet3!$Q25+Sheet3!E$1*Sheet3!$R25)) -> 287.45 | G25: =($O25+F$1*$P25+Sheet2!$K$16*(Sheet3!$Q25+Sheet3!F$1*Sheet3!$R25)) -> 331.7 | H25: =($O25+G$1*$P25+Sheet2!$K$16*(Sheet3!$Q25+Sheet3!G$1*Sheet3!$R25)) -> 375.95 | J25: =Sheet2!A16 -> Defiler | K25: 60 | L25: 21 | M25: 9 | N25: 0 | O25: 70 | P25: 25 | Q25: 1.1 | R25: 0.25
A26: Pyroclasm | C26: =($O26+B$1*$P26+Sheet2!$I$17*(Sheet3!$Q26+Sheet3!B$1*Sheet3!$R26)) -> 150.555 | D26: =($O26+C$1*$P26+Sheet2!$I$17*(Sheet3!$Q26+Sheet3!C$1*Sheet3!$R26)) -> 205.103 | E26: =($O26+D$1*$P26+Sheet2!$I$17*(Sheet3!$Q26+Sheet3!D$1*Sheet3!$R26)) -> 259.651 | F26: =($O26+E$1*$P26+Sheet2!$I$17*(Sheet3!$Q26+Sheet3!E$1*Sheet3!$R26)) -> 314.199 | G26: =($O26+F$1*$P26+Sheet2!$I$17*(Sheet3!$Q26+Sheet3!F$1*Sheet3!$R26)) -> 368.747 | H26: =($O26+G$1*$P26+Sheet2!$I$17*(Sheet3!$Q26+Sheet3!G$1*Sheet3!$R26)) -> 423.295 | J26: =Sheet2!A17 -> Emberwraith | K26: 60 | L26: 22 | M26: 26 | N26: 0 | O26: 66 | P26: 32 | Q26: 0.9 | R26: 0.24
A27: Whirl | C27: =($O27+B$1*$P27+Sheet2!$J$18*(Sheet3!$Q27+Sheet3!B$1*Sheet3!$R27)) -> 105.475 | D27: =($O27+C$1*$P27+Sheet2!$J$18*(Sheet3!$Q27+Sheet3!C$1*Sheet3!$R27)) -> 127.878 | E27: =($O27+D$1*$P27+Sheet2!$J$18*(Sheet3!$Q27+Sheet3!D$1*Sheet3!$R27)) -> 150.281 | F27: =($O27+E$1*$P27+Sheet2!$J$18*(Sheet3!$Q27+Sheet3!E$1*Sheet3!$R27)) -> 172.684 | G27: =($O27+F$1*$P27+Sheet2!$J$18*(Sheet3!$Q27+Sheet3!F$1*Sheet3!$R27)) -> 195.087 | H27: =($O27+G$1*$P27+Sheet2!$J$18*(Sheet3!$Q27+Sheet3!G$1*Sheet3!$R27)) -> 217.49 | J27: =Sheet2!A18 -> Forlorn Martyr | K27: 50 | L27: 12 | M27: 8 | N27: 0 | O27: 55 | P27: 15 | Q27: 0.75 | R27: 0.11
A28: Shadowclap | C28: =($O28+B$1*$P28+Sheet2!$I$19*(Sheet3!$Q28+Sheet3!B$1*Sheet3!$R28)) -> 105.96 | D28: =($O28+C$1*$P28+Sheet2!$I$19*(Sheet3!$Q28+Sheet3!C$1*Sheet3!$R28)) -> 139.265 | E28: =($O28+D$1*$P28+Sheet2!$I$19*(Sheet3!$Q28+Sheet3!D$1*Sheet3!$R28)) -> 172.57 | F28: =($O28+E$1*$P28+Sheet2!$I$19*(Sheet3!$Q28+Sheet3!E$1*Sheet3!$R28)) -> 205.875 | G28: =($O28+F$1*$P28+Sheet2!$I$19*(Sheet3!$Q28+Sheet3!F$1*Sheet3!$R28)) -> 239.18 | H28: =($O28+G$1*$P28+Sheet2!$I$19*(Sheet3!$Q28+Sheet3!G$1*Sheet3!$R28)) -> 272.485 | J28: =Sheet2!A19 -> Blackguard | K28: 40 | L28: 12 | M28: 8 | N28: 0 | O28: 35 | P28: 20 | Q28: 0.8 | R28: 0.15
A29: Inferno | C29: =($O29+B$1*$P29+Sheet2!$K$20*(Sheet3!$Q29+Sheet3!B$1*Sheet3!$R29)) -> 103.7 | D29: =($O29+C$1*$P29+Sheet2!$K$20*(Sheet3!$Q29+Sheet3!C$1*Sheet3!$R29)) -> 137.125 | E29: =($O29+D$1*$P29+Sheet2!$K$20*(Sheet3!$Q29+Sheet3!D$1*Sheet3!$R29)) -> 170.55 | F29: =($O29+E$1*$P29+Sheet2!$K$20*(Sheet3!$Q29+Sheet3!E$1*Sheet3!$R29)) -> 203.975 | G29: =($O29+F$1*$P29+Sheet2!$K$20*(Sheet3!$Q29+Sheet3!F$1*Sheet3!$R29)) -> 237.4 | H29: =($O29+G$1*$P29+Sheet2!$K$20*(Sheet3!$Q29+Sheet3!G$1*Sheet3!$R29)) -> 270.825 | J29: =Sheet2!A20 -> Fire Knight | K29: 50 | L29: 3 | M29: 15 | N29: 0 | O29: 50 | P29: 20 | Q29: 1 | R29: 0.25
A30: Pheonix Strike | C30: =($O30+B$1*$P30+Sheet2!$I$20*(Sheet3!$Q30+Sheet3!B$1*Sheet3!$R30)) -> 156.15 | D30: =($O30+C$1*$P30+Sheet2!$I$20*(Sheet3!$Q30+Sheet3!C$1*Sheet3!$R30)) -> 211.995 | E30: =($O30+D$1*$P30+Sheet2!$I$20*(Sheet3!$Q30+Sheet3!D$1*Sheet3!$R30)) -> 267.84 | F30: =($O30+E$1*$P30+Sheet2!$I$20*(Sheet3!$Q30+Sheet3!E$1*Sheet3!$R30)) -> 323.685 | G30: =($O30+F$1*$P30+Sheet2!$I$20*(Sheet3!$Q30+Sheet3!F$1*Sheet3!$R30)) -> 379.53 | H30: =($O30+G$1*$P30+Sheet2!$I$20*(Sheet3!$Q30+Sheet3!G$1*Sheet3!$R30)) -> 435.375 | J30: =Sheet2!A20 -> Fire Knight | K30: 40 | L30: 8 | M30: 8 | N30: 0 | O30: 70 | P30: 30 | Q30: 1 | R30: 0.3
A31: Slice | C31: =($O31+B$1*$P31+Sheet2!$I$21*(Sheet3!$Q31+Sheet3!B$1*Sheet3!$R31)) -> 117.56 | D31: =($O31+C$1*$P31+Sheet2!$I$21*(Sheet3!$Q31+Sheet3!C$1*Sheet3!$R31)) -> 147.95 | E31: =($O31+D$1*$P31+Sheet2!$I$21*(Sheet3!$Q31+Sheet3!D$1*Sheet3!$R31)) -> 178.34 | F31: =($O31+E$1*$P31+Sheet2!$I$21*(Sheet3!$Q31+Sheet3!E$1*Sheet3!$R31)) -> 208.73 | G31: =($O31+F$1*$P31+Sheet2!$I$21*(Sheet3!$Q31+Sheet3!F$1*Sheet3!$R31)) -> 239.12 | H31: =($O31+G$1*$P31+Sheet2!$I$21*(Sheet3!$Q31+Sheet3!G$1*Sheet3!$R31)) -> 269.51 | J31: =Sheet2!A21 -> Wretched Chef | K31: 55 | L31: 8 | M31: 8 | N31: 0 | O31: 40 | P31: 11 | Q31: 0.8 | R31: 0.2
A35: Single Target
A36: Hold Person | C36: =($O36+B$1*$P36+Sheet2!$K$22*(Sheet3!$Q36+Sheet3!B$1*Sheet3!$R36)) * ($S36+B$1*$T36) -> 187.18 | D36: =($O36+C$1*$P36+Sheet2!$K$22*(Sheet3!$Q36+Sheet3!C$1*Sheet3!$R36)) * ($S36+C$1*$T36) -> 245.5503 | E36: =($O36+D$1*$P36+Sheet2!$K$22*(Sheet3!$Q36+Sheet3!D$1*Sheet3!$R36)) * ($S36+D$1*$T36) -> 311.8232 | F36: =($O36+E$1*$P36+Sheet2!$K$22*(Sheet3!$Q36+Sheet3!E$1*Sheet3!$R36)) * ($S36+E$1*$T36) -> 385.9987 | G36: =($O36+F$1*$P36+Sheet2!$K$22*(Sheet3!$Q36+Sheet3!F$1*Sheet3!$R36)) * ($S36+F$1*$T36) -> 468.0768 | H36: =($O36+G$1*$P36+Sheet2!$K$22*(Sheet3!$Q36+Sheet3!G$1*Sheet3!$R36)) * ($S36+G$1*$T36) -> 558.0575 | J36: =Sheet2!A22 -> Aeromancess | K36: 75 | L36: 18 | M36: 18 | N36: 0 | O36: 50 | P36: 3 | Q36: 0.6 | R36: 0.14 | S36: 2 | T36: 0.3
A37: Chasten | C37: =($O37+B$1*$P37+Sheet2!$I$3*(Sheet3!$Q37+Sheet3!B$1*Sheet3!$R37))+($S37+B$1*$T37+Sheet2!$K$3*(Sheet3!$U37+Sheet3!B$1*Sheet3!$V37)) -> 159.625 | D37: =($O37+C$1*$P37+Sheet2!$I$3*(Sheet3!$Q37+Sheet3!C$1*Sheet3!$R37))+($S37+C$1*$T37+Sheet2!$K$3*(Sheet3!$U37+Sheet3!C$1*Sheet3!$V37)) -> 207.5875 | E37: =($O37+D$1*$P37+Sheet2!$I$3*(Sheet3!$Q37+Sheet3!D$1*Sheet3!$R37))+($S37+D$1*$T37+Sheet2!$K$3*(Sheet3!$U37+Sheet3!D$1*Sheet3!$V37)) -> 255.55 | F37: =($O37+E$1*$P37+Sheet2!$I$3*(Sheet3!$Q37+Sheet3!E$1*Sheet3!$R37))+($S37+E$1*$T37+Sheet2!$K$3*(Sheet3!$U37+Sheet3!E$1*Sheet3!$V37)) -> 303.5125 | G37: =($O37+F$1*$P37+Sheet2!$I$3*(Sheet3!$Q37+Sheet3!F$1*Sheet3!$R37))+($S37+F$1*$T37+Sheet2!$K$3*(Sheet3!$U37+Sheet3!F$1*Sheet3!$V37)) -> 351.475 | H37: =($O37+G$1*$P37+Sheet2!$I$3*(Sheet3!$Q37+Sheet3!G$1*Sheet3!$R37))+($S37+G$1*$T37+Sheet2!$K$3*(Sheet3!$U37+Sheet3!G$1*Sheet3!$V37)) -> 399.4375 | J37: =Sheet2!A3 -> Blazing Priest | K37: 50 | L37: 4 | M37: 8 | N37: 0 | O37: 15 | P37: 12 | Q37: 0.7 | R37: 0.15 | S37: 30 | T37: 16 | U37: 0.8 | V37: 0.1
A38: Demoralizing Blow | C38: =($O38+B$1*$P38+Sheet2!$K$23*(Sheet3!$Q38+Sheet3!B$1*Sheet3!$R38)) -> 114 | D38: =($O38+C$1*$P38+Sheet2!$K$23*(Sheet3!$Q38+Sheet3!C$1*Sheet3!$R38)) -> 166.25 | E38: =($O38+D$1*$P38+Sheet2!$K$23*(Sheet3!$Q38+Sheet3!D$1*Sheet3!$R38)) -> 218.5 | F38: =($O38+E$1*$P38+Sheet2!$K$23*(Sheet3!$Q38+Sheet3!E$1*Sheet3!$R38)) -> 270.75 | G38: =($O38+F$1*$P38+Sheet2!$K$23*(Sheet3!$Q38+Sheet3!F$1*Sheet3!$R38)) -> 323 | H38: =($O38+G$1*$P38+Sheet2!$K$23*(Sheet3!$Q38+Sheet3!G$1*Sheet3!$R38)) -> 375.25 | J38: =Sheet2!A23 -> Mystic Swashbuckler | K38: 50 | L38: 14 | M38: 12 | N38: 0 | O38: 45 | P38: 35 | Q38: 1.2 | R38: 0.3
A39: Soulstrike | C39: =($O39+B$1*$P39+Sheet2!$K$8*(Sheet3!$Q39+Sheet3!B$1*Sheet3!$R39))*6 -> 245.1 | D39: =($O39+C$1*$P39+Sheet2!$K$8*(Sheet3!$Q39+Sheet3!C$1*Sheet3!$R39))*6 -> 373.452 | E39: =($O39+D$1*$P39+Sheet2!$K$8*(Sheet3!$Q39+Sheet3!D$1*Sheet3!$R39))*6 -> 501.804 | F39: =($O39+E$1*$P39+Sheet2!$K$8*(Sheet3!$Q39+Sheet3!E$1*Sheet3!$R39))*6 -> 630.156 | G39: =($O39+F$1*$P39+Sheet2!$K$8*(Sheet3!$Q39+Sheet3!F$1*Sheet3!$R39))*6 -> 758.508 | H39: =($O39+G$1*$P39+Sheet2!$K$8*(Sheet3!$Q39+Sheet3!G$1*Sheet3!$R39))*6 -> 886.86 | J39: =Sheet2!A8 -> Soul Binder | K39: 65 | L39: 11 | M39: 20 | N39: 0 | O39: 24 | P39: 16 | Q39: 0.25 | R39: 0.08
A40: Echoing Strike | C40: =($O40+B$1*$P40+Sheet2!$I$4*(Sheet3!$Q40+Sheet3!B$1*Sheet3!$R40)) -> 69.4125 | D40: =($O40+C$1*$P40+Sheet2!$I$4*(Sheet3!$Q40+Sheet3!C$1*Sheet3!$R40)) -> 82.771 | E40: =($O40+D$1*$P40+Sheet2!$I$4*(Sheet3!$Q40+Sheet3!D$1*Sheet3!$R40)) -> 96.1295 | F40: =($O40+E$1*$P40+Sheet2!$I$4*(Sheet3!$Q40+Sheet3!E$1*Sheet3!$R40)) -> 109.488 | G40: =($O40+F$1*$P40+Sheet2!$I$4*(Sheet3!$Q40+Sheet3!F$1*Sheet3!$R40)) -> 122.8465 | H40: =($O40+G$1*$P40+Sheet2!$I$4*(Sheet3!$Q40+Sheet3!G$1*Sheet3!$R40)) -> 136.205 | J40: =Sheet2!A4 -> Time Cleric | K40: 25 | L40: 4 | M40: 4 | N40: 0 | O40: 12 | P40: 8 | Q40: 0.75 | R40: 0.07
A41: Degeneration | C41: =($O41+B$1*$P41+Sheet2!$K$4*(Sheet3!$Q41+Sheet3!B$1*Sheet3!$R41))*6 -> 183.18 | D41: =($O41+C$1*$P41+Sheet2!$K$4*(Sheet3!$Q41+Sheet3!C$1*Sheet3!$R41))*6 -> 294.411 | E41: =($O41+D$1*$P41+Sheet2!$K$4*(Sheet3!$Q41+Sheet3!D$1*Sheet3!$R41))*6 -> 405.642 | F41: =($O41+E$1*$P41+Sheet2!$K$4*(Sheet3!$Q41+Sheet3!E$1*Sheet3!$R41))*6 -> 516.873 | G41: =($O41+F$1*$P41+Sheet2!$K$4*(Sheet3!$Q41+Sheet3!F$1*Sheet3!$R41))*6 -> 628.104 | H41: =($O41+G$1*$P41+Sheet2!$K$4*(Sheet3!$Q41+Sheet3!G$1*Sheet3!$R41))*6 -> 739.335 | J41: =Sheet2!A4 -> Time Cleric | K41: 50 | L41: 18 | M41: 15 | N41: 0 | O41: 16 | P41: 12 | Q41: 0.2 | R41: 0.09
A42: Smash | C42: =($O42+B$1*$P42+Sheet2!$I$12*(Sheet3!$Q42+Sheet3!B$1*Sheet3!$R42)) -> 199.125 | D42: =($O42+C$1*$P42+Sheet2!$I$12*(Sheet3!$Q42+Sheet3!C$1*Sheet3!$R42)) -> 234.62 | E42: =($O42+D$1*$P42+Sheet2!$I$12*(Sheet3!$Q42+Sheet3!D$1*Sheet3!$R42)) -> 270.115 | F42: =($O42+E$1*$P42+Sheet2!$I$12*(Sheet3!$Q42+Sheet3!E$1*Sheet3!$R42)) -> 305.61 | G42: =($O42+F$1*$P42+Sheet2!$I$12*(Sheet3!$Q42+Sheet3!F$1*Sheet3!$R42)) -> 341.105 | H42: =($O42+G$1*$P42+Sheet2!$I$12*(Sheet3!$Q42+Sheet3!G$1*Sheet3!$R42)) -> 376.6 | J42: =Sheet2!A12 -> Colossus | K42: 35 | L42: 6 | M42: 8 | N42: 0 | O42: 70 | P42: 20 | Q42: 1.25 | R42: 0.15
A43: Grasping Tree | C43: =($O43+B$1*$P43+Sheet2!$K$24*(Sheet3!$Q43+Sheet3!B$1*Sheet3!$R43)) * ($S43+B$1*$T43) -> 79.7 | D43: =($O43+C$1*$P43+Sheet2!$K$24*(Sheet3!$Q43+Sheet3!C$1*Sheet3!$R43)) * ($S43+C$1*$T43) -> 120.318 | E43: =($O43+D$1*$P43+Sheet2!$K$24*(Sheet3!$Q43+Sheet3!D$1*Sheet3!$R43)) * ($S43+D$1*$T43) -> 166.789 | F43: =($O43+E$1*$P43+Sheet2!$K$24*(Sheet3!$Q43+Sheet3!E$1*Sheet3!$R43)) * ($S43+E$1*$T43) -> 219.113 | G43: =($O43+F$1*$P43+Sheet2!$K$24*(Sheet3!$Q43+Sheet3!F$1*Sheet3!$R43)) * ($S43+F$1*$T43) -> 277.29 | H43: =($O43+G$1*$P43+Sheet2!$K$24*(Sheet3!$Q43+Sheet3!G$1*Sheet3!$R43)) * ($S43+G$1*$T43) -> 341.32 | J43: =Sheet2!A24 -> Elder Treant | K43: 50 | L43: 15 | M43: 19 | N43: 0 | O43: 24 | P43: 2 | Q43: 0.25 | R43: 0.03 | S43: 2 | T43: 0.75
A44: Ice Lance | C44: =($O44+B$1*$P44+Sheet2!$K$14*(Sheet3!$Q44+Sheet3!B$1*Sheet3!$R44))+($S44+B$1*$T44+Sheet2!$K$14*(Sheet3!$U44+Sheet3!B$1*Sheet3!$V44)) -> 210.05 | D44: =($O44+C$1*$P44+Sheet2!$K$14*(Sheet3!$Q44+Sheet3!C$1*Sheet3!$R44))+($S44+C$1*$T44+Sheet2!$K$14*(Sheet3!$U44+Sheet3!C$1*Sheet3!$V44)) -> 256.725 | E44: =($O44+D$1*$P44+Sheet2!$K$14*(Sheet3!$Q44+Sheet3!D$1*Sheet3!$R44))+($S44+D$1*$T44+Sheet2!$K$14*(Sheet3!$U44+Sheet3!D$1*Sheet3!$V44)) -> 303.4 | F44: =($O44+E$1*$P44+Sheet2!$K$14*(Sheet3!$Q44+Sheet3!E$1*Sheet3!$R44))+($S44+E$1*$T44+Sheet2!$K$14*(Sheet3!$U44+Sheet3!E$1*Sheet3!$V44)) -> 350.075 | G44: =($O44+F$1*$P44+Sheet2!$K$14*(Sheet3!$Q44+Sheet3!F$1*Sheet3!$R44))+($S44+F$1*$T44+Sheet2!$K$14*(Sheet3!$U44+Sheet3!F$1*Sheet3!$V44)) -> 396.75 | H44: =($O44+G$1*$P44+Sheet2!$K$14*(Sheet3!$Q44+Sheet3!G$1*Sheet3!$R44))+($S44+G$1*$T44+Sheet2!$K$14*(Sheet3!$U44+Sheet3!G$1*Sheet3!$V44)) -> 443.425 | J44: =Sheet2!A14 -> Icespinner | K44: 60 | L44: 25 | M44: 17 | N44: 0 | O44: 50 | P44: 15 | Q44: 0.5 | R44: 0.1 | S44: 30 | T44: 10 | U44: 1 | V44: 0.15
A45: Lunge | C45: =($O45+B$1*$P45+Sheet2!$I$25*(Sheet3!$Q45+Sheet3!B$1*Sheet3!$R45)) -> 167.5 | D45: =($O45+C$1*$P45+Sheet2!$I$25*(Sheet3!$Q45+Sheet3!C$1*Sheet3!$R45)) -> 232 | E45: =($O45+D$1*$P45+Sheet2!$I$25*(Sheet3!$Q45+Sheet3!D$1*Sheet3!$R45)) -> 296.5 | F45: =($O45+E$1*$P45+Sheet2!$I$25*(Sheet3!$Q45+Sheet3!E$1*Sheet3!$R45)) -> 361 | G45: =($O45+F$1*$P45+Sheet2!$I$25*(Sheet3!$Q45+Sheet3!F$1*Sheet3!$R45)) -> 425.5 | H45: =($O45+G$1*$P45+Sheet2!$I$25*(Sheet3!$Q45+Sheet3!G$1*Sheet3!$R45)) -> 490 | J45: =Sheet2!A25 -> Master of the Hunt | K45: 40 | L45: 7 | M45: 8 | N45: 0 | O45: 70 | P45: 45 | Q45: 1.25 | R45: 0.25
A46: Smite | C46: =($O46+B$1*$P46+Sheet2!$K$7*(Sheet3!$Q46+Sheet3!B$1*Sheet3!$R46)) -> 121.65 | D46: =($O46+C$1*$P46+Sheet2!$K$7*(Sheet3!$Q46+Sheet3!C$1*Sheet3!$R46)) -> 179.5625 | E46: =($O46+D$1*$P46+Sheet2!$K$7*(Sheet3!$Q46+Sheet3!D$1*Sheet3!$R46)) -> 237.475 | F46: =($O46+E$1*$P46+Sheet2!$K$7*(Sheet3!$Q46+Sheet3!E$1*Sheet3!$R46)) -> 295.3875 | G46: =($O46+F$1*$P46+Sheet2!$K$7*(Sheet3!$Q46+Sheet3!F$1*Sheet3!$R46)) -> 353.3 | H46: =($O46+G$1*$P46+Sheet2!$K$7*(Sheet3!$Q46+Sheet3!G$1*Sheet3!$R46)) -> 411.2125 | J46: =Sheet2!A7 -> Scarab | K46: 90 | L46: 0 | M46: 8 | N46: 0 | O46: 50 | P46: 40 | Q46: 1 | R46: 0.25
A47: Maw of Death | C47: =($O47+B$1*$P47+Sheet2!$I$26*(Sheet3!$Q47+Sheet3!B$1*Sheet3!$R47)) -> 161.95 | D47: =($O47+C$1*$P47+Sheet2!$I$26*(Sheet3!$Q47+Sheet3!C$1*Sheet3!$R47)) -> 201.4925 | E47: =($O47+D$1*$P47+Sheet2!$I$26*(Sheet3!$Q47+Sheet3!D$1*Sheet3!$R47)) -> 241.035 | F47: =($O47+E$1*$P47+Sheet2!$I$26*(Sheet3!$Q47+Sheet3!E$1*Sheet3!$R47)) -> 280.5775 | G47: =($O47+F$1*$P47+Sheet2!$I$26*(Sheet3!$Q47+Sheet3!F$1*Sheet3!$R47)) -> 320.12 | H47: =($O47+G$1*$P47+Sheet2!$I$26*(Sheet3!$Q47+Sheet3!G$1*Sheet3!$R47)) -> 359.6625 | J47: =Sheet2!A26 -> Behemoth | K47: 35 | L47: 6 | M47: 8 | N47: 0 | O47: 65 | P47: 25 | Q47: 1 | R47: 0.15
A48: Cinderfury | C48: =($O48+B$1*$P48+Sheet2!$I$17*(Sheet3!$Q48+Sheet3!B$1*Sheet3!$R48))*4 -> 172.74 | D48: =($O48+C$1*$P48+Sheet2!$I$17*(Sheet3!$Q48+Sheet3!C$1*Sheet3!$R48))*4 -> 247.046 | E48: =($O48+D$1*$P48+Sheet2!$I$17*(Sheet3!$Q48+Sheet3!D$1*Sheet3!$R48))*4 -> 321.352 | F48: =($O48+E$1*$P48+Sheet2!$I$17*(Sheet3!$Q48+Sheet3!E$1*Sheet3!$R48))*4 -> 395.658 | G48: =($O48+F$1*$P48+Sheet2!$I$17*(Sheet3!$Q48+Sheet3!F$1*Sheet3!$R48))*4 -> 469.964 | H48: =($O48+G$1*$P48+Sheet2!$I$17*(Sheet3!$Q48+Sheet3!G$1*Sheet3!$R48))*4 -> 544.27 | J48: =Sheet2!A17 -> Emberwraith | K48: 45 | L48: 6 | M48: 14 | N48: 0 | O48: 15 | P48: 12 | Q48: 0.3 | R48: 0.07
A49: Rend Soul | C49: =($O49+B$1*$P49+Sheet2!$K$27*(Sheet3!$Q49+Sheet3!B$1*Sheet3!$R49)) -> 263.26 | D49: =($O49+C$1*$P49+Sheet2!$K$27*(Sheet3!$Q49+Sheet3!C$1*Sheet3!$R49)) -> 293.702 | E49: =($O49+D$1*$P49+Sheet2!$K$27*(Sheet3!$Q49+Sheet3!D$1*Sheet3!$R49)) -> 324.144 | F49: =($O49+E$1*$P49+Sheet2!$K$27*(Sheet3!$Q49+Sheet3!E$1*Sheet3!$R49)) -> 354.586 | G49: =($O49+F$1*$P49+Sheet2!$K$27*(Sheet3!$Q49+Sheet3!F$1*Sheet3!$R49)) -> 385.028 | H49: =($O49+G$1*$P49+Sheet2!$K$27*(Sheet3!$Q49+Sheet3!G$1*Sheet3!$R49)) -> 415.47 | J49: =Sheet2!A27 -> Incarnation | K49: 55 | L49: 6 | M49: 27 | N49: -3 | O49: 100 | P49: 25 | Q49: 1.8 | R49: 0.06
A50: Mortal Strike | C50: =($O50+B$1*$P50+Sheet2!$I$28*(Sheet3!$Q50+Sheet3!B$1*Sheet3!$R50)) -> 105.95 | D50: =($O50+C$1*$P50+Sheet2!$I$28*(Sheet3!$Q50+Sheet3!C$1*Sheet3!$R50)) -> 156.915 | E50: =($O50+D$1*$P50+Sheet2!$I$28*(Sheet3!$Q50+Sheet3!D$1*Sheet3!$R50)) -> 207.88 | F50: =($O50+E$1*$P50+Sheet2!$I$28*(Sheet3!$Q50+Sheet3!E$1*Sheet3!$R50)) -> 258.845 | G50: =($O50+F$1*$P50+Sheet2!$I$28*(Sheet3!$Q50+Sheet3!F$1*Sheet3!$R50)) -> 309.81 | H50: =($O50+G$1*$P50+Sheet2!$I$28*(Sheet3!$Q50+Sheet3!G$1*Sheet3!$R50)) -> 360.775 | J50: =Sheet2!A28 -> Sorrow Liege | K50: 45 | L50: 12 | M50: 8 | N50: 0 | O50: 20 | P50: 29 | Q50: 0.9 | R50: 0.23
A51: Shatter | C51: =($O51+B$1*$P51+Sheet2!$I$9*(Sheet3!$Q51+Sheet3!B$1*Sheet3!$R51)) -> 124.96 | D51: =($O51+C$1*$P51+Sheet2!$I$9*(Sheet3!$Q51+Sheet3!C$1*Sheet3!$R51)) -> 158.89 | E51: =($O51+D$1*$P51+Sheet2!$I$9*(Sheet3!$Q51+Sheet3!D$1*Sheet3!$R51)) -> 192.82 | F51: =($O51+E$1*$P51+Sheet2!$I$9*(Sheet3!$Q51+Sheet3!E$1*Sheet3!$R51)) -> 226.75 | G51: =($O51+F$1*$P51+Sheet2!$I$9*(Sheet3!$Q51+Sheet3!F$1*Sheet3!$R51)) -> 260.68 | H51: =($O51+G$1*$P51+Sheet2!$I$9*(Sheet3!$Q51+Sheet3!G$1*Sheet3!$R51)) -> 294.61 | J51: =Sheet2!A9 -> Glacial Tyrant | K51: 35 | L51: 6 | M51: 6 | N51: 0 | O51: 40 | P51: 18 | Q51: 0.8 | R51: 0.15
A52: Dominant Blow (Str) | C52: =($O52+B$1*$P52+Sheet2!$I$29*(Sheet3!$Q52+Sheet3!B$1*Sheet3!$R52)) -> 131.55 | D52: =($O52+C$1*$P52+Sheet2!$I$29*(Sheet3!$Q52+Sheet3!C$1*Sheet3!$R52)) -> 175.86 | E52: =($O52+D$1*$P52+Sheet2!$I$29*(Sheet3!$Q52+Sheet3!D$1*Sheet3!$R52)) -> 220.17 | F52: =($O52+E$1*$P52+Sheet2!$I$29*(Sheet3!$Q52+Sheet3!E$1*Sheet3!$R52)) -> 264.48 | G52: =($O52+F$1*$P52+Sheet2!$I$29*(Sheet3!$Q52+Sheet3!F$1*Sheet3!$R52)) -> 308.79 | H52: =($O52+G$1*$P52+Sheet2!$I$29*(Sheet3!$Q52+Sheet3!G$1*Sheet3!$R52)) -> 353.1 | J52: =Sheet2!A29 -> Crimson Squall | K52: 90 | L52: 17 | M52: 8 | N52: 0 | O52: 55 | P52: 29 | Q52: 1 | R52: 0.2
A53: Dominant Blow (Agi) | C53: =($O53+B$1*$P53+Sheet2!$J$29*(Sheet3!$Q53+Sheet3!B$1*Sheet3!$R53)) -> 78.585 | D53: =($O53+C$1*$P53+Sheet2!$J$29*(Sheet3!$Q53+Sheet3!C$1*Sheet3!$R53)) -> 103.5365 | E53: =($O53+D$1*$P53+Sheet2!$J$29*(Sheet3!$Q53+Sheet3!D$1*Sheet3!$R53)) -> 128.488 | F53: =($O53+E$1*$P53+Sheet2!$J$29*(Sheet3!$Q53+Sheet3!E$1*Sheet3!$R53)) -> 153.4395 | G53: =($O53+F$1*$P53+Sheet2!$J$29*(Sheet3!$Q53+Sheet3!F$1*Sheet3!$R53)) -> 178.391 | H53: =($O53+G$1*$P53+Sheet2!$J$29*(Sheet3!$Q53+Sheet3!G$1*Sheet3!$R53)) -> 203.3425 | J53: =Sheet2!A29 -> Crimson Squall | K53: 90 | L53: 17 | M53: 8 | N53: 0 | O53: 25 | P53: 15 | Q53: 0.7 | R53: 0.13
A54: Dominant Blow (Int) | C54: =($O54+B$1*$P54+Sheet2!$I$29*(Sheet3!$Q54+Sheet3!B$1*Sheet3!$R54))+($S54+B$1*$T54+Sheet2!$I$29*(Sheet3!$U54+Sheet3!B$1*Sheet3!$V54))*0.75 -> 113.46375 | D54: =($O54+C$1*$P54+Sheet2!$I$29*(Sheet3!$Q54+Sheet3!C$1*Sheet3!$R54))+($S54+C$1*$T54+Sheet2!$I$29*(Sheet3!$U54+Sheet3!C$1*Sheet3!$V54))*0.75 -> 155.6875 | E54: =($O54+D$1*$P54+Sheet2!$I$29*(Sheet3!$Q54+Sheet3!D$1*Sheet3!$R54))+($S54+D$1*$T54+Sheet2!$I$29*(Sheet3!$U54+Sheet3!D$1*Sheet3!$V54))*0.75 -> 197.91125 | F54: =($O54+E$1*$P54+Sheet2!$I$29*(Sheet3!$Q54+Sheet3!E$1*Sheet3!$R54))+($S54+E$1*$T54+Sheet2!$I$29*(Sheet3!$U54+Sheet3!E$1*Sheet3!$V54))*0.75 -> 240.135 | G54: =($O54+F$1*$P54+Sheet2!$I$29*(Sheet3!$Q54+Sheet3!F$1*Sheet3!$R54))+($S54+F$1*$T54+Sheet2!$I$29*(Sheet3!$U54+Sheet3!F$1*Sheet3!$V54))*0.75 -> 282.35875 | H54: =($O54+G$1*$P54+Sheet2!$I$29*(Sheet3!$Q54+Sheet3!G$1*Sheet3!$R54))+($S54+G$1*$T54+Sheet2!$I$29*(Sheet3!$U54+Sheet3!G$1*Sheet3!$V54))*0.75 -> 324.5825 | J54: =Sheet2!A29 -> Crimson Squall | K54: 90 | L54: 17 | M54: 8 | N54: 0 | O54: 20 | P54: 10 | Q54: 0.5 | R54: 0.15 | S54: 20 | T54: 20 | U54: 0.7 | V54: 0.1
A55: Doom Hammer | C55: =($O55+B$1*$P55+Sheet2!$I$19*(Sheet3!$Q55+Sheet3!B$1*Sheet3!$R55)) -> 113.7 | D55: =($O55+C$1*$P55+Sheet2!$I$19*(Sheet3!$Q55+Sheet3!C$1*Sheet3!$R55)) -> 146.44 | E55: =($O55+D$1*$P55+Sheet2!$I$19*(Sheet3!$Q55+Sheet3!D$1*Sheet3!$R55)) -> 179.18 | F55: =($O55+E$1*$P55+Sheet2!$I$19*(Sheet3!$Q55+Sheet3!E$1*Sheet3!$R55)) -> 211.92 | G55: =($O55+F$1*$P55+Sheet2!$I$19*(Sheet3!$Q55+Sheet3!F$1*Sheet3!$R55)) -> 244.66 | H55: =($O55+G$1*$P55+Sheet2!$I$19*(Sheet3!$Q55+Sheet3!G$1*Sheet3!$R55)) -> 277.4 | J55: =Sheet2!A19 -> Blackguard | K55: 60 | L55: 9 | M55: 18 | N55: 0 | O55: 25 | P55: 15 | Q55: 1 | R55: 0.2

Sheet Sheet4
B1: Int | C1: 1 | D1: 2 | E1: 3 | F1: 4 | G1: 5 | H1: 6
A2: 5 | B2: =Sheet2!$F$5+(A2-1)*Sheet2!$G$5+Sheet1!$B$4 -> 26.8 | C2: =Sheet3!$O$8+(Sheet4!C$1-1)*Sheet3!$P$8+$B2*(Sheet3!$Q$8+(Sheet4!C$1-1)*Sheet3!$R$8) -> 176.8 | D2: =Sheet3!$O$8+(Sheet4!D$1-1)*Sheet3!$P$8+$B2*(Sheet3!$Q$8+(Sheet4!D$1-1)*Sheet3!$R$8) -> 312.52 | E2: =Sheet3!$O$8+(Sheet4!E$1-1)*Sheet3!$P$8+$B2*(Sheet3!$Q$8+(Sheet4!E$1-1)*Sheet3!$R$8) -> 448.24 | F2: =Sheet3!$O$8+(Sheet4!F$1-1)*Sheet3!$P$8+$B2*(Sheet3!$Q$8+(Sheet4!F$1-1)*Sheet3!$R$8) -> 583.96 | G2: =Sheet3!$O$8+(Sheet4!G$1-1)*Sheet3!$P$8+$B2*(Sheet3!$Q$8+(Sheet4!G$1-1)*Sheet3!$R$8) -> 719.68 | H2: =Sheet3!$O$8+(Sheet4!H$1-1)*Sheet3!$P$8+$B2*(Sheet3!$Q$8+(Sheet4!H$1-1)*Sheet3!$R$8) -> 855.4
A3: 10 | B3: =Sheet2!$F$5+(A3-1)*Sheet2!$G$5+Sheet1!$B$4 -> 37.8 | C3: =Sheet3!$O$8+(Sheet4!C$1-1)*Sheet3!$P$8+$B3*(Sheet3!$Q$8+(Sheet4!C$1-1)*Sheet3!$R$8) -> 187.8 | D3: =Sheet3!$O$8+(Sheet4!D$1-1)*Sheet3!$P$8+$B3*(Sheet3!$Q$8+(Sheet4!D$1-1)*Sheet3!$R$8) -> 327.92 | E3: =Sheet3!$O$8+(Sheet4!E$1-1)*Sheet3!$P$8+$B3*(Sheet3!$Q$8+(Sheet4!E$1-1)*Sheet3!$R$8) -> 468.04 | F3: =Sheet3!$O$8+(Sheet4!F$1-1)*Sheet3!$P$8+$B3*(Sheet3!$Q$8+(Sheet4!F$1-1)*Sheet3!$R$8) -> 608.16 | G3: =Sheet3!$O$8+(Sheet4!G$1-1)*Sheet3!$P$8+$B3*(Sheet3!$Q$8+(Sheet4!G$1-1)*Sheet3!$R$8) -> 748.28 | H3: =Sheet3!$O$8+(Sheet4!H$1-1)*Sheet3!$P$8+$B3*(Sheet3!$Q$8+(Sheet4!H$1-1)*Sheet3!$R$8) -> 888.4
A4: 15 | B4: =Sheet2!$F$5+(A4-1)*Sheet2!$G$5+Sheet1!$B$4 -> 48.8 | C4: =Sheet3!$O$8+(Sheet4!C$1-1)*Sheet3!$P$8+$B4*(Sheet3!$Q$8+(Sheet4!C$1-1)*Sheet3!$R$8) -> 198.8 | D4: =Sheet3!$O$8+(Sheet4!D$1-1)*Sheet3!$P$8+$B4*(Sheet3!$Q$8+(Sheet4!D$1-1)*Sheet3!$R$8) -> 343.32 | E4: =Sheet3!$O$8+(Sheet4!E$1-1)*Sheet3!$P$8+$B4*(Sheet3!$Q$8+(Sheet4!E$1-1)*Sheet3!$R$8) -> 487.84 | F4: =Sheet3!$O$8+(Sheet4!F$1-1)*Sheet3!$P$8+$B4*(Sheet3!$Q$8+(Sheet4!F$1-1)*Sheet3!$R$8) -> 632.36 | G4: =Sheet3!$O$8+(Sheet4!G$1-1)*Sheet3!$P$8+$B4*(Sheet3!$Q$8+(Sheet4!G$1-1)*Sheet3!$R$8) -> 776.88 | H4: =Sheet3!$O$8+(Sheet4!H$1-1)*Sheet3!$P$8+$B4*(Sheet3!$Q$8+(Sheet4!H$1-1)*Sheet3!$R$8) -> 921.4
A5: 20 | B5: =Sheet2!$F$5+(A5-1)*Sheet2!$G$5+Sheet1!$B$4 -> 59.8 | C5: =Sheet3!$O$8+(Sheet4!C$1-1)*Sheet3!$P$8+$B5*(Sheet3!$Q$8+(Sheet4!C$1-1)*Sheet3!$R$8) -> 209.8 | D5: =Sheet3!$O$8+(Sheet4!D$1-1)*Sheet3!$P$8+$B5*(Sheet3!$Q$8+(Sheet4!D$1-1)*Sheet3!$R$8) -> 358.72 | E5: =Sheet3!$O$8+(Sheet4!E$1-1)*Sheet3!$P$8+$B5*(Sheet3!$Q$8+(Sheet4!E$1-1)*Sheet3!$R$8) -> 507.64 | F5: =Sheet3!$O$8+(Sheet4!F$1-1)*Sheet3!$P$8+$B5*(Sheet3!$Q$8+(Sheet4!F$1-1)*Sheet3!$R$8) -> 656.56 | G5: =Sheet3!$O$8+(Sheet4!G$1-1)*Sheet3!$P$8+$B5*(Sheet3!$Q$8+(Sheet4!G$1-1)*Sheet3!$R$8) -> 805.48 | H5: =Sheet3!$O$8+(Sheet4!H$1-1)*Sheet3!$P$8+$B5*(Sheet3!$Q$8+(Sheet4!H$1-1)*Sheet3!$R$8) -> 954.4
A6: 25 | B6: =Sheet2!$F$5+(A6-1)*Sheet2!$G$5+Sheet1!$B$4 -> 70.8 | C6: =Sheet3!$O$8+(Sheet4!C$1-1)*Sheet3!$P$8+$B6*(Sheet3!$Q$8+(Sheet4!C$1-1)*Sheet3!$R$8) -> 220.8 | D6: =Sheet3!$O$8+(Sheet4!D$1-1)*Sheet3!$P$8+$B6*(Sheet3!$Q$8+(Sheet4!D$1-1)*Sheet3!$R$8) -> 374.12 | E6: =Sheet3!$O$8+(Sheet4!E$1-1)*Sheet3!$P$8+$B6*(Sheet3!$Q$8+(Sheet4!E$1-1)*Sheet3!$R$8) -> 527.44 | F6: =Sheet3!$O$8+(Sheet4!F$1-1)*Sheet3!$P$8+$B6*(Sheet3!$Q$8+(Sheet4!F$1-1)*Sheet3!$R$8) -> 680.76 | G6: =Sheet3!$O$8+(Sheet4!G$1-1)*Sheet3!$P$8+$B6*(Sheet3!$Q$8+(Sheet4!G$1-1)*Sheet3!$R$8) -> 834.08 | H6: =Sheet3!$O$8+(Sheet4!H$1-1)*Sheet3!$P$8+$B6*(Sheet3!$Q$8+(Sheet4!H$1-1)*Sheet3!$R$8) -> 987.4
A7: 30 | B7: =Sheet2!$F$5+(A7-1)*Sheet2!$G$5+Sheet1!$B$4 -> 81.8 | C7: =Sheet3!$O$8+(Sheet4!C$1-1)*Sheet3!$P$8+$B7*(Sheet3!$Q$8+(Sheet4!C$1-1)*Sheet3!$R$8) -> 231.8 | D7: =Sheet3!$O$8+(Sheet4!D$1-1)*Sheet3!$P$8+$B7*(Sheet3!$Q$8+(Sheet4!D$1-1)*Sheet3!$R$8) -> 389.52 | E7: =Sheet3!$O$8+(Sheet4!E$1-1)*Sheet3!$P$8+$B7*(Sheet3!$Q$8+(Sheet4!E$1-1)*Sheet3!$R$8) -> 547.24 | F7: =Sheet3!$O$8+(Sheet4!F$1-1)*Sheet3!$P$8+$B7*(Sheet3!$Q$8+(Sheet4!F$1-1)*Sheet3!$R$8) -> 704.96 | G7: =Sheet3!$O$8+(Sheet4!G$1-1)*Sheet3!$P$8+$B7*(Sheet3!$Q$8+(Sheet4!G$1-1)*Sheet3!$R$8) -> 862.68 | H7: =Sheet3!$O$8+(Sheet4!H$1-1)*Sheet3!$P$8+$B7*(Sheet3!$Q$8+(Sheet4!H$1-1)*Sheet3!$R$8) -> 1020.4
A8: 35 | B8: =Sheet2!$F$5+(A8-1)*Sheet2!$G$5+Sheet1!$B$4 -> 92.8 | C8: =Sheet3!$O$8+(Sheet4!C$1-1)*Sheet3!$P$8+$B8*(Sheet3!$Q$8+(Sheet4!C$1-1)*Sheet3!$R$8) -> 242.8 | D8: =Sheet3!$O$8+(Sheet4!D$1-1)*Sheet3!$P$8+$B8*(Sheet3!$Q$8+(Sheet4!D$1-1)*Sheet3!$R$8) -> 404.92 | E8: =Sheet3!$O$8+(Sheet4!E$1-1)*Sheet3!$P$8+$B8*(Sheet3!$Q$8+(Sheet4!E$1-1)*Sheet3!$R$8) -> 567.04 | F8: =Sheet3!$O$8+(Sheet4!F$1-1)*Sheet3!$P$8+$B8*(Sheet3!$Q$8+(Sheet4!F$1-1)*Sheet3!$R$8) -> 729.16 | G8: =Sheet3!$O$8+(Sheet4!G$1-1)*Sheet3!$P$8+$B8*(Sheet3!$Q$8+(Sheet4!G$1-1)*Sheet3!$R$8) -> 891.28 | H8: =Sheet3!$O$8+(Sheet4!H$1-1)*Sheet3!$P$8+$B8*(Sheet3!$Q$8+(Sheet4!H$1-1)*Sheet3!$R$8) -> 1053.4
A9: 40 | B9: =Sheet2!$F$5+(A9-1)*Sheet2!$G$5+Sheet1!$B$4 -> 103.8 | C9: =Sheet3!$O$8+(Sheet4!C$1-1)*Sheet3!$P$8+$B9*(Sheet3!$Q$8+(Sheet4!C$1-1)*Sheet3!$R$8) -> 253.8 | D9: =Sheet3!$O$8+(Sheet4!D$1-1)*Sheet3!$P$8+$B9*(Sheet3!$Q$8+(Sheet4!D$1-1)*Sheet3!$R$8) -> 420.32 | E9: =Sheet3!$O$8+(Sheet4!E$1-1)*Sheet3!$P$8+$B9*(Sheet3!$Q$8+(Sheet4!E$1-1)*Sheet3!$R$8) -> 586.84 | F9: =Sheet3!$O$8+(Sheet4!F$1-1)*Sheet3!$P$8+$B9*(Sheet3!$Q$8+(Sheet4!F$1-1)*Sheet3!$R$8) -> 753.36 | G9: =Sheet3!$O$8+(Sheet4!G$1-1)*Sheet3!$P$8+$B9*(Sheet3!$Q$8+(Sheet4!G$1-1)*Sheet3!$R$8) -> 919.88 | H9: =Sheet3!$O$8+(Sheet4!H$1-1)*Sheet3!$P$8+$B9*(Sheet3!$Q$8+(Sheet4!H$1-1)*Sheet3!$R$8) -> 1086.4
B11: 8 | C11: =$B2*$B$11 -> 214.4 | D11: =$B2*$B$11 -> 214.4 | E11: =$B2*$B$11 -> 214.4 | F11: =$B2*$B$11 -> 214.4 | G11: =$B2*$B$11 -> 214.4 | H11: =$B2*$B$11 -> 214.4
C12: =$B3*$B$11 -> 302.4 | D12: =$B3*$B$11 -> 302.4 | E12: =$B3*$B$11 -> 302.4 | F12: =$B3*$B$11 -> 302.4 | G12: =$B3*$B$11 -> 302.4 | H12: =$B3*$B$11 -> 302.4
C13: =$B4*$B$11 -> 390.4 | D13: =$B4*$B$11 -> 390.4 | E13: =$B4*$B$11 -> 390.4 | F13: =$B4*$B$11 -> 390.4 | G13: =$B4*$B$11 -> 390.4 | H13: =$B4*$B$11 -> 390.4
C14: =$B5*$B$11 -> 478.4 | D14: =$B5*$B$11 -> 478.4 | E14: =$B5*$B$11 -> 478.4 | F14: =$B5*$B$11 -> 478.4 | G14: =$B5*$B$11 -> 478.4 | H14: =$B5*$B$11 -> 478.4
C15: =$B6*$B$11 -> 566.4 | D15: =$B6*$B$11 -> 566.4 | E15: =$B6*$B$11 -> 566.4 | F15: =$B6*$B$11 -> 566.4 | G15: =$B6*$B$11 -> 566.4 | H15: =$B6*$B$11 -> 566.4
C16: =$B7*$B$11 -> 654.4 | D16: =$B7*$B$11 -> 654.4 | E16: =$B7*$B$11 -> 654.4 | F16: =$B7*$B$11 -> 654.4 | G16: =$B7*$B$11 -> 654.4 | H16: =$B7*$B$11 -> 654.4
C17: =$B8*$B$11 -> 742.4 | D17: =$B8*$B$11 -> 742.4 | E17: =$B8*$B$11 -> 742.4 | F17: =$B8*$B$11 -> 742.4 | G17: =$B8*$B$11 -> 742.4 | H17: =$B8*$B$11 -> 742.4
C18: =$B9*$B$11 -> 830.4 | D18: =$B9*$B$11 -> 830.4 | E18: =$B9*$B$11 -> 830.4 | F18: =$B9*$B$11 -> 830.4 | G18: =$B9*$B$11 -> 830.4 | H18: =$B9*$B$11 -> 830.4
C20: =C11/C2 -> 1.2126697 | D20: =D11/D2 -> 0.68603609 | E20: =E11/E2 -> 0.47831519 | F20: =F11/F2 -> 0.36714843 | G20: =G11/G2 -> 0.29791018 | H20: =H11/H2 -> 0.25064297
C21: =C12/C3 -> 1.6102236 | D21: =D12/D3 -> 0.92217614 | E21: =E12/E3 -> 0.64609862 | F21: =F12/F3 -> 0.49723757 | G21: =G12/G3 -> 0.4041268 | H21: =H12/H3 -> 0.34038721
C22: =C13/C4 -> 1.9637827 | D22: =D13/D4 -> 1.1371315 | E22: =E13/E4 -> 0.80026238 | F22: =F13/F4 -> 0.61736985 | G22: =G13/G4 -> 0.50252291 | H22: =H13/H4 -> 0.42370306
C23: =C14/C5 -> 2.2802669 | D23: =D14/D5 -> 1.3336307 | E23: =E14/E5 -> 0.94240013 | F23: =F14/F5 -> 0.72864628 | G23: =G14/G5 -> 0.59393157 | H23: =H14/H5 -> 0.50125733
C24: =C15/C6 -> 2.5652174 | D24: =D15/D6 -> 1.5139527 | E24: =E15/E6 -> 1.0738662 | F24: =F15/F6 -> 0.83201128 | G24: =G15/G6 -> 0.67907155 | H24: =H15/H6 -> 0.57362771
C25: =C16/C7 -> 2.8231234 | D25: =D16/D7 -> 1.6800164 | E25: =E16/E7 -> 1.195819 | F25: =F16/F7 -> 0.92827962 | G25: =G16/G7 -> 0.75856633 | H25: =H16/H7 -> 0.64131713
C26: =C17/C8 -> 3.0576606 | D26: =D17/D8 -> 1.8334486 | E26: =E17/E8 -> 1.3092551 | F26: =F17/F8 -> 1.0181579 | G26: =G17/G8 -> 0.83295934 | H26: =H17/H8 -> 0.70476552
C27: =C18/C9 -> 3.2718676 | D27: =D18/D9 -> 1.9756376 | E27: =E18/E9 -> 1.4150365 | F27: =F18/F9 -> 1.1022619 | G27: =G18/G9 -> 0.90272644 | H27: =H18/H9 -> 0.76435935

Sheet Sheet5
A1: DPS | C1: 1 | D1: 2 | E1: 3 | F1: 4 | G1: 5 | H1: 6 | K1: DPM | L1: 1 | M1: 2 | N1: 3 | O1: 4 | P1: 5 | Q1: 6
A2: =Sheet3!A16 -> Gale | B2: =Sheet3!J16 -> Arboreal Crusader | C2: =Sheet3!C16/(Sheet3!$M16+Sheet3!$N16*Sheet3!B$1) -> 12.725455 | D2: =Sheet3!D16/(Sheet3!$M16+Sheet3!$N16*Sheet3!C$1) -> 16.32 | E2: =Sheet3!E16/(Sheet3!$M16+Sheet3!$N16*Sheet3!D$1) -> 19.914545 | F2: =Sheet3!F16/(Sheet3!$M16+Sheet3!$N16*Sheet3!E$1) -> 23.509091 | G2: =Sheet3!G16/(Sheet3!$M16+Sheet3!$N16*Sheet3!F$1) -> 27.103636 | H2: =Sheet3!H16/(Sheet3!$M16+Sheet3!$N16*Sheet3!G$1) -> 30.698182 | L2: =Sheet3!C16/(Sheet3!$K16+Sheet3!$L16*Sheet3!B$1) -> 2.5450909 | M2: =Sheet3!D16/(Sheet3!$K16+Sheet3!$L16*Sheet3!C$1) -> 2.3314286 | N2: =Sheet3!E16/(Sheet3!$K16+Sheet3!$L16*Sheet3!D$1) -> 2.2127273 | O2: =Sheet3!F16/(Sheet3!$K16+Sheet3!$L16*Sheet3!E$1) -> 2.1371901 | P2: =Sheet3!G16/(Sheet3!$K16+Sheet3!$L16*Sheet3!F$1) -> 2.0848951 | Q2: =Sheet3!H16/(Sheet3!$K16+Sheet3!$L16*Sheet3!G$1) -> 2.0465455
A3: =Sheet3!A17 -> Incinerate | B3: =Sheet3!J17 -> Soul Binder | C3: =Sheet3!C17/(Sheet3!$M17+Sheet3!$N17*Sheet3!B$1) -> 19.566667 | D3: =Sheet3!D17/(Sheet3!$M17+Sheet3!$N17*Sheet3!C$1) -> 26.364 | E3: =Sheet3!E17/(Sheet3!$M17+Sheet3!$N17*Sheet3!D$1) -> 33.161333 | F3: =Sheet3!F17/(Sheet3!$M17+Sheet3!$N17*Sheet3!E$1) -> 39.958667 | G3: =Sheet3!G17/(Sheet3!$M17+Sheet3!$N17*Sheet3!F$1) -> 46.756 | H3: =Sheet3!H17/(Sheet3!$M17+Sheet3!$N17*Sheet3!G$1) -> 53.553333 | L3: =Sheet3!C17/(Sheet3!$K17+Sheet3!$L17*Sheet3!B$1) -> 1.0672727 | M3: =Sheet3!D17/(Sheet3!$K17+Sheet3!$L17*Sheet3!C$1) -> 1.1462609 | N3: =Sheet3!E17/(Sheet3!$K17+Sheet3!$L17*Sheet3!D$1) -> 1.1986024 | O3: =Sheet3!F17/(Sheet3!$K17+Sheet3!$L17*Sheet3!E$1) -> 1.2358351 | P3: =Sheet3!G17/(Sheet3!$K17+Sheet3!$L17*Sheet3!F$1) -> 1.2636757 | Q3: =Sheet3!H17/(Sheet3!$K17+Sheet3!$L17*Sheet3!G$1) -> 1.28528
A4: =Sheet3!A18 -> Arctic Cataclysm | B4: =Sheet3!J18 -> Glacial Tyrant | C4: =Sheet3!C18/(Sheet3!$M18+Sheet3!$N18*Sheet3!B$1) -> 10.81625 | D4: =Sheet3!D18/(Sheet3!$M18+Sheet3!$N18*Sheet3!C$1) -> 13.374375 | E4: =Sheet3!E18/(Sheet3!$M18+Sheet3!$N18*Sheet3!D$1) -> 15.9325 | F4: =Sheet3!F18/(Sheet3!$M18+Sheet3!$N18*Sheet3!E$1) -> 18.490625 | G4: =Sheet3!G18/(Sheet3!$M18+Sheet3!$N18*Sheet3!F$1) -> 21.04875 | H4: =Sheet3!H18/(Sheet3!$M18+Sheet3!$N18*Sheet3!G$1) -> 23.606875 | L4: =Sheet3!C18/(Sheet3!$K18+Sheet3!$L18*Sheet3!B$1) -> 2.4722857 | M4: =Sheet3!D18/(Sheet3!$K18+Sheet3!$L18*Sheet3!C$1) -> 2.2764894 | N4: =Sheet3!E18/(Sheet3!$K18+Sheet3!$L18*Sheet3!D$1) -> 2.160339 | O4: =Sheet3!F18/(Sheet3!$K18+Sheet3!$L18*Sheet3!E$1) -> 2.0834507 | P4: =Sheet3!G18/(Sheet3!$K18+Sheet3!$L18*Sheet3!F$1) -> 2.0287952 | Q4: =Sheet3!H18/(Sheet3!$K18+Sheet3!$L18*Sheet3!G$1) -> 1.9879474
A5: =Sheet3!A19 -> Caustic Breath | B5: =Sheet3!J19 -> Acid Reaver | C5: =Sheet3!C19/(Sheet3!$M19+Sheet3!$N19*Sheet3!B$1) -> 22.1425 | D5: =Sheet3!D19/(Sheet3!$M19+Sheet3!$N19*Sheet3!C$1) -> 26.8275 | E5: =Sheet3!E19/(Sheet3!$M19+Sheet3!$N19*Sheet3!D$1) -> 31.5125 | F5: =Sheet3!F19/(Sheet3!$M19+Sheet3!$N19*Sheet3!E$1) -> 36.1975 | G5: =Sheet3!G19/(Sheet3!$M19+Sheet3!$N19*Sheet3!F$1) -> 40.8825 | H5: =Sheet3!H19/(Sheet3!$M19+Sheet3!$N19*Sheet3!G$1) -> 45.5675 | L5: =Sheet3!C19/(Sheet3!$K19+Sheet3!$L19*Sheet3!B$1) -> 4.4285 | M5: =Sheet3!D19/(Sheet3!$K19+Sheet3!$L19*Sheet3!C$1) -> 4.1273077 | N5: =Sheet3!E19/(Sheet3!$K19+Sheet3!$L19*Sheet3!D$1) -> 3.9390625 | O5: =Sheet3!F19/(Sheet3!$K19+Sheet3!$L19*Sheet3!E$1) -> 3.8102632 | P5: =Sheet3!G19/(Sheet3!$K19+Sheet3!$L19*Sheet3!F$1) -> 3.7165909 | Q5: =Sheet3!H19/(Sheet3!$K19+Sheet3!$L19*Sheet3!G$1) -> 3.6454
A6: =Sheet3!A20 -> Holy Strike | B6: =Sheet3!J20 -> Divine Wizard | C6: =Sheet3!C20/(Sheet3!$M20+Sheet3!$N20*Sheet3!B$1) -> 22.352 | D6: =Sheet3!D20/(Sheet3!$M20+Sheet3!$N20*Sheet3!C$1) -> 25.253333 | E6: =Sheet3!E20/(Sheet3!$M20+Sheet3!$N20*Sheet3!D$1) -> 27.671111 | F6: =Sheet3!F20/(Sheet3!$M20+Sheet3!$N20*Sheet3!E$1) -> 29.716923 | G6: =Sheet3!G20/(Sheet3!$M20+Sheet3!$N20*Sheet3!F$1) -> 31.470476 | H6: =Sheet3!H20/(Sheet3!$M20+Sheet3!$N20*Sheet3!G$1) -> 32.990222 | L6: =Sheet3!C20/(Sheet3!$K20+Sheet3!$L20*Sheet3!B$1) -> 2.3948571 | M6: =Sheet3!D20/(Sheet3!$K20+Sheet3!$L20*Sheet3!C$1) -> 2.042549 | N6: =Sheet3!E20/(Sheet3!$K20+Sheet3!$L20*Sheet3!D$1) -> 1.8585075 | O6: =Sheet3!F20/(Sheet3!$K20+Sheet3!$L20*Sheet3!E$1) -> 1.7454217 | P6: =Sheet3!G20/(Sheet3!$K20+Sheet3!$L20*Sheet3!F$1) -> 1.6688889 | Q6: =Sheet3!H20/(Sheet3!$K20+Sheet3!$L20*Sheet3!G$1) -> 1.6136522
A7: =Sheet3!A21 -> Rockslide | B7: =Sheet3!J21 -> Colossus | C7: =Sheet3!C21/(Sheet3!$M21+Sheet3!$N21*Sheet3!B$1) -> 8.8036111 | D7: =Sheet3!D21/(Sheet3!$M21+Sheet3!$N21*Sheet3!C$1) -> 11.618056 | E7: =Sheet3!E21/(Sheet3!$M21+Sheet3!$N21*Sheet3!D$1) -> 14.4325 | F7: =Sheet3!F21/(Sheet3!$M21+Sheet3!$N21*Sheet3!E$1) -> 17.246944 | G7: =Sheet3!G21/(Sheet3!$M21+Sheet3!$N21*Sheet3!F$1) -> 20.061389 | H7: =Sheet3!H21/(Sheet3!$M21+Sheet3!$N21*Sheet3!G$1) -> 22.875833 | L7: =Sheet3!C21/(Sheet3!$K21+Sheet3!$L21*Sheet3!B$1) -> 2.4379231 | M7: =Sheet3!D21/(Sheet3!$K21+Sheet3!$L21*Sheet3!C$1) -> 2.3497191 | N7: =Sheet3!E21/(Sheet3!$K21+Sheet3!$L21*Sheet3!D$1) -> 2.2989823 | O7: =Sheet3!F21/(Sheet3!$K21+Sheet3!$L21*Sheet3!E$1) -> 2.2660219 | P7: =Sheet3!G21/(Sheet3!$K21+Sheet3!$L21*Sheet3!F$1) -> 2.2428882 | Q7: =Sheet3!H21/(Sheet3!$K21+Sheet3!$L21*Sheet3!G$1) -> 2.2257568
A8: =Sheet3!A22 -> Rogue Wave | B8: =Sheet3!J22 -> Crest Witch | C8: =Sheet3!C22/(Sheet3!$M22+Sheet3!$N22*Sheet3!B$1) -> 9.6125 | D8: =Sheet3!D22/(Sheet3!$M22+Sheet3!$N22*Sheet3!C$1) -> 10.912667 | E8: =Sheet3!E22/(Sheet3!$M22+Sheet3!$N22*Sheet3!D$1) -> 12.212833 | F8: =Sheet3!F22/(Sheet3!$M22+Sheet3!$N22*Sheet3!E$1) -> 13.513 | G8: =Sheet3!G22/(Sheet3!$M22+Sheet3!$N22*Sheet3!F$1) -> 14.813167 | H8: =Sheet3!H22/(Sheet3!$M22+Sheet3!$N22*Sheet3!G$1) -> 16.113333 | L8: =Sheet3!C22/(Sheet3!$K22+Sheet3!$L22*Sheet3!B$1) -> 2.0598214 | M8: =Sheet3!D22/(Sheet3!$K22+Sheet3!$L22*Sheet3!C$1) -> 2.0720253 | N8: =Sheet3!E22/(Sheet3!$K22+Sheet3!$L22*Sheet3!D$1) -> 2.081733 | O8: =Sheet3!F22/(Sheet3!$K22+Sheet3!$L22*Sheet3!E$1) -> 2.0896392 | P8: =Sheet3!G22/(Sheet3!$K22+Sheet3!$L22*Sheet3!F$1) -> 2.0962028 | Q8: =Sheet3!H22/(Sheet3!$K22+Sheet3!$L22*Sheet3!G$1) -> 2.1017391
A9: =Sheet3!A23 -> Frost Spire | B9: =Sheet3!J23 -> Icespinner | C9: =Sheet3!C23/(Sheet3!$M23+Sheet3!$N23*Sheet3!B$1) -> 12.269333 | D9: =Sheet3!D23/(Sheet3!$M23+Sheet3!$N23*Sheet3!C$1) -> 15.425333 | E9: =Sheet3!E23/(Sheet3!$M23+Sheet3!$N23*Sheet3!D$1) -> 18.581333 | F9: =Sheet3!F23/(Sheet3!$M23+Sheet3!$N23*Sheet3!E$1) -> 21.737333 | G9: =Sheet3!G23/(Sheet3!$M23+Sheet3!$N23*Sheet3!F$1) -> 24.893333 | H9: =Sheet3!H23/(Sheet3!$M23+Sheet3!$N23*Sheet3!G$1) -> 28.049333 | L9: =Sheet3!C23/(Sheet3!$K23+Sheet3!$L23*Sheet3!B$1) -> 3.6808 | M9: =Sheet3!D23/(Sheet3!$K23+Sheet3!$L23*Sheet3!C$1) -> 3.7666512 | N9: =Sheet3!E23/(Sheet3!$K23+Sheet3!$L23*Sheet3!D$1) -> 3.8255686 | O9: =Sheet3!F23/(Sheet3!$K23+Sheet3!$L23*Sheet3!E$1) -> 3.8685085 | P9: =Sheet3!G23/(Sheet3!$K23+Sheet3!$L23*Sheet3!F$1) -> 3.901194 | Q9: =Sheet3!H23/(Sheet3!$K23+Sheet3!$L23*Sheet3!G$1) -> 3.9269067
A10: =Sheet3!A24 -> Terra Smash | B10: =Sheet3!J24 -> Ascendant | C10: =Sheet3!C24/(Sheet3!$M24+Sheet3!$N24*Sheet3!B$1) -> 16.55 | D10: =Sheet3!D24/(Sheet3!$M24+Sheet3!$N24*Sheet3!C$1) -> 23.4375 | E10: =Sheet3!E24/(Sheet3!$M24+Sheet3!$N24*Sheet3!D$1) -> 30.325 | F10: =Sheet3!F24/(Sheet3!$M24+Sheet3!$N24*Sheet3!E$1) -> 37.2125 | G10: =Sheet3!G24/(Sheet3!$M24+Sheet3!$N24*Sheet3!F$1) -> 44.1 | H10: =Sheet3!H24/(Sheet3!$M24+Sheet3!$N24*Sheet3!G$1) -> 50.9875 | L10: =Sheet3!C24/(Sheet3!$K24+Sheet3!$L24*Sheet3!B$1) -> 3.7828571 | M10: =Sheet3!D24/(Sheet3!$K24+Sheet3!$L24*Sheet3!C$1) -> 4.3604651 | N10: =Sheet3!E24/(Sheet3!$K24+Sheet3!$L24*Sheet3!D$1) -> 4.7568627 | O10: =Sheet3!F24/(Sheet3!$K24+Sheet3!$L24*Sheet3!E$1) -> 5.0457627 | P10: =Sheet3!G24/(Sheet3!$K24+Sheet3!$L24*Sheet3!F$1) -> 5.2656716 | Q10: =Sheet3!H24/(Sheet3!$K24+Sheet3!$L24*Sheet3!G$1) -> 5.4386667
A11: =Sheet3!A25 -> Pestilence | B11: =Sheet3!J25 -> Defiler | C11: =Sheet3!C25/(Sheet3!$M25+Sheet3!$N25*Sheet3!B$1) -> 17.188889 | D11: =Sheet3!D25/(Sheet3!$M25+Sheet3!$N25*Sheet3!C$1) -> 22.105556 | E11: =Sheet3!E25/(Sheet3!$M25+Sheet3!$N25*Sheet3!D$1) -> 27.022222 | F11: =Sheet3!F25/(Sheet3!$M25+Sheet3!$N25*Sheet3!E$1) -> 31.938889 | G11: =Sheet3!G25/(Sheet3!$M25+Sheet3!$N25*Sheet3!F$1) -> 36.855556 | H11: =Sheet3!H25/(Sheet3!$M25+Sheet3!$N25*Sheet3!G$1) -> 41.772222 | L11: =Sheet3!C25/(Sheet3!$K25+Sheet3!$L25*Sheet3!B$1) -> 2.5783333 | M11: =Sheet3!D25/(Sheet3!$K25+Sheet3!$L25*Sheet3!C$1) -> 2.4561728 | N11: =Sheet3!E25/(Sheet3!$K25+Sheet3!$L25*Sheet3!D$1) -> 2.3843137 | O11: =Sheet3!F25/(Sheet3!$K25+Sheet3!$L25*Sheet3!E$1) -> 2.3369919 | P11: =Sheet3!G25/(Sheet3!$K25+Sheet3!$L25*Sheet3!F$1) -> 2.3034722 | Q11: =Sheet3!H25/(Sheet3!$K25+Sheet3!$L25*Sheet3!G$1) -> 2.2784848
A12: =Sheet3!A26 -> Pyroclasm | B12: =Sheet3!J26 -> Emberwraith | C12: =Sheet3!C26/(Sheet3!$M26+Sheet3!$N26*Sheet3!B$1) -> 5.7905769 | D12: =Sheet3!D26/(Sheet3!$M26+Sheet3!$N26*Sheet3!C$1) -> 7.8885769 | E12: =Sheet3!E26/(Sheet3!$M26+Sheet3!$N26*Sheet3!D$1) -> 9.9865769 | F12: =Sheet3!F26/(Sheet3!$M26+Sheet3!$N26*Sheet3!E$1) -> 12.084577 | G12: =Sheet3!G26/(Sheet3!$M26+Sheet3!$N26*Sheet3!F$1) -> 14.182577 | H12: =Sheet3!H26/(Sheet3!$M26+Sheet3!$N26*Sheet3!G$1) -> 16.280577 | L12: =Sheet3!C26/(Sheet3!$K26+Sheet3!$L26*Sheet3!B$1) -> 2.50925 | M12: =Sheet3!D26/(Sheet3!$K26+Sheet3!$L26*Sheet3!C$1) -> 2.5012561 | N12: =Sheet3!E26/(Sheet3!$K26+Sheet3!$L26*Sheet3!D$1) -> 2.4966442 | O12: =Sheet3!F26/(Sheet3!$K26+Sheet3!$L26*Sheet3!E$1) -> 2.4936429 | P12: =Sheet3!G26/(Sheet3!$K26+Sheet3!$L26*Sheet3!F$1) -> 2.4915338 | Q12: =Sheet3!H26/(Sheet3!$K26+Sheet3!$L26*Sheet3!G$1) -> 2.4899706
A13: =Sheet3!A27 -> Whirl | B13: =Sheet3!J27 -> Forlorn Martyr | C13: =Sheet3!C27/(Sheet3!$M27+Sheet3!$N27*Sheet3!B$1) -> 13.184375 | D13: =Sheet3!D27/(Sheet3!$M27+Sheet3!$N27*Sheet3!C$1) -> 15.98475 | E13: =Sheet3!E27/(Sheet3!$M27+Sheet3!$N27*Sheet3!D$1) -> 18.785125 | F13: =Sheet3!F27/(Sheet3!$M27+Sheet3!$N27*Sheet3!E$1) -> 21.5855 | G13: =Sheet3!G27/(Sheet3!$M27+Sheet3!$N27*Sheet3!F$1) -> 24.385875 | H13: =Sheet3!H27/(Sheet3!$M27+Sheet3!$N27*Sheet3!G$1) -> 27.18625 | L13: =Sheet3!C27/(Sheet3!$K27+Sheet3!$L27*Sheet3!B$1) -> 2.1095 | M13: =Sheet3!D27/(Sheet3!$K27+Sheet3!$L27*Sheet3!C$1) -> 2.0625484 | N13: =Sheet3!E27/(Sheet3!$K27+Sheet3!$L27*Sheet3!D$1) -> 2.0308243 | O13: =Sheet3!F27/(Sheet3!$K27+Sheet3!$L27*Sheet3!E$1) -> 2.0079535 | P13: =Sheet3!G27/(Sheet3!$K27+Sheet3!$L27*Sheet3!F$1) -> 1.9906837 | Q13: =Sheet3!H27/(Sheet3!$K27+Sheet3!$L27*Sheet3!G$1) -> 1.9771818
... A17: =Sheet3!A31 -> Slice | B17: =Sheet3!J31 -> Wretched Chef | C17: =Sheet3!C31/(Sheet3!$M31+Sheet3!$N31*Sheet3!B$1) -> 14.695 | D17: =Sheet3!D31/(Sheet3!$M31+Sheet3!$N31*Sheet3!C$1) -> 18.49375 | E17: =Sheet3!E31/(Sheet3!$M31+Sheet3!$N31*Sheet3!D$1) -> 22.2925 | F17: =Sheet3!F31/(Sheet3!$M31+Sheet3!$N31*Sheet3!E$1) -> 26.09125 | G17: =Sheet3!G31/(Sheet3!$M31+Sheet3!$N31*Sheet3!F$1) -> 29.89 | H17: =Sheet3!H31/(Sheet3!$M31+Sheet3!$N31*Sheet3!G$1) -> 33.68875 | L17: =Sheet3!C31/(Sheet3!$K31+Sheet3!$L31*Sheet3!B$1) -> 2.1374545 | M17: =Sheet3!D31/(Sheet3!$K31+Sheet3!$L31*Sheet3!C$1) -> 2.3484127 | N17: =Sheet3!E31/(Sheet3!$K31+Sheet3!$L31*Sheet3!D$1) -> 2.511831 | O17: =Sheet3!F31/(Sheet3!$K31+Sheet3!$L31*Sheet3!E$1) -> 2.6421519 | P17: =Sheet3!G31/(Sheet3!$K31+Sheet3!$L31*Sheet3!F$1) -> 2.7485057 | Q17: =Sheet3!H31/(Sheet3!$K31+Sheet3!$L31*Sheet3!G$1) -> 2.8369474
A23: Single Target | K23: DPS | S23: DPM | AA23: Recovery | AI23: Glass Cannon
A24: =Sheet3!A16 -> Gale | B24: =Sheet3!J16 -> Arboreal Crusader | C24: =Sheet3!C16 * 0.75 -> 104.985 | D24: =Sheet3!D16 * 0.75 -> 134.64 | E24: =Sheet3!E16 * 0.75 -> 164.295 | F24: =Sheet3!F16 * 0.75 -> 193.95 | G24: =Sheet3!G16 * 0.75 -> 223.605 | H24: =Sheet3!H16 * 0.75 -> 253.26 | K24: =A24 -> Gale | L24: =Sheet5!C24/(Sheet3!$M16+Sheet3!$N16*Sheet3!B$1) -> 9.5440909 | M24: =Sheet5!D24/(Sheet3!$M16+Sheet3!$N16*Sheet3!C$1) -> 12.24 | N24: =Sheet5!E24/(Sheet3!$M16+Sheet3!$N16*Sheet3!D$1) -> 14.935909 | O24: =Sheet5!F24/(Sheet3!$M16+Sheet3!$N16*Sheet3!E$1) -> 17.631818 | P24: =Sheet5!G24/(Sheet3!$M16+Sheet3!$N16*Sheet3!F$1) -> 20.327727 | Q24: =Sheet5!H24/(Sheet3!$M16+Sheet3!$N16*Sheet3!G$1) -> 23.023636 | S24: =A24 -> Gale | T24: =Sheet5!C24/(Sheet3!$K16+Sheet3!$L16*Sheet3!B$1) -> 1.9088182 | U24: =Sheet5!D24/(Sheet3!$K16+Sheet3!$L16*Sheet3!C$1) -> 1.7485714 | V24: =Sheet5!E24/(Sheet3!$K16+Sheet3!$L16*Sheet3!D$1) -> 1.6595455 | W24: =Sheet5!F24/(Sheet3!$K16+Sheet3!$L16*Sheet3!E$1) -> 1.6028926 | X24: =Sheet5!G24/(Sheet3!$K16+Sheet3!$L16*Sheet3!F$1) -> 1.5636713 | Y24: =Sheet5!H24/(Sheet3!$K16+Sheet3!$L16*Sheet3!G$1) -> 1.5349091 | AA24: =S24 -> Gale | AB24: =(Sheet3!$K16+Sheet3!$L16*Sheet3!B$1) / VLOOKUP(Sheet3!$J16,Sheet2!$A$2:$N$29,14,FALSE) -> 27.254708 | AC24: =(Sheet3!$K16+Sheet3!$L16*Sheet3!C$1) / VLOOKUP(Sheet3!$J16,Sheet2!$A$2:$N$29,14,FALSE) -> 38.156591 | AD24: =(Sheet3!$K16+Sheet3!$L16*Sheet3!D$1) / VLOOKUP(Sheet3!$J16,Sheet2!$A$2:$N$29,14,FALSE) -> 49.058474 | AE24: =(Sheet3!$K16+Sheet3!$L16*Sheet3!E$1) / VLOOKUP(Sheet3!$J16,Sheet2!$A$2:$N$29,14,FALSE) -> 59.960357 | AF24: =(Sheet3!$K16+Sheet3!$L16*Sheet3!F$1) / VLOOKUP(Sheet3!$J16,Sheet2!$A$2:$N$29,14,FALSE) -> 70.86224 | AG24: =(Sheet3!$K16+Sheet3!$L16*Sheet3!G$1) / VLOOKUP(Sheet3!$J16,Sheet2!$A$2:$N$29,14,FALSE) -> 81.764123 | AI24: =A24 -> Gale | AJ24: =C24/VLOOKUP(Sheet3!$J16,Sheet2!$A$2:$N$29,13,FALSE) -> 0.10666497 | AK24: =D24/VLOOKUP(Sheet3!$J16,Sheet2!$A$2:$N$29,13,FALSE) -> 0.13679451 | AL24: =E24/VLOOKUP(Sheet3!$J16,Sheet2!$A$2:$N$29,13,FALSE) -> 0.16692405 | AM24: =F24/VLOOKUP(Sheet3!$J16,Sheet2!$A$2:$N$29,13,FALSE) -> 0.19705359 | AN24: =G24/VLOOKUP(Sheet3!$J16,Sheet2!$A$2:$N$29,13,FALSE) -> 0.22718313 | AO24: =H24/VLOOKUP(Sheet3!$J16,Sheet2!$A$2:$N$29,13,FALSE) -> 0.25731267
A25: =Sheet3!A17 -> Incinerate | B25: =Sheet3!J17 -> Soul Binder | C25: =Sheet3!C17 * 0.75 -> 44.025 | D25: =Sheet3!D17 * 0.75 -> 59.319 | E25: =Sheet3!E17 * 0.75 -> 74.613 | F25: =Sheet3!F17 * 0.75 -> 89.907 | G25: =Sheet3!G17 * 0.75 -> 105.201 | H25: =Sheet3!H17 * 0.75 -> 120.495 | K25: =A25 -> Incinerate | L25: =Sheet5!C25/(Sheet3!$M17+Sheet3!$N17*Sheet3!B$1) -> 14.675 | M25: =Sheet5!D25/(Sheet3!$M17+Sheet3!$N17*Sheet3!C$1) -> 19.773 | N25: =Sheet5!E25/(Sheet3!$M17+Sheet3!$N17*Sheet3!D$1) -> 24.871 | O25: =Sheet5!F25/(Sheet3!$M17+Sheet3!$N17*Sheet3!E$1) -> 29.969 | P25: =Sheet5!G25/(Sheet3!$M17+Sheet3!$N17*Sheet3!F$1) -> 35.067 | Q25: =Sheet5!H25/(Sheet3!$M17+Sheet3!$N17*Sheet3!G$1) -> 40.165 | S25: =A25 -> Incinerate | T25: =Sheet5!C25/(Sheet3!$K17+Sheet3!$L17*Sheet3!B$1) -> 0.80045455 | U25: =Sheet5!D25/(Sheet3!$K17+Sheet3!$L17*Sheet3!C$1) -> 0.85969565 | V25: =Sheet5!E25/(Sheet3!$K17+Sheet3!$L17*Sheet3!D$1) -> 0.89895181 | W25: =Sheet5!F25/(Sheet3!$K17+Sheet3!$L17*Sheet3!E$1) -> 0.92687629 | X25: =Sheet5!G25/(Sheet3!$K17+Sheet3!$L17*Sheet3!F$1) -> 0.94775676 | Y25: =Sheet5!H25/(Sheet3!$K17+Sheet3!$L17*Sheet3!G$1) -> 0.96396 | AA25: =S25 -> Incinerate | AB25: =(Sheet3!$K17+Sheet3!$L17*Sheet3!B$1) / VLOOKUP(Sheet3!$J17,Sheet2!$A$2:$N$29,14,FALSE) -> 29.348986 | AC25: =(Sheet3!$K17+Sheet3!$L17*Sheet3!C$1) / VLOOKUP(Sheet3!$J17,Sheet2!$A$2:$N$29,14,FALSE) -> 36.819637 | AD25: =(Sheet3!$K17+Sheet3!$L17*Sheet3!D$1) / VLOOKUP(Sheet3!$J17,Sheet2!$A$2:$N$29,14,FALSE) -> 44.290288 | AE25: =(Sheet3!$K17+Sheet3!$L17*Sheet3!E$1) / VLOOKUP(Sheet3!$J17,Sheet2!$A$2:$N$29,14,FALSE) -> 51.760939 | AF25: =(Sheet3!$K17+Sheet3!$L17*Sheet3!F$1) / VLOOKUP(Sheet3!$J17,Sheet2!$A$2:$N$29,14,FALSE) -> 59.23159 | AG25: =(Sheet3!$K17+Sheet3!$L17*Sheet3!G$1) / VLOOKUP(Sheet3!$J17,Sheet2!$A$2:$N$29,14,FALSE) -> 66.702241 | AI25: =A25 -> Incinerate | AJ25: =C25/VLOOKUP(Sheet3!$J17,Sheet2!$A$2:$N$29,13,FALSE) -> 0.031775532 | AK25: =D25/VLOOKUP(Sheet3!$J17,Sheet2!$A$2:$N$29,13,FALSE) -> 0.042814147 | AL25: =E25/VLOOKUP(Sheet3!$J17,Sheet2!$A$2:$N$29,13,FALSE) -> 0.053852761 | AM25: =F25/VLOOKUP(Sheet3!$J17,Sheet2!$A$2:$N$29,13,FALSE) -> 0.064891375 | AN25: =G25/VLOOKUP(Sheet3!$J17,Sheet2!$A$2:$N$29,13,FALSE) -> 0.075929989 | AO25: =H25/VLOOKUP(Sheet3!$J17,Sheet2!$A$2:$N$29,13,FALSE) -> 0.086968603
A26: =Sheet3!A18 -> Arctic Cataclysm | B26: =Sheet3!J18 -> Glacial Tyrant | C26: =Sheet3!C18 * 0.75 -> 129.795 | D26: =Sheet3!D18 * 0.75 -> 160.4925 | E26: =Sheet3!E18 * 0.75 -> 191.19 | F26: =Sheet3!F18 * 0.75 -> 221.8875 | G26: =Sheet3!G18 * 0.75 -> 252.585 | H26: =Sheet3!H18 * 0.75 -> 283.2825 | K26: =A26 -> Arctic Cataclysm | L26: =Sheet5!C26/(Sheet3!$M18+Sheet3!$N18*Sheet3!B$1) -> 8.1121875 | M26: =Sheet5!D26/(Sheet3!$M18+Sheet3!$N18*Sheet3!C$1) -> 10.030781 | N26: =Sheet5!E26/(Sheet3!$M18+Sheet3!$N18*Sheet3!D$1) -> 11.949375 | O26: =Sheet5!F26/(Sheet3!$M18+Sheet3!$N18*Sheet3!E$1) -> 13.867969 | P26: =Sheet5!G26/(Sheet3!$M18+Sheet3!$N18*Sheet3!F$1) -> 15.786562 | Q26: =Sheet5!H26/(Sheet3!$M18+Sheet3!$N18*Sheet3!G$1) -> 17.705156 | S26: =A26 -> Arctic Cataclysm | T26: =Sheet5!C26/(Sheet3!$K18+Sheet3!$L18*Sheet3!B$1) -> 1.8542143 | U26: =Sheet5!D26/(Sheet3!$K18+Sheet3!$L18*Sheet3!C$1) -> 1.707367 | V26: =Sheet5!E26/(Sheet3!$K18+Sheet3!$L18*Sheet3!D$1) -> 1.6202542 | W26: =Sheet5!F26/(Sheet3!$K18+Sheet3!$L18*Sheet3!E$1) -> 1.562588 | X26: =Sheet5!G26/(Sheet3!$K18+Sheet3!$L18*Sheet3!F$1) -> 1.5215964 | Y26: =Sheet5!H26/(Sheet3!$K18+Sheet3!$L18*Sheet3!G$1) -> 1.4909605 | AA26: =S26 -> Arctic Cataclysm | AB26: =(Sheet3!$K18+Sheet3!$L18*Sheet3!B$1) / VLOOKUP(Sheet3!$J18,Sheet2!$A$2:$N$29,14,FALSE) -> 40.195234 | AC26: =(Sheet3!$K18+Sheet3!$L18*Sheet3!C$1) / VLOOKUP(Sheet3!$J18,Sheet2!$A$2:$N$29,14,FALSE) -> 53.976457 | AD26: =(Sheet3!$K18+Sheet3!$L18*Sheet3!D$1) / VLOOKUP(Sheet3!$J18,Sheet2!$A$2:$N$29,14,FALSE) -> 67.75768 | AE26: =(Sheet3!$K18+Sheet3!$L18*Sheet3!E$1) / VLOOKUP(Sheet3!$J18,Sheet2!$A$2:$N$29,14,FALSE) -> 81.538903 | AF26: =(Sheet3!$K18+Sheet3!$L18*Sheet3!F$1) / VLOOKUP(Sheet3!$J18,Sheet2!$A$2:$N$29,14,FALSE) -> 95.320126 | AG26: =(Sheet3!$K18+Sheet3!$L18*Sheet3!G$1) / VLOOKUP(Sheet3!$J18,Sheet2!$A$2:$N$29,14,FALSE) -> 109.10135 | AI26: =A26 -> Arctic Cataclysm | AJ26: =C26/VLOOKUP(Sheet3!$J18,Sheet2!$A$2:$N$29,13,FALSE) -> 0.076665682 | AK26: =D26/VLOOKUP(Sheet3!$J18,Sheet2!$A$2:$N$29,13,FALSE) -> 0.094797696 | AL26: =E26/VLOOKUP(Sheet3!$J18,Sheet2!$A$2:$N$29,13,FALSE) -> 0.11292971 | AM26: =F26/VLOOKUP(Sheet3!$J18,Sheet2!$A$2:$N$29,13,FALSE) -> 0.13106172 | AN26: =G26/VLOOKUP(Sheet3!$J18,Sheet2!$A$2:$N$29,13,FALSE) -> 0.14919374 | AO26: =H26/VLOOKUP(Sheet3!$J18,Sheet2!$A$2:$N$29,13,FALSE) -> 0.16732575
A27: =Sheet3!A19 -> Caustic Breath | B27: =Sheet3!J19 -> Acid Reaver | C27: =Sheet3!C19 * 0.75 -> 132.855 | D27: =Sheet3!D19 * 0.75 -> 160.965 | E27: =Sheet3!E19 * 0.75 -> 189.075 | F27: =Sheet3!F19 * 0.75 -> 217.185 | G27: =Sheet3!G19 * 0.75 -> 245.295 | H27: =Sheet3!H19 * 0.75 -> 273.405 | K27: =A27 -> Caustic Breath | L27: =Sheet5!C27/(Sheet3!$M19+Sheet3!$N19*Sheet3!B$1) -> 16.606875 | M27: =Sheet5!D27/(Sheet3!$M19+Sheet3!$N19*Sheet3!C$1) -> 20.120625 | N27: =Sheet5!E27/(Sheet3!$M19+Sheet3!$N19*Sheet3!D$1) -> 23.634375 | O27: =Sheet5!F27/(Sheet3!$M19+Sheet3!$N19*Sheet3!E$1) -> 27.148125 | P27: =Sheet5!G27/(Sheet3!$M19+Sheet3!$N19*Sheet3!F$1) -> 30.661875 | Q27: =Sheet5!H27/(Sheet3!$M19+Sheet3!$N19*Sheet3!G$1) -> 34.175625 | S27: =A27 -> Caustic Breath | T27: =Sheet5!C27/(Sheet3!$K19+Sheet3!$L19*Sheet3!B$1) -> 3.321375 | U27: =Sheet5!D27/(Sheet3!$K19+Sheet3!$L19*Sheet3!C$1) -> 3.0954808 | V27: =Sheet5!E27/(Sheet3!$K19+Sheet3!$L19*Sheet3!D$1) -> 2.9542969 | W27: =Sheet5!F27/(Sheet3!$K19+Sheet3!$L19*Sheet3!E$1) -> 2.8576974 | X27: =Sheet5!G27/(Sheet3!$K19+Sheet3!$L19*Sheet3!F$1) -> 2.7874432 | Y27: =Sheet5!H27/(Sheet3!$K19+Sheet3!$L19*Sheet3!G$1) -> 2.73405 | AA27: =S27 -> Caustic Breath | AB27: =(Sheet3!$K19+Sheet3!$L19*Sheet3!B$1) / VLOOKUP(Sheet3!$J19,Sheet2!$A$2:$N$29,14,FALSE) -> 22.408964 | AC27: =(Sheet3!$K19+Sheet3!$L19*Sheet3!C$1) / VLOOKUP(Sheet3!$J19,Sheet2!$A$2:$N$29,14,FALSE) -> 29.131653 | AD27: =(Sheet3!$K19+Sheet3!$L19*Sheet3!D$1) / VLOOKUP(Sheet3!$J19,Sheet2!$A$2:$N$29,14,FALSE) -> 35.854342 | AE27: =(Sheet3!$K19+Sheet3!$L19*Sheet3!E$1) / VLOOKUP(Sheet3!$J19,Sheet2!$A$2:$N$29,14,FALSE) -> 42.577031 | AF27: =(Sheet3!$K19+Sheet3!$L19*Sheet3!F$1) / VLOOKUP(Sheet3!$J19,Sheet2!$A$2:$N$29,14,FALSE) -> 49.29972 | AG27: =(Sheet3!$K19+Sheet3!$L19*Sheet3!G$1) / VLOOKUP(Sheet3!$J19,Sheet2!$A$2:$N$29,14,FALSE) -> 56.022409 | AI27: =A27 -> Caustic Breath | AJ27: =C27/VLOOKUP(Sheet3!$J19,Sheet2!$A$2:$N$29,13,FALSE) -> 0.085108905 | AK27: =D27/VLOOKUP(Sheet3!$J19,Sheet2!$A$2:$N$29,13,FALSE) -> 0.10311659 | AL27: =E27/VLOOKUP(Sheet3!$J19,Sheet2!$A$2:$N$29,13,FALSE) -> 0.12112428 | AM27: =F27/VLOOKUP(Sheet3!$J19,Sheet2!$A$2:$N$29,13,FALSE) -> 0.13913197 | AN27: =G27/VLOOKUP(Sheet3!$J19,Sheet2!$A$2:$N$29,13,FALSE) -> 0.15713965 | AO27: =H27/VLOOKUP(Sheet3!$J19,Sheet2!$A$2:$N$29,13,FALSE) -> 0.17514734
A28: =Sheet3!A20 -> Holy Strike | B28: =Sheet3!J20 -> Divine Wizard | C28: =Sheet3!C20 * 0.75 -> 125.73 | D28: =Sheet3!D20 * 0.75 -> 156.255 | E28: =Sheet3!E20 * 0.75 -> 186.78 | F28: =Sheet3!F20 * 0.75 -> 217.305 | G28: =Sheet3!G20 * 0.75 -> 247.83 | H28: =Sheet3!H20 * 0.75 -> 278.355 | K28: =A28 -> Holy Strike | L28: =Sheet5!C28/(Sheet3!$M20+Sheet3!$N20*Sheet3!B$1) -> 16.764 | M28: =Sheet5!D28/(Sheet3!$M20+Sheet3!$N20*Sheet3!C$1) -> 18.94 | N28: =Sheet5!E28/(Sheet3!$M20+Sheet3!$N20*Sheet3!D$1) -> 20.753333 | O28: =Sheet5!F28/(Sheet3!$M20+Sheet3!$N20*Sheet3!E$1) -> 22.287692 | P28: =Sheet5!G28/(Sheet3!$M20+Sheet3!$N20*Sheet3!F$1) -> 23.602857 | Q28: =Sheet5!H28/(Sheet3!$M20+Sheet3!$N20*Sheet3!G$1) -> 24.742667 | S28: =A28 -> Holy Strike | T28: =Sheet5!C28/(Sheet3!$K20+Sheet3!$L20*Sheet3!B$1) -> 1.7961429 | U28: =Sheet5!D28/(Sheet3!$K20+Sheet3!$L20*Sheet3!C$1) -> 1.5319118 | V28: =Sheet5!E28/(Sheet3!$K20+Sheet3!$L20*Sheet3!D$1) -> 1.3938806 | W28: =Sheet5!F28/(Sheet3!$K20+Sheet3!$L20*Sheet3!E$1) -> 1.3090663 | X28: =Sheet5!G28/(Sheet3!$K20+Sheet3!$L20*Sheet3!F$1) -> 1.2516667 | Y28: =Sheet5!H28/(Sheet3!$K20+Sheet3!$L20*Sheet3!G$1) -> 1.2102391 | AA28: =S28 -> Holy Strike | AB28: =(Sheet3!$K20+Sheet3!$L20*Sheet3!B$1) / VLOOKUP(Sheet3!$J20,Sheet2!$A$2:$N$29,14,FALSE) -> 34.516765 | AC28: =(Sheet3!$K20+Sheet3!$L20*Sheet3!C$1) / VLOOKUP(Sheet3!$J20,Sheet2!$A$2:$N$29,14,FALSE) -> 50.295858 | AD28: =(Sheet3!$K20+Sheet3!$L20*Sheet3!D$1) / VLOOKUP(Sheet3!$J20,Sheet2!$A$2:$N$29,14,FALSE) -> 66.074951 | AE28: =(Sheet3!$K20+Sheet3!$L20*Sheet3!E$1) / VLOOKUP(Sheet3!$J20,Sheet2!$A$2:$N$29,14,FALSE) -> 81.854043 | AF28: =(Sheet3!$K20+Sheet3!$L20*Sheet3!F$1) / VLOOKUP(Sheet3!$J20,Sheet2!$A$2:$N$29,14,FALSE) -> 97.633136 | AG28: =(Sheet3!$K20+Sheet3!$L20*Sheet3!G$1) / VLOOKUP(Sheet3!$J20,Sheet2!$A$2:$N$29,14,FALSE) -> 113.41223 | AI28: =A28 -> Holy Strike | AJ28: =C28/VLOOKUP(Sheet3!$J20,Sheet2!$A$2:$N$29,13,FALSE) -> 0.131345 | AK28: =D28/VLOOKUP(Sheet3!$J20,Sheet2!$A$2:$N$29,13,FALSE) -> 0.16323322 | AL28: =E28/VLOOKUP(Sheet3!$J20,Sheet2!$A$2:$N$29,13,FALSE) -> 0.19512144 | AM28: =F28/VLOOKUP(Sheet3!$J20,Sheet2!$A$2:$N$29,13,FALSE) -> 0.22700966 | AN28: =G28/VLOOKUP(Sheet3!$J20,Sheet2!$A$2:$N$29,13,FALSE) -> 0.25889788 | AO28: =H28/VLOOKUP(Sheet3!$J20,Sheet2!$A$2:$N$29,13,FALSE) -> 0.29078611
A29: =Sheet3!A21 -> Rockslide | B29: =Sheet3!J21 -> Colossus | C29: =Sheet3!C21 * 0.75 -> 118.84875 | D29: =Sheet3!D21 * 0.75 -> 156.84375 | E29: =Sheet3!E21 * 0.75 -> 194.83875 | F29: =Sheet3!F21 * 0.75 -> 232.83375 | G29: =Sheet3!G21 * 0.75 -> 270.82875 | H29: =Sheet3!H21 * 0.75 -> 308.82375 | K29: =A29 -> Rockslide | L29: =Sheet5!C29/(Sheet3!$M21+Sheet3!$N21*Sheet3!B$1) -> 6.6027083 | M29: =Sheet5!D29/(Sheet3!$M21+Sheet3!$N21*Sheet3!C$1) -> 8.7135417 | N29: =Sheet5!E29/(Sheet3!$M21+Sheet3!$N21*Sheet3!D$1) -> 10.824375 | O29: =Sheet5!F29/(Sheet3!$M21+Sheet3!$N21*Sheet3!E$1) -> 12.935208 | P29: =Sheet5!G29/(Sheet3!$M21+Sheet3!$N21*Sheet3!F$1) -> 15.046042 | Q29: =Sheet5!H29/(Sheet3!$M21+Sheet3!$N21*Sheet3!G$1) -> 17.156875 | S29: =A29 -> Rockslide | T29: =Sheet5!C29/(Sheet3!$K21+Sheet3!$L21*Sheet3!B$1) -> 1.8284423 | U29: =Sheet5!D29/(Sheet3!$K21+Sheet3!$L21*Sheet3!C$1) -> 1.7622893 | V29: =Sheet5!E29/(Sheet3!$K21+Sheet3!$L21*Sheet3!D$1) -> 1.7242367 | W29: =Sheet5!F29/(Sheet3!$K21+Sheet3!$L21*Sheet3!E$1) -> 1.6995164 | X29: =Sheet5!G29/(Sheet3!$K21+Sheet3!$L21*Sheet3!F$1) -> 1.6821661 | Y29: =Sheet5!H29/(Sheet3!$K21+Sheet3!$L21*Sheet3!G$1) -> 1.6693176 | AA29: =S29 -> Rockslide | AB29: =(Sheet3!$K21+Sheet3!$L21*Sheet3!B$1) / VLOOKUP(Sheet3!$J21,Sheet2!$A$2:$N$29,14,FALSE) -> 39.877301 | AC29: =(Sheet3!$K21+Sheet3!$L21*Sheet3!C$1) / VLOOKUP(Sheet3!$J21,Sheet2!$A$2:$N$29,14,FALSE) -> 54.601227 | AD29: =(Sheet3!$K21+Sheet3!$L21*Sheet3!D$1) / VLOOKUP(Sheet3!$J21,Sheet2!$A$2:$N$29,14,FALSE) -> 69.325153 | AE29: =(Sheet3!$K21+Sheet3!$L21*Sheet3!E$1) / VLOOKUP(Sheet3!$J21,Sheet2!$A$2:$N$29,14,FALSE) -> 84.04908 | AF29: =(Sheet3!$K21+Sheet3!$L21*Sheet3!F$1) / VLOOKUP(Sheet3!$J21,Sheet2!$A$2:$N$29,14,FALSE) -> 98.773006 | AG29: =(Sheet3!$K21+Sheet3!$L21*Sheet3!G$1) / VLOOKUP(Sheet3!$J21,Sheet2!$A$2:$N$29,14,FALSE) -> 113.49693 | AI29: =A29 -> Rockslide | AJ29: =C29/VLOOKUP(Sheet3!$J21,Sheet2!$A$2:$N$29,13,FALSE) -> 0.072051379 | AK29: =D29/VLOOKUP(Sheet3!$J21,Sheet2!$A$2:$N$29,13,FALSE) -> 0.095085632 | AL29: =E29/VLOOKUP(Sheet3!$J21,Sheet2!$A$2:$N$29,13,FALSE) -> 0.11811988 | AM29: =F29/VLOOKUP(Sheet3!$J21,Sheet2!$A$2:$N$29,13,FALSE) -> 0.14115414 | AN29: =G29/VLOOKUP(Sheet3!$J21,Sheet2!$A$2:$N$29,13,FALSE) -> 0.16418839 | AO29: =H29/VLOOKUP(Sheet3!$J21,Sheet2!$A$2:$N$29,13,FALSE) -> 0.18722264
A30: =Sheet3!A22 -> Rogue Wave | B30: =Sheet3!J22 -> Crest Witch | C30: =Sheet3!C22 * 0.75 -> 108.14062 | D30: =Sheet3!D22 * 0.75 -> 122.7675 | E30: =Sheet3!E22 * 0.75 -> 137.39437 | F30: =Sheet3!F22 * 0.75 -> 152.02125 | G30: =Sheet3!G22 * 0.75 -> 166.64812 | H30: =Sheet3!H22 * 0.75 -> 181.275 | K30: =A30 -> Rogue Wave | L30: =Sheet5!C30/(Sheet3!$M22+Sheet3!$N22*Sheet3!B$1) -> 7.209375 | M30: =Sheet5!D30/(Sheet3!$M22+Sheet3!$N22*Sheet3!C$1) -> 8.1845 | N30: =Sheet5!E30/(Sheet3!$M22+Sheet3!$N22*Sheet3!D$1) -> 9.159625 | O30: =Sheet5!F30/(Sheet3!$M22+Sheet3!$N22*Sheet3!E$1) -> 10.13475 | P30: =Sheet5!G30/(Sheet3!$M22+Sheet3!$N22*Sheet3!F$1) -> 11.109875 | Q30: =Sheet5!H30/(Sheet3!$M22+Sheet3!$N22*Sheet3!G$1) -> 12.085 | S30: =A30 -> Rogue Wave | T30: =Sheet5!C30/(Sheet3!$K22+Sheet3!$L22*Sheet3!B$1) -> 1.5448661 | U30: =Sheet5!D30/(Sheet3!$K22+Sheet3!$L22*Sheet3!C$1) -> 1.554019 | V30: =Sheet5!E30/(Sheet3!$K22+Sheet3!$L22*Sheet3!D$1) -> 1.5612997 | W30: =Sheet5!F30/(Sheet3!$K22+Sheet3!$L22*Sheet3!E$1) -> 1.5672294 | X30: =Sheet5!G30/(Sheet3!$K22+Sheet3!$L22*Sheet3!F$1) -> 1.5721521 | Y30: =Sheet5!H30/(Sheet3!$K22+Sheet3!$L22*Sheet3!G$1) -> 1.5763043 | AA30: =S30 -> Rogue Wave | AB30: =(Sheet3!$K22+Sheet3!$L22*Sheet3!B$1) / VLOOKUP(Sheet3!$J22,Sheet2!$A$2:$N$29,14,FALSE) -> 34.423408 | AC30: =(Sheet3!$K22+Sheet3!$L22*Sheet3!C$1) / VLOOKUP(Sheet3!$J22,Sheet2!$A$2:$N$29,14,FALSE) -> 38.849275 | AD30: =(Sheet3!$K22+Sheet3!$L22*Sheet3!D$1) / VLOOKUP(Sheet3!$J22,Sheet2!$A$2:$N$29,14,FALSE) -> 43.275141 | AE30: =(Sheet3!$K22+Sheet3!$L22*Sheet3!E$1) / VLOOKUP(Sheet3!$J22,Sheet2!$A$2:$N$29,14,FALSE) -> 47.701008 | AF30: =(Sheet3!$K22+Sheet3!$L22*Sheet3!F$1) / VLOOKUP(Sheet3!$J22,Sheet2!$A$2:$N$29,14,FALSE) -> 52.126875 | AG30: =(Sheet3!$K22+Sheet3!$L22*Sheet3!G$1) / VLOOKUP(Sheet3!$J22,Sheet2!$A$2:$N$29,14,FALSE) -> 56.552742 | AI30: =A30 -> Rogue Wave | AJ30: =C30/VLOOKUP(Sheet3!$J22,Sheet2!$A$2:$N$29,13,FALSE) -> 0.10591638 | AK30: =D30/VLOOKUP(Sheet3!$J22,Sheet2!$A$2:$N$29,13,FALSE) -> 0.12024241 | AL30: =E30/VLOOKUP(Sheet3!$J22,Sheet2!$A$2:$N$29,13,FALSE) -> 0.13456844 | AM30: =F30/VLOOKUP(Sheet3!$J22,Sheet2!$A$2:$N$29,13,FALSE) -> 0.14889447 | AN30: =G30/VLOOKUP(Sheet3!$J22,Sheet2!$A$2:$N$29,13,FALSE) -> 0.16322049 | AO30: =H30/VLOOKUP(Sheet3!$J22,Sheet2!$A$2:$N$29,13,FALSE) -> 0.17754652
A31: =Sheet3!A23 -> Frost Spire | B31: =Sheet3!J23 -> Icespinner | C31: =Sheet3!C23 * 0.75 -> 193.242 | D31: =Sheet3!D23 * 0.75 -> 242.949 | E31: =Sheet3!E23 * 0.75 -> 292.656 | F31: =Sheet3!F23 * 0.75 -> 342.363 | G31: =Sheet3!G23 * 0.75 -> 392.07 | H31: =Sheet3!H23 * 0.75 -> 441.777 | K31: =A31 -> Frost Spire | L31: =Sheet5!C31/(Sheet3!$M23+Sheet3!$N23*Sheet3!B$1) -> 9.202 | M31: =Sheet5!D31/(Sheet3!$M23+Sheet3!$N23*Sheet3!C$1) -> 11.569 | N31: =Sheet5!E31/(Sheet3!$M23+Sheet3!$N23*Sheet3!D$1) -> 13.936 | O31: =Sheet5!F31/(Sheet3!$M23+Sheet3!$N23*Sheet3!E$1) -> 16.303 | P31: =Sheet5!G31/(Sheet3!$M23+Sheet3!$N23*Sheet3!F$1) -> 18.67 | Q31: =Sheet5!H31/(Sheet3!$M23+Sheet3!$N23*Sheet3!G$1) -> 21.037 | S31: =A31 -> Frost Spire | T31: =Sheet5!C31/(Sheet3!$K23+Sheet3!$L23*Sheet3!B$1) -> 2.7606 | U31: =Sheet5!D31/(Sheet3!$K23+Sheet3!$L23*Sheet3!C$1) -> 2.8249884 | V31: =Sheet5!E31/(Sheet3!$K23+Sheet3!$L23*Sheet3!D$1) -> 2.8691765 | W31: =Sheet5!F31/(Sheet3!$K23+Sheet3!$L23*Sheet3!E$1) -> 2.9013814 | X31: =Sheet5!G31/(Sheet3!$K23+Sheet3!$L23*Sheet3!F$1) -> 2.9258955 | Y31: =Sheet5!H31/(Sheet3!$K23+Sheet3!$L23*Sheet3!G$1) -> 2.94518 | AA31: =S31 -> Frost Spire | AB31: =(Sheet3!$K23+Sheet3!$L23*Sheet3!B$1) / VLOOKUP(Sheet3!$J23,Sheet2!$A$2:$N$29,14,FALSE) -> 33.865506 | AC31: =(Sheet3!$K23+Sheet3!$L23*Sheet3!C$1) / VLOOKUP(Sheet3!$J23,Sheet2!$A$2:$N$29,14,FALSE) -> 41.606193 | AD31: =(Sheet3!$K23+Sheet3!$L23*Sheet3!D$1) / VLOOKUP(Sheet3!$J23,Sheet2!$A$2:$N$29,14,FALSE) -> 49.34688 | AE31: =(Sheet3!$K23+Sheet3!$L23*Sheet3!E$1) / VLOOKUP(Sheet3!$J23,Sheet2!$A$2:$N$29,14,FALSE) -> 57.087567 | AF31: =(Sheet3!$K23+Sheet3!$L23*Sheet3!F$1) / VLOOKUP(Sheet3!$J23,Sheet2!$A$2:$N$29,14,FALSE) -> 64.828254 | AG31: =(Sheet3!$K23+Sheet3!$L23*Sheet3!G$1) / VLOOKUP(Sheet3!$J23,Sheet2!$A$2:$N$29,14,FALSE) -> 72.56894 | AI31: =A31 -> Frost Spire | AJ31: =C31/VLOOKUP(Sheet3!$J23,Sheet2!$A$2:$N$29,13,FALSE) -> 0.19769003 | AK31: =D31/VLOOKUP(Sheet3!$J23,Sheet2!$A$2:$N$29,13,FALSE) -> 0.24854118 | AL31: =E31/VLOOKUP(Sheet3!$J23,Sheet2!$A$2:$N$29,13,FALSE) -> 0.29939233 | AM31: =F31/VLOOKUP(Sheet3!$J23,Sheet2!$A$2:$N$29,13,FALSE) -> 0.35024348 | AN31: =G31/VLOOKUP(Sheet3!$J23,Sheet2!$A$2:$N$29,13,FALSE) -> 0.40109463 | AO31: =H31/VLOOKUP(Sheet3!$J23,Sheet2!$A$2:$N$29,13,FALSE) -> 0.45194578
A32: =Sheet3!A24 -> Terra Smash | B32: =Sheet3!J24 -> Ascendant | C32: =Sheet3!C24 * 0.75 -> 99.3 | D32: =Sheet3!D24 * 0.75 -> 140.625 | E32: =Sheet3!E24 * 0.75 -> 181.95 | F32: =Sheet3!F24 * 0.75 -> 223.275 | G32: =Sheet3!G24 * 0.75 -> 264.6 | H32: =Sheet3!H24 * 0.75 -> 305.925 | K32: =A32 -> Terra Smash | L32: =Sheet5!C32/(Sheet3!$M24+Sheet3!$N24*Sheet3!B$1) -> 12.4125 | M32: =Sheet5!D32/(Sheet3!$M24+Sheet3!$N24*Sheet3!C$1) -> 17.578125 | N32: =Sheet5!E32/(Sheet3!$M24+Sheet3!$N24*Sheet3!D$1) -> 22.74375 | O32: =Sheet5!F32/(Sheet3!$M24+Sheet3!$N24*Sheet3!E$1) -> 27.909375 | P32: =Sheet5!G32/(Sheet3!$M24+Sheet3!$N24*Sheet3!F$1) -> 33.075 | Q32: =Sheet5!H32/(Sheet3!$M24+Sheet3!$N24*Sheet3!G$1) -> 38.240625 | S32: =A32 -> Terra Smash | T32: =Sheet5!C32/(Sheet3!$K24+Sheet3!$L24*Sheet3!B$1) -> 2.8371429 | U32: =Sheet5!D32/(Sheet3!$K24+Sheet3!$L24*Sheet3!C$1) -> 3.2703488 | V32: =Sheet5!E32/(Sheet3!$K24+Sheet3!$L24*Sheet3!D$1) -> 3.5676471 | W32: =Sheet5!F32/(Sheet3!$K24+Sheet3!$L24*Sheet3!E$1) -> 3.784322 | X32: =Sheet5!G32/(Sheet3!$K24+Sheet3!$L24*Sheet3!F$1) -> 3.9492537 | Y32: =Sheet5!H32/(Sheet3!$K24+Sheet3!$L24*Sheet3!G$1) -> 4.079 | AA32: =S32 -> Terra Smash | AB32: =(Sheet3!$K24+Sheet3!$L24*Sheet3!B$1) / VLOOKUP(Sheet3!$J24,Sheet2!$A$2:$N$29,14,FALSE) -> 19.547612 | AC32: =(Sheet3!$K24+Sheet3!$L24*Sheet3!C$1) / VLOOKUP(Sheet3!$J24,Sheet2!$A$2:$N$29,14,FALSE) -> 24.015638 | AD32: =(Sheet3!$K24+Sheet3!$L24*Sheet3!D$1) / VLOOKUP(Sheet3!$J24,Sheet2!$A$2:$N$29,14,FALSE) -> 28.483664 | AE32: =(Sheet3!$K24+Sheet3!$L24*Sheet3!E$1) / VLOOKUP(Sheet3!$J24,Sheet2!$A$2:$N$29,14,FALSE) -> 32.951689 | AF32: =(Sheet3!$K24+Sheet3!$L24*Sheet3!F$1) / VLOOKUP(Sheet3!$J24,Sheet2!$A$2:$N$29,14,FALSE) -> 37.419715 | AG32: =(Sheet3!$K24+Sheet3!$L24*Sheet3!G$1) / VLOOKUP(Sheet3!$J24,Sheet2!$A$2:$N$29,14,FALSE) -> 41.887741 | AI32: =A32 -> Terra Smash | AJ32: =C32/VLOOKUP(Sheet3!$J24,Sheet2!$A$2:$N$29,13,FALSE) -> 0.079123506 | AK32: =D32/VLOOKUP(Sheet3!$J24,Sheet2!$A$2:$N$29,13,FALSE) -> 0.11205179 | AL32: =E32/VLOOKUP(Sheet3!$J24,Sheet2!$A$2:$N$29,13,FALSE) -> 0.14498008 | AM32: =F32/VLOOKUP(Sheet3!$J24,Sheet2!$A$2:$N$29,13,FALSE) -> 0.17790837 | AN32: =G32/VLOOKUP(Sheet3!$J24,Sheet2!$A$2:$N$29,13,FALSE) -> 0.21083665 | AO32: =H32/VLOOKUP(Sheet3!$J24,Sheet2!$A$2:$N$29,13,FALSE) -> 0.24376494
A33: =Sheet3!A25 -> Pestilence | B33: =Sheet3!J25 -> Defiler | C33: =Sheet3!C25 * 0.75 -> 116.025 | D33: =Sheet3!D25 * 0.75 -> 149.2125 | E33: =Sheet3!E25 * 0.75 -> 182.4 | F33: =Sheet3!F25 * 0.75 -> 215.5875 | G33: =Sheet3!G25 * 0.75 -> 248.775 | H33: =Sheet3!H25 * 0.75 -> 281.9625 | K33: =A33 -> Pestilence | L33: =Sheet5!C33/(Sheet3!$M25+Sheet3!$N25*Sheet3!B$1) -> 12.891667 | M33: =Sheet5!D33/(Sheet3!$M25+Sheet3!$N25*Sheet3!C$1) -> 16.579167 | N33: =Sheet5!E33/(Sheet3!$M25+Sheet3!$N25*Sheet3!D$1) -> 20.266667 | O33: =Sheet5!F33/(Sheet3!$M25+Sheet3!$N25*Sheet3!E$1) -> 23.954167 | P33: =Sheet5!G33/(Sheet3!$M25+Sheet3!$N25*Sheet3!F$1) -> 27.641667 | Q33: =Sheet5!H33/(Sheet3!$M25+Sheet3!$N25*Sheet3!G$1) -> 31.329167 | S33: =A33 -> Pestilence | T33: =Sheet5!C33/(Sheet3!$K25+Sheet3!$L25*Sheet3!B$1) -> 1.93375 | U33: =Sheet5!D33/(Sheet3!$K25+Sheet3!$L25*Sheet3!C$1) -> 1.8421296 | V33: =Sheet5!E33/(Sheet3!$K25+Sheet3!$L25*Sheet3!D$1) -> 1.7882353 | W33: =Sheet5!F33/(Sheet3!$K25+Sheet3!$L25*Sheet3!E$1) -> 1.7527439 | X33: =Sheet5!G33/(Sheet3!$K25+Sheet3!$L25*Sheet3!F$1) -> 1.7276042 | Y33: =Sheet5!H33/(Sheet3!$K25+Sheet3!$L25*Sheet3!G$1) -> 1.7088636 | AA33: =S33 -> Pestilence | AB33: =(Sheet3!$K25+Sheet3!$L25*Sheet3!B$1) / VLOOKUP(Sheet3!$J25,Sheet2!$A$2:$N$29,14,FALSE) -> 30.456853 | AC33: =(Sheet3!$K25+Sheet3!$L25*Sheet3!C$1) / VLOOKUP(Sheet3!$J25,Sheet2!$A$2:$N$29,14,FALSE) -> 41.116751 | AD33: =(Sheet3!$K25+Sheet3!$L25*Sheet3!D$1) / VLOOKUP(Sheet3!$J25,Sheet2!$A$2:$N$29,14,FALSE) -> 51.77665 | AE33: =(Sheet3!$K25+Sheet3!$L25*Sheet3!E$1) / VLOOKUP(Sheet3!$J25,Sheet2!$A$2:$N$29,14,FALSE) -> 62.436548 | AF33: =(Sheet3!$K25+Sheet3!$L25*Sheet3!F$1) / VLOOKUP(Sheet3!$J25,Sheet2!$A$2:$N$29,14,FALSE) -> 73.096447 | AG33: =(Sheet3!$K25+Sheet3!$L25*Sheet3!G$1) / VLOOKUP(Sheet3!$J25,Sheet2!$A$2:$N$29,14,FALSE) -> 83.756345 | AI33: =A33 -> Pestilence | AJ33: =C33/VLOOKUP(Sheet3!$J25,Sheet2!$A$2:$N$29,13,FALSE) -> 0.11611208 | AK33: =D33/VLOOKUP(Sheet3!$J25,Sheet2!$A$2:$N$29,13,FALSE) -> 0.14932449 | AL33: =E33/VLOOKUP(Sheet3!$J25,Sheet2!$A$2:$N$29,13,FALSE) -> 0.1825369 | AM33: =F33/VLOOKUP(Sheet3!$J25,Sheet2!$A$2:$N$29,13,FALSE) -> 0.21574931 | AN33: =G33/VLOOKUP(Sheet3!$J25,Sheet2!$A$2:$N$29,13,FALSE) -> 0.24896172 | AO33: =H33/VLOOKUP(Sheet3!$J25,Sheet2!$A$2:$N$29,13,FALSE) -> 0.28217413
A34: =Sheet3!A26 -> Pyroclasm | B34: =Sheet3!J26 -> Emberwraith | C34: =Sheet3!C26 * 0.75 -> 112.91625 | D34: =Sheet3!D26 * 0.75 -> 153.82725 | E34: =Sheet3!E26 * 0.75 -> 194.73825 | F34: =Sheet3!F26 * 0.75 -> 235.64925 | G34: =Sheet3!G26 * 0.75 -> 276.56025 | H34: =Sheet3!H26 * 0.75 -> 317.47125 | K34: =A34 -> Pyroclasm | L34: =Sheet5!C34/(Sheet3!$M26+Sheet3!$N26*Sheet3!B$1) -> 4.3429327 | M34: =Sheet5!D34/(Sheet3!$M26+Sheet3!$N26*Sheet3!C$1) -> 5.9164327 | N34: =Sheet5!E34/(Sheet3!$M26+Sheet3!$N26*Sheet3!D$1) -> 7.4899327 | O34: =Sheet5!F34/(Sheet3!$M26+Sheet3!$N26*Sheet3!E$1) -> 9.0634327 | P34: =Sheet5!G34/(Sheet3!$M26+Sheet3!$N26*Sheet3!F$1) -> 10.636933 | Q34: =Sheet5!H34/(Sheet3!$M26+Sheet3!$N26*Sheet3!G$1) -> 12.210433 | S34: =A34 -> Pyroclasm | T34: =Sheet5!C34/(Sheet3!$K26+Sheet3!$L26*Sheet3!B$1) -> 1.8819375 | U34: =Sheet5!D34/(Sheet3!$K26+Sheet3!$L26*Sheet3!C$1) -> 1.8759421 | V34: =Sheet5!E34/(Sheet3!$K26+Sheet3!$L26*Sheet3!D$1) -> 1.8724832 | W34: =Sheet5!F34/(Sheet3!$K26+Sheet3!$L26*Sheet3!E$1) -> 1.8702321 | X34: =Sheet5!G34/(Sheet3!$K26+Sheet3!$L26*Sheet3!F$1) -> 1.8686503 | Y34: =Sheet5!H34/(Sheet3!$K26+Sheet3!$L26*Sheet3!G$1) -> 1.8674779 | AA34: =S34 -> Pyroclasm | AB34: =(Sheet3!$K26+Sheet3!$L26*Sheet3!B$1) / VLOOKUP(Sheet3!$J26,Sheet2!$A$2:$N$29,14,FALSE) -> 31.545741 | AC34: =(Sheet3!$K26+Sheet3!$L26*Sheet3!C$1) / VLOOKUP(Sheet3!$J26,Sheet2!$A$2:$N$29,14,FALSE) -> 43.112513 | AD34: =(Sheet3!$K26+Sheet3!$L26*Sheet3!D$1) / VLOOKUP(Sheet3!$J26,Sheet2!$A$2:$N$29,14,FALSE) -> 54.679285 | AE34: =(Sheet3!$K26+Sheet3!$L26*Sheet3!E$1) / VLOOKUP(Sheet3!$J26,Sheet2!$A$2:$N$29,14,FALSE) -> 66.246057 | AF34: =(Sheet3!$K26+Sheet3!$L26*Sheet3!F$1) / VLOOKUP(Sheet3!$J26,Sheet2!$A$2:$N$29,14,FALSE) -> 77.812829 | AG34: =(Sheet3!$K26+Sheet3!$L26*Sheet3!G$1) / VLOOKUP(Sheet3!$J26,Sheet2!$A$2:$N$29,14,FALSE) -> 89.3796 | AI34: =A34 -> Pyroclasm | AJ34: =C34/VLOOKUP(Sheet3!$J26,Sheet2!$A$2:$N$29,13,FALSE) -> 0.074816134 | AK34: =D34/VLOOKUP(Sheet3!$J26,Sheet2!$A$2:$N$29,13,FALSE) -> 0.10192297 | AL34: =E34/VLOOKUP(Sheet3!$J26,Sheet2!$A$2:$N$29,13,FALSE) -> 0.12902982 | AM34: =F34/VLOOKUP(Sheet3!$J26,Sheet2!$A$2:$N$29,13,FALSE) -> 0.15613666 | AN34: =G34/VLOOKUP(Sheet3!$J26,Sheet2!$A$2:$N$29,13,FALSE) -> 0.1832435 | AO34: =H34/VLOOKUP(Sheet3!$J26,Sheet2!$A$2:$N$29,13,FALSE) -> 0.21035034
A35: =Sheet3!A27 -> Whirl | B35: =Sheet3!J27 -> Forlorn Martyr | C35: =Sheet3!C27 * 0.75 -> 79.10625 | D35: =Sheet3!D27 * 0.75 -> 95.9085 | E35: =Sheet3!E27 * 0.75 -> 112.71075 | F35: =Sheet3!F27 * 0.75 -> 129.513 | G35: =Sheet3!G27 * 0.75 -> 146.31525 | H35: =Sheet3!H27 * 0.75 -> 163.1175 | K35: =A35 -> Whirl | L35: =Sheet5!C35/(Sheet3!$M27+Sheet3!$N27*Sheet3!B$1) -> 9.8882812 | M35: =Sheet5!D35/(Sheet3!$M27+Sheet3!$N27*Sheet3!C$1) -> 11.988563 | N35: =Sheet5!E35/(Sheet3!$M27+Sheet3!$N27*Sheet3!D$1) -> 14.088844 | O35: =Sheet5!F35/(Sheet3!$M27+Sheet3!$N27*Sheet3!E$1) -> 16.189125 | P35: =Sheet5!G35/(Sheet3!$M27+Sheet3!$N27*Sheet3!F$1) -> 18.289406 | Q35: =Sheet5!H35/(Sheet3!$M27+Sheet3!$N27*Sheet3!G$1) -> 20.389688 | S35: =A35 -> Whirl | T35: =Sheet5!C35/(Sheet3!$K27+Sheet3!$L27*Sheet3!B$1) -> 1.582125 | U35: =Sheet5!D35/(Sheet3!$K27+Sheet3!$L27*Sheet3!C$1) -> 1.5469113 | V35: =Sheet5!E35/(Sheet3!$K27+Sheet3!$L27*Sheet3!D$1) -> 1.5231182 | W35: =Sheet5!F35/(Sheet3!$K27+Sheet3!$L27*Sheet3!E$1) -> 1.5059651 | X35: =Sheet5!G35/(Sheet3!$K27+Sheet3!$L27*Sheet3!F$1) -> 1.4930128 | Y35: =Sheet5!H35/(Sheet3!$K27+Sheet3!$L27*Sheet3!G$1) -> 1.4828864 | AA35: =S35 -> Whirl | AB35: =(Sheet3!$K27+Sheet3!$L27*Sheet3!B$1) / VLOOKUP(Sheet3!$J27,Sheet2!$A$2:$N$29,14,FALSE) -> 24.709661 | AC35: =(Sheet3!$K27+Sheet3!$L27*Sheet3!C$1) / VLOOKUP(Sheet3!$J27,Sheet2!$A$2:$N$29,14,FALSE) -> 30.63998 | AD35: =(Sheet3!$K27+Sheet3!$L27*Sheet3!D$1) / VLOOKUP(Sheet3!$J27,Sheet2!$A$2:$N$29,14,FALSE) -> 36.570299 | AE35: =(Sheet3!$K27+Sheet3!$L27*Sheet3!E$1) / VLOOKUP(Sheet3!$J27,Sheet2!$A$2:$N$29,14,FALSE) -> 42.500618 | AF35: =(Sheet3!$K27+Sheet3!$L27*Sheet3!F$1) / VLOOKUP(Sheet3!$J27,Sheet2!$A$2:$N$29,14,FALSE) -> 48.430936 | AG35: =(Sheet3!$K27+Sheet3!$L27*Sheet3!G$1) / VLOOKUP(Sheet3!$J27,Sheet2!$A$2:$N$29,14,FALSE) -> 54.361255 | AI35: =A35 -> Whirl | AJ35: =C35/VLOOKUP(Sheet3!$J27,Sheet2!$A$2:$N$29,13,FALSE) -> 0.065296121 | AK35: =D35/VLOOKUP(Sheet3!$J27,Sheet2!$A$2:$N$29,13,FALSE) -> 0.079165085 | AL35: =E35/VLOOKUP(Sheet3!$J27,Sheet2!$A$2:$N$29,13,FALSE) -> 0.093034049 | AM35: =F35/VLOOKUP(Sheet3!$J27,Sheet2!$A$2:$N$29,13,FALSE) -> 0.10690301 | AN35: =G35/VLOOKUP(Sheet3!$J27,Sheet2!$A$2:$N$29,13,FALSE) -> 0.12077198 | AO35: =H35/VLOOKUP(Sheet3!$J27,Sheet2!$A$2:$N$29,13,FALSE) -> 0.13464094
... A39: =Sheet3!A31 -> Slice | B39: =Sheet3!J31 -> Wretched Chef | C39: =Sheet3!C31 * 0.75 -> 88.17 | D39: =Sheet3!D31 * 0.75 -> 110.9625 | E39: =Sheet3!E31 * 0.75 -> 133.755 | F39: =Sheet3!F31 * 0.75 -> 156.5475 | G39: =Sheet3!G31 * 0.75 -> 179.34 | H39: =Sheet3!H31 * 0.75 -> 202.1325 | K39: =A39 -> Slice | L39: =Sheet5!C39/(Sheet3!$M31+Sheet3!$N31*Sheet3!B$1) -> 11.02125 | M39: =Sheet5!D39/(Sheet3!$M31+Sheet3!$N31*Sheet3!C$1) -> 13.870312 | N39: =Sheet5!E39/(Sheet3!$M31+Sheet3!$N31*Sheet3!D$1) -> 16.719375 | O39: =Sheet5!F39/(Sheet3!$M31+Sheet3!$N31*Sheet3!E$1) -> 19.568437 | P39: =Sheet5!G39/(Sheet3!$M31+Sheet3!$N31*Sheet3!F$1) -> 22.4175 | Q39: =Sheet5!H39/(Sheet3!$M31+Sheet3!$N31*Sheet3!G$1) -> 25.266562 | S39: =A39 -> Slice | T39: =Sheet5!C39/(Sheet3!$K31+Sheet3!$L31*Sheet3!B$1) -> 1.6030909 | U39: =Sheet5!D39/(Sheet3!$K31+Sheet3!$L31*Sheet3!C$1) -> 1.7613095 | V39: =Sheet5!E39/(Sheet3!$K31+Sheet3!$L31*Sheet3!D$1) -> 1.8838732 | W39: =Sheet5!F39/(Sheet3!$K31+Sheet3!$L31*Sheet3!E$1) -> 1.9816139 | X39: =Sheet5!G39/(Sheet3!$K31+Sheet3!$L31*Sheet3!F$1) -> 2.0613793 | Y39: =Sheet5!H39/(Sheet3!$K31+Sheet3!$L31*Sheet3!G$1) -> 2.1277105 | AA39: =S39 -> Slice | AB39: =(Sheet3!$K31+Sheet3!$L31*Sheet3!B$1) / VLOOKUP(Sheet3!$J31,Sheet2!$A$2:$N$29,14,FALSE) -> 32.305433 | AC39: =(Sheet3!$K31+Sheet3!$L31*Sheet3!C$1) / VLOOKUP(Sheet3!$J31,Sheet2!$A$2:$N$29,14,FALSE) -> 37.004405 | AD39: =(Sheet3!$K31+Sheet3!$L31*Sheet3!D$1) / VLOOKUP(Sheet3!$J31,Sheet2!$A$2:$N$29,14,FALSE) -> 41.703377 | AE39: =(Sheet3!$K31+Sheet3!$L31*Sheet3!E$1) / VLOOKUP(Sheet3!$J31,Sheet2!$A$2:$N$29,14,FALSE) -> 46.402349 | AF39: =(Sheet3!$K31+Sheet3!$L31*Sheet3!F$1) / VLOOKUP(Sheet3!$J31,Sheet2!$A$2:$N$29,14,FALSE) -> 51.101322 | AG39: =(Sheet3!$K31+Sheet3!$L31*Sheet3!G$1) / VLOOKUP(Sheet3!$J31,Sheet2!$A$2:$N$29,14,FALSE) -> 55.800294 | AI39: =A39 -> Slice | AJ39: =C39/VLOOKUP(Sheet3!$J31,Sheet2!$A$2:$N$29,13,FALSE) -> 0.056728326 | AK39: =D39/VLOOKUP(Sheet3!$J31,Sheet2!$A$2:$N$29,13,FALSE) -> 0.071392955 | AL39: =E39/VLOOKUP(Sheet3!$J31,Sheet2!$A$2:$N$29,13,FALSE) -> 0.086057584 | AM39: =F39/VLOOKUP(Sheet3!$J31,Sheet2!$A$2:$N$29,13,FALSE) -> 0.10072221 | AN39: =G39/VLOOKUP(Sheet3!$J31,Sheet2!$A$2:$N$29,13,FALSE) -> 0.11538684 | AO39: =H39/VLOOKUP(Sheet3!$J31,Sheet2!$A$2:$N$29,13,FALSE) -> 0.13005147
A40: =Sheet3!A36 -> Hold Person | B40: =Sheet3!J36 -> Aeromancess | C40: =Sheet3!C36 -> 187.18 | D40: =Sheet3!D36 -> 245.5503 | E40: =Sheet3!E36 -> 311.8232 | F40: =Sheet3!F36 -> 385.9987 | G40: =Sheet3!G36 -> 468.0768 | H40: =Sheet3!H36 -> 558.0575 | K40: =A40 -> Hold Person | L40: =Sheet5!C40/(Sheet3!$M36+Sheet3!$N36*Sheet3!B$1) -> 10.398889 | M40: =Sheet5!D40/(Sheet3!$M36+Sheet3!$N36*Sheet3!C$1) -> 13.641683 | N40: =Sheet5!E40/(Sheet3!$M36+Sheet3!$N36*Sheet3!D$1) -> 17.323511 | O40: =Sheet5!F40/(Sheet3!$M36+Sheet3!$N36*Sheet3!E$1) -> 21.444372 | P40: =Sheet5!G40/(Sheet3!$M36+Sheet3!$N36*Sheet3!F$1) -> 26.004267 | Q40: =Sheet5!H40/(Sheet3!$M36+Sheet3!$N36*Sheet3!G$1) -> 31.003194 | S40: =A40 -> Hold Person | T40: =Sheet5!C40/(Sheet3!$K36+Sheet3!$L36*Sheet3!B$1) -> 2.4957333 | U40: =Sheet5!D40/(Sheet3!$K36+Sheet3!$L36*Sheet3!C$1) -> 2.6403258 | V40: =Sheet5!E40/(Sheet3!$K36+Sheet3!$L36*Sheet3!D$1) -> 2.809218 | W40: =Sheet5!F40/(Sheet3!$K36+Sheet3!$L36*Sheet3!E$1) -> 2.992238 | X40: =Sheet5!G40/(Sheet3!$K36+Sheet3!$L36*Sheet3!F$1) -> 3.1841959 | Y40: =Sheet5!H40/(Sheet3!$K36+Sheet3!$L36*Sheet3!G$1) -> 3.3821667 | AA40: =S40 -> Hold Person | AB40: =(Sheet3!$K36+Sheet3!$L36*Sheet3!B$1) / VLOOKUP(Sheet3!$J36,Sheet2!$A$2:$N$29,14,FALSE) -> 38.930703 | AC40: =(Sheet3!$K36+Sheet3!$L36*Sheet3!C$1) / VLOOKUP(Sheet3!$J36,Sheet2!$A$2:$N$29,14,FALSE) -> 48.274072 | AD40: =(Sheet3!$K36+Sheet3!$L36*Sheet3!D$1) / VLOOKUP(Sheet3!$J36,Sheet2!$A$2:$N$29,14,FALSE) -> 57.617441 | AE40: =(Sheet3!$K36+Sheet3!$L36*Sheet3!E$1) / VLOOKUP(Sheet3!$J36,Sheet2!$A$2:$N$29,14,FALSE) -> 66.96081 | AF40: =(Sheet3!$K36+Sheet3!$L36*Sheet3!F$1) / VLOOKUP(Sheet3!$J36,Sheet2!$A$2:$N$29,14,FALSE) -> 76.304179 | AG40: =(Sheet3!$K36+Sheet3!$L36*Sheet3!G$1) / VLOOKUP(Sheet3!$J36,Sheet2!$A$2:$N$29,14,FALSE) -> 85.647547 | AI40: =A40 -> Hold Person | AJ40: =C40/VLOOKUP(Sheet3!$J36,Sheet2!$A$2:$N$29,13,FALSE) -> 0.19896891 | AK40: =D40/VLOOKUP(Sheet3!$J36,Sheet2!$A$2:$N$29,13,FALSE) -> 0.26101547 | AL40: =E40/VLOOKUP(Sheet3!$J36,Sheet2!$A$2:$N$29,13,FALSE) -> 0.33146234 | AM40: =F40/VLOOKUP(Sheet3!$J36,Sheet2!$A$2:$N$29,13,FALSE) -> 0.41030954 | AN40: =G40/VLOOKUP(Sheet3!$J36,Sheet2!$A$2:$N$29,13,FALSE) -> 0.49755706 | AO40: =H40/VLOOKUP(Sheet3!$J36,Sheet2!$A$2:$N$29,13,FALSE) -> 0.59320489
A41: =Sheet3!A37 -> Chasten | B41: =Sheet3!J37 -> Blazing Priest | C41: =Sheet3!C37 -> 159.625 | D41: =Sheet3!D37 -> 207.5875 | E41: =Sheet3!E37 -> 255.55 | F41: =Sheet3!F37 -> 303.5125 | G41: =Sheet3!G37 -> 351.475 | H41: =Sheet3!H37 -> 399.4375 | K41: =A41 -> Chasten | L41: =Sheet5!C41/(Sheet3!$M37+Sheet3!$N37*Sheet3!B$1) -> 19.953125 | M41: =Sheet5!D41/(Sheet3!$M37+Sheet3!$N37*Sheet3!C$1) -> 25.948438 | N41: =Sheet5!E41/(Sheet3!$M37+Sheet3!$N37*Sheet3!D$1) -> 31.94375 | O41: =Sheet5!F41/(Sheet3!$M37+Sheet3!$N37*Sheet3!E$1) -> 37.939063 | P41: =Sheet5!G41/(Sheet3!$M37+Sheet3!$N37*Sheet3!F$1) -> 43.934375 | Q41: =Sheet5!H41/(Sheet3!$M37+Sheet3!$N37*Sheet3!G$1) -> 49.929688 | S41: =A41 -> Chasten | T41: =Sheet5!C41/(Sheet3!$K37+Sheet3!$L37*Sheet3!B$1) -> 3.1925 | U41: =Sheet5!D41/(Sheet3!$K37+Sheet3!$L37*Sheet3!C$1) -> 3.844213 | V41: =Sheet5!E41/(Sheet3!$K37+Sheet3!$L37*Sheet3!D$1) -> 4.4060345 | W41: =Sheet5!F41/(Sheet3!$K37+Sheet3!$L37*Sheet3!E$1) -> 4.8953629 | X41: =Sheet5!G41/(Sheet3!$K37+Sheet3!$L37*Sheet3!F$1) -> 5.3253788 | Y41: =Sheet5!H41/(Sheet3!$K37+Sheet3!$L37*Sheet3!G$1) -> 5.70625 | AA41: =S41 -> Chasten | AB41: =(Sheet3!$K37+Sheet3!$L37*Sheet3!B$1) / VLOOKUP(Sheet3!$J37,Sheet2!$A$2:$N$29,14,FALSE) -> 27.114967 | AC41: =(Sheet3!$K37+Sheet3!$L37*Sheet3!C$1) / VLOOKUP(Sheet3!$J37,Sheet2!$A$2:$N$29,14,FALSE) -> 29.284165 | AD41: =(Sheet3!$K37+Sheet3!$L37*Sheet3!D$1) / VLOOKUP(Sheet3!$J37,Sheet2!$A$2:$N$29,14,FALSE) -> 31.453362 | AE41: =(Sheet3!$K37+Sheet3!$L37*Sheet3!E$1) / VLOOKUP(Sheet3!$J37,Sheet2!$A$2:$N$29,14,FALSE) -> 33.62256 | AF41: =(Sheet3!$K37+Sheet3!$L37*Sheet3!F$1) / VLOOKUP(Sheet3!$J37,Sheet2!$A$2:$N$29,14,FALSE) -> 35.791757 | AG41: =(Sheet3!$K37+Sheet3!$L37*Sheet3!G$1) / VLOOKUP(Sheet3!$J37,Sheet2!$A$2:$N$29,14,FALSE) -> 37.960954 | AI41: =A41 -> Chasten | AJ41: =C41/VLOOKUP(Sheet3!$J37,Sheet2!$A$2:$N$29,13,FALSE) -> 0.10991565 | AK41: =D41/VLOOKUP(Sheet3!$J37,Sheet2!$A$2:$N$29,13,FALSE) -> 0.14294199 | AL41: =E41/VLOOKUP(Sheet3!$J37,Sheet2!$A$2:$N$29,13,FALSE) -> 0.17596833 | AM41: =F41/VLOOKUP(Sheet3!$J37,Sheet2!$A$2:$N$29,13,FALSE) -> 0.20899466 | AN41: =G41/VLOOKUP(Sheet3!$J37,Sheet2!$A$2:$N$29,13,FALSE) -> 0.242021 | AO41: =H41/VLOOKUP(Sheet3!$J37,Sheet2!$A$2:$N$29,13,FALSE) -> 0.27504734
A42: =Sheet3!A38 -> Demoralizing Blow | B42: =Sheet3!J38 -> Mystic Swashbuckler | C42: =Sheet3!C38 -> 114 | D42: =Sheet3!D38 -> 166.25 | E42: =Sheet3!E38 -> 218.5 | F42: =Sheet3!F38 -> 270.75 | G42: =Sheet3!G38 -> 323 | H42: =Sheet3!H38 -> 375.25 | K42: =A42 -> Demoralizing Blow | L42: =Sheet5!C42/(Sheet3!$M38+Sheet3!$N38*Sheet3!B$1) -> 9.5 | M42: =Sheet5!D42/(Sheet3!$M38+Sheet3!$N38*Sheet3!C$1) -> 13.854167 | N42: =Sheet5!E42/(Sheet3!$M38+Sheet3!$N38*Sheet3!D$1) -> 18.208333 | O42: =Sheet5!F42/(Sheet3!$M38+Sheet3!$N38*Sheet3!E$1) -> 22.5625 | P42: =Sheet5!G42/(Sheet3!$M38+Sheet3!$N38*Sheet3!F$1) -> 26.916667 | Q42: =Sheet5!H42/(Sheet3!$M38+Sheet3!$N38*Sheet3!G$1) -> 31.270833 | S42: =A42 -> Demoralizing Blow | T42: =Sheet5!C42/(Sheet3!$K38+Sheet3!$L38*Sheet3!B$1) -> 2.28 | U42: =Sheet5!D42/(Sheet3!$K38+Sheet3!$L38*Sheet3!C$1) -> 2.5976562 | V42: =Sheet5!E42/(Sheet3!$K38+Sheet3!$L38*Sheet3!D$1) -> 2.8012821 | W42: =Sheet5!F42/(Sheet3!$K38+Sheet3!$L38*Sheet3!E$1) -> 2.9429348 | X42: =Sheet5!G42/(Sheet3!$K38+Sheet3!$L38*Sheet3!F$1) -> 3.0471698 | Y42: =Sheet5!H42/(Sheet3!$K38+Sheet3!$L38*Sheet3!G$1) -> 3.1270833 | AA42: =S42 -> Demoralizing Blow | AB42: =(Sheet3!$K38+Sheet3!$L38*Sheet3!B$1) / VLOOKUP(Sheet3!$J38,Sheet2!$A$2:$N$29,14,FALSE) -> 28.169014 | AC42: =(Sheet3!$K38+Sheet3!$L38*Sheet3!C$1) / VLOOKUP(Sheet3!$J38,Sheet2!$A$2:$N$29,14,FALSE) -> 36.056338 | AD42: =(Sheet3!$K38+Sheet3!$L38*Sheet3!D$1) / VLOOKUP(Sheet3!$J38,Sheet2!$A$2:$N$29,14,FALSE) -> 43.943662 | AE42: =(Sheet3!$K38+Sheet3!$L38*Sheet3!E$1) / VLOOKUP(Sheet3!$J38,Sheet2!$A$2:$N$29,14,FALSE) -> 51.830986 | AF42: =(Sheet3!$K38+Sheet3!$L38*Sheet3!F$1) / VLOOKUP(Sheet3!$J38,Sheet2!$A$2:$N$29,14,FALSE) -> 59.71831 | AG42: =(Sheet3!$K38+Sheet3!$L38*Sheet3!G$1) / VLOOKUP(Sheet3!$J38,Sheet2!$A$2:$N$29,14,FALSE) -> 67.605634 | AI42: =A42 -> Demoralizing Blow | AJ42: =C42/VLOOKUP(Sheet3!$J38,Sheet2!$A$2:$N$29,13,FALSE) -> 0.093461775 | AK42: =D42/VLOOKUP(Sheet3!$J38,Sheet2!$A$2:$N$29,13,FALSE) -> 0.13629842 | AL42: =E42/VLOOKUP(Sheet3!$J38,Sheet2!$A$2:$N$29,13,FALSE) -> 0.17913507 | AM42: =F42/VLOOKUP(Sheet3!$J38,Sheet2!$A$2:$N$29,13,FALSE) -> 0.22197172 | AN42: =G42/VLOOKUP(Sheet3!$J38,Sheet2!$A$2:$N$29,13,FALSE) -> 0.26480836 | AO42: =H42/VLOOKUP(Sheet3!$J38,Sheet2!$A$2:$N$29,13,FALSE) -> 0.30764501
A43: =Sheet3!A39 -> Soulstrike | B43: =Sheet3!J39 -> Soul Binder | C43: =Sheet3!C39 -> 245.1 | D43: =Sheet3!D39 -> 373.452 | E43: =Sheet3!E39 -> 501.804 | F43: =Sheet3!F39 -> 630.156 | G43: =Sheet3!G39 -> 758.508 | H43: =Sheet3!H39 -> 886.86 | K43: =A43 -> Soulstrike | L43: =Sheet5!C43/(Sheet3!$M39+Sheet3!$N39*Sheet3!B$1) -> 12.255 | M43: =Sheet5!D43/(Sheet3!$M39+Sheet3!$N39*Sheet3!C$1) -> 18.6726 | N43: =Sheet5!E43/(Sheet3!$M39+Sheet3!$N39*Sheet3!D$1) -> 25.0902 | O43: =Sheet5!F43/(Sheet3!$M39+Sheet3!$N39*Sheet3!E$1) -> 31.5078 | P43: =Sheet5!G43/(Sheet3!$M39+Sheet3!$N39*Sheet3!F$1) -> 37.9254 | Q43: =Sheet5!H43/(Sheet3!$M39+Sheet3!$N39*Sheet3!G$1) -> 44.343 | S43: =A43 -> Soulstrike | T43: =Sheet5!C43/(Sheet3!$K39+Sheet3!$L39*Sheet3!B$1) -> 3.7707692 | U43: =Sheet5!D43/(Sheet3!$K39+Sheet3!$L39*Sheet3!C$1) -> 4.9138421 | V43: =Sheet5!E43/(Sheet3!$K39+Sheet3!$L39*Sheet3!D$1) -> 5.7678621 | W43: =Sheet5!F43/(Sheet3!$K39+Sheet3!$L39*Sheet3!E$1) -> 6.4301633 | X43: =Sheet5!G43/(Sheet3!$K39+Sheet3!$L39*Sheet3!F$1) -> 6.958789 | Y43: =Sheet5!H43/(Sheet3!$K39+Sheet3!$L39*Sheet3!G$1) -> 7.3905 | AA43: =S43 -> Soulstrike | AB43: =(Sheet3!$K39+Sheet3!$L39*Sheet3!B$1) / VLOOKUP(Sheet3!$J39,Sheet2!$A$2:$N$29,14,FALSE) -> 34.685165 | AC43: =(Sheet3!$K39+Sheet3!$L39*Sheet3!C$1) / VLOOKUP(Sheet3!$J39,Sheet2!$A$2:$N$29,14,FALSE) -> 40.554963 | AD43: =(Sheet3!$K39+Sheet3!$L39*Sheet3!D$1) / VLOOKUP(Sheet3!$J39,Sheet2!$A$2:$N$29,14,FALSE) -> 46.42476 | AE43: =(Sheet3!$K39+Sheet3!$L39*Sheet3!E$1) / VLOOKUP(Sheet3!$J39,Sheet2!$A$2:$N$29,14,FALSE) -> 52.294557 | AF43: =(Sheet3!$K39+Sheet3!$L39*Sheet3!F$1) / VLOOKUP(Sheet3!$J39,Sheet2!$A$2:$N$29,14,FALSE) -> 58.164354 | AG43: =(Sheet3!$K39+Sheet3!$L39*Sheet3!G$1) / VLOOKUP(Sheet3!$J39,Sheet2!$A$2:$N$29,14,FALSE) -> 64.034152 | AI43: =A43 -> Soulstrike | AJ43: =C43/VLOOKUP(Sheet3!$J39,Sheet2!$A$2:$N$29,13,FALSE) -> 0.17690364 | AK43: =D43/VLOOKUP(Sheet3!$J39,Sheet2!$A$2:$N$29,13,FALSE) -> 0.26954313 | AL43: =E43/VLOOKUP(Sheet3!$J39,Sheet2!$A$2:$N$29,13,FALSE) -> 0.36218261 | AM43: =F43/VLOOKUP(Sheet3!$J39,Sheet2!$A$2:$N$29,13,FALSE) -> 0.45482209 | AN43: =G43/VLOOKUP(Sheet3!$J39,Sheet2!$A$2:$N$29,13,FALSE) -> 0.54746157 | AO43: =H43/VLOOKUP(Sheet3!$J39,Sheet2!$A$2:$N$29,13,FALSE) -> 0.64010105
A44: =Sheet3!A40 -> Echoing Strike | B44: =Sheet3!J40 -> Time Cleric | C44: =Sheet3!C40 -> 69.4125 | D44: =Sheet3!D40 -> 82.771 | E44: =Sheet3!E40 -> 96.1295 | F44: =Sheet3!F40 -> 109.488 | G44: =Sheet3!G40 -> 122.8465 | H44: =Sheet3!H40 -> 136.205 | K44: =A44 -> Echoing Strike | L44: =Sheet5!C44/(Sheet3!$M40+Sheet3!$N40*Sheet3!B$1) -> 17.353125 | M44: =Sheet5!D44/(Sheet3!$M40+Sheet3!$N40*Sheet3!C$1) -> 20.69275 | N44: =Sheet5!E44/(Sheet3!$M40+Sheet3!$N40*Sheet3!D$1) -> 24.032375 | O44: =Sheet5!F44/(Sheet3!$M40+Sheet3!$N40*Sheet3!E$1) -> 27.372 | P44: =Sheet5!G44/(Sheet3!$M40+Sheet3!$N40*Sheet3!F$1) -> 30.711625 | Q44: =Sheet5!H44/(Sheet3!$M40+Sheet3!$N40*Sheet3!G$1) -> 34.05125 | S44: =A44 -> Echoing Strike | T44: =Sheet5!C44/(Sheet3!$K40+Sheet3!$L40*Sheet3!B$1) -> 2.7765 | U44: =Sheet5!D44/(Sheet3!$K40+Sheet3!$L40*Sheet3!C$1) -> 2.8541724 | V44: =Sheet5!E44/(Sheet3!$K40+Sheet3!$L40*Sheet3!D$1) -> 2.9130152 | W44: =Sheet5!F44/(Sheet3!$K40+Sheet3!$L40*Sheet3!E$1) -> 2.9591351 | X44: =Sheet5!G44/(Sheet3!$K40+Sheet3!$L40*Sheet3!F$1) -> 2.9962561 | Y44: =Sheet5!H44/(Sheet3!$K40+Sheet3!$L40*Sheet3!G$1) -> 3.0267778 | AA44: =S44 -> Echoing Strike | AB44: =(Sheet3!$K40+Sheet3!$L40*Sheet3!B$1) / VLOOKUP(Sheet3!$J40,Sheet2!$A$2:$N$29,14,FALSE) -> 12.976901 | AC44: =(Sheet3!$K40+Sheet3!$L40*Sheet3!C$1) / VLOOKUP(Sheet3!$J40,Sheet2!$A$2:$N$29,14,FALSE) -> 15.053205 | AD44: =(Sheet3!$K40+Sheet3!$L40*Sheet3!D$1) / VLOOKUP(Sheet3!$J40,Sheet2!$A$2:$N$29,14,FALSE) -> 17.129509 | AE44: =(Sheet3!$K40+Sheet3!$L40*Sheet3!E$1) / VLOOKUP(Sheet3!$J40,Sheet2!$A$2:$N$29,14,FALSE) -> 19.205814 | AF44: =(Sheet3!$K40+Sheet3!$L40*Sheet3!F$1) / VLOOKUP(Sheet3!$J40,Sheet2!$A$2:$N$29,14,FALSE) -> 21.282118 | AG44: =(Sheet3!$K40+Sheet3!$L40*Sheet3!G$1) / VLOOKUP(Sheet3!$J40,Sheet2!$A$2:$N$29,14,FALSE) -> 23.358422 | AI44: =A44 -> Echoing Strike | AJ44: =C44/VLOOKUP(Sheet3!$J40,Sheet2!$A$2:$N$29,13,FALSE) -> 0.055607851 | AK44: =D44/VLOOKUP(Sheet3!$J40,Sheet2!$A$2:$N$29,13,FALSE) -> 0.066309633 | AL44: =E44/VLOOKUP(Sheet3!$J40,Sheet2!$A$2:$N$29,13,FALSE) -> 0.077011416 | AM44: =F44/VLOOKUP(Sheet3!$J40,Sheet2!$A$2:$N$29,13,FALSE) -> 0.087713198 | AN44: =G44/VLOOKUP(Sheet3!$J40,Sheet2!$A$2:$N$29,13,FALSE) -> 0.098414981 | AO44: =H44/VLOOKUP(Sheet3!$J40,Sheet2!$A$2:$N$29,13,FALSE) -> 0.10911676
A45: =Sheet3!A41 -> Degeneration | B45: =Sheet3!J41 -> Time Cleric | C45: =Sheet3!C41 -> 183.18 | D45: =Sheet3!D41 -> 294.411 | E45: =Sheet3!E41 -> 405.642 | F45: =Sheet3!F41 -> 516.873 | G45: =Sheet3!G41 -> 628.104 | H45: =Sheet3!H41 -> 739.335 | K45: =A45 -> Degeneration | L45: =Sheet5!C45/(Sheet3!$M41+Sheet3!$N41*Sheet3!B$1) -> 12.212 | M45: =Sheet5!D45/(Sheet3!$M41+Sheet3!$N41*Sheet3!C$1) -> 19.6274 | N45: =Sheet5!E45/(Sheet3!$M41+Sheet3!$N41*Sheet3!D$1) -> 27.0428 | O45: =Sheet5!F45/(Sheet3!$M41+Sheet3!$N41*Sheet3!E$1) -> 34.4582 | P45: =Sheet5!G45/(Sheet3!$M41+Sheet3!$N41*Sheet3!F$1) -> 41.8736 | Q45: =Sheet5!H45/(Sheet3!$M41+Sheet3!$N41*Sheet3!G$1) -> 49.289 | S45: =A45 -> Degeneration | T45: =Sheet5!C45/(Sheet3!$K41+Sheet3!$L41*Sheet3!B$1) -> 3.6636 | U45: =Sheet5!D45/(Sheet3!$K41+Sheet3!$L41*Sheet3!C$1) -> 4.3295735 | V45: =Sheet5!E45/(Sheet3!$K41+Sheet3!$L41*Sheet3!D$1) -> 4.7167674 | W45: =Sheet5!F45/(Sheet3!$K41+Sheet3!$L41*Sheet3!E$1) -> 4.9699327 | X45: =Sheet5!G45/(Sheet3!$K41+Sheet3!$L41*Sheet3!F$1) -> 5.1483934 | Y45: =Sheet5!H45/(Sheet3!$K41+Sheet3!$L41*Sheet3!G$1) -> 5.2809643 | AA45: =S45 -> Degeneration | AB45: =(Sheet3!$K41+Sheet3!$L41*Sheet3!B$1) / VLOOKUP(Sheet3!$J41,Sheet2!$A$2:$N$29,14,FALSE) -> 25.953802 | AC45: =(Sheet3!$K41+Sheet3!$L41*Sheet3!C$1) / VLOOKUP(Sheet3!$J41,Sheet2!$A$2:$N$29,14,FALSE) -> 35.297171 | AD45: =(Sheet3!$K41+Sheet3!$L41*Sheet3!D$1) / VLOOKUP(Sheet3!$J41,Sheet2!$A$2:$N$29,14,FALSE) -> 44.64054 | AE45: =(Sheet3!$K41+Sheet3!$L41*Sheet3!E$1) / VLOOKUP(Sheet3!$J41,Sheet2!$A$2:$N$29,14,FALSE) -> 53.983909 | AF45: =(Sheet3!$K41+Sheet3!$L41*Sheet3!F$1) / VLOOKUP(Sheet3!$J41,Sheet2!$A$2:$N$29,14,FALSE) -> 63.327277 | AG45: =(Sheet3!$K41+Sheet3!$L41*Sheet3!G$1) / VLOOKUP(Sheet3!$J41,Sheet2!$A$2:$N$29,14,FALSE) -> 72.670646 | AI45: =A45 -> Degeneration | AJ45: =C45/VLOOKUP(Sheet3!$J41,Sheet2!$A$2:$N$29,13,FALSE) -> 0.14674945 | AK45: =D45/VLOOKUP(Sheet3!$J41,Sheet2!$A$2:$N$29,13,FALSE) -> 0.235859 | AL45: =E45/VLOOKUP(Sheet3!$J41,Sheet2!$A$2:$N$29,13,FALSE) -> 0.32496856 | AM45: =F45/VLOOKUP(Sheet3!$J41,Sheet2!$A$2:$N$29,13,FALSE) -> 0.41407811 | AN45: =G45/VLOOKUP(Sheet3!$J41,Sheet2!$A$2:$N$29,13,FALSE) -> 0.50318766 | AO45: =H45/VLOOKUP(Sheet3!$J41,Sheet2!$A$2:$N$29,13,FALSE) -> 0.59229722
A46: =Sheet3!A42 -> Smash | B46: =Sheet3!J42 -> Colossus | C46: =Sheet3!C42 -> 199.125 | D46: =Sheet3!D42 -> 234.62 | E46: =Sheet3!E42 -> 270.115 | F46: =Sheet3!F42 -> 305.61 | G46: =Sheet3!G42 -> 341.105 | H46: =Sheet3!H42 -> 376.6 | K46: =A46 -> Smash | L46: =Sheet5!C46/(Sheet3!$M42+Sheet3!$N42*Sheet3!B$1) -> 24.890625 | M46: =Sheet5!D46/(Sheet3!$M42+Sheet3!$N42*Sheet3!C$1) -> 29.3275 | N46: =Sheet5!E46/(Sheet3!$M42+Sheet3!$N42*Sheet3!D$1) -> 33.764375 | O46: =Sheet5!F46/(Sheet3!$M42+Sheet3!$N42*Sheet3!E$1) -> 38.20125 | P46: =Sheet5!G46/(Sheet3!$M42+Sheet3!$N42*Sheet3!F$1) -> 42.638125 | Q46: =Sheet5!H46/(Sheet3!$M42+Sheet3!$N42*Sheet3!G$1) -> 47.075 | S46: =A46 -> Smash | T46: =Sheet5!C46/(Sheet3!$K42+Sheet3!$L42*Sheet3!B$1) -> 5.6892857 | U46: =Sheet5!D46/(Sheet3!$K42+Sheet3!$L42*Sheet3!C$1) -> 5.722439 | V46: =Sheet5!E46/(Sheet3!$K42+Sheet3!$L42*Sheet3!D$1) -> 5.7471277 | W46: =Sheet5!F46/(Sheet3!$K42+Sheet3!$L42*Sheet3!E$1) -> 5.7662264 | X46: =Sheet5!G46/(Sheet3!$K42+Sheet3!$L42*Sheet3!F$1) -> 5.7814407 | Y46: =Sheet5!H46/(Sheet3!$K42+Sheet3!$L42*Sheet3!G$1) -> 5.7938462 | AA46: =S46 -> Smash | AB46: =(Sheet3!$K42+Sheet3!$L42*Sheet3!B$1) / VLOOKUP(Sheet3!$J42,Sheet2!$A$2:$N$29,14,FALSE) -> 21.472393 | AC46: =(Sheet3!$K42+Sheet3!$L42*Sheet3!C$1) / VLOOKUP(Sheet3!$J42,Sheet2!$A$2:$N$29,14,FALSE) -> 25.153374 | AD46: =(Sheet3!$K42+Sheet3!$L42*Sheet3!D$1) / VLOOKUP(Sheet3!$J42,Sheet2!$A$2:$N$29,14,FALSE) -> 28.834356 | AE46: =(Sheet3!$K42+Sheet3!$L42*Sheet3!E$1) / VLOOKUP(Sheet3!$J42,Sheet2!$A$2:$N$29,14,FALSE) -> 32.515337 | AF46: =(Sheet3!$K42+Sheet3!$L42*Sheet3!F$1) / VLOOKUP(Sheet3!$J42,Sheet2!$A$2:$N$29,14,FALSE) -> 36.196319 | AG46: =(Sheet3!$K42+Sheet3!$L42*Sheet3!G$1) / VLOOKUP(Sheet3!$J42,Sheet2!$A$2:$N$29,14,FALSE) -> 39.877301 | AI46: =A46 -> Smash | AJ46: =C46/VLOOKUP(Sheet3!$J42,Sheet2!$A$2:$N$29,13,FALSE) -> 0.1207184 | AK46: =D46/VLOOKUP(Sheet3!$J42,Sheet2!$A$2:$N$29,13,FALSE) -> 0.14223704 | AL46: =E46/VLOOKUP(Sheet3!$J42,Sheet2!$A$2:$N$29,13,FALSE) -> 0.16375568 | AM46: =F46/VLOOKUP(Sheet3!$J42,Sheet2!$A$2:$N$29,13,FALSE) -> 0.18527433 | AN46: =G46/VLOOKUP(Sheet3!$J42,Sheet2!$A$2:$N$29,13,FALSE) -> 0.20679297 | AO46: =H46/VLOOKUP(Sheet3!$J42,Sheet2!$A$2:$N$29,13,FALSE) -> 0.22831161
A47: =Sheet3!A43 -> Grasping Tree | B47: =Sheet3!J43 -> Elder Treant | C47: =Sheet3!C43 -> 79.7 | D47: =Sheet3!D43 -> 120.318 | E47: =Sheet3!E43 -> 166.789 | F47: =Sheet3!F43 -> 219.113 | G47: =Sheet3!G43 -> 277.29 | H47: =Sheet3!H43 -> 341.32 | K47: =A47 -> Grasping Tree | L47: =Sheet5!C47/(Sheet3!$M43+Sheet3!$N43*Sheet3!B$1) -> 4.1947368 | M47: =Sheet5!D47/(Sheet3!$M43+Sheet3!$N43*Sheet3!C$1) -> 6.3325263 | N47: =Sheet5!E47/(Sheet3!$M43+Sheet3!$N43*Sheet3!D$1) -> 8.7783684 | O47: =Sheet5!F47/(Sheet3!$M43+Sheet3!$N43*Sheet3!E$1) -> 11.532263 | P47: =Sheet5!G47/(Sheet3!$M43+Sheet3!$N43*Sheet3!F$1) -> 14.594211 | Q47: =Sheet5!H47/(Sheet3!$M43+Sheet3!$N43*Sheet3!G$1) -> 17.964211 | S47: =A47 -> Grasping Tree | T47: =Sheet5!C47/(Sheet3!$K43+Sheet3!$L43*Sheet3!B$1) -> 1.594 | U47: =Sheet5!D47/(Sheet3!$K43+Sheet3!$L43*Sheet3!C$1) -> 1.8510462 | V47: =Sheet5!E47/(Sheet3!$K43+Sheet3!$L43*Sheet3!D$1) -> 2.0848625 | W47: =Sheet5!F47/(Sheet3!$K43+Sheet3!$L43*Sheet3!E$1) -> 2.3064526 | X47: =Sheet5!G47/(Sheet3!$K43+Sheet3!$L43*Sheet3!F$1) -> 2.5208182 | Y47: =Sheet5!H47/(Sheet3!$K43+Sheet3!$L43*Sheet3!G$1) -> 2.73056 | AA47: =S47 -> Grasping Tree | AB47: =(Sheet3!$K43+Sheet3!$L43*Sheet3!B$1) / VLOOKUP(Sheet3!$J43,Sheet2!$A$2:$N$29,14,FALSE) -> 27.262814 | AC47: =(Sheet3!$K43+Sheet3!$L43*Sheet3!C$1) / VLOOKUP(Sheet3!$J43,Sheet2!$A$2:$N$29,14,FALSE) -> 35.441658 | AD47: =(Sheet3!$K43+Sheet3!$L43*Sheet3!D$1) / VLOOKUP(Sheet3!$J43,Sheet2!$A$2:$N$29,14,FALSE) -> 43.620502 | AE47: =(Sheet3!$K43+Sheet3!$L43*Sheet3!E$1) / VLOOKUP(Sheet3!$J43,Sheet2!$A$2:$N$29,14,FALSE) -> 51.799346 | AF47: =(Sheet3!$K43+Sheet3!$L43*Sheet3!F$1) / VLOOKUP(Sheet3!$J43,Sheet2!$A$2:$N$29,14,FALSE) -> 59.97819 | AG47: =(Sheet3!$K43+Sheet3!$L43*Sheet3!G$1) / VLOOKUP(Sheet3!$J43,Sheet2!$A$2:$N$29,14,FALSE) -> 68.157034 | AI47: =A47 -> Grasping Tree | AJ47: =C47/VLOOKUP(Sheet3!$J43,Sheet2!$A$2:$N$29,13,FALSE) -> 0.051778464 | AK47: =D47/VLOOKUP(Sheet3!$J43,Sheet2!$A$2:$N$29,13,FALSE) -> 0.07816664 | AL47: =E47/VLOOKUP(Sheet3!$J43,Sheet2!$A$2:$N$29,13,FALSE) -> 0.10835732 | AM47: =F47/VLOOKUP(Sheet3!$J43,Sheet2!$A$2:$N$29,13,FALSE) -> 0.1423505 | AN47: =G47/VLOOKUP(Sheet3!$J43,Sheet2!$A$2:$N$29,13,FALSE) -> 0.18014618 | AO47: =H47/VLOOKUP(Sheet3!$J43,Sheet2!$A$2:$N$29,13,FALSE) -> 0.22174436
A48: =Sheet3!A44 -> Ice Lance | B48: =Sheet3!J44 -> Icespinner | C48: =Sheet3!C44 -> 210.05 | D48: =Sheet3!D44 -> 256.725 | E48: =Sheet3!E44 -> 303.4 | F48: =Sheet3!F44 -> 350.075 | G48: =Sheet3!G44 -> 396.75 | H48: =Sheet3!H44 -> 443.425 | K48: =A48 -> Ice Lance | L48: =Sheet5!C48/(Sheet3!$M44+Sheet3!$N44*Sheet3!B$1) -> 12.355882 | M48: =Sheet5!D48/(Sheet3!$M44+Sheet3!$N44*Sheet3!C$1) -> 15.101471 | N48: =Sheet5!E48/(Sheet3!$M44+Sheet3!$N44*Sheet3!D$1) -> 17.847059 | O48: =Sheet5!F48/(Sheet3!$M44+Sheet3!$N44*Sheet3!E$1) -> 20.592647 | P48: =Sheet5!G48/(Sheet3!$M44+Sheet3!$N44*Sheet3!F$1) -> 23.338235 | Q48: =Sheet5!H48/(Sheet3!$M44+Sheet3!$N44*Sheet3!G$1) -> 26.083824 | S48: =A48 -> Ice Lance | T48: =Sheet5!C48/(Sheet3!$K44+Sheet3!$L44*Sheet3!B$1) -> 3.5008333 | U48: =Sheet5!D48/(Sheet3!$K44+Sheet3!$L44*Sheet3!C$1) -> 3.0202941 | V48: =Sheet5!E48/(Sheet3!$K44+Sheet3!$L44*Sheet3!D$1) -> 2.7581818 | W48: =Sheet5!F48/(Sheet3!$K44+Sheet3!$L44*Sheet3!E$1) -> 2.5931481 | X48: =Sheet5!G48/(Sheet3!$K44+Sheet3!$L44*Sheet3!F$1) -> 2.4796875 | Y48: =Sheet5!H48/(Sheet3!$K44+Sheet3!$L44*Sheet3!G$1) -> 2.3968919 | AA48: =S48 -> Ice Lance | AB48: =(Sheet3!$K44+Sheet3!$L44*Sheet3!B$1) / VLOOKUP(Sheet3!$J44,Sheet2!$A$2:$N$29,14,FALSE) -> 29.027576 | AC48: =(Sheet3!$K44+Sheet3!$L44*Sheet3!C$1) / VLOOKUP(Sheet3!$J44,Sheet2!$A$2:$N$29,14,FALSE) -> 41.1224 | AD48: =(Sheet3!$K44+Sheet3!$L44*Sheet3!D$1) / VLOOKUP(Sheet3!$J44,Sheet2!$A$2:$N$29,14,FALSE) -> 53.217223 | AE48: =(Sheet3!$K44+Sheet3!$L44*Sheet3!E$1) / VLOOKUP(Sheet3!$J44,Sheet2!$A$2:$N$29,14,FALSE) -> 65.312046 | AF48: =(Sheet3!$K44+Sheet3!$L44*Sheet3!F$1) / VLOOKUP(Sheet3!$J44,Sheet2!$A$2:$N$29,14,FALSE) -> 77.40687 | AG48: =(Sheet3!$K44+Sheet3!$L44*Sheet3!G$1) / VLOOKUP(Sheet3!$J44,Sheet2!$A$2:$N$29,14,FALSE) -> 89.501693 | AI48: =A48 -> Ice Lance | AJ48: =C48/VLOOKUP(Sheet3!$J44,Sheet2!$A$2:$N$29,13,FALSE) -> 0.21488491 | AK48: =D48/VLOOKUP(Sheet3!$J44,Sheet2!$A$2:$N$29,13,FALSE) -> 0.26263427 | AL48: =E48/VLOOKUP(Sheet3!$J44,Sheet2!$A$2:$N$29,13,FALSE) -> 0.31038363 | AM48: =F48/VLOOKUP(Sheet3!$J44,Sheet2!$A$2:$N$29,13,FALSE) -> 0.35813299 | AN48: =G48/VLOOKUP(Sheet3!$J44,Sheet2!$A$2:$N$29,13,FALSE) -> 0.40588235 | AO48: =H48/VLOOKUP(Sheet3!$J44,Sheet2!$A$2:$N$29,13,FALSE) -> 0.45363171
A49: =Sheet3!A45 -> Lunge | B49: =Sheet3!J45 -> Master of the Hunt | C49: =Sheet3!C45 -> 167.5 | D49: =Sheet3!D45 -> 232 | E49: =Sheet3!E45 -> 296.5 | F49: =Sheet3!F45 -> 361 | G49: =Sheet3!G45 -> 425.5 | H49: =Sheet3!H45 -> 490 | K49: =A49 -> Lunge | L49: =Sheet5!C49/(Sheet3!$M45+Sheet3!$N45*Sheet3!B$1) -> 20.9375 | M49: =Sheet5!D49/(Sheet3!$M45+Sheet3!$N45*Sheet3!C$1) -> 29 | N49: =Sheet5!E49/(Sheet3!$M45+Sheet3!$N45*Sheet3!D$1) -> 37.0625 | O49: =Sheet5!F49/(Sheet3!$M45+Sheet3!$N45*Sheet3!E$1) -> 45.125 | P49: =Sheet5!G49/(Sheet3!$M45+Sheet3!$N45*Sheet3!F$1) -> 53.1875 | Q49: =Sheet5!H49/(Sheet3!$M45+Sheet3!$N45*Sheet3!G$1) -> 61.25 | S49: =A49 -> Lunge | T49: =Sheet5!C49/(Sheet3!$K45+Sheet3!$L45*Sheet3!B$1) -> 4.1875 | U49: =Sheet5!D49/(Sheet3!$K45+Sheet3!$L45*Sheet3!C$1) -> 4.9361702 | V49: =Sheet5!E49/(Sheet3!$K45+Sheet3!$L45*Sheet3!D$1) -> 5.4907407 | W49: =Sheet5!F49/(Sheet3!$K45+Sheet3!$L45*Sheet3!E$1) -> 5.9180328 | X49: =Sheet5!G49/(Sheet3!$K45+Sheet3!$L45*Sheet3!F$1) -> 6.2573529 | Y49: =Sheet5!H49/(Sheet3!$K45+Sheet3!$L45*Sheet3!G$1) -> 6.5333333 | AA49: =S49 -> Lunge | AB49: =(Sheet3!$K45+Sheet3!$L45*Sheet3!B$1) / VLOOKUP(Sheet3!$J45,Sheet2!$A$2:$N$29,14,FALSE) -> 23.696682 | AC49: =(Sheet3!$K45+Sheet3!$L45*Sheet3!C$1) / VLOOKUP(Sheet3!$J45,Sheet2!$A$2:$N$29,14,FALSE) -> 27.843602 | AD49: =(Sheet3!$K45+Sheet3!$L45*Sheet3!D$1) / VLOOKUP(Sheet3!$J45,Sheet2!$A$2:$N$29,14,FALSE) -> 31.990521 | AE49: =(Sheet3!$K45+Sheet3!$L45*Sheet3!E$1) / VLOOKUP(Sheet3!$J45,Sheet2!$A$2:$N$29,14,FALSE) -> 36.137441 | AF49: =(Sheet3!$K45+Sheet3!$L45*Sheet3!F$1) / VLOOKUP(Sheet3!$J45,Sheet2!$A$2:$N$29,14,FALSE) -> 40.28436 | AG49: =(Sheet3!$K45+Sheet3!$L45*Sheet3!G$1) / VLOOKUP(Sheet3!$J45,Sheet2!$A$2:$N$29,14,FALSE) -> 44.43128 | AI49: =A49 -> Lunge | AJ49: =C49/VLOOKUP(Sheet3!$J45,Sheet2!$A$2:$N$29,13,FALSE) -> 0.13188976 | AK49: =D49/VLOOKUP(Sheet3!$J45,Sheet2!$A$2:$N$29,13,FALSE) -> 0.18267717 | AL49: =E49/VLOOKUP(Sheet3!$J45,Sheet2!$A$2:$N$29,13,FALSE) -> 0.23346457 | AM49: =F49/VLOOKUP(Sheet3!$J45,Sheet2!$A$2:$N$29,13,FALSE) -> 0.28425197 | AN49: =G49/VLOOKUP(Sheet3!$J45,Sheet2!$A$2:$N$29,13,FALSE) -> 0.33503937 | AO49: =H49/VLOOKUP(Sheet3!$J45,Sheet2!$A$2:$N$29,13,FALSE) -> 0.38582677
A50: =Sheet3!A46 -> Smite | B50: =Sheet3!J46 -> Scarab | C50: =Sheet3!C46 -> 121.65 | D50: =Sheet3!D46 -> 179.5625 | E50: =Sheet3!E46 -> 237.475 | F50: =Sheet3!F46 -> 295.3875 | G50: =Sheet3!G46 -> 353.3 | H50: =Sheet3!H46 -> 411.2125 | K50: =A50 -> Smite | L50: =Sheet5!C50/(Sheet3!$M46+Sheet3!$N46*Sheet3!B$1) -> 15.20625 | M50: =Sheet5!D50/(Sheet3!$M46+Sheet3!$N46*Sheet3!C$1) -> 22.445312 | N50: =Sheet5!E50/(Sheet3!$M46+Sheet3!$N46*Sheet3!D$1) -> 29.684375 | O50: =Sheet5!F50/(Sheet3!$M46+Sheet3!$N46*Sheet3!E$1) -> 36.923438 | P50: =Sheet5!G50/(Sheet3!$M46+Sheet3!$N46*Sheet3!F$1) -> 44.1625 | Q50: =Sheet5!H50/(Sheet3!$M46+Sheet3!$N46*Sheet3!G$1) -> 51.401562 | S50: =A50 -> Smite | T50: =Sheet5!C50/(Sheet3!$K46+Sheet3!$L46*Sheet3!B$1) -> 1.3516667 | U50: =Sheet5!D50/(Sheet3!$K46+Sheet3!$L46*Sheet3!C$1) -> 1.9951389 | V50: =Sheet5!E50/(Sheet3!$K46+Sheet3!$L46*Sheet3!D$1) -> 2.6386111 | W50: =Sheet5!F50/(Sheet3!$K46+Sheet3!$L46*Sheet3!E$1) -> 3.2820833 | X50: =Sheet5!G50/(Sheet3!$K46+Sheet3!$L46*Sheet3!F$1) -> 3.9255556 | Y50: =Sheet5!H50/(Sheet3!$K46+Sheet3!$L46*Sheet3!G$1) -> 4.5690278 | AA50: =S50 -> Smite | AB50: =(Sheet3!$K46+Sheet3!$L46*Sheet3!B$1) / VLOOKUP(Sheet3!$J46,Sheet2!$A$2:$N$29,14,FALSE) -> 46.960605 | AC50: =(Sheet3!$K46+Sheet3!$L46*Sheet3!C$1) / VLOOKUP(Sheet3!$J46,Sheet2!$A$2:$N$29,14,FALSE) -> 46.960605 | AD50: =(Sheet3!$K46+Sheet3!$L46*Sheet3!D$1) / VLOOKUP(Sheet3!$J46,Sheet2!$A$2:$N$29,14,FALSE) -> 46.960605 | AE50: =(Sheet3!$K46+Sheet3!$L46*Sheet3!E$1) / VLOOKUP(Sheet3!$J46,Sheet2!$A$2:$N$29,14,FALSE) -> 46.960605 | AF50: =(Sheet3!$K46+Sheet3!$L46*Sheet3!F$1) / VLOOKUP(Sheet3!$J46,Sheet2!$A$2:$N$29,14,FALSE) -> 46.960605 | AG50: =(Sheet3!$K46+Sheet3!$L46*Sheet3!G$1) / VLOOKUP(Sheet3!$J46,Sheet2!$A$2:$N$29,14,FALSE) -> 46.960605 | AI50: =A50 -> Smite | AJ50: =C50/VLOOKUP(Sheet3!$J46,Sheet2!$A$2:$N$29,13,FALSE) -> 0.085443371 | AK50: =D50/VLOOKUP(Sheet3!$J46,Sheet2!$A$2:$N$29,13,FALSE) -> 0.1261194 | AL50: =E50/VLOOKUP(Sheet3!$J46,Sheet2!$A$2:$N$29,13,FALSE) -> 0.16679543 | AM50: =F50/VLOOKUP(Sheet3!$J46,Sheet2!$A$2:$N$29,13,FALSE) -> 0.20747147 | AN50: =G50/VLOOKUP(Sheet3!$J46,Sheet2!$A$2:$N$29,13,FALSE) -> 0.2481475 | AO50: =H50/VLOOKUP(Sheet3!$J46,Sheet2!$A$2:$N$29,13,FALSE) -> 0.28882353
A51: =Sheet3!A47 -> Maw of Death | B51: =Sheet3!J47 -> Behemoth | C51: =Sheet3!C47 -> 161.95 | D51: =Sheet3!D47 -> 201.4925 | E51: =Sheet3!E47 -> 241.035 | F51: =Sheet3!F47 -> 280.5775 | G51: =Sheet3!G47 -> 320.12 | H51: =Sheet3!H47 -> 359.6625 | K51: =A51 -> Maw of Death | L51: =Sheet5!C51/(Sheet3!$M47+Sheet3!$N47*Sheet3!B$1) -> 20.24375 | M51: =Sheet5!D51/(Sheet3!$M47+Sheet3!$N47*Sheet3!C$1) -> 25.186562 | N51: =Sheet5!E51/(Sheet3!$M47+Sheet3!$N47*Sheet3!D$1) -> 30.129375 | O51: =Sheet5!F51/(Sheet3!$M47+Sheet3!$N47*Sheet3!E$1) -> 35.072187 | P51: =Sheet5!G51/(Sheet3!$M47+Sheet3!$N47*Sheet3!F$1) -> 40.015 | Q51: =Sheet5!H51/(Sheet3!$M47+Sheet3!$N47*Sheet3!G$1) -> 44.957812 | S51: =A51 -> Maw of Death | T51: =Sheet5!C51/(Sheet3!$K47+Sheet3!$L47*Sheet3!B$1) -> 4.6271429 | U51: =Sheet5!D51/(Sheet3!$K47+Sheet3!$L47*Sheet3!C$1) -> 4.9144512 | V51: =Sheet5!E51/(Sheet3!$K47+Sheet3!$L47*Sheet3!D$1) -> 5.1284043 | W51: =Sheet5!F51/(Sheet3!$K47+Sheet3!$L47*Sheet3!E$1) -> 5.2939151 | X51: =Sheet5!G51/(Sheet3!$K47+Sheet3!$L47*Sheet3!F$1) -> 5.4257627 | Y51: =Sheet5!H51/(Sheet3!$K47+Sheet3!$L47*Sheet3!G$1) -> 5.5332692 | AA51: =S51 -> Maw of Death | AB51: =(Sheet3!$K47+Sheet3!$L47*Sheet3!B$1) / VLOOKUP(Sheet3!$J47,Sheet2!$A$2:$N$29,14,FALSE) -> 21.875 | AC51: =(Sheet3!$K47+Sheet3!$L47*Sheet3!C$1) / VLOOKUP(Sheet3!$J47,Sheet2!$A$2:$N$29,14,FALSE) -> 25.625 | AD51: =(Sheet3!$K47+Sheet3!$L47*Sheet3!D$1) / VLOOKUP(Sheet3!$J47,Sheet2!$A$2:$N$29,14,FALSE) -> 29.375 | AE51: =(Sheet3!$K47+Sheet3!$L47*Sheet3!E$1) / VLOOKUP(Sheet3!$J47,Sheet2!$A$2:$N$29,14,FALSE) -> 33.125 | AF51: =(Sheet3!$K47+Sheet3!$L47*Sheet3!F$1) / VLOOKUP(Sheet3!$J47,Sheet2!$A$2:$N$29,14,FALSE) -> 36.875 | AG51: =(Sheet3!$K47+Sheet3!$L47*Sheet3!G$1) / VLOOKUP(Sheet3!$J47,Sheet2!$A$2:$N$29,14,FALSE) -> 40.625 | AI51: =A51 -> Maw of Death | AJ51: =C51/VLOOKUP(Sheet3!$J47,Sheet2!$A$2:$N$29,13,FALSE) -> 0.10419817 | AK51: =D51/VLOOKUP(Sheet3!$J47,Sheet2!$A$2:$N$29,13,FALSE) -> 0.1296397 | AL51: =E51/VLOOKUP(Sheet3!$J47,Sheet2!$A$2:$N$29,13,FALSE) -> 0.15508123 | AM51: =F51/VLOOKUP(Sheet3!$J47,Sheet2!$A$2:$N$29,13,FALSE) -> 0.18052276 | AN51: =G51/VLOOKUP(Sheet3!$J47,Sheet2!$A$2:$N$29,13,FALSE) -> 0.20596429 | AO51: =H51/VLOOKUP(Sheet3!$J47,Sheet2!$A$2:$N$29,13,FALSE) -> 0.23140582
... A59: =Sheet3!A55 -> Doom Hammer | B59: =Sheet3!J55 -> Blackguard | C59: =Sheet3!C55 -> 113.7 | D59: =Sheet3!D55 -> 146.44 | E59: =Sheet3!E55 -> 179.18 | F59: =Sheet3!F55 -> 211.92 | G59: =Sheet3!G55 -> 244.66 | H59: =Sheet3!H55 -> 277.4 | K59: =A59 -> Doom Hammer | L59: =Sheet5!C59/(Sheet3!$M55+Sheet3!$N55*Sheet3!B$1) -> 6.3166667 | M59: =Sheet5!D59/(Sheet3!$M55+Sheet3!$N55*Sheet3!C$1) -> 8.1355556 | N59: =Sheet5!E59/(Sheet3!$M55+Sheet3!$N55*Sheet3!D$1) -> 9.9544444 | O59: =Sheet5!F59/(Sheet3!$M55+Sheet3!$N55*Sheet3!E$1) -> 11.773333 | P59: =Sheet5!G59/(Sheet3!$M55+Sheet3!$N55*Sheet3!F$1) -> 13.592222 | Q59: =Sheet5!H59/(Sheet3!$M55+Sheet3!$N55*Sheet3!G$1) -> 15.411111 | S59: =A59 -> Doom Hammer | T59: =Sheet5!C59/(Sheet3!$K55+Sheet3!$L55*Sheet3!B$1) -> 1.895 | U59: =Sheet5!D59/(Sheet3!$K55+Sheet3!$L55*Sheet3!C$1) -> 2.1223188 | V59: =Sheet5!E59/(Sheet3!$K55+Sheet3!$L55*Sheet3!D$1) -> 2.2971795 | W59: =Sheet5!F59/(Sheet3!$K55+Sheet3!$L55*Sheet3!E$1) -> 2.4358621 | X59: =Sheet5!G59/(Sheet3!$K55+Sheet3!$L55*Sheet3!F$1) -> 2.5485417 | Y59: =Sheet5!H59/(Sheet3!$K55+Sheet3!$L55*Sheet3!G$1) -> 2.6419048 | AA59: =S59 -> Doom Hammer | AB59: =(Sheet3!$K55+Sheet3!$L55*Sheet3!B$1) / VLOOKUP(Sheet3!$J55,Sheet2!$A$2:$N$29,14,FALSE) -> 31.471282 | AC59: =(Sheet3!$K55+Sheet3!$L55*Sheet3!C$1) / VLOOKUP(Sheet3!$J55,Sheet2!$A$2:$N$29,14,FALSE) -> 36.191975 | AD59: =(Sheet3!$K55+Sheet3!$L55*Sheet3!D$1) / VLOOKUP(Sheet3!$J55,Sheet2!$A$2:$N$29,14,FALSE) -> 40.912667 | AE59: =(Sheet3!$K55+Sheet3!$L55*Sheet3!E$1) / VLOOKUP(Sheet3!$J55,Sheet2!$A$2:$N$29,14,FALSE) -> 45.63336 | AF59: =(Sheet3!$K55+Sheet3!$L55*Sheet3!F$1) / VLOOKUP(Sheet3!$J55,Sheet2!$A$2:$N$29,14,FALSE) -> 50.354052 | AG59: =(Sheet3!$K55+Sheet3!$L55*Sheet3!G$1) / VLOOKUP(Sheet3!$J55,Sheet2!$A$2:$N$29,14,FALSE) -> 55.074744 | AI59: =A59 -> Doom Hammer | AJ59: =C59/VLOOKUP(Sheet3!$J55,Sheet2!$A$2:$N$29,13,FALSE) -> 0.079482698 | AK59: =D59/VLOOKUP(Sheet3!$J55,Sheet2!$A$2:$N$29,13,FALSE) -> 0.1023698 | AL59: =E59/VLOOKUP(Sheet3!$J55,Sheet2!$A$2:$N$29,13,FALSE) -> 0.1252569 | AM59: =F59/VLOOKUP(Sheet3!$J55,Sheet2!$A$2:$N$29,13,FALSE) -> 0.14814401 | AN59: =G59/VLOOKUP(Sheet3!$J55,Sheet2!$A$2:$N$29,13,FALSE) -> 0.17103111 | AO59: =H59/VLOOKUP(Sheet3!$J55,Sheet2!$A$2:$N$29,13,FALSE) -> 0.19391821

Sheet Sheet6

Sheet Sheet7
A1: Single Target Damage | D1: Maximum Damage per second | J1: Damage per mana | M1: Time to regenerate mana | U1: Scaling (per cast) | X1: Scaling (DPS) | AA1: Glass Cannon (single spell) | AD1: Factored Cast | AG1: Factored DPS
A2: =Sheet5!A43 -> Soulstrike | B2: =Sheet5!H43 -> 886.86 | D2: =Sheet5!K49 -> Lunge | E2: =Sheet5!Q49 -> 61.25 | J2: =Sheet5!S43 -> Soulstrike | K2: =Sheet5!Y43 -> 7.3905 | M2: =Sheet5!AA44 -> Echoing Strike | N2: =Sheet5!AB44 -> 12.976901 | O2: =Sheet5!AC44 -> 15.053205 | P2: =Sheet5!AD44 -> 17.129509 | Q2: =Sheet5!AE44 -> 19.205814 | R2: =Sheet5!AF44 -> 21.282118 | S2: =Sheet5!AG44 -> 23.358422 | U2: =Sheet5!A47 -> Grasping Tree | V2: =Sheet5!H47/Sheet5!C47 -> 4.2825596 | X2: =Sheet5!K47 -> Grasping Tree | Y2: =Sheet5!Q47/Sheet5!L47 -> 4.2825596 | AA2: =Sheet5!A43 -> Soulstrike | AB2: =Sheet5!AO43 -> 0.64010105 | AD2: =Sheet5!A43 -> Soulstrike | AE2: =Sheet5!H43/VLOOKUP(Sheet5!B43,Sheet2!$A$2:$O$29,15,FALSE) -> 950.8501 | AG2: =Sheet5!A55 -> Shatter | AH2: =Sheet5!Q55/VLOOKUP(Sheet5!B55,Sheet2!$A$2:$O$29,15,FALSE) -> 64.328533
A3: =Sheet5!A45 -> Degeneration | B3: =Sheet5!H45 -> 739.335 | D3: =Sheet5!K50 -> Smite | E3: =Sheet5!Q50 -> 51.401562 | J3: =Sheet5!S52 -> Cinderfury | K3: =Sheet5!Y52 -> 7.2569333 | M3: =Sheet5!AA55 -> Shatter | N3: =Sheet5!AB55 -> 20.097617 | O3: =Sheet5!AC55 -> 23.542923 | P3: =Sheet5!AD55 -> 26.988229 | Q3: =Sheet5!AE55 -> 30.433534 | R3: =Sheet5!AF55 -> 33.87884 | S3: =Sheet5!AG55 -> 37.324146 | U3: =Sheet5!A45 -> Degeneration | V3: =Sheet5!H45/Sheet5!C45 -> 4.036112 | X3: =Sheet5!K45 -> Degeneration | Y3: =Sheet5!Q45/Sheet5!L45 -> 4.036112 | AA3: =Sheet5!A40 -> Hold Person | AB3: =Sheet5!AO40 -> 0.59320489 | AD3: =Sheet5!A45 -> Degeneration | AE3: =Sheet5!H45/VLOOKUP(Sheet5!B45,Sheet2!$A$2:$O$29,15,FALSE) -> 714.15635 | AG3: =Sheet5!A49 -> Lunge | AH3: =Sheet5!Q49/VLOOKUP(Sheet5!B49,Sheet2!$A$2:$O$29,15,FALSE) -> 60.19498
A4: =Sheet5!A40 -> Hold Person | B4: =Sheet5!H40 -> 558.0575 | D4: =Sheet5!K41 -> Chasten | E4: =Sheet5!Q41 -> 49.929688 | J4: =Sheet5!S49 -> Lunge | K4: =Sheet5!Y49 -> 6.5333333 | M4: =Sheet5!AA37 -> Inferno | N4: =Sheet5!AB37 -> 28.785262 | O4: =Sheet5!AC37 -> 30.512378 | P4: =Sheet5!AD37 -> 32.239493 | Q4: =Sheet5!AE37 -> 33.966609 | R4: =Sheet5!AF37 -> 35.693725 | S4: =Sheet5!AG37 -> 37.420841 | U4: =Sheet5!A43 -> Soulstrike | V4: =Sheet5!H43/Sheet5!C43 -> 3.6183599 | X4: =Sheet5!K43 -> Soulstrike | Y4: =Sheet5!Q43/Sheet5!L43 -> 3.6183599 | AA4: =Sheet5!A45 -> Degeneration | AB4: =Sheet5!AO45 -> 0.59229722 | AD4: =Sheet5!A52 -> Cinderfury | AE4: =Sheet5!H52/VLOOKUP(Sheet5!B52,Sheet2!$A$2:$O$29,15,FALSE) -> 635.66169 | AG4: =Sheet5!A46 -> Smash | AH4: =Sheet5!Q46/VLOOKUP(Sheet5!B46,Sheet2!$A$2:$O$29,15,FALSE) -> 60.088741
A5: =Sheet5!A52 -> Cinderfury | B5: =Sheet5!H52 -> 544.27 | D5: =Sheet5!K45 -> Degeneration | E5: =Sheet5!Q45 -> 49.289 | J5: =Sheet5!S46 -> Smash | K5: =Sheet5!Y46 -> 5.7938462 | M5: =Sheet5!AA41 -> Chasten | N5: =Sheet5!AB41 -> 27.114967 | O5: =Sheet5!AC41 -> 29.284165 | P5: =Sheet5!AD41 -> 31.453362 | Q5: =Sheet5!AE41 -> 33.62256 | R5: =Sheet5!AF41 -> 35.791757 | S5: =Sheet5!AG41 -> 37.960954 | U5: =Sheet5!A54 -> Mortal Strike | V5: =Sheet5!H54/Sheet5!C54 -> 3.4051439 | X5: =Sheet5!K53 -> Rend Soul | Y5: =Sheet5!Q53/Sheet5!L53 -> 3.5508908 | AA5: =Sheet5!A48 -> Ice Lance | AB5: =Sheet5!AO48 -> 0.45363171 | AD5: =Sheet5!A49 -> Lunge | AE5: =Sheet5!H49/VLOOKUP(Sheet5!B49,Sheet2!$A$2:$O$29,15,FALSE) -> 481.55984 | AG5: =Sheet5!A50 -> Smite | AH5: =Sheet5!Q50/VLOOKUP(Sheet5!B50,Sheet2!$A$2:$O$29,15,FALSE) -> 56.63182
A6: =Sheet5!A49 -> Lunge | B6: =Sheet5!H49 -> 490 | D6: =Sheet5!K55 -> Shatter | E6: =Sheet5!Q55 -> 49.101667 | J6: =Sheet5!S41 -> Chasten | K6: =Sheet5!Y41 -> 5.70625 | M6: =Sheet5!AA52 -> Cinderfury | N6: =Sheet5!AB52 -> 23.659306 | O6: =Sheet5!AC52 -> 26.81388 | P6: =Sheet5!AD52 -> 29.968454 | Q6: =Sheet5!AE52 -> 33.123028 | R6: =Sheet5!AF52 -> 36.277603 | S6: =Sheet5!AG52 -> 39.432177 | U6: =Sheet5!A50 -> Smite | V6: =Sheet5!H50/Sheet5!C50 -> 3.3802918 | X6: =Sheet5!K54 -> Mortal Strike | Y6: =Sheet5!Q54/Sheet5!L54 -> 3.4051439 | AA6: =Sheet5!A31 -> Frost Spire | AB6: =Sheet5!AO31 -> 0.45194578 | AD6: =Sheet5!A46 -> Smash | AE6: =Sheet5!H46/VLOOKUP(Sheet5!B46,Sheet2!$A$2:$O$29,15,FALSE) -> 480.70993 | AG6: =Sheet5!A41 -> Chasten | AH6: =Sheet5!Q41/VLOOKUP(Sheet5!B41,Sheet2!$A$2:$O$29,15,FALSE) -> 56.111347
A7: =Sheet5!A48 -> Ice Lance | B7: =Sheet5!H48 -> 443.425 | D7: =Sheet5!K46 -> Smash | E7: =Sheet5!Q46 -> 47.075 | J7: =Sheet5!S51 -> Maw of Death | K7: =Sheet5!Y51 -> 5.5332692 | M7: =Sheet5!AA46 -> Smash | N7: =Sheet5!AB46 -> 21.472393 | O7: =Sheet5!AC46 -> 25.153374 | P7: =Sheet5!AD46 -> 28.834356 | Q7: =Sheet5!AE46 -> 32.515337 | R7: =Sheet5!AF46 -> 36.196319 | S7: =Sheet5!AG46 -> 39.877301 | U7: =Sheet5!A42 -> Demoralizing Blow | V7: =Sheet5!H42/Sheet5!C42 -> 3.2916667 | X7: =Sheet5!K50 -> Smite | Y7: =Sheet5!Q50/Sheet5!L50 -> 3.3802918 | AA7: =Sheet5!A49 -> Lunge | AB7: =Sheet5!AO49 -> 0.38582677 | AD7: =Sheet5!A50 -> Smite | AE7: =Sheet5!H50/VLOOKUP(Sheet5!B50,Sheet2!$A$2:$O$29,15,FALSE) -> 453.05456 | AG7: =Sheet5!A51 -> Maw of Death | AH7: =Sheet5!Q51/VLOOKUP(Sheet5!B51,Sheet2!$A$2:$O$29,15,FALSE) -> 54.072507
A8: =Sheet5!A31 -> Frost Spire | B8: =Sheet5!H31 -> 441.777 | D8: =Sheet5!K54 -> Mortal Strike | E8: =Sheet5!Q54 -> 45.096875 | J8: =Sheet5!S45 -> Degeneration | K8: =Sheet5!Y45 -> 5.2809643 | M8: =Sheet5!AA53 -> Rend Soul | N8: =Sheet5!AB53 -> 26.103465 | O8: =Sheet5!AC53 -> 28.951115 | P8: =Sheet5!AD53 -> 31.798766 | Q8: =Sheet5!AE53 -> 34.646417 | R8: =Sheet5!AF53 -> 37.494067 | S8: =Sheet5!AG53 -> 40.341718 | U8: =Sheet5!A52 -> Cinderfury | V8: =Sheet5!H52/Sheet5!C52 -> 3.1508047 | X8: =Sheet5!K42 -> Demoralizing Blow | Y8: =Sheet5!Q42/Sheet5!L42 -> 3.2916667 | AA8: =Sheet5!A53 -> Rend Soul | AB8: =Sheet5!AO53 -> 0.37446598 | AD8: =Sheet5!A41 -> Chasten | AE8: =Sheet5!H41/VLOOKUP(Sheet5!B41,Sheet2!$A$2:$O$29,15,FALSE) -> 448.89077 | AG8: =Sheet5!A54 -> Mortal Strike | AH8: =Sheet5!Q54/VLOOKUP(Sheet5!B54,Sheet2!$A$2:$O$29,15,FALSE) -> 53.480738
A9: =Sheet5!A53 -> Rend Soul | B9: =Sheet5!H53 -> 415.47 | D9: =Sheet5!K51 -> Maw of Death | E9: =Sheet5!Q51 -> 44.957812 | J9: =Sheet5!S53 -> Rend Soul | K9: =Sheet5!Y53 -> 4.8878824 | M9: =Sheet5!AA51 -> Maw of Death | N9: =Sheet5!AB51 -> 21.875 | O9: =Sheet5!AC51 -> 25.625 | P9: =Sheet5!AD51 -> 29.375 | Q9: =Sheet5!AE51 -> 33.125 | R9: =Sheet5!AF51 -> 36.875 | S9: =Sheet5!AG51 -> 40.625 | U9: =Sheet5!A32 -> Terra Smash | V9: =Sheet5!H32/Sheet5!C32 -> 3.0808157 | X9: =Sheet5!K52 -> Cinderfury | Y9: =Sheet5!Q52/Sheet5!L52 -> 3.1508047 | AA9: =Sheet5!A52 -> Cinderfury | AB9: =Sheet5!AO52 -> 0.36062283 | AD9: =Sheet5!A51 -> Maw of Death | AE9: =Sheet5!H51/VLOOKUP(Sheet5!B51,Sheet2!$A$2:$O$29,15,FALSE) -> 432.58006 | AG9: =Sheet5!A45 -> Degeneration | AH9: =Sheet5!Q45/VLOOKUP(Sheet5!B45,Sheet2!$A$2:$O$29,15,FALSE) -> 47.610423
A10: =Sheet5!A50 -> Smite | B10: =Sheet5!H50 -> 411.2125 | D10: =Sheet5!K43 -> Soulstrike | E10: =Sheet5!Q43 -> 44.343 | J10: =Sheet5!S50 -> Smite | K10: =Sheet5!Y50 -> 4.5690278 | M10: =Sheet5!AA32 -> Terra Smash | N10: =Sheet5!AB32 -> 19.547612 | O10: =Sheet5!AC32 -> 24.015638 | P10: =Sheet5!AD32 -> 28.483664 | Q10: =Sheet5!AE32 -> 32.951689 | R10: =Sheet5!AF32 -> 37.419715 | S10: =Sheet5!AG32 -> 41.887741 | U10: =Sheet5!A40 -> Hold Person | V10: =Sheet5!H40/Sheet5!C40 -> 2.9813949 | X10: =Sheet5!K32 -> Terra Smash | Y10: =Sheet5!Q32/Sheet5!L32 -> 3.0808157 | AA10: =Sheet5!A42 -> Demoralizing Blow | AB10: =Sheet5!AO42 -> 0.30764501 | AD10: =Sheet5!A54 -> Mortal Strike | AE10: =Sheet5!H54/VLOOKUP(Sheet5!B54,Sheet2!$A$2:$O$29,15,FALSE) -> 427.8459 | AG10: =Sheet5!A43 -> Soulstrike | AH10: =Sheet5!Q43/VLOOKUP(Sheet5!B43,Sheet2!$A$2:$O$29,15,FALSE) -> 47.542505
A11: =Sheet5!A41 -> Chasten | B11: =Sheet5!H41 -> 399.4375 | D11: =Sheet5!K56 -> Dominant Blow (Str) | E11: =Sheet5!Q56 -> 44.1375 | J11: =Sheet5!S55 -> Shatter | K11: =Sheet5!Y55 -> 4.5324615 | M11: =Sheet5!AA49 -> Lunge | N11: =Sheet5!AB49 -> 23.696682 | O11: =Sheet5!AC49 -> 27.843602 | P11: =Sheet5!AD49 -> 31.990521 | Q11: =Sheet5!AE49 -> 36.137441 | R11: =Sheet5!AF49 -> 40.28436 | S11: =Sheet5!AG49 -> 44.43128 | U11: =Sheet5!A49 -> Lunge | V11: =Sheet5!H49/Sheet5!C49 -> 2.9253731 | X11: =Sheet5!K40 -> Hold Person | Y11: =Sheet5!Q40/Sheet5!L40 -> 2.9813949 | AA11: =Sheet5!A28 -> Holy Strike | AB11: =Sheet5!AO28 -> 0.29078611 | AD11: =Sheet5!A47 -> Grasping Tree | AE11: =Sheet5!H47/VLOOKUP(Sheet5!B47,Sheet2!$A$2:$O$29,15,FALSE) -> 406.55692 | AG11: =Sheet5!A52 -> Cinderfury | AH11: =Sheet5!Q52/VLOOKUP(Sheet5!B52,Sheet2!$A$2:$O$29,15,FALSE) -> 45.404407
A12: =Sheet5!A46 -> Smash | B12: =Sheet5!H46 -> 376.6 | D12: =Sheet5!K38 -> Pheonix Strike | E12: =Sheet5!Q38 -> 40.816406 | J12: =Sheet5!S38 -> Pheonix Strike | K12: =Sheet5!Y38 -> 4.0816406 | M12: =Sheet5!AA38 -> Pheonix Strike | N12: =Sheet5!AB38 -> 23.02821 | O12: =Sheet5!AC38 -> 27.633851 | P12: =Sheet5!AD38 -> 32.239493 | Q12: =Sheet5!AE38 -> 36.845135 | R12: =Sheet5!AF38 -> 41.450777 | S12: =Sheet5!AG38 -> 46.056419 | U12: =Sheet5!A58 -> Dominant Blow (Int) | V12: =Sheet5!H58/Sheet5!C58 -> 2.8606714 | X12: =Sheet5!K49 -> Lunge | Y12: =Sheet5!Q49/Sheet5!L49 -> 2.9253731 | AA12: =Sheet5!A50 -> Smite | AB12: =Sheet5!AO50 -> 0.28882353 | AD12: =Sheet5!A40 -> Hold Person | AE12: =Sheet5!H40/VLOOKUP(Sheet5!B40,Sheet2!$A$2:$O$29,15,FALSE) -> 406.2596 | AG12: =Sheet5!A38 -> Pheonix Strike | AH12: =Sheet5!Q38/VLOOKUP(Sheet5!B38,Sheet2!$A$2:$O$29,15,FALSE) -> 43.974656
A13: =Sheet5!A42 -> Demoralizing Blow | B13: =Sheet5!H42 -> 375.25 | D13: =Sheet5!K58 -> Dominant Blow (Int) | E13: =Sheet5!Q58 -> 40.572812 | J13: =Sheet5!S32 -> Terra Smash | K13: =Sheet5!Y32 -> 4.079 | M13: =Sheet5!AA50 -> Smite | N13: =Sheet5!AB50 -> 46.960605 | O13: =Sheet5!AC50 -> 46.960605 | P13: =Sheet5!AD50 -> 46.960605 | Q13: =Sheet5!AE50 -> 46.960605 | R13: =Sheet5!AF50 -> 46.960605 | S13: =Sheet5!AG50 -> 46.960605 | U13: =Sheet5!A34 -> Pyroclasm | V13: =Sheet5!H34/Sheet5!C34 -> 2.8115639 | X13: =Sheet5!K58 -> Dominant Blow (Int) | Y13: =Sheet5!Q58/Sheet5!L58 -> 2.8606714 | AA13: =Sheet5!A56 -> Dominant Blow (Str) | AB13: =Sheet5!AO56 -> 0.28287603 | AD13: =Sheet5!A29 -> Rockslide | AE13: =Sheet5!H29/VLOOKUP(Sheet5!B29,Sheet2!$A$2:$O$29,15,FALSE) -> 394.19714 | AG13: =Sheet5!A25 -> Incinerate | AH13: =Sheet5!Q25/VLOOKUP(Sheet5!B25,Sheet2!$A$2:$O$29,15,FALSE) -> 43.063047
A14: =Sheet5!A54 -> Mortal Strike | B14: =Sheet5!H54 -> 360.775 | D14: =Sheet5!K25 -> Incinerate | E14: =Sheet5!Q25 -> 40.165 | J14: =Sheet5!S54 -> Mortal Strike | K14: =Sheet5!Y54 -> 3.4359524 | M14: =Sheet5!AA36 -> Shadowclap | N14: =Sheet5!AB36 -> 20.980855 | O14: =Sheet5!AC36 -> 27.275111 | P14: =Sheet5!AD36 -> 33.569368 | Q14: =Sheet5!AE36 -> 39.863624 | R14: =Sheet5!AF36 -> 46.157881 | S14: =Sheet5!AG36 -> 52.452137 | U14: =Sheet5!A38 -> Pheonix Strike | V14: =Sheet5!H38/Sheet5!C38 -> 2.7881844 | X14: =Sheet5!K34 -> Pyroclasm | Y14: =Sheet5!Q34/Sheet5!L34 -> 2.8115639 | AA14: =Sheet5!A33 -> Pestilence | AB14: =Sheet5!AO33 -> 0.28217413 | AD14: =Sheet5!A55 -> Shatter | AE14: =Sheet5!H55/VLOOKUP(Sheet5!B55,Sheet2!$A$2:$O$29,15,FALSE) -> 385.9712 | AG14: =Sheet5!A56 -> Dominant Blow (Str) | AH14: =Sheet5!Q56/VLOOKUP(Sheet5!B56,Sheet2!$A$2:$O$29,15,FALSE) -> 42.634362
A15: =Sheet5!A51 -> Maw of Death | B15: =Sheet5!H51 -> 359.6625 | D15: =Sheet5!K52 -> Cinderfury | E15: =Sheet5!Q52 -> 38.876429 | J15: =Sheet5!S40 -> Hold Person | K15: =Sheet5!Y40 -> 3.3821667 | M15: =Sheet5!AA35 -> Whirl | N15: =Sheet5!AB35 -> 24.709661 | O15: =Sheet5!AC35 -> 30.63998 | P15: =Sheet5!AD35 -> 36.570299 | Q15: =Sheet5!AE35 -> 42.500618 | R15: =Sheet5!AF35 -> 48.430936 | S15: =Sheet5!AG35 -> 54.361255 | U15: =Sheet5!A25 -> Incinerate | V15: =Sheet5!H25/Sheet5!C25 -> 2.7369676 | X15: =Sheet5!K38 -> Pheonix Strike | Y15: =Sheet5!Q38/Sheet5!L38 -> 2.7881844 | AA15: =Sheet5!A41 -> Chasten | AB15: =Sheet5!AO41 -> 0.27504734 | AD15: =Sheet5!A26 -> Arctic Cataclysm | AE15: =Sheet5!H26/VLOOKUP(Sheet5!B26,Sheet2!$A$2:$O$29,15,FALSE) -> 371.13094 | AG15: =Sheet5!A27 -> Caustic Breath | AH15: =Sheet5!Q27/VLOOKUP(Sheet5!B27,Sheet2!$A$2:$O$29,15,FALSE) -> 41.282865
A16: =Sheet5!A56 -> Dominant Blow (Str) | B16: =Sheet5!H56 -> 353.1 | D16: =Sheet5!K32 -> Terra Smash | E16: =Sheet5!Q32 -> 38.240625 | J16: =Sheet5!S42 -> Demoralizing Blow | K16: =Sheet5!Y42 -> 3.1270833 | M16: =Sheet5!AA59 -> Doom Hammer | N16: =Sheet5!AB59 -> 31.471282 | O16: =Sheet5!AC59 -> 36.191975 | P16: =Sheet5!AD59 -> 40.912667 | Q16: =Sheet5!AE59 -> 45.63336 | R16: =Sheet5!AF59 -> 50.354052 | S16: =Sheet5!AG59 -> 55.074744 | U16: =Sheet5!A56 -> Dominant Blow (Str) | V16: =Sheet5!H56/Sheet5!C56 -> 2.6841505 | X16: =Sheet5!K25 -> Incinerate | Y16: =Sheet5!Q25/Sheet5!L25 -> 2.7369676 | AA16: =Sheet5!A58 -> Dominant Blow (Int) | AB16: =Sheet5!AO58 -> 0.26003004 | AD16: =Sheet5!A34 -> Pyroclasm | AE16: =Sheet5!H34/VLOOKUP(Sheet5!B34,Sheet2!$A$2:$O$29,15,FALSE) -> 370.77978 | AG16: =Sheet5!A58 -> Dominant Blow (Int) | AH16: =Sheet5!Q58/VLOOKUP(Sheet5!B58,Sheet2!$A$2:$O$29,15,FALSE) -> 39.191072
A17: =Sheet5!A47 -> Grasping Tree | B17: =Sheet5!H47 -> 341.32 | D17: =Sheet5!K53 -> Rend Soul | E17: =Sheet5!Q53 -> 34.6225 | J17: =Sheet5!S37 -> Inferno | K17: =Sheet5!Y37 -> 3.1249038 | M17: =Sheet5!AA39 -> Slice | N17: =Sheet5!AB39 -> 32.305433 | O17: =Sheet5!AC39 -> 37.004405 | P17: =Sheet5!AD39 -> 41.703377 | Q17: =Sheet5!AE39 -> 46.402349 | R17: =Sheet5!AF39 -> 51.101322 | S17: =Sheet5!AG39 -> 55.800294 | U17: =Sheet5!A37 -> Inferno | V17: =Sheet5!H37/Sheet5!C37 -> 2.6116201 | X17: =Sheet5!K56 -> Dominant Blow (Str) | Y17: =Sheet5!Q56/Sheet5!L56 -> 2.6841505 | AA17: =Sheet5!A24 -> Gale | AB17: =Sheet5!AO24 -> 0.25731267 | AD17: =Sheet5!A53 -> Rend Soul | AE17: =Sheet5!H53/VLOOKUP(Sheet5!B53,Sheet2!$A$2:$O$29,15,FALSE) -> 356.71177 | AG17: =Sheet5!A32 -> Terra Smash | AH17: =Sheet5!Q32/VLOOKUP(Sheet5!B32,Sheet2!$A$2:$O$29,15,FALSE) -> 37.138056
A18: =Sheet5!A38 -> Pheonix Strike | B18: =Sheet5!H38 -> 326.53125 | D18: =Sheet5!K27 -> Caustic Breath | E18: =Sheet5!Q27 -> 34.175625 | J18: =Sheet5!S44 -> Echoing Strike | K18: =Sheet5!Y44 -> 3.0267778 | M18: =Sheet5!AA27 -> Caustic Breath | N18: =Sheet5!AB27 -> 22.408964 | O18: =Sheet5!AC27 -> 29.131653 | P18: =Sheet5!AD27 -> 35.854342 | Q18: =Sheet5!AE27 -> 42.577031 | R18: =Sheet5!AF27 -> 49.29972 | S18: =Sheet5!AG27 -> 56.022409 | U18: =Sheet5!A29 -> Rockslide | V18: =Sheet5!H29/Sheet5!C29 -> 2.5984602 | X18: =Sheet5!K37 -> Inferno | Y18: =Sheet5!Q37/Sheet5!L37 -> 2.6116201 | AA18: =Sheet5!A32 -> Terra Smash | AB18: =Sheet5!AO32 -> 0.24376494 | AD18: =Sheet5!A42 -> Demoralizing Blow | AE18: =Sheet5!H42/VLOOKUP(Sheet5!B42,Sheet2!$A$2:$O$29,15,FALSE) -> 354.19464 | AG18: =Sheet5!A44 -> Echoing Strike | AH18: =Sheet5!Q44/VLOOKUP(Sheet5!B44,Sheet2!$A$2:$O$29,15,FALSE) -> 32.891607
A19: =Sheet5!A58 -> Dominant Blow (Int) | B19: =Sheet5!H58 -> 324.5825 | D19: =Sheet5!K44 -> Echoing Strike | E19: =Sheet5!Q44 -> 34.05125 | J19: =Sheet5!S31 -> Frost Spire | K19: =Sheet5!Y31 -> 2.94518 | M19: =Sheet5!AA30 -> Rogue Wave | N19: =Sheet5!AB30 -> 34.423408 | O19: =Sheet5!AC30 -> 38.849275 | P19: =Sheet5!AD30 -> 43.275141 | Q19: =Sheet5!AE30 -> 47.701008 | R19: =Sheet5!AF30 -> 52.126875 | S19: =Sheet5!AG30 -> 56.552742 | U19: =Sheet5!A57 -> Dominant Blow (Agi) | V19: =Sheet5!H57/Sheet5!C57 -> 2.5875485 | X19: =Sheet5!K29 -> Rockslide | Y19: =Sheet5!Q29/Sheet5!L29 -> 2.5984602 | AA19: =Sheet5!A54 -> Mortal Strike | AB19: =Sheet5!AO54 -> 0.23541599 | AD19: =Sheet5!A38 -> Pheonix Strike | AE19: =Sheet5!H38/VLOOKUP(Sheet5!B38,Sheet2!$A$2:$O$29,15,FALSE) -> 351.79725 | AG19: =Sheet5!A39 -> Slice | AH19: =Sheet5!Q39/VLOOKUP(Sheet5!B39,Sheet2!$A$2:$O$29,15,FALSE) -> 30.389076
A20: =Sheet5!A34 -> Pyroclasm | B20: =Sheet5!H34 -> 317.47125 | D20: =Sheet5!K33 -> Pestilence | E20: =Sheet5!Q33 -> 31.329167 | J20: =Sheet5!S27 -> Caustic Breath | K20: =Sheet5!Y27 -> 2.73405 | M20: =Sheet5!AA54 -> Mortal Strike | N20: =Sheet5!AB54 -> 25.210084 | O20: =Sheet5!AC54 -> 31.932773 | P20: =Sheet5!AD54 -> 38.655462 | Q20: =Sheet5!AE54 -> 45.378151 | R20: =Sheet5!AF54 -> 52.10084 | S20: =Sheet5!AG54 -> 58.823529 | U20: =Sheet5!A36 -> Shadowclap | V20: =Sheet5!H36/Sheet5!C36 -> 2.5715836 | X20: =Sheet5!K57 -> Dominant Blow (Agi) | Y20: =Sheet5!Q57/Sheet5!L57 -> 2.5875485 | AA20: =Sheet5!A38 -> Pheonix Strike | AB20: =Sheet5!AO38 -> 0.23453493 | AD20: =Sheet5!A56 -> Dominant Blow (Str) | AE20: =Sheet5!H56/VLOOKUP(Sheet5!B56,Sheet2!$A$2:$O$29,15,FALSE) -> 341.07489 | AG20: =Sheet5!A53 -> Rend Soul | AH20: =Sheet5!Q53/VLOOKUP(Sheet5!B53,Sheet2!$A$2:$O$29,15,FALSE) -> 29.725981
A21: =Sheet5!A29 -> Rockslide | B21: =Sheet5!H29 -> 308.82375 | D21: =Sheet5!K42 -> Demoralizing Blow | E21: =Sheet5!Q42 -> 31.270833 | J21: =Sheet5!S47 -> Grasping Tree | K21: =Sheet5!Y47 -> 2.73056 | M21: =Sheet5!AA43 -> Soulstrike | N21: =Sheet5!AB43 -> 34.685165 | O21: =Sheet5!AC43 -> 40.554963 | P21: =Sheet5!AD43 -> 46.42476 | Q21: =Sheet5!AE43 -> 52.294557 | R21: =Sheet5!AF43 -> 58.164354 | S21: =Sheet5!AG43 -> 64.034152 | U21: =Sheet5!A41 -> Chasten | V21: =Sheet5!H41/Sheet5!C41 -> 2.5023493 | X21: =Sheet5!K36 -> Shadowclap | Y21: =Sheet5!Q36/Sheet5!L36 -> 2.5715836 | AA21: =Sheet5!A51 -> Maw of Death | AB21: =Sheet5!AO51 -> 0.23140582 | AD21: =Sheet5!A48 -> Ice Lance | AE21: =Sheet5!H48/VLOOKUP(Sheet5!B48,Sheet2!$A$2:$O$29,15,FALSE) -> 335.4188 | AG21: =Sheet5!A42 -> Demoralizing Blow | AH21: =Sheet5!Q42/VLOOKUP(Sheet5!B42,Sheet2!$A$2:$O$29,15,FALSE) -> 29.51622
A22: =Sheet5!A32 -> Terra Smash | B22: =Sheet5!H32 -> 305.925 | D22: =Sheet5!K40 -> Hold Person | E22: =Sheet5!Q40 -> 31.003194 | J22: =Sheet5!S59 -> Doom Hammer | K22: =Sheet5!Y59 -> 2.6419048 | M22: =Sheet5!AA25 -> Incinerate | N22: =Sheet5!AB25 -> 29.348986 | O22: =Sheet5!AC25 -> 36.819637 | P22: =Sheet5!AD25 -> 44.290288 | Q22: =Sheet5!AE25 -> 51.760939 | R22: =Sheet5!AF25 -> 59.23159 | S22: =Sheet5!AG25 -> 66.702241 | U22: =Sheet5!A59 -> Doom Hammer | V22: =Sheet5!H59/Sheet5!C59 -> 2.4397537 | X22: =Sheet5!K41 -> Chasten | Y22: =Sheet5!Q41/Sheet5!L41 -> 2.5023493 | AA22: =Sheet5!A46 -> Smash | AB22: =Sheet5!AO46 -> 0.22831161 | AD22: =Sheet5!A31 -> Frost Spire | AE22: =Sheet5!H31/VLOOKUP(Sheet5!B31,Sheet2!$A$2:$O$29,15,FALSE) -> 334.17221 | AG22: =Sheet5!A36 -> Shadowclap | AH22: =Sheet5!Q36/VLOOKUP(Sheet5!B36,Sheet2!$A$2:$O$29,15,FALSE) -> 28.278228
A23: =Sheet5!A55 -> Shatter | B23: =Sheet5!H55 -> 294.61 | D23: =Sheet5!K48 -> Ice Lance | E23: =Sheet5!Q48 -> 26.083824 | J23: =Sheet5!S48 -> Ice Lance | K23: =Sheet5!Y48 -> 2.3968919 | M23: =Sheet5!AA42 -> Demoralizing Blow | N23: =Sheet5!AB42 -> 28.169014 | O23: =Sheet5!AC42 -> 36.056338 | P23: =Sheet5!AD42 -> 43.943662 | Q23: =Sheet5!AE42 -> 51.830986 | R23: =Sheet5!AF42 -> 59.71831 | S23: =Sheet5!AG42 -> 67.605634 | U23: =Sheet5!A33 -> Pestilence | V23: =Sheet5!H33/Sheet5!C33 -> 2.4301875 | X23: =Sheet5!K59 -> Doom Hammer | Y23: =Sheet5!Q59/Sheet5!L59 -> 2.4397537 | AA23: =Sheet5!A47 -> Grasping Tree | AB23: =Sheet5!AO47 -> 0.22174436 | AD23: =Sheet5!A27 -> Caustic Breath | AE23: =Sheet5!H27/VLOOKUP(Sheet5!B27,Sheet2!$A$2:$O$29,15,FALSE) -> 330.26292 | AG23: =Sheet5!A57 -> Dominant Blow (Agi) | AH23: =Sheet5!Q57/VLOOKUP(Sheet5!B57,Sheet2!$A$2:$O$29,15,FALSE) -> 24.552188
A24: =Sheet5!A26 -> Arctic Cataclysm | B24: =Sheet5!H26 -> 283.2825 | D24: =Sheet5!K36 -> Shadowclap | E24: =Sheet5!Q36 -> 25.545469 | J24: =Sheet5!S39 -> Slice | K24: =Sheet5!Y39 -> 2.1277105 | M24: =Sheet5!AA47 -> Grasping Tree | N24: =Sheet5!AB47 -> 27.262814 | O24: =Sheet5!AC47 -> 35.441658 | P24: =Sheet5!AD47 -> 43.620502 | Q24: =Sheet5!AE47 -> 51.799346 | R24: =Sheet5!AF47 -> 59.97819 | S24: =Sheet5!AG47 -> 68.157034 | U24: =Sheet5!A24 -> Gale | V24: =Sheet5!H24/Sheet5!C24 -> 2.4123446 | X24: =Sheet5!K33 -> Pestilence | Y24: =Sheet5!Q33/Sheet5!L33 -> 2.4301875 | AA24: =Sheet5!A34 -> Pyroclasm | AB24: =Sheet5!AO34 -> 0.21035034 | AD24: =Sheet5!A58 -> Dominant Blow (Int) | AE24: =Sheet5!H58/VLOOKUP(Sheet5!B58,Sheet2!$A$2:$O$29,15,FALSE) -> 313.52858 | AG24: =Sheet5!A33 -> Pestilence | AH24: =Sheet5!Q33/VLOOKUP(Sheet5!B33,Sheet2!$A$2:$O$29,15,FALSE) -> 24.22554
A25: =Sheet5!A33 -> Pestilence | B25: =Sheet5!H33 -> 281.9625 | D25: =Sheet5!K57 -> Dominant Blow (Agi) | E25: =Sheet5!Q57 -> 25.417813 | J25: =Sheet5!S36 -> Shadowclap | K25: =Sheet5!Y36 -> 2.0436375 | M25: =Sheet5!AA31 -> Frost Spire | N25: =Sheet5!AB31 -> 33.865506 | O25: =Sheet5!AC31 -> 41.606193 | P25: =Sheet5!AD31 -> 49.34688 | Q25: =Sheet5!AE31 -> 57.087567 | R25: =Sheet5!AF31 -> 64.828254 | S25: =Sheet5!AG31 -> 72.56894 | U25: =Sheet5!A55 -> Shatter | V25: =Sheet5!H55/Sheet5!C55 -> 2.3576344 | X25: =Sheet5!K24 -> Gale | Y25: =Sheet5!Q24/Sheet5!L24 -> 2.4123446 | AA25: =Sheet5!A59 -> Doom Hammer | AB25: =Sheet5!AO59 -> 0.19391821 | AD25: =Sheet5!A59 -> Doom Hammer | AE25: =Sheet5!H59/VLOOKUP(Sheet5!B59,Sheet2!$A$2:$O$29,15,FALSE) -> 307.07522 | AG25: =Sheet5!A26 -> Arctic Cataclysm | AH25: =Sheet5!Q26/VLOOKUP(Sheet5!B26,Sheet2!$A$2:$O$29,15,FALSE) -> 23.195684
A26: =Sheet5!A28 -> Holy Strike | B26: =Sheet5!H28 -> 278.355 | D26: =Sheet5!K39 -> Slice | E26: =Sheet5!Q39 -> 25.266562 | J26: =Sheet5!S56 -> Dominant Blow (Str) | K26: =Sheet5!Y56 -> 2.0177143 | M26: =Sheet5!AA45 -> Degeneration | N26: =Sheet5!AB45 -> 25.953802 | O26: =Sheet5!AC45 -> 35.297171 | P26: =Sheet5!AD45 -> 44.64054 | Q26: =Sheet5!AE45 -> 53.983909 | R26: =Sheet5!AF45 -> 63.327277 | S26: =Sheet5!AG45 -> 72.670646 | U26: =Sheet5!A39 -> Slice | V26: =Sheet5!H39/Sheet5!C39 -> 2.2925315 | X26: =Sheet5!K55 -> Shatter | Y26: =Sheet5!Q55/Sheet5!L55 -> 2.3576344 | AA26: =Sheet5!A29 -> Rockslide | AB26: =Sheet5!AO29 -> 0.18722264 | AD26: =Sheet5!A32 -> Terra Smash | AE26: =Sheet5!H32/VLOOKUP(Sheet5!B32,Sheet2!$A$2:$O$29,15,FALSE) -> 297.10445 | AG26: =Sheet5!A40 -> Hold Person | AH26: =Sheet5!Q40/VLOOKUP(Sheet5!B40,Sheet2!$A$2:$O$29,15,FALSE) -> 22.569978
A27: =Sheet5!A59 -> Doom Hammer | B27: =Sheet5!H59 -> 277.4 | D27: =Sheet5!K28 -> Holy Strike | E27: =Sheet5!Q28 -> 24.742667 | J27: =Sheet5!S34 -> Pyroclasm | K27: =Sheet5!Y34 -> 1.8674779 | M27: =Sheet5!AA24 -> Gale | N27: =Sheet5!AB24 -> 27.254708 | O27: =Sheet5!AC24 -> 38.156591 | P27: =Sheet5!AD24 -> 49.058474 | Q27: =Sheet5!AE24 -> 59.960357 | R27: =Sheet5!AF24 -> 70.86224 | S27: =Sheet5!AG24 -> 81.764123 | U27: =Sheet5!A31 -> Frost Spire | V27: =Sheet5!H31/Sheet5!C31 -> 2.2861334 | X27: =Sheet5!K39 -> Slice | Y27: =Sheet5!Q39/Sheet5!L39 -> 2.2925315 | AA27: =Sheet5!A30 -> Rogue Wave | AB27: =Sheet5!AO30 -> 0.17754652 | AD27: =Sheet5!A39 -> Slice | AE27: =Sheet5!H39/VLOOKUP(Sheet5!B39,Sheet2!$A$2:$O$29,15,FALSE) -> 243.11261 | AG27: =Sheet5!A29 -> Rockslide | AH27: =Sheet5!Q29/VLOOKUP(Sheet5!B29,Sheet2!$A$2:$O$29,15,FALSE) -> 21.899841
A28: =Sheet5!A27 -> Caustic Breath | B28: =Sheet5!H27 -> 273.405 | D28: =Sheet5!K24 -> Gale | E28: =Sheet5!Q24 -> 23.023636 | J28: =Sheet5!S58 -> Dominant Blow (Int) | K28: =Sheet5!Y58 -> 1.8547571 | M28: =Sheet5!AA33 -> Pestilence | N28: =Sheet5!AB33 -> 30.456853 | O28: =Sheet5!AC33 -> 41.116751 | P28: =Sheet5!AD33 -> 51.77665 | Q28: =Sheet5!AE33 -> 62.436548 | R28: =Sheet5!AF33 -> 73.096447 | S28: =Sheet5!AG33 -> 83.756345 | U28: =Sheet5!A51 -> Maw of Death | V28: =Sheet5!H51/Sheet5!C51 -> 2.2208243 | X28: =Sheet5!K31 -> Frost Spire | Y28: =Sheet5!Q31/Sheet5!L31 -> 2.2861334 | AA28: =Sheet5!A27 -> Caustic Breath | AB28: =Sheet5!AO27 -> 0.17514734 | AD28: =Sheet5!A36 -> Shadowclap | AE28: =Sheet5!H36/VLOOKUP(Sheet5!B36,Sheet2!$A$2:$O$29,15,FALSE) -> 226.22583 | AG28: =Sheet5!A47 -> Grasping Tree | AH28: =Sheet5!Q47/VLOOKUP(Sheet5!B47,Sheet2!$A$2:$O$29,15,FALSE) -> 21.397733
A29: =Sheet5!A24 -> Gale | B29: =Sheet5!H24 -> 253.26 | D29: =Sheet5!K31 -> Frost Spire | E29: =Sheet5!Q31 -> 21.037 | J29: =Sheet5!S33 -> Pestilence | K29: =Sheet5!Y33 -> 1.7088636 | M29: =Sheet5!AA40 -> Hold Person | N29: =Sheet5!AB40 -> 38.930703 | O29: =Sheet5!AC40 -> 48.274072 | P29: =Sheet5!AD40 -> 57.617441 | Q29: =Sheet5!AE40 -> 66.96081 | R29: =Sheet5!AF40 -> 76.304179 | S29: =Sheet5!AG40 -> 85.647547 | U29: =Sheet5!A28 -> Holy Strike | V29: =Sheet5!H28/Sheet5!C28 -> 2.2139108 | X29: =Sheet5!K51 -> Maw of Death | Y29: =Sheet5!Q51/Sheet5!L51 -> 2.2208243 | AA29: =Sheet5!A55 -> Shatter | AB29: =Sheet5!AO55 -> 0.17401654 | AD29: =Sheet5!A37 -> Inferno | AE29: =Sheet5!H37/VLOOKUP(Sheet5!B37,Sheet2!$A$2:$O$29,15,FALSE) -> 218.83546 | AG29: =Sheet5!A48 -> Ice Lance | AH29: =Sheet5!Q48/VLOOKUP(Sheet5!B48,Sheet2!$A$2:$O$29,15,FALSE) -> 19.730518
A30: =Sheet5!A36 -> Shadowclap | B30: =Sheet5!H36 -> 204.36375 | D30: =Sheet5!K35 -> Whirl | E30: =Sheet5!Q35 -> 20.389688 | J30: =Sheet5!S29 -> Rockslide | K30: =Sheet5!Y29 -> 1.6693176 | M30: =Sheet5!AA56 -> Dominant Blow (Str) | N30: =Sheet5!AB56 -> 45.789875 | O30: =Sheet5!AC56 -> 54.439074 | P30: =Sheet5!AD56 -> 63.088273 | Q30: =Sheet5!AE56 -> 71.737471 | R30: =Sheet5!AF56 -> 80.38667 | S30: =Sheet5!AG56 -> 89.035869 | U30: =Sheet5!A26 -> Arctic Cataclysm | V30: =Sheet5!H26/Sheet5!C26 -> 2.1825378 | X30: =Sheet5!K26 -> Arctic Cataclysm | Y30: =Sheet5!Q26/Sheet5!L26 -> 2.1825378 | AA30: =Sheet5!A26 -> Arctic Cataclysm | AB30: =Sheet5!AO26 -> 0.16732575 | AD30: =Sheet5!A33 -> Pestilence | AE30: =Sheet5!H33/VLOOKUP(Sheet5!B33,Sheet2!$A$2:$O$29,15,FALSE) -> 218.02986 | AG30: =Sheet5!A35 -> Whirl | AH30: =Sheet5!Q35/VLOOKUP(Sheet5!B35,Sheet2!$A$2:$O$29,15,FALSE) -> 19.115446
A31: =Sheet5!A57 -> Dominant Blow (Agi) | B31: =Sheet5!H57 -> 203.3425 | D31: =Sheet5!K47 -> Grasping Tree | E31: =Sheet5!Q47 -> 17.964211 | J31: =Sheet5!S30 -> Rogue Wave | K31: =Sheet5!Y30 -> 1.5763043 | M31: =Sheet5!AA57 -> Dominant Blow (Agi) | N31: =Sheet5!AB57 -> 45.789875 | O31: =Sheet5!AC57 -> 54.439074 | P31: =Sheet5!AD57 -> 63.088273 | Q31: =Sheet5!AE57 -> 71.737471 | R31: =Sheet5!AF57 -> 80.38667 | S31: =Sheet5!AG57 -> 89.035869 | U31: =Sheet5!A48 -> Ice Lance | V31: =Sheet5!H48/Sheet5!C48 -> 2.111045 | X31: =Sheet5!K48 -> Ice Lance | Y31: =Sheet5!Q48/Sheet5!L48 -> 2.111045 | AA31: =Sheet5!A57 -> Dominant Blow (Agi) | AB31: =Sheet5!AO57 -> 0.16290206 | AD31: =Sheet5!A28 -> Holy Strike | AE31: =Sheet5!H28/VLOOKUP(Sheet5!B28,Sheet2!$A$2:$O$29,15,FALSE) -> 206.19345 | AG31: =Sheet5!A28 -> Holy Strike | AH31: =Sheet5!Q28/VLOOKUP(Sheet5!B28,Sheet2!$A$2:$O$29,15,FALSE) -> 18.328306
A32: =Sheet5!A37 -> Inferno | B32: =Sheet5!H37 -> 203.11875 | D32: =Sheet5!K26 -> Arctic Cataclysm | E32: =Sheet5!Q26 -> 17.705156 | J32: =Sheet5!S24 -> Gale | K32: =Sheet5!Y24 -> 1.5349091 | M32: =Sheet5!AA58 -> Dominant Blow (Int) | N32: =Sheet5!AB58 -> 45.789875 | O32: =Sheet5!AC58 -> 54.439074 | P32: =Sheet5!AD58 -> 63.088273 | Q32: =Sheet5!AE58 -> 71.737471 | R32: =Sheet5!AF58 -> 80.38667 | S32: =Sheet5!AG58 -> 89.035869 | U32: =Sheet5!A35 -> Whirl | V32: =Sheet5!H35/Sheet5!C35 -> 2.0620052 | X32: =Sheet5!K35 -> Whirl | Y32: =Sheet5!Q35/Sheet5!L35 -> 2.0620052 | AA32: =Sheet5!A37 -> Inferno | AB32: =Sheet5!AO37 -> 0.14589244 | AD32: =Sheet5!A57 -> Dominant Blow (Agi) | AE32: =Sheet5!H57/VLOOKUP(Sheet5!B57,Sheet2!$A$2:$O$29,15,FALSE) -> 196.41751 | AG32: =Sheet5!A24 -> Gale | AH32: =Sheet5!Q24/VLOOKUP(Sheet5!B24,Sheet2!$A$2:$O$29,15,FALSE) -> 17.53597
A33: =Sheet5!A39 -> Slice | B33: =Sheet5!H39 -> 202.1325 | D33: =Sheet5!K29 -> Rockslide | E33: =Sheet5!Q29 -> 17.156875 | J33: =Sheet5!S26 -> Arctic Cataclysm | K33: =Sheet5!Y26 -> 1.4909605 | M33: =Sheet5!AA34 -> Pyroclasm | N33: =Sheet5!AB34 -> 31.545741 | O33: =Sheet5!AC34 -> 43.112513 | P33: =Sheet5!AD34 -> 54.679285 | Q33: =Sheet5!AE34 -> 66.246057 | R33: =Sheet5!AF34 -> 77.812829 | S33: =Sheet5!AG34 -> 89.3796 | U33: =Sheet5!A27 -> Caustic Breath | V33: =Sheet5!H27/Sheet5!C27 -> 2.0579203 | X33: =Sheet5!K27 -> Caustic Breath | Y33: =Sheet5!Q27/Sheet5!L27 -> 2.0579203 | AA33: =Sheet5!A36 -> Shadowclap | AB33: =Sheet5!AO36 -> 0.14286176 | AD33: =Sheet5!A24 -> Gale | AE33: =Sheet5!H24/VLOOKUP(Sheet5!B24,Sheet2!$A$2:$O$29,15,FALSE) -> 192.89567 | AG33: =Sheet5!A59 -> Doom Hammer | AH33: =Sheet5!Q59/VLOOKUP(Sheet5!B59,Sheet2!$A$2:$O$29,15,FALSE) -> 17.059735
A34: =Sheet5!A30 -> Rogue Wave | B34: =Sheet5!H30 -> 181.275 | D34: =Sheet5!K59 -> Doom Hammer | E34: =Sheet5!Q59 -> 15.411111 | J34: =Sheet5!S35 -> Whirl | K34: =Sheet5!Y35 -> 1.4828864 | M34: =Sheet5!AA48 -> Ice Lance | N34: =Sheet5!AB48 -> 29.027576 | O34: =Sheet5!AC48 -> 41.1224 | P34: =Sheet5!AD48 -> 53.217223 | Q34: =Sheet5!AE48 -> 65.312046 | R34: =Sheet5!AF48 -> 77.40687 | S34: =Sheet5!AG48 -> 89.501693 | U34: =Sheet5!A44 -> Echoing Strike | V34: =Sheet5!H44/Sheet5!C44 -> 1.9622546 | X34: =Sheet5!K44 -> Echoing Strike | Y34: =Sheet5!Q44/Sheet5!L44 -> 1.9622546 | AA34: =Sheet5!A35 -> Whirl | AB34: =Sheet5!AO35 -> 0.13464094 | AD34: =Sheet5!A35 -> Whirl | AE34: =Sheet5!H35/VLOOKUP(Sheet5!B35,Sheet2!$A$2:$O$29,15,FALSE) -> 152.92357 | AG34: =Sheet5!A31 -> Frost Spire | AH34: =Sheet5!Q31/VLOOKUP(Sheet5!B31,Sheet2!$A$2:$O$29,15,FALSE) -> 15.912962
A35: =Sheet5!A35 -> Whirl | B35: =Sheet5!H35 -> 163.1175 | D35: =Sheet5!K37 -> Inferno | E35: =Sheet5!Q37 -> 13.54125 | J35: =Sheet5!S28 -> Holy Strike | K35: =Sheet5!Y28 -> 1.2102391 | M35: =Sheet5!AA26 -> Arctic Cataclysm | N35: =Sheet5!AB26 -> 40.195234 | O35: =Sheet5!AC26 -> 53.976457 | P35: =Sheet5!AD26 -> 67.75768 | Q35: =Sheet5!AE26 -> 81.538903 | R35: =Sheet5!AF26 -> 95.320126 | S35: =Sheet5!AG26 -> 109.10135 | U35: =Sheet5!A46 -> Smash | V35: =Sheet5!H46/Sheet5!C46 -> 1.8912743 | X35: =Sheet5!K46 -> Smash | Y35: =Sheet5!Q46/Sheet5!L46 -> 1.8912743 | AA35: =Sheet5!A39 -> Slice | AB35: =Sheet5!AO39 -> 0.13005147 | AD35: =Sheet5!A30 -> Rogue Wave | AE35: =Sheet5!H30/VLOOKUP(Sheet5!B30,Sheet2!$A$2:$O$29,15,FALSE) -> 143.22344 | AG35: =Sheet5!A37 -> Inferno | AH35: =Sheet5!Q37/VLOOKUP(Sheet5!B37,Sheet2!$A$2:$O$29,15,FALSE) -> 14.589031
A36: =Sheet5!A44 -> Echoing Strike | B36: =Sheet5!H44 -> 136.205 | D36: =Sheet5!K34 -> Pyroclasm | E36: =Sheet5!Q34 -> 12.210433 | J36: =Sheet5!S57 -> Dominant Blow (Agi) | K36: =Sheet5!Y57 -> 1.1619571 | M36: =Sheet5!AA28 -> Holy Strike | N36: =Sheet5!AB28 -> 34.516765 | O36: =Sheet5!AC28 -> 50.295858 | P36: =Sheet5!AD28 -> 66.074951 | Q36: =Sheet5!AE28 -> 81.854043 | R36: =Sheet5!AF28 -> 97.633136 | S36: =Sheet5!AG28 -> 113.41223 | U36: =Sheet5!A30 -> Rogue Wave | V36: =Sheet5!H30/Sheet5!C30 -> 1.6762896 | X36: =Sheet5!K30 -> Rogue Wave | Y36: =Sheet5!Q30/Sheet5!L30 -> 1.6762896 | AA36: =Sheet5!A44 -> Echoing Strike | AB36: =Sheet5!AO44 -> 0.10911676 | AD36: =Sheet5!A44 -> Echoing Strike | AE36: =Sheet5!H44/VLOOKUP(Sheet5!B44,Sheet2!$A$2:$O$29,15,FALSE) -> 131.56643 | AG36: =Sheet5!A34 -> Pyroclasm | AH36: =Sheet5!Q34/VLOOKUP(Sheet5!B34,Sheet2!$A$2:$O$29,15,FALSE) -> 14.260761
A37: =Sheet5!A25 -> Incinerate | B37: =Sheet5!H25 -> 120.495 | D37: =Sheet5!K30 -> Rogue Wave | E37: =Sheet5!Q30 -> 12.085 | J37: =Sheet5!S25 -> Incinerate | K37: =Sheet5!Y25 -> 0.96396 | M37: =Sheet5!AA29 -> Rockslide | N37: =Sheet5!AB29 -> 39.877301 | O37: =Sheet5!AC29 -> 54.601227 | P37: =Sheet5!AD29 -> 69.325153 | Q37: =Sheet5!AE29 -> 84.04908 | R37: =Sheet5!AF29 -> 98.773006 | S37: =Sheet5!AG29 -> 113.49693 | U37: =Sheet5!A53 -> Rend Soul | V37: =Sheet5!H53/Sheet5!C53 -> 1.5781737 | X37: =Sheet5!K28 -> Holy Strike | Y37: =Sheet5!Q28/Sheet5!L28 -> 1.4759405 | AA37: =Sheet5!A25 -> Incinerate | AB37: =Sheet5!AO25 -> 0.086968603 | AD37: =Sheet5!A25 -> Incinerate | AE37: =Sheet5!H25/VLOOKUP(Sheet5!B25,Sheet2!$A$2:$O$29,15,FALSE) -> 129.18914 | AG37: =Sheet5!A30 -> Rogue Wave | AH37: =Sheet5!Q30/VLOOKUP(Sheet5!B30,Sheet2!$A$2:$O$29,15,FALSE) -> 9.5482296
A40: Heroes
A41: Starting Stats | D41: Growth | J41: Burst Potential | L41: of Average Health | M41: of Self Health | O41: Factored Burst | Q41: of Average Health | R41: of Self Health | T41: DPS Potential | W41: Factored DPS Potential
A42: =Sheet2!A29 -> Crimson Squall | B42: =Sheet2!P29 -> 60 | D42: =Sheet2!A29 -> Crimson Squall | E42: =Sheet2!Q29 -> 5.85 | G42: =Sheet2!A2 -> Arcane Archer | H42: =SUMIF(Sheet5!$B$24:$B$59,Sheet7!G42,Sheet5!$H$24:$H$59) -> 0 | I42: =SUMIF(Sheet5!$B$24:$B$59,Sheet7!G42,Sheet5!$Q$24:$Q$59) -> 0 | J42: =Sheet7!G48 -> Soul Binder | K42: =Sheet7!H48 -> 1007.355 | L42: =Sheet7!H48/Sheet2!$M$31 -> 0.77953031 | M42: =Sheet7!H48/VLOOKUP(Sheet7!$G48,Sheet2!$A$2:$N$29,13,FALSE) -> 0.72706965 | O42: =Sheet7!G48 -> Soul Binder | P42: =Sheet7!H48/VLOOKUP(Sheet7!$G48,Sheet2!$A$2:$O$29,15,FALSE) -> 1080.0392 | Q42: =Sheet7!H48/Sheet2!$M$31 -> 0.77953031 | R42: =Sheet7!P48/VLOOKUP(Sheet7!$G48,Sheet2!$A$2:$N$29,13,FALSE) -> 0.48328474 | T42: =Sheet7!G69 -> Crimson Squall | U42: =Sheet7!I69 -> 110.12812 | W42: =Sheet7!G69 -> Crimson Squall | X42: =Sheet7!I69/VLOOKUP(Sheet7!$G69,Sheet2!$A$2:$O$29,15,FALSE) -> 106.37762
A43: =Sheet2!A23 -> Mystic Swashbuckler | B43: =Sheet2!P23 -> 58 | D43: =Sheet2!A5 -> Arboreal Crusader | E43: =Sheet2!Q5 -> 5.75 | G43: =Sheet2!A3 -> Blazing Priest | H43: =SUMIF(Sheet5!$B$24:$B$59,Sheet7!G43,Sheet5!$H$24:$H$59) -> 399.4375 | I43: =SUMIF(Sheet5!$B$24:$B$59,Sheet7!G43,Sheet5!$Q$24:$Q$59) -> 49.929688 | J43: =Sheet7!G54 -> Icespinner | K43: =Sheet7!H54 -> 885.202 | L43: =Sheet7!H54/Sheet2!$M$31 -> 0.68500359 | M43: =Sheet7!H54/VLOOKUP(Sheet7!$G54,Sheet2!$A$2:$N$29,13,FALSE) -> 0.90557749 | O43: =Sheet7!G57 -> Emberwraith | P43: =Sheet7!H57/VLOOKUP(Sheet7!$G57,Sheet2!$A$2:$O$29,15,FALSE) -> 1006.4415 | Q43: =Sheet7!H57/Sheet2!$M$31 -> 0.66684875 | R43: =Sheet7!P57/VLOOKUP(Sheet7!$G57,Sheet2!$A$2:$N$29,13,FALSE) -> 0.26917979 | T43: =Sheet7!G48 -> Soul Binder | U43: =Sheet7!I48 -> 84.508 | W43: =Sheet7!G48 -> Soul Binder | X43: =Sheet7!I48/VLOOKUP(Sheet7!$G48,Sheet2!$A$2:$O$29,15,FALSE) -> 90.605552
A44: =Sheet2!A18 -> Forlorn Martyr | B44: =Sheet2!P18 -> 57 | D44: =Sheet2!A18 -> Forlorn Martyr | E44: =Sheet2!Q18 -> 5.75 | G44: =Sheet2!A4 -> Time Cleric | H44: =SUMIF(Sheet5!$B$24:$B$59,Sheet7!G44,Sheet5!$H$24:$H$59) -> 875.54 | I44: =SUMIF(Sheet5!$B$24:$B$59,Sheet7!G44,Sheet5!$Q$24:$Q$59) -> 83.34025 | J44: =Sheet7!G69 -> Crimson Squall | K44: =Sheet7!H69 -> 881.025 | L44: =Sheet7!H69/Sheet2!$M$31 -> 0.68177126 | M44: =Sheet7!H69/VLOOKUP(Sheet7!$G69,Sheet2!$A$2:$N$29,13,FALSE) -> 0.70580813 | O44: =Sheet7!G52 -> Colossus | P44: =Sheet7!H52/VLOOKUP(Sheet7!$G52,Sheet2!$A$2:$O$29,15,FALSE) -> 874.90707 | Q44: =Sheet7!H52/Sheet2!$M$31 -> 0.53040744 | R44: =Sheet7!P52/VLOOKUP(Sheet7!$G52,Sheet2!$A$2:$N$29,13,FALSE) -> 0.27466175 | T44: =Sheet7!G44 -> Time Cleric | U44: =Sheet7!I44 -> 83.34025 | W44: =Sheet7!G49 -> Glacial Tyrant | X44: =Sheet7!I49/VLOOKUP(Sheet7!$G49,Sheet2!$A$2:$O$29,15,FALSE) -> 87.524217
A45: =Sheet2!A20 -> Fire Knight | B45: =Sheet2!P20 -> 57 | D45: =Sheet2!A10 -> Acid Reaver | E45: =Sheet2!Q10 -> 5.7 | G45: =Sheet2!A5 -> Arboreal Crusader | H45: =SUMIF(Sheet5!$B$24:$B$59,Sheet7!G45,Sheet5!$H$24:$H$59) -> 253.26 | I45: =SUMIF(Sheet5!$B$24:$B$59,Sheet7!G45,Sheet5!$Q$24:$Q$59) -> 23.023636 | J45: =Sheet7!G44 -> Time Cleric | K45: =Sheet7!H44 -> 875.54 | L45: =Sheet7!H44/Sheet2!$M$31 -> 0.67752676 | M45: =Sheet7!H44/VLOOKUP(Sheet7!$G44,Sheet2!$A$2:$N$29,13,FALSE) -> 0.70141398 | O45: =Sheet7!G69 -> Crimson Squall | P45: =Sheet7!H69/VLOOKUP(Sheet7!$G69,Sheet2!$A$2:$O$29,15,FALSE) -> 851.02098 | Q45: =Sheet7!H69/Sheet2!$M$31 -> 0.68177126 | R45: =Sheet7!P69/VLOOKUP(Sheet7!$G69,Sheet2!$A$2:$N$29,13,FALSE) -> 0 | T45: =Sheet7!G49 -> Glacial Tyrant | U45: =Sheet7!I49 -> 66.806823 | W45: =Sheet7!G52 -> Colossus | X45: =Sheet7!I52/VLOOKUP(Sheet7!$G52,Sheet2!$A$2:$O$29,15,FALSE) -> 81.988583
A46: =Sheet2!A25 -> Master of the Hunt | B46: =Sheet2!P25 -> 56 | D46: =Sheet2!A8 -> Soul Binder | E46: =Sheet2!Q8 -> 5.6 | G46: =Sheet2!A6 -> Dread Shaman | H46: =SUMIF(Sheet5!$B$24:$B$59,Sheet7!G46,Sheet5!$H$24:$H$59) -> 0 | I46: =SUMIF(Sheet5!$B$24:$B$59,Sheet7!G46,Sheet5!$Q$24:$Q$59) -> 0 | J46: =Sheet7!G57 -> Emberwraith | K46: =Sheet7!H57 -> 861.74125 | L46: =Sheet7!H57/Sheet2!$M$31 -> 0.66684875 | M46: =Sheet7!H57/VLOOKUP(Sheet7!$G57,Sheet2!$A$2:$N$29,13,FALSE) -> 0.57097317 | O46: =Sheet7!G44 -> Time Cleric | P46: =Sheet7!H44/VLOOKUP(Sheet7!$G44,Sheet2!$A$2:$O$29,15,FALSE) -> 845.72277 | Q46: =Sheet7!H44/Sheet2!$M$31 -> 0.67752676 | R46: =Sheet7!P44/VLOOKUP(Sheet7!$G44,Sheet2!$A$2:$N$29,13,FALSE) -> 0.70090693 | T46: =Sheet7!G52 -> Colossus | U46: =Sheet7!I52 -> 64.231875 | W46: =Sheet7!G44 -> Time Cleric | X46: =Sheet7!I44/VLOOKUP(Sheet7!$G44,Sheet2!$A$2:$O$29,15,FALSE) -> 80.50203
A47: =Sheet2!A4 -> Time Cleric | B47: =Sheet2!P4 -> 55 | D47: =Sheet2!A19 -> Blackguard | E47: =Sheet2!Q19 -> 5.6 | G47: =Sheet2!A7 -> Scarab | H47: =SUMIF(Sheet5!$B$24:$B$59,Sheet7!G47,Sheet5!$H$24:$H$59) -> 411.2125 | I47: =SUMIF(Sheet5!$B$24:$B$59,Sheet7!G47,Sheet5!$Q$24:$Q$59) -> 51.401562 | J47: =Sheet7!G52 -> Colossus | K47: =Sheet7!H52 -> 685.42375 | L47: =Sheet7!H52/Sheet2!$M$31 -> 0.53040744 | M47: =Sheet7!H52/VLOOKUP(Sheet7!$G52,Sheet2!$A$2:$N$29,13,FALSE) -> 0.41553425 | O47: =Sheet7!G49 -> Glacial Tyrant | P47: =Sheet7!H49/VLOOKUP(Sheet7!$G49,Sheet2!$A$2:$O$29,15,FALSE) -> 757.10214 | Q47: =Sheet7!H49/Sheet2!$M$31 -> 0.44719559 | R47: =Sheet7!P49/VLOOKUP(Sheet7!$G49,Sheet2!$A$2:$N$29,13,FALSE) -> 0.33705417 | T47: =Sheet7!G65 -> Master of the Hunt | U47: =Sheet7!I65 -> 61.25 | W47: =Sheet7!G65 -> Master of the Hunt | X47: =Sheet7!I65/VLOOKUP(Sheet7!$G65,Sheet2!$A$2:$O$29,15,FALSE) -> 60.19498
A48: =Sheet2!A7 -> Scarab | B48: =Sheet2!P7 -> 55 | D48: =Sheet2!A20 -> Fire Knight | E48: =Sheet2!Q20 -> 5.6 | G48: =Sheet2!A8 -> Soul Binder | H48: =SUMIF(Sheet5!$B$24:$B$59,Sheet7!G48,Sheet5!$H$24:$H$59) -> 1007.355 | I48: =SUMIF(Sheet5!$B$24:$B$59,Sheet7!G48,Sheet5!$Q$24:$Q$59) -> 84.508 | J48: =Sheet7!G49 -> Glacial Tyrant | K48: =Sheet7!H49 -> 577.8925 | L48: =Sheet7!H49/Sheet2!$M$31 -> 0.44719559 | M48: =Sheet7!H49/VLOOKUP(Sheet7!$G49,Sheet2!$A$2:$N$29,13,FALSE) -> 0.34134229 | O48: =Sheet7!G54 -> Icespinner | P48: =Sheet7!H54/VLOOKUP(Sheet7!$G54,Sheet2!$A$2:$O$29,15,FALSE) -> 669.59101 | Q48: =Sheet7!H54/Sheet2!$M$31 -> 0.68500359 | R48: =Sheet7!P54/VLOOKUP(Sheet7!$G54,Sheet2!$A$2:$N$29,13,FALSE) -> 0.44253714 | T48: =Sheet7!G60 -> Fire Knight | U48: =Sheet7!I60 -> 54.357656 | W48: =Sheet7!G57 -> Emberwraith | X48: =Sheet7!I57/VLOOKUP(Sheet7!$G57,Sheet2!$A$2:$O$29,15,FALSE) -> 59.665167
A49: =Sheet2!A13 -> Crest Witch | B49: =Sheet2!P13 -> 55 | D49: =Sheet2!A4 -> Time Cleric | E49: =Sheet2!Q4 -> 5.55 | G49: =Sheet2!A9 -> Glacial Tyrant | H49: =SUMIF(Sheet5!$B$24:$B$59,Sheet7!G49,Sheet5!$H$24:$H$59) -> 577.8925 | I49: =SUMIF(Sheet5!$B$24:$B$59,Sheet7!G49,Sheet5!$Q$24:$Q$59) -> 66.806823 | J49: =Sheet7!G62 -> Aeromancess | K49: =Sheet7!H62 -> 558.0575 | L49: =Sheet7!H62/Sheet2!$M$31 -> 0.4318465 | M49: =Sheet7!H62/VLOOKUP(Sheet7!$G62,Sheet2!$A$2:$N$29,13,FALSE) -> 0.59320489 | O49: =Sheet7!G60 -> Fire Knight | P49: =Sheet7!H60/VLOOKUP(Sheet7!$G60,Sheet2!$A$2:$O$29,15,FALSE) -> 570.63271 | Q49: =Sheet7!H60/Sheet2!$M$31 -> 0.40986368 | R49: =Sheet7!P60/VLOOKUP(Sheet7!$G60,Sheet2!$A$2:$N$29,13,FALSE) -> 0.23721524 | T49: =Sheet7!G47 -> Scarab | U49: =Sheet7!I47 -> 51.401562 | W49: =Sheet7!G60 -> Fire Knight | X49: =Sheet7!I60/VLOOKUP(Sheet7!$G60,Sheet2!$A$2:$O$29,15,FALSE) -> 58.563687
A50: =Sheet2!A2 -> Arcane Archer | B50: =Sheet2!P2 -> 53 | D50: =Sheet2!A13 -> Crest Witch | E50: =Sheet2!Q13 -> 5.55 | G50: =Sheet2!A10 -> Acid Reaver | H50: =SUMIF(Sheet5!$B$24:$B$59,Sheet7!G50,Sheet5!$H$24:$H$59) -> 273.405 | I50: =SUMIF(Sheet5!$B$24:$B$59,Sheet7!G50,Sheet5!$Q$24:$Q$59) -> 34.175625 | J50: =Sheet7!G60 -> Fire Knight | K50: =Sheet7!H60 -> 529.65 | L50: =Sheet7!H60/Sheet2!$M$31 -> 0.40986368 | M50: =Sheet7!H60/VLOOKUP(Sheet7!$G60,Sheet2!$A$2:$N$29,13,FALSE) -> 0.38042737 | O50: =Sheet7!G59 -> Blackguard | P50: =Sheet7!H59/VLOOKUP(Sheet7!$G59,Sheet2!$A$2:$O$29,15,FALSE) -> 533.30105 | Q50: =Sheet7!H59/Sheet2!$M$31 -> 0.37280745 | R50: =Sheet7!P59/VLOOKUP(Sheet7!$G59,Sheet2!$A$2:$N$29,13,FALSE) -> 0.24760199 | T50: =Sheet7!G57 -> Emberwraith | U50: =Sheet7!I57 -> 51.086861 | W50: =Sheet7!G47 -> Scarab | X50: =Sheet7!I47/VLOOKUP(Sheet7!$G47,Sheet2!$A$2:$O$29,15,FALSE) -> 56.63182
A51: =Sheet2!A3 -> Blazing Priest | B51: =Sheet2!P3 -> 53 | D51: =Sheet2!A17 -> Emberwraith | E51: =Sheet2!Q17 -> 5.55 | G51: =Sheet2!A11 -> Divine Wizard | H51: =SUMIF(Sheet5!$B$24:$B$59,Sheet7!G51,Sheet5!$H$24:$H$59) -> 278.355 | I51: =SUMIF(Sheet5!$B$24:$B$59,Sheet7!G51,Sheet5!$Q$24:$Q$59) -> 24.742667 | J51: =Sheet7!G65 -> Master of the Hunt | K51: =Sheet7!H65 -> 490 | L51: =Sheet7!H65/Sheet2!$M$31 -> 0.37918097 | M51: =Sheet7!H65/VLOOKUP(Sheet7!$G65,Sheet2!$A$2:$N$29,13,FALSE) -> 0.38582677 | O51: =Sheet7!G65 -> Master of the Hunt | P51: =Sheet7!H65/VLOOKUP(Sheet7!$G65,Sheet2!$A$2:$O$29,15,FALSE) -> 481.55984 | Q51: =Sheet7!H65/Sheet2!$M$31 -> 0.37918097 | R51: =Sheet7!P65/VLOOKUP(Sheet7!$G65,Sheet2!$A$2:$N$29,13,FALSE) -> 0.15188636 | T51: =Sheet7!G43 -> Blazing Priest | U51: =Sheet7!I43 -> 49.929688 | W51: =Sheet7!G43 -> Blazing Priest | X51: =Sheet7!I43/VLOOKUP(Sheet7!$G43,Sheet2!$A$2:$O$29,15,FALSE) -> 56.111347
A52: =Sheet2!A8 -> Soul Binder | B52: =Sheet2!P8 -> 53 | D52: =Sheet2!A23 -> Mystic Swashbuckler | E52: =Sheet2!Q23 -> 5.5 | G52: =Sheet2!A12 -> Colossus | H52: =SUMIF(Sheet5!$B$24:$B$59,Sheet7!G52,Sheet5!$H$24:$H$59) -> 685.42375 | I52: =SUMIF(Sheet5!$B$24:$B$59,Sheet7!G52,Sheet5!$Q$24:$Q$59) -> 64.231875 | J52: =Sheet7!G59 -> Blackguard | K52: =Sheet7!H59 -> 481.76375 | L52: =Sheet7!H59/Sheet2!$M$31 -> 0.37280745 | M52: =Sheet7!H59/VLOOKUP(Sheet7!$G59,Sheet2!$A$2:$N$29,13,FALSE) -> 0.33677997 | O52: =Sheet7!G47 -> Scarab | P52: =Sheet7!H47/VLOOKUP(Sheet7!$G47,Sheet2!$A$2:$O$29,15,FALSE) -> 453.05456 | Q52: =Sheet7!H47/Sheet2!$M$31 -> 0.31821216 | R52: =Sheet7!P47/VLOOKUP(Sheet7!$G47,Sheet2!$A$2:$N$29,13,FALSE) -> 0.53176621 | T52: =Sheet7!G54 -> Icespinner | U52: =Sheet7!I54 -> 47.120824 | W52: =Sheet7!G66 -> Behemoth | X52: =Sheet7!I66/VLOOKUP(Sheet7!$G66,Sheet2!$A$2:$O$29,15,FALSE) -> 54.072507
A53: =Sheet2!A17 -> Emberwraith | B53: =Sheet2!P17 -> 53 | D53: =Sheet2!A28 -> Sorrow Liege | E53: =Sheet2!Q28 -> 5.5 | G53: =Sheet2!A13 -> Crest Witch | H53: =SUMIF(Sheet5!$B$24:$B$59,Sheet7!G53,Sheet5!$H$24:$H$59) -> 181.275 | I53: =SUMIF(Sheet5!$B$24:$B$59,Sheet7!G53,Sheet5!$Q$24:$Q$59) -> 12.085 | J53: =Sheet7!G67 -> Incarnation | K53: =Sheet7!H67 -> 415.47 | L53: =Sheet7!H67/Sheet2!$M$31 -> 0.32150677 | M53: =Sheet7!H67/VLOOKUP(Sheet7!$G67,Sheet2!$A$2:$N$29,13,FALSE) -> 0.37446598 | O53: =Sheet7!G43 -> Blazing Priest | P53: =Sheet7!H43/VLOOKUP(Sheet7!$G43,Sheet2!$A$2:$O$29,15,FALSE) -> 448.89077 | Q53: =Sheet7!H43/Sheet2!$M$31 -> 0.30910021 | R53: =Sheet7!P43/VLOOKUP(Sheet7!$G43,Sheet2!$A$2:$N$29,13,FALSE) -> 0.69302219 | T53: =Sheet7!G68 -> Sorrow Liege | U53: =Sheet7!I68 -> 45.096875 | W53: =Sheet7!G68 -> Sorrow Liege | X53: =Sheet7!I68/VLOOKUP(Sheet7!$G68,Sheet2!$A$2:$O$29,15,FALSE) -> 53.480738
A54: =Sheet2!A19 -> Blackguard | B54: =Sheet2!P19 -> 53 | D54: =Sheet2!A2 -> Arcane Archer | E54: =Sheet2!Q2 -> 5.45 | G54: =Sheet2!A14 -> Icespinner | H54: =SUMIF(Sheet5!$B$24:$B$59,Sheet7!G54,Sheet5!$H$24:$H$59) -> 885.202 | I54: =SUMIF(Sheet5!$B$24:$B$59,Sheet7!G54,Sheet5!$Q$24:$Q$59) -> 47.120824 | J54: =Sheet7!G47 -> Scarab | K54: =Sheet7!H47 -> 411.2125 | L54: =Sheet7!H47/Sheet2!$M$31 -> 0.31821216 | M54: =Sheet7!H47/VLOOKUP(Sheet7!$G47,Sheet2!$A$2:$N$29,13,FALSE) -> 0.28882353 | O54: =Sheet7!G66 -> Behemoth | P54: =Sheet7!H66/VLOOKUP(Sheet7!$G66,Sheet2!$A$2:$O$29,15,FALSE) -> 432.58006 | Q54: =Sheet7!H66/Sheet2!$M$31 -> 0.27832077 | R54: =Sheet7!P66/VLOOKUP(Sheet7!$G66,Sheet2!$A$2:$N$29,13,FALSE) -> 0.098390588 | T54: =Sheet7!G66 -> Behemoth | U54: =Sheet7!I66 -> 44.957812 | W54: =Sheet7!G59 -> Blackguard | X54: =Sheet7!I59/VLOOKUP(Sheet7!$G59,Sheet2!$A$2:$O$29,15,FALSE) -> 45.337963
A55: =Sheet2!A28 -> Sorrow Liege | B55: =Sheet2!P28 -> 53 | D55: =Sheet2!A25 -> Master of the Hunt | E55: =Sheet2!Q25 -> 5.3 | G55: =Sheet2!A15 -> Ascendant | H55: =SUMIF(Sheet5!$B$24:$B$59,Sheet7!G55,Sheet5!$H$24:$H$59) -> 305.925 | I55: =SUMIF(Sheet5!$B$24:$B$59,Sheet7!G55,Sheet5!$Q$24:$Q$59) -> 38.240625 | J55: =Sheet7!G43 -> Blazing Priest | K55: =Sheet7!H43 -> 399.4375 | L55: =Sheet7!H43/Sheet2!$M$31 -> 0.30910021 | M55: =Sheet7!H43/VLOOKUP(Sheet7!$G43,Sheet2!$A$2:$N$29,13,FALSE) -> 0.27504734 | O55: =Sheet7!G68 -> Sorrow Liege | P55: =Sheet7!H68/VLOOKUP(Sheet7!$G68,Sheet2!$A$2:$O$29,15,FALSE) -> 427.8459 | Q55: =Sheet7!H68/Sheet2!$M$31 -> 0.27918167 | R55: =Sheet7!P68/VLOOKUP(Sheet7!$G68,Sheet2!$A$2:$N$29,13,FALSE) -> 0 | T55: =Sheet7!G59 -> Blackguard | U55: =Sheet7!I59 -> 40.95658 | W55: =Sheet7!G50 -> Acid Reaver | X55: =Sheet7!I50/VLOOKUP(Sheet7!$G50,Sheet2!$A$2:$O$29,15,FALSE) -> 41.282865
A56: =Sheet2!A6 -> Dread Shaman | B56: =Sheet2!P6 -> 52 | D56: =Sheet2!A24 -> Elder Treant | E56: =Sheet2!Q24 -> 5.25 | G56: =Sheet2!A16 -> Defiler | H56: =SUMIF(Sheet5!$B$24:$B$59,Sheet7!G56,Sheet5!$H$24:$H$59) -> 281.9625 | I56: =SUMIF(Sheet5!$B$24:$B$59,Sheet7!G56,Sheet5!$Q$24:$Q$59) -> 31.329167 | J56: =Sheet7!G63 -> Mystic Swashbuckler | K56: =Sheet7!H63 -> 375.25 | L56: =Sheet7!H63/Sheet2!$M$31 -> 0.29038298 | M56: =Sheet7!H63/VLOOKUP(Sheet7!$G63,Sheet2!$A$2:$N$29,13,FALSE) -> 0.30764501 | O56: =Sheet7!G64 -> Elder Treant | P56: =Sheet7!H64/VLOOKUP(Sheet7!$G64,Sheet2!$A$2:$O$29,15,FALSE) -> 406.55692 | Q56: =Sheet7!H64/Sheet2!$M$31 -> 0.26412663 | R56: =Sheet7!P64/VLOOKUP(Sheet7!$G64,Sheet2!$A$2:$N$29,13,FALSE) -> 0.13395709 | T56: =Sheet7!G55 -> Ascendant | U56: =Sheet7!I55 -> 38.240625 | W56: =Sheet7!G55 -> Ascendant | X56: =Sheet7!I55/VLOOKUP(Sheet7!$G55,Sheet2!$A$2:$O$29,15,FALSE) -> 37.138056
A57: =Sheet2!A10 -> Acid Reaver | B57: =Sheet2!P10 -> 52 | D57: =Sheet2!A7 -> Scarab | E57: =Sheet2!Q7 -> 5.15 | G57: =Sheet2!A17 -> Emberwraith | H57: =SUMIF(Sheet5!$B$24:$B$59,Sheet7!G57,Sheet5!$H$24:$H$59) -> 861.74125 | I57: =SUMIF(Sheet5!$B$24:$B$59,Sheet7!G57,Sheet5!$Q$24:$Q$59) -> 51.086861 | J57: =Sheet7!G68 -> Sorrow Liege | K57: =Sheet7!H68 -> 360.775 | L57: =Sheet7!H68/Sheet2!$M$31 -> 0.27918167 | M57: =Sheet7!H68/VLOOKUP(Sheet7!$G68,Sheet2!$A$2:$N$29,13,FALSE) -> 0.23541599 | O57: =Sheet7!G62 -> Aeromancess | P57: =Sheet7!H62/VLOOKUP(Sheet7!$G62,Sheet2!$A$2:$O$29,15,FALSE) -> 406.2596 | Q57: =Sheet7!H62/Sheet2!$M$31 -> 0.4318465 | R57: =Sheet7!P62/VLOOKUP(Sheet7!$G62,Sheet2!$A$2:$N$29,13,FALSE) -> 0.25842424 | T57: =Sheet7!G67 -> Incarnation | U57: =Sheet7!I67 -> 34.6225 | W57: =Sheet7!G54 -> Icespinner | X57: =Sheet7!I54/VLOOKUP(Sheet7!$G54,Sheet2!$A$2:$O$29,15,FALSE) -> 35.64348
A58: =Sheet2!A24 -> Elder Treant | B58: =Sheet2!P24 -> 52 | D58: =Sheet2!A9 -> Glacial Tyrant | E58: =Sheet2!Q9 -> 5.05 | G58: =Sheet2!A18 -> Forlorn Martyr | H58: =SUMIF(Sheet5!$B$24:$B$59,Sheet7!G58,Sheet5!$H$24:$H$59) -> 163.1175 | I58: =SUMIF(Sheet5!$B$24:$B$59,Sheet7!G58,Sheet5!$Q$24:$Q$59) -> 20.389688 | J58: =Sheet7!G66 -> Behemoth | K58: =Sheet7!H66 -> 359.6625 | L58: =Sheet7!H66/Sheet2!$M$31 -> 0.27832077 | M58: =Sheet7!H66/VLOOKUP(Sheet7!$G66,Sheet2!$A$2:$N$29,13,FALSE) -> 0.23140582 | O58: =Sheet7!G67 -> Incarnation | P58: =Sheet7!H67/VLOOKUP(Sheet7!$G67,Sheet2!$A$2:$O$29,15,FALSE) -> 356.71177 | Q58: =Sheet7!H67/Sheet2!$M$31 -> 0.32150677 | R58: =Sheet7!P67/VLOOKUP(Sheet7!$G67,Sheet2!$A$2:$N$29,13,FALSE) -> 0.12908828 | T58: =Sheet7!G50 -> Acid Reaver | U58: =Sheet7!I50 -> 34.175625 | W58: =Sheet7!G61 -> Wretched Chef | X58: =Sheet7!I61/VLOOKUP(Sheet7!$G61,Sheet2!$A$2:$O$29,15,FALSE) -> 30.389076
A59: =Sheet2!A27 -> Incarnation | B59: =Sheet2!P27 -> 52 | D59: =Sheet2!A16 -> Defiler | E59: =Sheet2!Q16 -> 5.05 | G59: =Sheet2!A19 -> Blackguard | H59: =SUMIF(Sheet5!$B$24:$B$59,Sheet7!G59,Sheet5!$H$24:$H$59) -> 481.76375 | I59: =SUMIF(Sheet5!$B$24:$B$59,Sheet7!G59,Sheet5!$Q$24:$Q$59) -> 40.95658 | J59: =Sheet7!G64 -> Elder Treant | K59: =Sheet7!H64 -> 341.32 | L59: =Sheet7!H64/Sheet2!$M$31 -> 0.26412663 | M59: =Sheet7!H64/VLOOKUP(Sheet7!$G64,Sheet2!$A$2:$N$29,13,FALSE) -> 0.22174436 | O59: =Sheet7!G63 -> Mystic Swashbuckler | P59: =Sheet7!H63/VLOOKUP(Sheet7!$G63,Sheet2!$A$2:$O$29,15,FALSE) -> 354.19464 | Q59: =Sheet7!H63/Sheet2!$M$31 -> 0.29038298 | R59: =Sheet7!P63/VLOOKUP(Sheet7!$G63,Sheet2!$A$2:$N$29,13,FALSE) -> 0.17874963 | T59: =Sheet7!G56 -> Defiler | U59: =Sheet7!I56 -> 31.329167 | W59: =Sheet7!G67 -> Incarnation | X59: =Sheet7!I67/VLOOKUP(Sheet7!$G67,Sheet2!$A$2:$O$29,15,FALSE) -> 29.725981
A60: =Sheet2!A11 -> Divine Wizard | B60: =Sheet2!P11 -> 51 | D60: =Sheet2!A14 -> Icespinner | E60: =Sheet2!Q14 -> 5 | G60: =Sheet2!A20 -> Fire Knight | H60: =SUMIF(Sheet5!$B$24:$B$59,Sheet7!G60,Sheet5!$H$24:$H$59) -> 529.65 | I60: =SUMIF(Sheet5!$B$24:$B$59,Sheet7!G60,Sheet5!$Q$24:$Q$59) -> 54.357656 | J60: =Sheet7!G55 -> Ascendant | K60: =Sheet7!H55 -> 305.925 | L60: =Sheet7!H55/Sheet2!$M$31 -> 0.23673661 | M60: =Sheet7!H55/VLOOKUP(Sheet7!$G55,Sheet2!$A$2:$N$29,13,FALSE) -> 0.24376494 | O60: =Sheet7!G50 -> Acid Reaver | P60: =Sheet7!H50/VLOOKUP(Sheet7!$G50,Sheet2!$A$2:$O$29,15,FALSE) -> 330.26292 | Q60: =Sheet7!H50/Sheet2!$M$31 -> 0.21157138 | R60: =Sheet7!P50/VLOOKUP(Sheet7!$G50,Sheet2!$A$2:$N$29,13,FALSE) -> 0.34164065 | T60: =Sheet7!G63 -> Mystic Swashbuckler | U60: =Sheet7!I63 -> 31.270833 | W60: =Sheet7!G63 -> Mystic Swashbuckler | X60: =Sheet7!I63/VLOOKUP(Sheet7!$G63,Sheet2!$A$2:$O$29,15,FALSE) -> 29.51622
A61: =Sheet2!A15 -> Ascendant | B61: =Sheet2!P15 -> 51 | D61: =Sheet2!A3 -> Blazing Priest | E61: =Sheet2!Q3 -> 4.95 | G61: =Sheet2!A21 -> Wretched Chef | H61: =SUMIF(Sheet5!$B$24:$B$59,Sheet7!G61,Sheet5!$H$24:$H$59) -> 202.1325 | I61: =SUMIF(Sheet5!$B$24:$B$59,Sheet7!G61,Sheet5!$Q$24:$Q$59) -> 25.266562 | J61: =Sheet7!G56 -> Defiler | K61: =Sheet7!H56 -> 281.9625 | L61: =Sheet7!H56/Sheet2!$M$31 -> 0.2181935 | M61: =Sheet7!H56/VLOOKUP(Sheet7!$G56,Sheet2!$A$2:$N$29,13,FALSE) -> 0.28217413 | O61: =Sheet7!G55 -> Ascendant | P61: =Sheet7!H55/VLOOKUP(Sheet7!$G55,Sheet2!$A$2:$O$29,15,FALSE) -> 297.10445 | Q61: =Sheet7!H55/Sheet2!$M$31 -> 0.23673661 | R61: =Sheet7!P55/VLOOKUP(Sheet7!$G55,Sheet2!$A$2:$N$29,13,FALSE) -> 0.34091307 | T61: =Sheet7!G62 -> Aeromancess | U61: =Sheet7!I62 -> 31.003194 | W61: =Sheet7!G56 -> Defiler | X61: =Sheet7!I56/VLOOKUP(Sheet7!$G56,Sheet2!$A$2:$O$29,15,FALSE) -> 24.22554
A62: =Sheet2!A16 -> Defiler | B62: =Sheet2!P16 -> 51 | D62: =Sheet2!A6 -> Dread Shaman | E62: =Sheet2!Q6 -> 4.85 | G62: =Sheet2!A22 -> Aeromancess | H62: =SUMIF(Sheet5!$B$24:$B$59,Sheet7!G62,Sheet5!$H$24:$H$59) -> 558.0575 | I62: =SUMIF(Sheet5!$B$24:$B$59,Sheet7!G62,Sheet5!$Q$24:$Q$59) -> 31.003194 | J62: =Sheet7!G51 -> Divine Wizard | K62: =Sheet7!H51 -> 278.355 | L62: =Sheet7!H51/Sheet2!$M$31 -> 0.21540188 | M62: =Sheet7!H51/VLOOKUP(Sheet7!$G51,Sheet2!$A$2:$N$29,13,FALSE) -> 0.29078611 | O62: =Sheet7!G61 -> Wretched Chef | P62: =Sheet7!H61/VLOOKUP(Sheet7!$G61,Sheet2!$A$2:$O$29,15,FALSE) -> 243.11261 | Q62: =Sheet7!H61/Sheet2!$M$31 -> 0.15641796 | R62: =Sheet7!P61/VLOOKUP(Sheet7!$G61,Sheet2!$A$2:$N$29,13,FALSE) -> 0.19115615 | T62: =Sheet7!G61 -> Wretched Chef | U62: =Sheet7!I61 -> 25.266562 | W62: =Sheet7!G62 -> Aeromancess | X62: =Sheet7!I62/VLOOKUP(Sheet7!$G62,Sheet2!$A$2:$O$29,15,FALSE) -> 22.569978
A63: =Sheet2!A22 -> Aeromancess | B63: =Sheet2!P22 -> 50 | D63: =Sheet2!A22 -> Aeromancess | E63: =Sheet2!Q22 -> 4.85 | G63: =Sheet2!A23 -> Mystic Swashbuckler | H63: =SUMIF(Sheet5!$B$24:$B$59,Sheet7!G63,Sheet5!$H$24:$H$59) -> 375.25 | I63: =SUMIF(Sheet5!$B$24:$B$59,Sheet7!G63,Sheet5!$Q$24:$Q$59) -> 31.270833 | J63: =Sheet7!G50 -> Acid Reaver | K63: =Sheet7!H50 -> 273.405 | L63: =Sheet7!H50/Sheet2!$M$31 -> 0.21157138 | M63: =Sheet7!H50/VLOOKUP(Sheet7!$G50,Sheet2!$A$2:$N$29,13,FALSE) -> 0.17514734 | O63: =Sheet7!G56 -> Defiler | P63: =Sheet7!H56/VLOOKUP(Sheet7!$G56,Sheet2!$A$2:$O$29,15,FALSE) -> 218.02986 | Q63: =Sheet7!H56/Sheet2!$M$31 -> 0.2181935 | R63: =Sheet7!P56/VLOOKUP(Sheet7!$G56,Sheet2!$A$2:$N$29,13,FALSE) -> 0.40686207 | T63: =Sheet7!G51 -> Divine Wizard | U63: =Sheet7!I51 -> 24.742667 | W63: =Sheet7!G64 -> Elder Treant | X63: =Sheet7!I64/VLOOKUP(Sheet7!$G64,Sheet2!$A$2:$O$29,15,FALSE) -> 21.397733
A64: =Sheet2!A5 -> Arboreal Crusader | B64: =Sheet2!P5 -> 49 | D64: =Sheet2!A15 -> Ascendant | E64: =Sheet2!Q15 -> 4.8 | G64: =Sheet2!A24 -> Elder Treant | H64: =SUMIF(Sheet5!$B$24:$B$59,Sheet7!G64,Sheet5!$H$24:$H$59) -> 341.32 | I64: =SUMIF(Sheet5!$B$24:$B$59,Sheet7!G64,Sheet5!$Q$24:$Q$59) -> 17.964211 | J64: =Sheet7!G45 -> Arboreal Crusader | K64: =Sheet7!H45 -> 253.26 | L64: =Sheet7!H45/Sheet2!$M$31 -> 0.1959824 | M64: =Sheet7!H45/VLOOKUP(Sheet7!$G45,Sheet2!$A$2:$N$29,13,FALSE) -> 0.25731267 | O64: =Sheet7!G51 -> Divine Wizard | P64: =Sheet7!H51/VLOOKUP(Sheet7!$G51,Sheet2!$A$2:$O$29,15,FALSE) -> 206.19345 | Q64: =Sheet7!H51/Sheet2!$M$31 -> 0.21540188 | R64: =Sheet7!P51/VLOOKUP(Sheet7!$G51,Sheet2!$A$2:$N$29,13,FALSE) -> 0.50306591 | T64: =Sheet7!G45 -> Arboreal Crusader | U64: =Sheet7!I45 -> 23.023636 | W64: =Sheet7!G58 -> Forlorn Martyr | X64: =Sheet7!I58/VLOOKUP(Sheet7!$G58,Sheet2!$A$2:$O$29,15,FALSE) -> 19.115446
A65: =Sheet2!A9 -> Glacial Tyrant | B65: =Sheet2!P9 -> 49 | D65: =Sheet2!A27 -> Incarnation | E65: =Sheet2!Q27 -> 4.8 | G65: =Sheet2!A25 -> Master of the Hunt | H65: =SUMIF(Sheet5!$B$24:$B$59,Sheet7!G65,Sheet5!$H$24:$H$59) -> 490 | I65: =SUMIF(Sheet5!$B$24:$B$59,Sheet7!G65,Sheet5!$Q$24:$Q$59) -> 61.25 | J65: =Sheet7!G61 -> Wretched Chef | K65: =Sheet7!H61 -> 202.1325 | L65: =Sheet7!H61/Sheet2!$M$31 -> 0.15641796 | M65: =Sheet7!H61/VLOOKUP(Sheet7!$G61,Sheet2!$A$2:$N$29,13,FALSE) -> 0.13005147 | O65: =Sheet7!G45 -> Arboreal Crusader | P65: =Sheet7!H45/VLOOKUP(Sheet7!$G45,Sheet2!$A$2:$O$29,15,FALSE) -> 192.89567 | Q65: =Sheet7!H45/Sheet2!$M$31 -> 0.1959824 | R65: =Sheet7!P45/VLOOKUP(Sheet7!$G45,Sheet2!$A$2:$N$29,13,FALSE) -> 0.86463904 | T65: =Sheet7!G58 -> Forlorn Martyr | U65: =Sheet7!I58 -> 20.389688 | W65: =Sheet7!G51 -> Divine Wizard | X65: =Sheet7!I51/VLOOKUP(Sheet7!$G51,Sheet2!$A$2:$O$29,15,FALSE) -> 18.328306
A66: =Sheet2!A12 -> Colossus | B66: =Sheet2!P12 -> 49 | D66: =Sheet2!A21 -> Wretched Chef | E66: =Sheet2!Q21 -> 4.7 | G66: =Sheet2!A26 -> Behemoth | H66: =SUMIF(Sheet5!$B$24:$B$59,Sheet7!G66,Sheet5!$H$24:$H$59) -> 359.6625 | I66: =SUMIF(Sheet5!$B$24:$B$59,Sheet7!G66,Sheet5!$Q$24:$Q$59) -> 44.957812 | J66: =Sheet7!G53 -> Crest Witch | K66: =Sheet7!H53 -> 181.275 | L66: =Sheet7!H53/Sheet2!$M$31 -> 0.14027761 | M66: =Sheet7!H53/VLOOKUP(Sheet7!$G53,Sheet2!$A$2:$N$29,13,FALSE) -> 0.17754652 | O66: =Sheet7!G58 -> Forlorn Martyr | P66: =Sheet7!H58/VLOOKUP(Sheet7!$G58,Sheet2!$A$2:$O$29,15,FALSE) -> 152.92357 | Q66: =Sheet7!H58/Sheet2!$M$31 -> 0.12622664 | R66: =Sheet7!P58/VLOOKUP(Sheet7!$G58,Sheet2!$A$2:$N$29,13,FALSE) -> 0.29443811 | T66: =Sheet7!G64 -> Elder Treant | U66: =Sheet7!I64 -> 17.964211 | W66: =Sheet7!G45 -> Arboreal Crusader | X66: =Sheet7!I45/VLOOKUP(Sheet7!$G45,Sheet2!$A$2:$O$29,15,FALSE) -> 17.53597
A67: =Sheet2!A14 -> Icespinner | B67: =Sheet2!P14 -> 49 | D67: =Sheet2!A26 -> Behemoth | E67: =Sheet2!Q26 -> 4.7 | G67: =Sheet2!A27 -> Incarnation | H67: =SUMIF(Sheet5!$B$24:$B$59,Sheet7!G67,Sheet5!$H$24:$H$59) -> 415.47 | I67: =SUMIF(Sheet5!$B$24:$B$59,Sheet7!G67,Sheet5!$Q$24:$Q$59) -> 34.6225 | J67: =Sheet7!G58 -> Forlorn Martyr | K67: =Sheet7!H58 -> 163.1175 | L67: =Sheet7!H58/Sheet2!$M$31 -> 0.12622664 | M67: =Sheet7!H58/VLOOKUP(Sheet7!$G58,Sheet2!$A$2:$N$29,13,FALSE) -> 0.13464094 | O67: =Sheet7!G53 -> Crest Witch | P67: =Sheet7!H53/VLOOKUP(Sheet7!$G53,Sheet2!$A$2:$O$29,15,FALSE) -> 143.22344 | Q67: =Sheet7!H53/Sheet2!$M$31 -> 0.14027761 | R67: =Sheet7!P53/VLOOKUP(Sheet7!$G53,Sheet2!$A$2:$N$29,13,FALSE) -> 0.43965796 | T67: =Sheet7!G53 -> Crest Witch | U67: =Sheet7!I53 -> 12.085 | W67: =Sheet7!G53 -> Crest Witch | X67: =Sheet7!I53/VLOOKUP(Sheet7!$G53,Sheet2!$A$2:$O$29,15,FALSE) -> 9.5482296
A68: =Sheet2!A21 -> Wretched Chef | B68: =Sheet2!P21 -> 49 | D68: =Sheet2!A11 -> Divine Wizard | E68: =Sheet2!Q11 -> 4.65 | G68: =Sheet2!A28 -> Sorrow Liege | H68: =SUMIF(Sheet5!$B$24:$B$59,Sheet7!G68,Sheet5!$H$24:$H$59) -> 360.775 | I68: =SUMIF(Sheet5!$B$24:$B$59,Sheet7!G68,Sheet5!$Q$24:$Q$59) -> 45.096875 | J68: =Sheet7!G42 -> Arcane Archer | K68: =Sheet7!H42 -> 0 | L68: =Sheet7!H42/Sheet2!$M$31 -> 0 | M68: =Sheet7!H42/VLOOKUP(Sheet7!$G42,Sheet2!$A$2:$N$29,13,FALSE) -> 0 | O68: =Sheet7!G42 -> Arcane Archer | P68: =Sheet7!H42/VLOOKUP(Sheet7!$G42,Sheet2!$A$2:$O$29,15,FALSE) -> 0 | Q68: =Sheet7!H42/Sheet2!$M$31 -> 0 | R68: =Sheet7!P42/VLOOKUP(Sheet7!$G42,Sheet2!$A$2:$N$29,13,FALSE) -> 1.0578249 | T68: =Sheet7!G42 -> Arcane Archer | U68: =Sheet7!I42 -> 0 | W68: =Sheet7!G42 -> Arcane Archer | X68: =Sheet7!I42/VLOOKUP(Sheet7!$G42,Sheet2!$A$2:$O$29,15,FALSE) -> 0
A69: =Sheet2!A26 -> Behemoth | B69: =Sheet2!P26 -> 48 | D69: =Sheet2!A12 -> Colossus | E69: =Sheet2!Q12 -> 4.6 | G69: =Sheet2!A29 -> Crimson Squall | H69: =SUMIF(Sheet5!$B$24:$B$59,Sheet7!G69,Sheet5!$H$24:$H$59) -> 881.025 | I69: =SUMIF(Sheet5!$B$24:$B$59,Sheet7!G69,Sheet5!$Q$24:$Q$59) -> 110.12812 | J69: =Sheet7!G46 -> Dread Shaman | K69: =Sheet7!H46 -> 0 | L69: =Sheet7!H46/Sheet2!$M$31 -> 0 | M69: =Sheet7!H46/VLOOKUP(Sheet7!$G46,Sheet2!$A$2:$N$29,13,FALSE) -> 0 | O69: =Sheet7!G46 -> Dread Shaman | P69: =Sheet7!H46/VLOOKUP(Sheet7!$G46,Sheet2!$A$2:$O$29,15,FALSE) -> 0 | Q69: =Sheet7!H46/Sheet2!$M$31 -> 0 | R69: =Sheet7!P46/VLOOKUP(Sheet7!$G46,Sheet2!$A$2:$N$29,13,FALSE) -> 0.81105037 | T69: =Sheet7!G46 -> Dread Shaman | U69: =Sheet7!I46 -> 0 | W69: =Sheet7!G46 -> Dread Shaman | X69: =Sheet7!I46/VLOOKUP(Sheet7!$G46,Sheet2!$A$2:$O$29,15,FALSE) -> 0
