Workbook

Sheet Sheet1
A1: Item | B1: Level | C1: Gold | D1: Crystal | E1: Str | F1: Agi | G1: Int | H1: Health | I1: Regen | J1: Mana | K1: Mana Regen | L1: Armor | M1: Damage | N1: Attack Speed | O1: Magic Reduction | P1: Evoc | Q1: Total Health | R1: Total Mana | S1: Total Attack Speed
A2: Circlet of Mana | B2: 0 | C2: 600 | D2: 0 | E2: 0 | F2: 0 | G2: 0 | H2: 0 | I2: 0 | J2: 0 | K2: 60 | L2: 0 | M2: 0 | N2: 0 | O2: 0 | P2: 0 | Q2: =H2+20*E2 -> 0 | R2: =J2+15*G2 -> 0 | S2: =N2+F2 -> 0
A3: =A2 -> Circlet of Mana | B3: 1 | C3: =C2*1.425 -> 855 | D3: =D2*1.4 -> 0 | E3: =E2*1.4 -> 0 | F3: =F2*1.4 -> 0 | G3: =G2*1.4 -> 0 | H3: =H2*1.4 -> 0 | I3: =I2*1.4 -> 0 | J3: =J2*1.4 -> 0 | K3: =K2*1.4 -> 84 | ... M3: =M2*1.4 -> 0 | N3: 0 | O3: 0 | P3: 0 | Q3: =H3+20*E3 -> 0 | R3: =J3+15*G3 -> 0 | S3: =N3+F3 -> 0
A4: =A3 -> Circlet of Mana | B4: 2 | C4: =C2*2.1 -> 1260 | D4: =D2*2 -> 0 | E4: =E2*2 -> 0 | F4: =F2*2 -> 0 | G4: =G2*2 -> 0 | H4: =H2*2 -> 0 | I4: =I2*2 -> 0 | J4: =J2*2 -> 0 | K4: =K2*2 -> 120 | ... M4: =M2*2 -> 0 | N4: 0 | O4: 0 | P4: 0 | Q4: =H4+20*E4 -> 0 | R4: =J4+15*G4 -> 0 | S4: =N4+F4 -> 0
A5: =A4 -> Circlet of Mana | B5: 3 | C5: =C2*3.1 -> 1860 | D5: =D2*2.8 -> 0 | E5: =E2*2.8 -> 0 | F5: =F2*2.8 -> 0 | G5: =G2*2.8 -> 0 | H5: =H2*2.8 -> 0 | I5: =I2*2.8 -> 0 | J5: =J2*2.8 -> 0 | K5: =K2*2.8 -> 168 | ... M5: =M2*2.8 -> 0 | N5: 0 | O5: 0 | P5: 0 | Q5: =H5+20*E5 -> 0 | R5: =J5+15*G5 -> 0 | S5: =N5+F5 -> 0
A6: =A5 -> Circlet of Mana | B6: 4 | C6: =C2*4.45 -> 2670 | D6: =D2*3.8 -> 0 | E6: =E2*3.8 -> 0 | F6: =F2*3.8 -> 0 | G6: =G2*3.8 -> 0 | H6: =H2*3.8 -> 0 | I6: =I2*3.8 -> 0 | J6: =J2*3.8 -> 0 | K6: =K2*3.8 -> 228 | ... M6: =M2*3.8 -> 0 | N6: 0 | O6: 0 | P6: 0 | Q6: =H6+20*E6 -> 0 | R6: =J6+15*G6 -> 0 | S6: =N6+F6 -> 0
A7: =A6 -> Circlet of Mana | B7: 5 | C7: =C2*6.25 -> 3750 | D7: =D2*5 -> 0 | E7: =E2*5 -> 0 | F7: =F2*5 -> 0 | G7: =G2*5 -> 0 | H7: =H2*5 -> 0 | I7: =I2*5 -> 0 | J7: =J2*5 -> 0 | K7: =K2*5 -> 300 | ... M7: =M2*5 -> 0 | N7: 0 | O7: 0 | P7: 0 | Q7: =H7+20*E7 -> 0 | R7: =J7+15*G7 -> 0 | S7: =N7+F7 -> 0
A8: Dexterous Ring | B8: 0 | C8: 560 | D8: 0 | E8: 0 | F8: 6 | G8: 0 | H8: 0 | I8: 0 | J8: 0 | K8: 0 | L8: 0 | M8: 0 | N8: 0 | O8: 0 | P8: 0 | Q8: =H8+20*E8 -> 0 | R8: =J8+15*G8 -> 0 | S8: =N8+F8 -> 6
A9: =A8 -> Dexterous Ring | B9: 1 | C9: =C8*1.425 -> 798 | D9: =D8*1.4 -> 0 | E9: =E8*1.4 -> 0 | F9: =F8*1.4 -> 8.4 | G9: =G8*1.4 -> 0 | H9: =H8*1.4 -> 0 | I9: =I8*1.4 -> 0 | J9: =J8*1.4 -> 0 | K9: =K8*1.4 -> 0 | ... P9: =P8*1.4 -> 0 | Q9: =H9+20*E9 -> 0 | R9: =J9+15*G9 -> 0 | S9: =N9+F9 -> 8.4
A10: =A9 -> Dexterous Ring | B10: 2 | C10: =C8*2.1 -> 1176 | D10: =D8*2 -> 0 | E10: =E8*2 -> 0 | F10: =F8*2 -> 12 | G10: =G8*2 -> 0 | H10: =H8*2 -> 0 | I10: =I8*2 -> 0 | J10: =J8*2 -> 0 | K10: =K8*2 -> 0 | ... P10: =P8*2 -> 0 | Q10: =H10+20*E10 -> 0 | R10: =J10+15*G10 -> 0 | S10: =N10+F10 -> 12
A11: =A10 -> Dexterous Ring | B11: 3 | C11: =C8*3.1 -> 1736 | D11: =D8*2.8 -> 0 | E11: =E8*2.8 -> 0 | F11: =F8*2.8 -> 16.8 | G11: =G8*2.8 -> 0 | H11: =H8*2.8 -> 0 | I11: =I8*2.8 -> 0 | J11: =J8*2.8 -> 0 | K11: =K8*2.8 -> 0 | ... P11: =P8*2.8 -> 0 | Q11: =H11+20*E11 -> 0 | R11: =J11+15*G11 -> 0 | S11: =N11+F11 -> 16.8
A12: =A11 -> Dexterous Ring | B12: 4 | C12: =C8*4.45 -> 2492 | D12: =D8*3.8 -> 0 | E12: =E8*3.8 -> 0 | F12: =F8*3.8 -> 22.8 | G12: =G8*3.8 -> 0 | H12: =H8*3.8 -> 0 | I12: =I8*3.8 -> 0 | J12: =J8*3.8 -> 0 | K12: =K8*3.8 -> 0 | ... P12: =P8*3.8 -> 0 | Q12: =H12+20*E12 -> 0 | R12: =J12+15*G12 -> 0 | S12: =N12+F12 -> 22.8
A13: =A12 -> Dexterous Ring | B13: 5 | C13: =C8*6.25 -> 3500 | D13: =D8*5 -> 0 | E13: =E8*5 -> 0 | F13: =F8*5 -> 30 | G13: =G8*5 -> 0 | H13: =H8*5 -> 0 | I13: =I8*5 -> 0 | J13: =J8*5 -> 0 | K13: =K8*5 -> 0 | ... P13: =P8*5 -> 0 | Q13: =H13+20*E13 -> 0 | R13: =J13+15*G13 -> 0 | S13: =N13+F13 -> 30
A14: Dragonscale Mask | B14: 0 | C14: 760 | D14: 0 | E14: 2 | F14: 0 | G14: 2 | H14: 0 | I14: 0 | J14: 0 | K14: 0 | L14: 5 | M14: 0 | N14: 0 | O14: 3 | P14: 0 | Q14: =H14+20*E14 -> 40 | R14: =J14+15*G14 -> 30 | S14: =N14+F14 -> 0
A15: =A14 -> Dragonscale Mask | B15: 1 | C15: =C14*1.425 -> 1083 | D15: =D14*1.4 -> 0 | E15: =E14*1.4 -> 2.8 | F15: =F14*1.4 -> 0 | G15: =G14*1.4 -> 2.8 | H15: =H14*1.4 -> 0 | I15: =I14*1.4 -> 0 | J15: =J14*1.4 -> 0 | K15: =K14*1.4 -> 0 | ... P15: =P14*1.4 -> 0 | Q15: =H15+20*E15 -> 56 | R15: =J15+15*G15 -> 42 | S15: =N15+F15 -> 0
A16: =A15 -> Dragonscale Mask | B16: 2 | C16: =C14*2.1 -> 1596 | D16: =D14*2 -> 0 | E16: =E14*2 -> 4 | F16: =F14*2 -> 0 | G16: =G14*2 -> 4 | H16: =H14*2 -> 0 | I16: =I14*2 -> 0 | J16: =J14*2 -> 0 | K16: =K14*2 -> 0 | ... M16: =M14*2 -> 0 | N16: =N15*1.4 -> 0 | O16: =O15*1.4 -> 5.88 | P16: =P15*1.4 -> 0 | Q16: =H16+20*E16 -> 80 | R16: =J16+15*G16 -> 60 | S16: =N16+F16 -> 0
A17: =A16 -> Dragonscale Mask | B17: 3 | C17: =C14*3.1 -> 2356 | D17: =D14*2.8 -> 0 | E17: =E14*2.8 -> 5.6 | F17: =F14*2.8 -> 0 | G17: =G14*2.8 -> 5.6 | H17: =H14*2.8 -> 0 | I17: =I14*2.8 -> 0 | J17: =J14*2.8 -> 0 | K17: =K14*2.8 -> 0 | ... M17: =M14*2.8 -> 0 | N17: =N16*1.4 -> 0 | O17: =O16*1.4 -> 8.232 | P17: =P16*1.4 -> 0 | Q17: =H17+20*E17 -> 112 | R17: =J17+15*G17 -> 84 | S17: =N17+F17 -> 0
A18: =A17 -> Dragonscale Mask | B18: 4 | C18: =C14*4.45 -> 3382 | D18: =D14*3.8 -> 0 | E18: =E14*3.8 -> 7.6 | F18: =F14*3.8 -> 0 | G18: =G14*3.8 -> 7.6 | H18: =H14*3.8 -> 0 | I18: =I14*3.8 -> 0 | J18: =J14*3.8 -> 0 | K18: =K14*3.8 -> 0 | ... M18: =M14*3.8 -> 0 | N18: =N17*1.4 -> 0 | O18: =O17*1.4 -> 11.5248 | P18: =P17*1.4 -> 0 | Q18: =H18+20*E18 -> 152 | R18: =J18+15*G18 -> 114 | S18: =N18+F18 -> 0
A19: =A18 -> Dragonscale Mask | B19: 5 | C19: =C14*6.25 -> 4750 | D19: =D14*5 -> 0 | E19: =E14*5 -> 10 | F19: =F14*5 -> 0 | G19: =G14*5 -> 10 | H19: =H14*5 -> 0 | I19: =I14*5 -> 0 | J19: =J14*5 -> 0 | K19: =K14*5 -> 0 | ... M19: =M14*5 -> 0 | N19: =N18*1.4 -> 0 | O19: =O18*1.4 -> 16.13472 | P19: =P18*1.4 -> 0 | Q19: =H19+20*E19 -> 200 | R19: =J19+15*G19 -> 150 | S19: =N19+F19 -> 0
A20: Executioner's Hood | B20: 0 | C20: 630 | D20: 0 | E20: 0 | F20: 0 | G20: 0 | H20: 0 | I20: 0 | J20: 0 | K20: 0 | L20: 4 | M20: 9 | N20: 0 | O20: 0 | P20: 0 | Q20: =H20+20*E20 -> 0 | R20: =J20+15*G20 -> 0 | S20: =N20+F20 -> 0
A21: =A20 -> Executioner's Hood | B21: 1 | C21: =C20*1.425 -> 897.75 | D21: =D20*1.4 -> 0 | E21: =E20*1.4 -> 0 | F21: =F20*1.4 -> 0 | G21: =G20*1.4 -> 0 | H21: =H20*1.4 -> 0 | I21: =I20*1.4 -> 0 | J21: =J20*1.4 -> 0 | K21: =K20*1.4 -> 0 | ... P21: =P20*1.4 -> 0 | Q21: =H21+20*E21 -> 0 | R21: =J21+15*G21 -> 0 | S21: =N21+F21 -> 0
A22: =A21 -> Executioner's Hood | B22: 2 | C22: =C20*2.1 -> 1323 | D22: =D20*2 -> 0 | E22: =E20*2 -> 0 | F22: =F20*2 -> 0 | G22: =G20*2 -> 0 | H22: =H20*2 -> 0 | I22: =I20*2 -> 0 | J22: =J20*2 -> 0 | K22: =K20*2 -> 0 | ... P22: =P20*2 -> 0 | Q22: =H22+20*E22 -> 0 | R22: =J22+15*G22 -> 0 | S22: =N22+F22 -> 0
A23: =A22 -> Executioner's Hood | B23: 3 | C23: =C20*3.1 -> 1953 | D23: =D20*2.8 -> 0 | E23: =E20*2.8 -> 0 | F23: =F20*2.8 -> 0 | G23: =G20*2.8 -> 0 | H23: =H20*2.8 -> 0 | I23: =I20*2.8 -> 0 | J23: =J20*2.8 -> 0 | K23: =K20*2.8 -> 0 | ... P23: =P20*2.8 -> 0 | Q23: =H23+20*E23 -> 0 | R23: =J23+15*G23 -> 0 | S23: =N23+F23 -> 0
A24: =A23 -> Executioner's Hood | B24: 4 | C24: =C20*4.45 -> 2803.5 | D24: =D20*3.8 -> 0 | E24: =E20*3.8 -> 0 | F24: =F20*3.8 -> 0 | G24: =G20*3.8 -> 0 | H24: =H20*3.8 -> 0 | I24: =I20*3.8 -> 0 | J24: =J20*3.8 -> 0 | K24: =K20*3.8 -> 0 | ... P24: =P20*3.8 -> 0 | Q24: =H24+20*E24 -> 0 | R24: =J24+15*G24 -> 0 | S24: =N24+F24 -> 0
A25: =A24 -> Executioner's Hood | B25: 5 | C25: =C20*6.25 -> 3937.5 | D25: =D20*5 -> 0 | E25: =E20*5 -> 0 | F25: =F20*5 -> 0 | G25: =G20*5 -> 0 | H25: =H20*5 -> 0 | I25: =I20*5 -> 0 | J25: =J20*5 -> 0 | K25: =K20*5 -> 0 | ... P25: =P20*5 -> 0 | Q25: =H25+20*E25 -> 0 | R25: =J25+15*G25 -> 0 | S25: =N25+F25 -> 0
A26: Felskin Gauntlents | B26: 0 | C26: 700 | D26: 0 | E26: 0 | F26: 0 | G26: 0 | H26: 60 | I26: 0 | J26: 0 | K26: 0 | L26: 0 | M26: 0 | N26: 0 | O26: 0 | P26: 8 | Q26: =H26+20*E26 -> 60 | R26: =J26+15*G26 -> 0 | S26: =N26+F26 -> 0
A27: =A26 -> Felskin Gauntlents | B27: 1 | C27: =C26*1.425 -> 997.5 | D27: =D26*1.4 -> 0 | E27: =E26*1.4 -> 0 | F27: =F26*1.4 -> 0 | G27: =G26*1.4 -> 0 | H27: =H26*1.4 -> 84 | I27: =I26*1.4 -> 0 | J27: =J26*1.4 -> 0 | K27: =K26*1.4 -> 0 | ... P27: =P26*1.4 -> 11.2 | Q27: =H27+20*E27 -> 84 | R27: =J27+15*G27 -> 0 | S27: =N27+F27 -> 0
A28: =A27 -> Felskin Gauntlents | B28: 2 | C28: =C26*2.1 -> 1470 | D28: =D26*2 -> 0 | E28: =E26*2 -> 0 | F28: =F26*2 -> 0 | G28: =G26*2 -> 0 | H28: =H26*2 -> 120 | I28: =I26*2 -> 0 | J28: =J26*2 -> 0 | K28: =K26*2 -> 0 | ... P28: =P26*2 -> 16 | Q28: =H28+20*E28 -> 120 | R28: =J28+15*G28 -> 0 | S28: =N28+F28 -> 0
A29: =A28 -> Felskin Gauntlents | B29: 3 | C29: =C26*3.1 -> 2170 | D29: =D26*2.8 -> 0 | E29: =E26*2.8 -> 0 | F29: =F26*2.8 -> 0 | G29: =G26*2.8 -> 0 | H29: =H26*2.8 -> 168 | I29: =I26*2.8 -> 0 | J29: =J26*2.8 -> 0 | K29: =K26*2.8 -> 0 | ... P29: =P26*2.8 -> 22.4 | Q29: =H29+20*E29 -> 168 | R29: =J29+15*G29 -> 0 | S29: =N29+F29 -> 0
A30: =A29 -> Felskin Gauntlents | B30: 4 | C30: =C26*4.45 -> 3115 | D30: =D26*3.8 -> 0 | E30: =E26*3.8 -> 0 | F30: =F26*3.8 -> 0 | G30: =G26*3.8 -> 0 | H30: =H26*3.8 -> 228 | I30: =I26*3.8 -> 0 | J30: =J26*3.8 -> 0 | K30: =K26*3.8 -> 0 | ... P30: =P26*3.8 -> 30.4 | Q30: =H30+20*E30 -> 228 | R30: =J30+15*G30 -> 0 | S30: =N30+F30 -> 0
A31: =A30 -> Felskin Gauntlents | B31: 5 | C31: =C26*6.25 -> 4375 | D31: =D26*5 -> 0 | E31: =E26*5 -> 0 | F31: =F26*5 -> 0 | G31: =G26*5 -> 0 | H31: =H26*5 -> 300 | I31: =I26*5 -> 0 | J31: =J26*5 -> 0 | K31: =K26*5 -> 0 | ... P31: =P26*5 -> 40 | Q31: =H31+20*E31 -> 300 | R31: =J31+15*G31 -> 0 | S31: =N31+F31 -> 0
A32: Gloves of Evocation | B32: 0 | C32: 640 | D32: 0 | E32: 0 | F32: 0 | G32: 0 | H32: 0 | I32: 0 | J32: 0 | K32: 0 | L32: 0 | M32: 0 | N32: 0 | O32: 0 | P32: 4 | Q32: =H32+20*E32 -> 0 | R32: =J32+15*G32 -> 0 | S32: =N32+F32 -> 0
A33: =A32 -> Gloves of Evocation | B33: 1 | C33: =C32*1.425 -> 912 | D33: =D32*1.4 -> 0 | E33: =E32*1.4 -> 0 | F33: =F32*1.4 -> 0 | G33: =G32*1.4 -> 0 | H33: =H32*1.4 -> 0 | I33: =I32*1.4 -> 0 | J33: =J32*1.4 -> 0 | K33: =K32*1.4 -> 0 | ... P33: =P32*1.4 -> 5.6 | Q33: =H33+20*E33 -> 0 | R33: =J33+15*G33 -> 0 | S33: =N33+F33 -> 0
A34: =A33 -> Gloves of Evocation | B34: 2 | C34: =C32*2.1 -> 1344 | D34: =D32*2 -> 0 | E34: =E32*2 -> 0 | F34: =F32*2 -> 0 | G34: =G32*2 -> 0 | H34: =H32*2 -> 0 | I34: =I32*2 -> 0 | J34: =J32*2 -> 0 | K34: =K32*2 -> 0 | ... P34: =P32*2 -> 8 | Q34: =H34+20*E34 -> 0 | R34: =J34+15*G34 -> 0 | S34: =N34+F34 -> 0
A35: =A34 -> Gloves of Evocation | B35: 3 | C35: =C32*3.1 -> 1984 | D35: =D32*2.8 -> 0 | E35: =E32*2.8 -> 0 | F35: =F32*2.8 -> 0 | G35: =G32*2.8 -> 0 | H35: =H32*2.8 -> 0 | I35: =I32*2.8 -> 0 | J35: =J32*2.8 -> 0 | K35: =K32*2.8 -> 0 | ... P35: =P32*2.8 -> 11.2 | Q35: =H35+20*E35 -> 0 | R35: =J35+15*G35 -> 0 | S35: =N35+F35 -> 0
A36: =A35 -> Gloves of Evocation | B36: 4 | C36: =C32*4.45 -> 2848 | D36: =D32*3.8 -> 0 | E36: =E32*3.8 -> 0 | F36: =F32*3.8 -> 0 | G36: =G32*3.8 -> 0 | H36: =H32*3.8 -> 0 | I36: =I32*3.8 -> 0 | J36: =J32*3.8 -> 0 | K36: =K32*3.8 -> 0 | ... P36: =P32*3.8 -> 15.2 | Q36: =H36+20*E36 -> 0 | R36: =J36+15*G36 -> 0 | S36: =N36+F36 -> 0
A37: =A36 -> Gloves of Evocation | B37: 5 | C37: =C32*6.25 -> 4000 | D37: =D32*5 -> 0 | E37: =E32*5 -> 0 | F37: =F32*5 -> 0 | G37: =G32*5 -> 0 | H37: =H32*5 -> 0 | I37: =I32*5 -> 0 | J37: =J32*5 -> 0 | K37: =K32*5 -> 0 | ... P37: =P32*5 -> 20 | Q37: =H37+20*E37 -> 0 | R37: =J37+15*G37 -> 0 | S37: =N37+F37 -> 0
A38: Helm of Champions | B38: 0 | C38: 640 | D38: 0 | E38: 1 | F38: 3 | G38: 0 | H38: 0 | I38: 0 | J38: 0 | K38: 0 | L38: 3 | M38: 0 | N38: 0 | O38: 0 | P38: 0 | Q38: =H38+20*E38 -> 20 | R38: =J38+15*G38 -> 0 | S38: =N38+F38 -> 3
A39: =A38 -> Helm of Champions | B39: 1 | C39: =C38*1.425 -> 912 | D39: =D38*1.4 -> 0 | E39: =E38*1.4 -> 1.4 | F39: =F38*1.4 -> 4.2 | G39: =G38*1.4 -> 0 | H39: =H38*1.4 -> 0 | I39: =I38*1.4 -> 0 | J39: =J38*1.4 -> 0 | K39: =K38*1.4 -> 0 | ... P39: =P38*1.4 -> 0 | Q39: =H39+20*E39 -> 28 | R39: =J39+15*G39 -> 0 | S39: =N39+F39 -> 4.2
A40: =A39 -> Helm of Champions | B40: 2 | C40: =C38*2.1 -> 1344 | D40: =D38*2 -> 0 | E40: =E38*2 -> 2 | F40: =F38*2 -> 6 | G40: =G38*2 -> 0 | H40: =H38*2 -> 0 | I40: =I38*2 -> 0 | J40: =J38*2 -> 0 | K40: =K38*2 -> 0 | ... P40: =P38*2 -> 0 | Q40: =H40+20*E40 -> 40 | R40: =J40+15*G40 -> 0 | S40: =N40+F40 -> 6
A41: =A40 -> Helm of Champions | B41: 3 | C41: =C38*3.1 -> 1984 | D41: =D38*2.8 -> 0 | E41: =E38*2.8 -> 2.8 | F41: =F38*2.8 -> 8.4 | G41: =G38*2.8 -> 0 | H41: =H38*2.8 -> 0 | I41: =I38*2.8 -> 0 | J41: =J38*2.8 -> 0 | K41: =K38*2.8 -> 0 | ... P41: =P38*2.8 -> 0 | Q41: =H41+20*E41 -> 56 | R41: =J41+15*G41 -> 0 | S41: =N41+F41 -> 8.4
A42: =A41 -> Helm of Champions | B42: 4 | C42: =C38*4.45 -> 2848 | D42: =D38*3.8 -> 0 | E42: =E38*3.8 -> 3.8 | F42: =F38*3.8 -> 11.4 | G42: =G38*3.8 -> 0 | H42: =H38*3.8 -> 0 | I42: =I38*3.8 -> 0 | J42: =J38*3.8 -> 0 | K42: =K38*3.8 -> 0 | ... P42: =P38*3.8 -> 0 | Q42: =H42+20*E42 -> 76 | R42: =J42+15*G42 -> 0 | S42: =N42+F42 -> 11.4
A43: =A42 -> Helm of Champions | B43: 5 | C43: =C38*6.25 -> 4000 | D43: =D38*5 -> 0 | E43: =E38*5 -> 5 | F43: =F38*5 -> 15 | G43: =G38*5 -> 0 | H43: =H38*5 -> 0 | I43: =I38*5 -> 0 | J43: =J38*5 -> 0 | K43: =K38*5 -> 0 | ... P43: =P38*5 -> 0 | Q43: =H43+20*E43 -> 100 | R43: =J43+15*G43 -> 0 | S43: =N43+F43 -> 15
A44: Hydra Mail | B44: 0 | C44: 500 | D44: 0 | E44: 0 | F44: 0 | G44: 0 | H44: 0 | I44: 1 | J44: 0 | K44: 0 | L44: 9 | M44: 0 | N44: 0 | O44: 0 | P44: 0 | Q44: =H44+20*E44 -> 0 | R44: =J44+15*G44 -> 0 | S44: =N44+F44 -> 0
A45: =A44 -> Hydra Mail | B45: 1 | C45: =C44*1.425 -> 712.5 | D45: =D44*1.4 -> 0 | E45: =E44*1.4 -> 0 | F45: =F44*1.4 -> 0 | G45: =G44*1.4 -> 0 | H45: =H44*1.4 -> 0 | I45: =I44*1.4 -> 1.4 | J45: =J44*1.4 -> 0 | K45: =K44*1.4 -> 0 | ... P45: =P44*1.4 -> 0 | Q45: =H45+20*E45 -> 0 | R45: =J45+15*G45 -> 0 | S45: =N45+F45 -> 0
A46: =A45 -> Hydra Mail | B46: 2 | C46: =C44*2.1 -> 1050 | D46: =D44*2 -> 0 | E46: =E44*2 -> 0 | F46: =F44*2 -> 0 | G46: =G44*2 -> 0 | H46: =H44*2 -> 0 | I46: =I44*2 -> 2 | J46: =J44*2 -> 0 | K46: =K44*2 -> 0 | ... P46: =P44*2 -> 0 | Q46: =H46+20*E46 -> 0 | R46: =J46+15*G46 -> 0 | S46: =N46+F46 -> 0
A47: =A46 -> Hydra Mail | B47: 3 | C47: =C44*3.1 -> 1550 | D47: =D44*2.8 -> 0 | E47: =E44*2.8 -> 0 | F47: =F44*2.8 -> 0 | G47: =G44*2.8 -> 0 | H47: =H44*2.8 -> 0 | I47: =I44*2.8 -> 2.8 | J47: =J44*2.8 -> 0 | K47: =K44*2.8 -> 0 | ... P47: =P44*2.8 -> 0 | Q47: =H47+20*E47 -> 0 | R47: =J47+15*G47 -> 0 | S47: =N47+F47 -> 0
A48: =A47 -> Hydra Mail | B48: 4 | C48: =C44*4.45 -> 2225 | D48: =D44*3.8 -> 0 | E48: =E44*3.8 -> 0 | F48: =F44*3.8 -> 0 | G48: =G44*3.8 -> 0 | H48: =H44*3.8 -> 0 | I48: =I44*3.8 -> 3.8 | J48: =J44*3.8 -> 0 | K48: =K44*3.8 -> 0 | ... P48: =P44*3.8 -> 0 | Q48: =H48+20*E48 -> 0 | R48: =J48+15*G48 -> 0 | S48: =N48+F48 -> 0
A49: =A48 -> Hydra Mail | B49: 5 | C49: =C44*6.25 -> 3125 | D49: =D44*5 -> 0 | E49: =E44*5 -> 0 | F49: =F44*5 -> 0 | G49: =G44*5 -> 0 | H49: =H44*5 -> 0 | I49: =I44*5 -> 5 | J49: =J44*5 -> 0 | K49: =K44*5 -> 0 | ... P49: =P44*5 -> 0 | Q49: =H49+20*E49 -> 0 | R49: =J49+15*G49 -> 0 | S49: =N49+F49 -> 0
A50: Knight's Armor | B50: 0 | C50: 500 | D50: 0 | E50: 1 | F50: 0 | G50: 0 | H50: 0 | I50: 0 | J50: 0 | K50: 0 | L50: 12 | M50: 0 | N50: 0 | O50: 0 | P50: 0 | Q50: =H50+20*E50 -> 20 | R50: =J50+15*G50 -> 0 | S50: =N50+F50 -> 0
A51: =A50 -> Knight's Armor | B51: 1 | C51: =C50*1.425 -> 712.5 | D51: =D50*1.4 -> 0 | E51: =E50*1.4 -> 1.4 | F51: =F50*1.4 -> 0 | G51: =G50*1.4 -> 0 | H51: =H50*1.4 -> 0 | I51: =I50*1.4 -> 0 | J51: =J50*1.4 -> 0 | K51: =K50*1.4 -> 0 | ... P51: =P50*1.4 -> 0 | Q51: =H51+20*E51 -> 28 | R51: =J51+15*G51 -> 0 | S51: =N51+F51 -> 0
A52: =A51 -> Knight's Armor | B52: 2 | C52: =C50*2.1 -> 1050 | D52: =D50*2 -> 0 | E52: =E50*2 -> 2 | F52: =F50*2 -> 0 | G52: =G50*2 -> 0 | H52: =H50*2 -> 0 | I52: =I50*2 -> 0 | J52: =J50*2 -> 0 | K52: =K50*2 -> 0 | ... P52: =P50*2 -> 0 | Q52: =H52+20*E52 -> 40 | R52: =J52+15*G52 -> 0 | S52: =N52+F52 -> 0
A53: =A52 -> Knight's Armor | B53: 3 | C53: =C50*3.1 -> 1550 | D53: =D50*2.8 -> 0 | E53: =E50*2.8 -> 2.8 | F53: =F50*2.8 -> 0 | G53: =G50*2.8 -> 0 | H53: =H50*2.8 -> 0 | I53: =I50*2.8 -> 0 | J53: =J50*2.8 -> 0 | K53: =K50*2.8 -> 0 | ... P53: =P50*2.8 -> 0 | Q53: =H53+20*E53 -> 56 | R53: =J53+15*G53 -> 0 | S53: =N53+F53 -> 0
A54: =A53 -> Knight's Armor | B54: 4 | C54: =C50*4.45 -> 2225 | D54: =D50*3.8 -> 0 | E54: =E50*3.8 -> 3.8 | F54: =F50*3.8 -> 0 | G54: =G50*3.8 -> 0 | H54: =H50*3.8 -> 0 | I54: =I50*3.8 -> 0 | J54: =J50*3.8 -> 0 | K54: =K50*3.8 -> 0 | ... P54: =P50*3.8 -> 0 | Q54: =H54+20*E54 -> 76 | R54: =J54+15*G54 -> 0 | S54: =N54+F54 -> 0
A55: =A54 -> Knight's Armor | B55: 5 | C55: =C50*6.25 -> 3125 | D55: =D50*5 -> 0 | E55: =E50*5 -> 5 | F55: =F50*5 -> 0 | G55: =G50*5 -> 0 | H55: =H50*5 -> 0 | I55: =I50*5 -> 0 | J55: =J50*5 -> 0 | K55: =K50*5 -> 0 | ... P55: =P50*5 -> 0 | Q55: =H55+20*E55 -> 100 | R55: =J55+15*G55 -> 0 | S55: =N55+F55 -> 0
A56: Leather Armor | B56: 0 | C56: 460 | D56: 0 | E56: 0 | F56: 0 | G56: 0 | H56: 0 | I56: 0 | J56: 0 | K56: 0 | L56: 5 | M56: 0 | N56: 8 | O56: 0 | P56: 0 | Q56: =H56+20*E56 -> 0 | R56: =J56+15*G56 -> 0 | S56: =N56+F56 -> 8
A57: =A56 -> Leather Armor | B57: 1 | C57: =C56*1.425 -> 655.5 | D57: =D56*1.4 -> 0 | E57: =E56*1.4 -> 0 | F57: =F56*1.4 -> 0 | G57: =G56*1.4 -> 0 | H57: =H56*1.4 -> 0 | I57: =I56*1.4 -> 0 | J57: =J56*1.4 -> 0 | K57: =K56*1.4 -> 0 | ... M57: =M56*1.4 -> 0 | N57: 10 | O57: =O56*1.4 -> 0 | P57: =P56*1.4 -> 0 | Q57: =H57+20*E57 -> 0 | R57: =J57+15*G57 -> 0 | S57: =N57+F57 -> 10
A58: =A57 -> Leather Armor | B58: 2 | C58: =C56*2.1 -> 966 | D58: =D56*2 -> 0 | E58: =E56*2 -> 0 | F58: =F56*2 -> 0 | G58: =G56*2 -> 0 | H58: =H56*2 -> 0 | I58: =I56*2 -> 0 | J58: =J56*2 -> 0 | K58: =K56*2 -> 0 | ... M58: =M56*2 -> 0 | N58: 13 | O58: =O56*2 -> 0 | P58: =P56*2 -> 0 | Q58: =H58+20*E58 -> 0 | R58: =J58+15*G58 -> 0 | S58: =N58+F58 -> 13
A59: =A58 -> Leather Armor | B59: 3 | C59: =C56*3.1 -> 1426 | D59: =D56*2.8 -> 0 | E59: =E56*2.8 -> 0 | F59: =F56*2.8 -> 0 | G59: =G56*2.8 -> 0 | H59: =H56*2.8 -> 0 | I59: =I56*2.8 -> 0 | J59: =J56*2.8 -> 0 | K59: =K56*2.8 -> 0 | L59: 12 | M59: =M56*2.8 -> 0 | N59: 16 | O59: =O56*2.8 -> 0 | P59: =P56*2.8 -> 0 | Q59: =H59+20*E59 -> 0 | R59: =J59+15*G59 -> 0 | S59: =N59+F59 -> 16
A60: =A59 -> Leather Armor | B60: 4 | C60: =C56*4.45 -> 2047 | D60: =D56*3.8 -> 0 | E60: =E56*3.8 -> 0 | F60: =F56*3.8 -> 0 | G60: =G56*3.8 -> 0 | H60: =H56*3.8 -> 0 | I60: =I56*3.8 -> 0 | J60: =J56*3.8 -> 0 | K60: =K56*3.8 -> 0 | L60: 16 | M60: =M56*3.8 -> 0 | N60: 20 | O60: =O56*3.8 -> 0 | P60: =P56*3.8 -> 0 | Q60: =H60+20*E60 -> 0 | R60: =J60+15*G60 -> 0 | S60: =N60+F60 -> 20
A61: =A60 -> Leather Armor | B61: 5 | C61: =C56*6.25 -> 2875 | D61: =D56*5 -> 0 | E61: =E56*5 -> 0 | F61: =F56*5 -> 0 | G61: =G56*5 -> 0 | H61: =H56*5 -> 0 | I61: =I56*5 -> 0 | J61: =J56*5 -> 0 | K61: =K56*5 -> 0 | L61: 20 | M61: =M56*5 -> 0 | N61: 25 | O61: =O56*5 -> 0 | P61: =P56*5 -> 0 | Q61: =H61+20*E61 -> 0 | R61: =J61+15*G61 -> 0 | S61: =N61+F61 -> 25
A62: Orb of Battle | B62: 0 | C62: 350 | D62: 0 | E62: 0 | F62: 0 | G62: 0 | H62: 0 | I62: 0 | J62: 0 | K62: 0 | L62: 0 | M62: 7 | N62: 0 | O62: 0 | P62: 0 | Q62: =H62+20*E62 -> 0 | R62: =J62+15*G62 -> 0 | S62: =N62+F62 -> 0
A63: =A62 -> Orb of Battle | B63: 1 | C63: =C62*1.425 -> 498.75 | D63: =D62*1.4 -> 0 | E63: =E62*1.4 -> 0 | F63: =F62*1.4 -> 0 | G63: =G62*1.4 -> 0 | H63: =H62*1.4 -> 0 | I63: =I62*1.4 -> 0 | J63: =J62*1.4 -> 0 | K63: =K62*1.4 -> 0 | ... P63: =P62*1.4 -> 0 | Q63: =H63+20*E63 -> 0 | R63: =J63+15*G63 -> 0 | S63: =N63+F63 -> 0
A64: =A63 -> Orb of Battle | B64: 2 | C64: =C62*2.1 -> 735 | D64: =D62*2 -> 0 | E64: =E62*2 -> 0 | F64: =F62*2 -> 0 | G64: =G62*2 -> 0 | H64: =H62*2 -> 0 | I64: =I62*2 -> 0 | J64: =J62*2 -> 0 | K64: =K62*2 -> 0 | ... P64: =P62*2 -> 0 | Q64: =H64+20*E64 -> 0 | R64: =J64+15*G64 -> 0 | S64: =N64+F64 -> 0
A65: =A64 -> Orb of Battle | B65: 3 | C65: =C62*3.1 -> 1085 | D65: =D62*2.8 -> 0 | E65: =E62*2.8 -> 0 | F65: =F62*2.8 -> 0 | G65: =G62*2.8 -> 0 | H65: =H62*2.8 -> 0 | I65: =I62*2.8 -> 0 | J65: =J62*2.8 -> 0 | K65: =K62*2.8 -> 0 | ... P65: =P62*2.8 -> 0 | Q65: =H65+20*E65 -> 0 | R65: =J65+15*G65 -> 0 | S65: =N65+F65 -> 0
A66: =A65 -> Orb of Battle | B66: 4 | C66: =C62*4.45 -> 1557.5 | D66: =D62*3.8 -> 0 | E66: =E62*3.8 -> 0 | F66: =F62*3.8 -> 0 | G66: =G62*3.8 -> 0 | H66: =H62*3.8 -> 0 | I66: =I62*3.8 -> 0 | J66: =J62*3.8 -> 0 | K66: =K62*3.8 -> 0 | ... P66: =P62*3.8 -> 0 | Q66: =H66+20*E66 -> 0 | R66: =J66+15*G66 -> 0 | S66: =N66+F66 -> 0
A67: =A66 -> Orb of Battle | B67: 5 | C67: =C62*6.25 -> 2187.5 | D67: =D62*5 -> 0 | E67: =E62*5 -> 0 | F67: =F62*5 -> 0 | G67: =G62*5 -> 0 | H67: =H62*5 -> 0 | I67: =I62*5 -> 0 | J67: =J62*5 -> 0 | K67: =K62*5 -> 0 | ... P67: =P62*5 -> 0 | Q67: =H67+20*E67 -> 0 | R67: =J67+15*G67 -> 0 | S67: =N67+F67 -> 0
A68: Orb of Life | B68: 0 | C68: 450 | D68: 0 | E68: 0 | F68: 0 | G68: 0 | H68: 140 | I68: 1 | J68: 0 | K68: 0 | L68: 0 | M68: 0 | N68: 0 | O68: 0 | P68: 0 | Q68: =H68+20*E68 -> 140 | R68: =J68+15*G68 -> 0 | S68: =N68+F68 -> 0
A69: =A68 -> Orb of Life | B69: 1 | C69: =C68*1.425 -> 641.25 | D69: =D68*1.4 -> 0 | E69: =E68*1.4 -> 0 | F69: =F68*1.4 -> 0 | G69: =G68*1.4 -> 0 | H69: =H68*1.4 -> 196 | I69: =I68*1.4 -> 1.4 | J69: =J68*1.4 -> 0 | K69: =K68*1.4 -> 0 | ... P69: =P68*1.4 -> 0 | Q69: =H69+20*E69 -> 196 | R69: =J69+15*G69 -> 0 | S69: =N69+F69 -> 0
A70: =A69 -> Orb of Life | B70: 2 | C70: =C68*2.1 -> 945 | D70: =D68*2 -> 0 | E70: =E68*2 -> 0 | F70: =F68*2 -> 0 | G70: =G68*2 -> 0 | H70: =H68*2 -> 280 | I70: =I68*2 -> 2 | J70: =J68*2 -> 0 | K70: =K68*2 -> 0 | ... P70: =P68*2 -> 0 | Q70: =H70+20*E70 -> 280 | R70: =J70+15*G70 -> 0 | S70: =N70+F70 -> 0
A71: =A70 -> Orb of Life | B71: 3 | C71: =C68*3.1 -> 1395 | D71: =D68*2.8 -> 0 | E71: =E68*2.8 -> 0 | F71: =F68*2.8 -> 0 | G71: =G68*2.8 -> 0 | H71: =H68*2.8 -> 392 | I71: =I68*2.8 -> 2.8 | J71: =J68*2.8 -> 0 | K71: =K68*2.8 -> 0 | ... P71: =P68*2.8 -> 0 | Q71: =H71+20*E71 -> 392 | R71: =J71+15*G71 -> 0 | S71: =N71+F71 -> 0
A72: =A71 -> Orb of Life | B72: 4 | C72: =C68*4.45 -> 2002.5 | D72: =D68*3.8 -> 0 | E72: =E68*3.8 -> 0 | F72: =F68*3.8 -> 0 | G72: =G68*3.8 -> 0 | H72: =H68*3.8 -> 532 | I72: =I68*3.8 -> 3.8 | J72: =J68*3.8 -> 0 | K72: =K68*3.8 -> 0 | ... P72: =P68*3.8 -> 0 | Q72: =H72+20*E72 -> 532 | R72: =J72+15*G72 -> 0 | S72: =N72+F72 -> 0
A73: =A72 -> Orb of Life | B73: 5 | C73: =C68*6.25 -> 2812.5 | D73: =D68*5 -> 0 | E73: =E68*5 -> 0 | F73: =F68*5 -> 0 | G73: =G68*5 -> 0 | H73: =H68*5 -> 700 | I73: =I68*5 -> 5 | J73: =J68*5 -> 0 | K73: =K68*5 -> 0 | ... P73: =P68*5 -> 0 | Q73: =H73+20*E73 -> 700 | R73: =J73+15*G73 -> 0 | S73: =N73+F73 -> 0
A74: Orb of Skill | B74: 0 | C74: 400 | D74: 0 | E74: 0 | F74: 5 | G74: 5 | H74: 0 | I74: 0 | J74: 0 | K74: 0 | L74: 0 | M74: 0 | N74: 0 | O74: 0 | P74: 0 | Q74: =H74+20*E74 -> 0 | R74: =J74+15*G74 -> 75 | S74: =N74+F74 -> 5
A75: =A74 -> Orb of Skill | B75: 1 | C75: =C74*1.425 -> 570 | D75: =D74*1.4 -> 0 | E75: =E74*1.4 -> 0 | F75: =F74*1.4 -> 7 | G75: =G74*1.4 -> 7 | H75: =H74*1.4 -> 0 | I75: =I74*1.4 -> 0 | J75: =J74*1.4 -> 0 | K75: =K74*1.4 -> 0 | ... P75: =P74*1.4 -> 0 | Q75: =H75+20*E75 -> 0 | R75: =J75+15*G75 -> 105 | S75: =N75+F75 -> 7
A76: =A75 -> Orb of Skill | B76: 2 | C76: =C74*2.1 -> 840 | D76: =D74*2 -> 0 | E76: =E74*2 -> 0 | F76: =F74*2 -> 10 | G76: =G74*2 -> 10 | H76: =H74*2 -> 0 | I76: =I74*2 -> 0 | J76: =J74*2 -> 0 | K76: =K74*2 -> 0 | ... P76: =P74*2 -> 0 | Q76: =H76+20*E76 -> 0 | R76: =J76+15*G76 -> 150 | S76: =N76+F76 -> 10
A77: =A76 -> Orb of Skill | B77: 3 | C77: =C74*3.1 -> 1240 | D77: =D74*2.8 -> 0 | E77: =E74*2.8 -> 0 | F77: =F74*2.8 -> 14 | G77: =G74*2.8 -> 14 | H77: =H74*2.8 -> 0 | I77: =I74*2.8 -> 0 | J77: =J74*2.8 -> 0 | K77: =K74*2.8 -> 0 | ... P77: =P74*2.8 -> 0 | Q77: =H77+20*E77 -> 0 | R77: =J77+15*G77 -> 210 | S77: =N77+F77 -> 14
A78: =A77 -> Orb of Skill | B78: 4 | C78: =C74*4.45 -> 1780 | D78: =D74*3.8 -> 0 | E78: =E74*3.8 -> 0 | F78: =F74*3.8 -> 19 | G78: =G74*3.8 -> 19 | H78: =H74*3.8 -> 0 | I78: =I74*3.8 -> 0 | J78: =J74*3.8 -> 0 | K78: =K74*3.8 -> 0 | ... P78: =P74*3.8 -> 0 | Q78: =H78+20*E78 -> 0 | R78: =J78+15*G78 -> 285 | S78: =N78+F78 -> 19
A79: =A78 -> Orb of Skill | B79: 5 | C79: =C74*6.25 -> 2500 | D79: =D74*5 -> 0 | E79: =E74*5 -> 0 | F79: =F74*5 -> 25 | G79: =G74*5 -> 25 | H79: =H74*5 -> 0 | I79: =I74*5 -> 0 | J79: =J74*5 -> 0 | K79: =K74*5 -> 0 | ... P79: =P74*5 -> 0 | Q79: =H79+20*E79 -> 0 | R79: =J79+15*G79 -> 375 | S79: =N79+F79 -> 25
A80: Orb of the Magi | B80: 0 | C80: 400 | D80: 0 | E80: 0 | F80: 0 | G80: 0 | H80: 0 | I80: 0 | J80: 75 | K80: 40 | L80: 0 | M80: 0 | N80: 0 | O80: 0 | P80: 0 | Q80: =H80+20*E80 -> 0 | R80: =J80+15*G80 -> 75 | S80: =N80+F80 -> 0
A81: =A80 -> Orb of the Magi | B81: 1 | C81: =C80*1.425 -> 570 | D81: =D80*1.4 -> 0 | E81: =E80*1.4 -> 0 | F81: =F80*1.4 -> 0 | G81: =G80*1.4 -> 0 | H81: =H80*1.4 -> 0 | I81: =I80*1.4 -> 0 | J81: =J80*1.4 -> 105 | K81: =K80*1.4 -> 56 | ... P81: =P80*1.4 -> 0 | Q81: =H81+20*E81 -> 0 | R81: =J81+15*G81 -> 105 | S81: =N81+F81 -> 0
A82: =A81 -> Orb of the Magi | B82: 2 | C82: =C80*2.1 -> 840 | D82: =D80*2 -> 0 | E82: =E80*2 -> 0 | F82: =F80*2 -> 0 | G82: =G80*2 -> 0 | H82: =H80*2 -> 0 | I82: =I80*2 -> 0 | J82: =J80*2 -> 150 | K82: =K80*2 -> 80 | ... P82: =P80*2 -> 0 | Q82: =H82+20*E82 -> 0 | R82: =J82+15*G82 -> 150 | S82: =N82+F82 -> 0
A83: =A82 -> Orb of the Magi | B83: 3 | C83: =C80*3.1 -> 1240 | D83: =D80*2.8 -> 0 | E83: =E80*2.8 -> 0 | F83: =F80*2.8 -> 0 | G83: =G80*2.8 -> 0 | H83: =H80*2.8 -> 0 | I83: =I80*2.8 -> 0 | J83: =J80*2.8 -> 210 | K83: =K80*2.8 -> 112 | ... P83: =P80*2.8 -> 0 | Q83: =H83+20*E83 -> 0 | R83: =J83+15*G83 -> 210 | S83: =N83+F83 -> 0
A84: =A83 -> Orb of the Magi | B84: 4 | C84: =C80*4.45 -> 1780 | D84: =D80*3.8 -> 0 | E84: =E80*3.8 -> 0 | F84: =F80*3.8 -> 0 | G84: =G80*3.8 -> 0 | H84: =H80*3.8 -> 0 | I84: =I80*3.8 -> 0 | J84: =J80*3.8 -> 285 | K84: =K80*3.8 -> 152 | ... P84: =P80*3.8 -> 0 | Q84: =H84+20*E84 -> 0 | R84: =J84+15*G84 -> 285 | S84: =N84+F84 -> 0
A85: =A84 -> Orb of the Magi | B85: 5 | C85: =C80*6.25 -> 2500 | D85: =D80*5 -> 0 | E85: =E80*5 -> 0 | F85: =F80*5 -> 0 | G85: =G80*5 -> 0 | H85: =H80*5 -> 0 | I85: =I80*5 -> 0 | J85: =J80*5 -> 375 | K85: =K80*5 -> 200 | ... P85: =P80*5 -> 0 | Q85: =H85+20*E85 -> 0 | R85: =J85+15*G85 -> 375 | S85: =N85+F85 -> 0
A86: Plate Helm | B86: 0 | C86: 760 | D86: 0 | E86: 0 | F86: 0 | G86: 0 | H86: 100 | I86: 0 | J86: 0 | K86: 0 | L86: 10 | M86: 0 | N86: 0 | O86: 0 | P86: 0 | Q86: =H86+20*E86 -> 100 | R86: =J86+15*G86 -> 0 | S86: =N86+F86 -> 0
A87: =A86 -> Plate Helm | B87: 1 | C87: =C86*1.425 -> 1083 | D87: =D86*1.4 -> 0 | E87: =E86*1.4 -> 0 | F87: =F86*1.4 -> 0 | G87: =G86*1.4 -> 0 | H87: =H86*1.4 -> 140 | I87: =I86*1.4 -> 0 | J87: =J86*1.4 -> 0 | K87: =K86*1.4 -> 0 | ... P87: =P86*1.4 -> 0 | Q87: =H87+20*E87 -> 140 | R87: =J87+15*G87 -> 0 | S87: =N87+F87 -> 0
A88: =A87 -> Plate Helm | B88: 2 | C88: =C86*2.1 -> 1596 | D88: =D86*2 -> 0 | E88: =E86*2 -> 0 | F88: =F86*2 -> 0 | G88: =G86*2 -> 0 | H88: =H86*2 -> 200 | I88: =I86*2 -> 0 | J88: =J86*2 -> 0 | K88: =K86*2 -> 0 | ... P88: =P86*2 -> 0 | Q88: =H88+20*E88 -> 200 | R88: =J88+15*G88 -> 0 | S88: =N88+F88 -> 0
A89: =A88 -> Plate Helm | B89: 3 | C89: =C86*3.1 -> 2356 | D89: =D86*2.8 -> 0 | E89: =E86*2.8 -> 0 | F89: =F86*2.8 -> 0 | G89: =G86*2.8 -> 0 | H89: =H86*2.8 -> 280 | I89: =I86*2.8 -> 0 | J89: =J86*2.8 -> 0 | K89: =K86*2.8 -> 0 | ... P89: =P86*2.8 -> 0 | Q89: =H89+20*E89 -> 280 | R89: =J89+15*G89 -> 0 | S89: =N89+F89 -> 0
A90: =A89 -> Plate Helm | B90: 4 | C90: =C86*4.45 -> 3382 | D90: =D86*3.8 -> 0 | E90: =E86*3.8 -> 0 | F90: =F86*3.8 -> 0 | G90: =G86*3.8 -> 0 | H90: =H86*3.8 -> 380 | I90: =I86*3.8 -> 0 | J90: =J86*3.8 -> 0 | K90: =K86*3.8 -> 0 | ... P90: =P86*3.8 -> 0 | Q90: =H90+20*E90 -> 380 | R90: =J90+15*G90 -> 0 | S90: =N90+F90 -> 0
A91: =A90 -> Plate Helm | B91: 5 | C91: =C86*6.25 -> 4750 | D91: =D86*5 -> 0 | E91: =E86*5 -> 0 | F91: =F86*5 -> 0 | G91: =G86*5 -> 0 | H91: =H86*5 -> 500 | I91: =I86*5 -> 0 | J91: =J86*5 -> 0 | K91: =K86*5 -> 0 | ... P91: =P86*5 -> 0 | Q91: =H91+20*E91 -> 500 | R91: =J91+15*G91 -> 0 | S91: =N91+F91 -> 0
A92: Ring of Might | B92: 0 | C92: 560 | D92: 0 | E92: 6 | F92: 0 | G92: 0 | H92: 0 | I92: 0 | J92: 0 | K92: 0 | L92: 0 | M92: 0 | N92: 0 | O92: 0 | P92: 0 | Q92: =H92+20*E92 -> 120 | R92: =J92+15*G92 -> 0 | S92: =N92+F92 -> 0
A93: =A92 -> Ring of Might | B93: 1 | C93: =C92*1.425 -> 798 | D93: =D92*1.4 -> 0 | E93: =E92*1.4 -> 8.4 | F93: =F92*1.4 -> 0 | G93: =G92*1.4 -> 0 | H93: =H92*1.4 -> 0 | I93: =I92*1.4 -> 0 | J93: =J92*1.4 -> 0 | K93: =K92*1.4 -> 0 | ... P93: =P92*1.4 -> 0 | Q93: =H93+20*E93 -> 168 | R93: =J93+15*G93 -> 0 | S93: =N93+F93 -> 0
A94: =A93 -> Ring of Might | B94: 2 | C94: =C92*2.1 -> 1176 | D94: =D92*2 -> 0 | E94: =E92*2 -> 12 | F94: =F92*2 -> 0 | G94: =G92*2 -> 0 | H94: =H92*2 -> 0 | I94: =I92*2 -> 0 | J94: =J92*2 -> 0 | K94: =K92*2 -> 0 | ... P94: =P92*2 -> 0 | Q94: =H94+20*E94 -> 240 | R94: =J94+15*G94 -> 0 | S94: =N94+F94 -> 0
A95: =A94 -> Ring of Might | B95: 3 | C95: =C92*3.1 -> 1736 | D95: =D92*2.8 -> 0 | E95: =E92*2.8 -> 16.8 | F95: =F92*2.8 -> 0 | G95: =G92*2.8 -> 0 | H95: =H92*2.8 -> 0 | I95: =I92*2.8 -> 0 | J95: =J92*2.8 -> 0 | K95: =K92*2.8 -> 0 | ... P95: =P92*2.8 -> 0 | Q95: =H95+20*E95 -> 336 | R95: =J95+15*G95 -> 0 | S95: =N95+F95 -> 0
A96: =A95 -> Ring of Might | B96: 4 | C96: =C92*4.45 -> 2492 | D96: =D92*3.8 -> 0 | E96: =E92*3.8 -> 22.8 | F96: =F92*3.8 -> 0 | G96: =G92*3.8 -> 0 | H96: =H92*3.8 -> 0 | I96: =I92*3.8 -> 0 | J96: =J92*3.8 -> 0 | K96: =K92*3.8 -> 0 | ... P96: =P92*3.8 -> 0 | Q96: =H96+20*E96 -> 456 | R96: =J96+15*G96 -> 0 | S96: =N96+F96 -> 0
A97: =A96 -> Ring of Might | B97: 5 | C97: =C92*6.25 -> 3500 | D97: =D92*5 -> 0 | E97: =E92*5 -> 30 | F97: =F92*5 -> 0 | G97: =G92*5 -> 0 | H97: =H92*5 -> 0 | I97: =I92*5 -> 0 | J97: =J92*5 -> 0 | K97: =K92*5 -> 0 | ... P97: =P92*5 -> 0 | Q97: =H97+20*E97 -> 600 | R97: =J97+15*G97 -> 0 | S97: =N97+F97 -> 0
A98: Ring of Wisdom | B98: 0 | C98: 560 | D98: 0 | E98: 0 | F98: 0 | G98: 6 | H98: 0 | I98: 0 | J98: 0 | K98: 0 | L98: 0 | M98: 0 | N98: 0 | O98: 0 | P98: 0 | Q98: =H98+20*E98 -> 0 | R98: =J98+15*G98 -> 90 | S98: =N98+F98 -> 0
A99: =A98 -> Ring of Wisdom | B99: 1 | C99: =C98*1.425 -> 798 | D99: =D98*1.4 -> 0 | E99: =E98*1.4 -> 0 | F99: =F98*1.4 -> 0 | G99: =G98*1.4 -> 8.4 | H99: =H98*1.4 -> 0 | I99: =I98*1.4 -> 0 | J99: =J98*1.4 -> 0 | K99: =K98*1.4 -> 0 | ... P99: =P98*1.4 -> 0 | Q99: =H99+20*E99 -> 0 | R99: =J99+15*G99 -> 126 | S99: =N99+F99 -> 0
A100: =A99 -> Ring of Wisdom | B100: 2 | C100: =C98*2.1 -> 1176 | D100: =D98*2 -> 0 | E100: =E98*2 -> 0 | F100: =F98*2 -> 0 | G100: =G98*2 -> 12 | H100: =H98*2 -> 0 | I100: =I98*2 -> 0 | J100: =J98*2 -> 0 | K100: =K98*2 -> 0 | ... P100: =P98*2 -> 0 | Q100: =H100+20*E100 -> 0 | R100: =J100+15*G100 -> 180 | S100: =N100+F100 -> 0
...

Sheet Sheet2
B1: =Sheet1!E1 -> Str | C1: =Sheet1!F1 -> Agi | D1: =Sheet1!G1 -> Int | E1: =Sheet1!H1 -> Health | F1: =Sheet1!I1 -> Regen | G1: =Sheet1!J1 -> Mana | H1: =Sheet1!K1 -> Mana Regen | I1: =Sheet1!L1 -> Armor | ... P1: =Sheet1!S1 -> Total Attack Speed
A2: =Sheet1!A68 & "+" & Sheet1!B68 -> Orb of Life+0 | B2: =Sheet1!E68/Sheet1!$C68 -> 0 | C2: =Sheet1!F68/Sheet1!$C68 -> 0 | D2: =Sheet1!G68/Sheet1!$C68 -> 0 | E2: =Sheet1!H68/Sheet1!$C68 -> 0.31111111 | F2: =Sheet1!I68/Sheet1!$C68 -> 0.0022222222 | G2: =Sheet1!J68/Sheet1!$C68 -> 0 | H2: =Sheet1!K68/Sheet1!$C68 -> 0 | I2: =Sheet1!L68/Sheet1!$C68 -> 0 | ... P2: =Sheet1!S68/Sheet1!$C68 -> 0
A3: =Sheet1!A69 & "+" & Sheet1!B69 -> Orb of Life+1 | B3: =Sheet1!E69/Sheet1!$C69 -> 0 | C3: =Sheet1!F69/Sheet1!$C69 -> 0 | D3: =Sheet1!G69/Sheet1!$C69 -> 0 | E3: =Sheet1!H69/Sheet1!$C69 -> 0.30565302 | F3: =Sheet1!I69/Sheet1!$C69 -> 0.0021832359 | G3: =Sheet1!J69/Sheet1!$C69 -> 0 | H3: =Sheet1!K69/Sheet1!$C69 -> 0 | I3: =Sheet1!L69/Sheet1!$C69 -> 0 | ... P3: =Sheet1!S69/Sheet1!$C69 -> 0
A4: =Sheet1!A70 & "+" & Sheet1!B70 -> Orb of Life+2 | B4: =Sheet1!E70/Sheet1!$C70 -> 0 | C4: =Sheet1!F70/Sheet1!$C70 -> 0 | D4: =Sheet1!G70/Sheet1!$C70 -> 0 | E4: =Sheet1!H70/Sheet1!$C70 -> 0.2962963 | F4: =Sheet1!I70/Sheet1!$C70 -> 0.0021164021 | G4: =Sheet1!J70/Sheet1!$C70 -> 0 | H4: =Sheet1!K70/Sheet1!$C70 -> 0 | I4: =Sheet1!L70/Sheet1!$C70 -> 0 | ... P4: =Sheet1!S70/Sheet1!$C70 -> 0
A5: =Sheet1!A71 & "+" & Sheet1!B71 -> Orb of Life+3 | B5: =Sheet1!E71/Sheet1!$C71 -> 0 | C5: =Sheet1!F71/Sheet1!$C71 -> 0 | D5: =Sheet1!G71/Sheet1!$C71 -> 0 | E5: =Sheet1!H71/Sheet1!$C71 -> 0.28100358 | F5: =Sheet1!I71/Sheet1!$C71 -> 0.0020071685 | G5: =Sheet1!J71/Sheet1!$C71 -> 0 | H5: =Sheet1!K71/Sheet1!$C71 -> 0 | I5: =Sheet1!L71/Sheet1!$C71 -> 0 | ... P5: =Sheet1!S71/Sheet1!$C71 -> 0
A6: =Sheet1!A44 & "+" & Sheet1!B44 -> Hydra Mail+0 | B6: =Sheet1!E44/Sheet1!$C44 -> 0 | C6: =Sheet1!F44/Sheet1!$C44 -> 0 | D6: =Sheet1!G44/Sheet1!$C44 -> 0 | E6: =Sheet1!H44/Sheet1!$C44 -> 0 | F6: =Sheet1!I44/Sheet1!$C44 -> 0.002 | G6: =Sheet1!J44/Sheet1!$C44 -> 0 | H6: =Sheet1!K44/Sheet1!$C44 -> 0 | I6: =Sheet1!L44/Sheet1!$C44 -> 0.018 | ... P6: =Sheet1!S44/Sheet1!$C44 -> 0
A7: =Sheet1!A164 & "+" & Sheet1!B164 -> Talisman of the Sun+0 | B7: =Sheet1!E164/Sheet1!$C164 -> 0.005 | C7: =Sheet1!F164/Sheet1!$C164 -> 0.005 | D7: =Sheet1!G164/Sheet1!$C164 -> 0.005 | E7: =Sheet1!H164/Sheet1!$C164 -> 0 | F7: =Sheet1!I164/Sheet1!$C164 -> 0.002 | G7: =Sheet1!J164/Sheet1!$C164 -> 0 | H7: =Sheet1!K164/Sheet1!$C164 -> 0 | I7: =Sheet1!L164/Sheet1!$C164 -> 0 | ... P7: =Sheet1!S164/Sheet1!$C164 -> 0.005
A8: =Sheet1!A45 & "+" & Sheet1!B45 -> Hydra Mail+1 | B8: =Sheet1!E45/Sheet1!$C45 -> 0 | C8: =Sheet1!F45/Sheet1!$C45 -> 0 | D8: =Sheet1!G45/Sheet1!$C45 -> 0 | E8: =Sheet1!H45/Sheet1!$C45 -> 0 | F8: =Sheet1!I45/Sheet1!$C45 -> 0.0019649123 | G8: =Sheet1!J45/Sheet1!$C45 -> 0 | H8: =Sheet1!K45/Sheet1!$C45 -> 0 | I8: =Sheet1!L45/Sheet1!$C45 -> 0.017684211 | ... P8: =Sheet1!S45/Sheet1!$C45 -> 0
A9: =Sheet1!A165 & "+" & Sheet1!B165 -> Talisman of the Sun+1 | B9: =Sheet1!E165/Sheet1!$C165 -> 0.0048275862 | C9: =Sheet1!F165/Sheet1!$C165 -> 0.0048275862 | D9: =Sheet1!G165/Sheet1!$C165 -> 0.0048275862 | E9: =Sheet1!H165/Sheet1!$C165 -> 0 | F9: =Sheet1!I165/Sheet1!$C165 -> 0.0019310345 | G9: =Sheet1!J165/Sheet1!$C165 -> 0 | H9: =Sheet1!K165/Sheet1!$C165 -> 0 | I9: =Sheet1!L165/Sheet1!$C165 -> 0 | ... P9: =Sheet1!S165/Sheet1!$C165 -> 0.0048275862
A10: =Sheet1!A46 & "+" & Sheet1!B46 -> Hydra Mail+2 | B10: =Sheet1!E46/Sheet1!$C46 -> 0 | C10: =Sheet1!F46/Sheet1!$C46 -> 0 | D10: =Sheet1!G46/Sheet1!$C46 -> 0 | E10: =Sheet1!H46/Sheet1!$C46 -> 0 | F10: =Sheet1!I46/Sheet1!$C46 -> 0.0019047619 | G10: =Sheet1!J46/Sheet1!$C46 -> 0 | H10: =Sheet1!K46/Sheet1!$C46 -> 0 | I10: =Sheet1!L46/Sheet1!$C46 -> 0.017142857 | ... P10: =Sheet1!S46/Sheet1!$C46 -> 0
A11: =Sheet1!A72 & "+" & Sheet1!B72 -> Orb of Life+4 | B11: =Sheet1!E72/Sheet1!$C72 -> 0 | C11: =Sheet1!F72/Sheet1!$C72 -> 0 | D11: =Sheet1!G72/Sheet1!$C72 -> 0 | E11: =Sheet1!H72/Sheet1!$C72 -> 0.26566792 | F11: =Sheet1!I72/Sheet1!$C72 -> 0.001897628 | G11: =Sheet1!J72/Sheet1!$C72 -> 0 | H11: =Sheet1!K72/Sheet1!$C72 -> 0 | I11: =Sheet1!L72/Sheet1!$C72 -> 0 | ... P11: =Sheet1!S72/Sheet1!$C72 -> 0
A12: =Sheet1!A166 & "+" & Sheet1!B166 -> Talisman of the Sun+2 | B12: =Sheet1!E166/Sheet1!$C166 -> 0.0046511628 | C12: =Sheet1!F166/Sheet1!$C166 -> 0.0046511628 | D12: =Sheet1!G166/Sheet1!$C166 -> 0.0046511628 | E12: =Sheet1!H166/Sheet1!$C166 -> 0 | F12: =Sheet1!I166/Sheet1!$C166 -> 0.0018604651 | G12: =Sheet1!J166/Sheet1!$C166 -> 0 | H12: =Sheet1!K166/Sheet1!$C166 -> 0 | I12: =Sheet1!L166/Sheet1!$C166 -> 0 | ... P12: =Sheet1!S166/Sheet1!$C166 -> 0.0046511628
A13: =Sheet1!A47 & "+" & Sheet1!B47 -> Hydra Mail+3 | B13: =Sheet1!E47/Sheet1!$C47 -> 0 | C13: =Sheet1!F47/Sheet1!$C47 -> 0 | D13: =Sheet1!G47/Sheet1!$C47 -> 0 | E13: =Sheet1!H47/Sheet1!$C47 -> 0 | F13: =Sheet1!I47/Sheet1!$C47 -> 0.0018064516 | G13: =Sheet1!J47/Sheet1!$C47 -> 0 | H13: =Sheet1!K47/Sheet1!$C47 -> 0 | I13: =Sheet1!L47/Sheet1!$C47 -> 0.016258065 | ... P13: =Sheet1!S47/Sheet1!$C47 -> 0
A14: =Sheet1!A73 & "+" & Sheet1!B73 -> Orb of Life+5 | B14: =Sheet1!E73/Sheet1!$C73 -> 0 | C14: =Sheet1!F73/Sheet1!$C73 -> 0 | D14: =Sheet1!G73/Sheet1!$C73 -> 0 | E14: =Sheet1!H73/Sheet1!$C73 -> 0.24888889 | F14: =Sheet1!I73/Sheet1!$C73 -> 0.0017777778 | G14: =Sheet1!J73/Sheet1!$C73 -> 0 | H14: =Sheet1!K73/Sheet1!$C73 -> 0 | I14: =Sheet1!L73/Sheet1!$C73 -> 0 | ... P14: =Sheet1!S73/Sheet1!$C73 -> 0
A15: =Sheet1!A167 & "+" & Sheet1!B167 -> Talisman of the Sun+3 | B15: =Sheet1!E167/Sheet1!$C167 -> 0.004375 | C15: =Sheet1!F167/Sheet1!$C167 -> 0.004375 | D15: =Sheet1!G167/Sheet1!$C167 -> 0.004375 | E15: =Sheet1!H167/Sheet1!$C167 -> 0 | F15: =Sheet1!I167/Sheet1!$C167 -> 0.00175 | G15: =Sheet1!J167/Sheet1!$C167 -> 0 | H15: =Sheet1!K167/Sheet1!$C167 -> 0 | I15: =Sheet1!L167/Sheet1!$C167 -> 0 | ... P15: =Sheet1!S167/Sheet1!$C167 -> 0.004375
A16: =Sheet1!A48 & "+" & Sheet1!B48 -> Hydra Mail+4 | B16: =Sheet1!E48/Sheet1!$C48 -> 0 | C16: =Sheet1!F48/Sheet1!$C48 -> 0 | D16: =Sheet1!G48/Sheet1!$C48 -> 0 | E16: =Sheet1!H48/Sheet1!$C48 -> 0 | F16: =Sheet1!I48/Sheet1!$C48 -> 0.0017078652 | G16: =Sheet1!J48/Sheet1!$C48 -> 0 | H16: =Sheet1!K48/Sheet1!$C48 -> 0 | I16: =Sheet1!L48/Sheet1!$C48 -> 0.015370787 | ... P16: =Sheet1!S48/Sheet1!$C48 -> 0
A17: =Sheet1!A168 & "+" & Sheet1!B168 -> Talisman of the Sun+4 | B17: =Sheet1!E168/Sheet1!$C168 -> 0.0040860215 | C17: =Sheet1!F168/Sheet1!$C168 -> 0.0040860215 | D17: =Sheet1!G168/Sheet1!$C168 -> 0.0040860215 | E17: =Sheet1!H168/Sheet1!$C168 -> 0 | F17: =Sheet1!I168/Sheet1!$C168 -> 0.0016344086 | G17: =Sheet1!J168/Sheet1!$C168 -> 0 | H17: =Sheet1!K168/Sheet1!$C168 -> 0 | I17: =Sheet1!L168/Sheet1!$C168 -> 0 | ... P17: =Sheet1!S168/Sheet1!$C168 -> 0.0040860215
A18: =Sheet1!A49 & "+" & Sheet1!B49 -> Hydra Mail+5 | B18: =Sheet1!E49/Sheet1!$C49 -> 0 | C18: =Sheet1!F49/Sheet1!$C49 -> 0 | D18: =Sheet1!G49/Sheet1!$C49 -> 0 | E18: =Sheet1!H49/Sheet1!$C49 -> 0 | F18: =Sheet1!I49/Sheet1!$C49 -> 0.0016 | G18: =Sheet1!J49/Sheet1!$C49 -> 0 | H18: =Sheet1!K49/Sheet1!$C49 -> 0 | I18: =Sheet1!L49/Sheet1!$C49 -> 0.0144 | ... P18: =Sheet1!S49/Sheet1!$C49 -> 0
A19: =Sheet1!A169 & "+" & Sheet1!B169 -> Talisman of the Sun+5 | B19: =Sheet1!E169/Sheet1!$C169 -> 0.0038461538 | C19: =Sheet1!F169/Sheet1!$C169 -> 0.0038461538 | D19: =Sheet1!G169/Sheet1!$C169 -> 0.0038461538 | E19: =Sheet1!H169/Sheet1!$C169 -> 0 | F19: =Sheet1!I169/Sheet1!$C169 -> 0.0015384615 | G19: =Sheet1!J169/Sheet1!$C169 -> 0 | H19: =Sheet1!K169/Sheet1!$C169 -> 0 | I19: =Sheet1!L169/Sheet1!$C169 -> 0 | ... P19: =Sheet1!S169/Sheet1!$C169 -> 0.0038461538
A20: =Sheet1!A2 & "+" & Sheet1!B2 -> Circlet of Mana+0 | B20: =Sheet1!E2/Sheet1!$C2 -> 0 | C20: =Sheet1!F2/Sheet1!$C2 -> 0 | D20: =Sheet1!G2/Sheet1!$C2 -> 0 | E20: =Sheet1!H2/Sheet1!$C2 -> 0 | F20: =Sheet1!I2/Sheet1!$C2 -> 0 | G20: =Sheet1!J2/Sheet1!$C2 -> 0 | H20: =Sheet1!K2/Sheet1!$C2 -> 0.1 | I20: =Sheet1!L2/Sheet1!$C2 -> 0 | ... P20: =Sheet1!S2/Sheet1!$C2 -> 0
A21: =Sheet1!A80 & "+" & Sheet1!B80 -> Orb of the Magi+0 | B21: =Sheet1!E80/Sheet1!$C80 -> 0 | C21: =Sheet1!F80/Sheet1!$C80 -> 0 | D21: =Sheet1!G80/Sheet1!$C80 -> 0 | E21: =Sheet1!H80/Sheet1!$C80 -> 0 | F21: =Sheet1!I80/Sheet1!$C80 -> 0 | G21: =Sheet1!J80/Sheet1!$C80 -> 0.1875 | H21: =Sheet1!K80/Sheet1!$C80 -> 0.1 | I21: =Sheet1!L80/Sheet1!$C80 -> 0 | ... P21: =Sheet1!S80/Sheet1!$C80 -> 0
A22: =Sheet1!A3 & "+" & Sheet1!B3 -> Circlet of Mana+1 | B22: =Sheet1!E3/Sheet1!$C3 -> 0 | C22: =Sheet1!F3/Sheet1!$C3 -> 0 | D22: =Sheet1!G3/Sheet1!$C3 -> 0 | E22: =Sheet1!H3/Sheet1!$C3 -> 0 | F22: =Sheet1!I3/Sheet1!$C3 -> 0 | G22: =Sheet1!J3/Sheet1!$C3 -> 0 | H22: =Sheet1!K3/Sheet1!$C3 -> 0.098245614 | I22: =Sheet1!L3/Sheet1!$C3 -> 0 | ... P22: =Sheet1!S3/Sheet1!$C3 -> 0
A23: =Sheet1!A81 & "+" & Sheet1!B81 -> Orb of the Magi+1 | B23: =Sheet1!E81/Sheet1!$C81 -> 0 | C23: =Sheet1!F81/Sheet1!$C81 -> 0 | D23: =Sheet1!G81/Sheet1!$C81 -> 0 | E23: =Sheet1!H81/Sheet1!$C81 -> 0 | F23: =Sheet1!I81/Sheet1!$C81 -> 0 | G23: =Sheet1!J81/Sheet1!$C81 -> 0.18421053 | H23: =Sheet1!K81/Sheet1!$C81 -> 0.098245614 | I23: =Sheet1!L81/Sheet1!$C81 -> 0 | ... P23: =Sheet1!S81/Sheet1!$C81 -> 0
A24: =Sheet1!A4 & "+" & Sheet1!B4 -> Circlet of Mana+2 | B24: =Sheet1!E4/Sheet1!$C4 -> 0 | C24: =Sheet1!F4/Sheet1!$C4 -> 0 | D24: =Sheet1!G4/Sheet1!$C4 -> 0 | E24: =Sheet1!H4/Sheet1!$C4 -> 0 | F24: =Sheet1!I4/Sheet1!$C4 -> 0 | G24: =Sheet1!J4/Sheet1!$C4 -> 0 | H24: =Sheet1!K4/Sheet1!$C4 -> 0.095238095 | I24: =Sheet1!L4/Sheet1!$C4 -> 0 | ... P24: =Sheet1!S4/Sheet1!$C4 -> 0
A25: =Sheet1!A82 & "+" & Sheet1!B82 -> Orb of the Magi+2 | B25: =Sheet1!E82/Sheet1!$C82 -> 0 | C25: =Sheet1!F82/Sheet1!$C82 -> 0 | D25: =Sheet1!G82/Sheet1!$C82 -> 0 | E25: =Sheet1!H82/Sheet1!$C82 -> 0 | F25: =Sheet1!I82/Sheet1!$C82 -> 0 | G25: =Sheet1!J82/Sheet1!$C82 -> 0.17857143 | H25: =Sheet1!K82/Sheet1!$C82 -> 0.095238095 | I25: =Sheet1!L82/Sheet1!$C82 -> 0 | ... P25: =Sheet1!S82/Sheet1!$C82 -> 0
A26: =Sheet1!A5 & "+" & Sheet1!B5 -> Circlet of Mana+3 | B26: =Sheet1!E5/Sheet1!$C5 -> 0 | C26: =Sheet1!F5/Sheet1!$C5 -> 0 | D26: =Sheet1!G5/Sheet1!$C5 -> 0 | E26: =Sheet1!H5/Sheet1!$C5 -> 0 | F26: =Sheet1!I5/Sheet1!$C5 -> 0 | G26: =Sheet1!J5/Sheet1!$C5 -> 0 | H26: =Sheet1!K5/Sheet1!$C5 -> 0.090322581 | I26: =Sheet1!L5/Sheet1!$C5 -> 0 | ... P26: =Sheet1!S5/Sheet1!$C5 -> 0
A27: =Sheet1!A83 & "+" & Sheet1!B83 -> Orb of the Magi+3 | B27: =Sheet1!E83/Sheet1!$C83 -> 0 | C27: =Sheet1!F83/Sheet1!$C83 -> 0 | D27: =Sheet1!G83/Sheet1!$C83 -> 0 | E27: =Sheet1!H83/Sheet1!$C83 -> 0 | F27: =Sheet1!I83/Sheet1!$C83 -> 0 | G27: =Sheet1!J83/Sheet1!$C83 -> 0.16935484 | H27: =Sheet1!K83/Sheet1!$C83 -> 0.090322581 | I27: =Sheet1!L83/Sheet1!$C83 -> 0 | ... P27: =Sheet1!S83/Sheet1!$C83 -> 0
A28: =Sheet1!A6 & "+" & Sheet1!B6 -> Circlet of Mana+4 | B28: =Sheet1!E6/Sheet1!$C6 -> 0 | C28: =Sheet1!F6/Sheet1!$C6 -> 0 | D28: =Sheet1!G6/Sheet1!$C6 -> 0 | E28: =Sheet1!H6/Sheet1!$C6 -> 0 | F28: =Sheet1!I6/Sheet1!$C6 -> 0 | G28: =Sheet1!J6/Sheet1!$C6 -> 0 | H28: =Sheet1!K6/Sheet1!$C6 -> 0.085393258 | I28: =Sheet1!L6/Sheet1!$C6 -> 0 | ... P28: =Sheet1!S6/Sheet1!$C6 -> 0
A29: =Sheet1!A84 & "+" & Sheet1!B84 -> Orb of the Magi+4 | B29: =Sheet1!E84/Sheet1!$C84 -> 0 | C29: =Sheet1!F84/Sheet1!$C84 -> 0 | D29: =Sheet1!G84/Sheet1!$C84 -> 0 | E29: =Sheet1!H84/Sheet1!$C84 -> 0 | F29: =Sheet1!I84/Sheet1!$C84 -> 0 | G29: =Sheet1!J84/Sheet1!$C84 -> 0.16011236 | H29: =Sheet1!K84/Sheet1!$C84 -> 0.085393258 | I29: =Sheet1!L84/Sheet1!$C84 -> 0 | ... P29: =Sheet1!S84/Sheet1!$C84 -> 0
A30: =Sheet1!A7 & "+" & Sheet1!B7 -> Circlet of Mana+5 | B30: =Sheet1!E7/Sheet1!$C7 -> 0 | C30: =Sheet1!F7/Sheet1!$C7 -> 0 | D30: =Sheet1!G7/Sheet1!$C7 -> 0 | E30: =Sheet1!H7/Sheet1!$C7 -> 0 | F30: =Sheet1!I7/Sheet1!$C7 -> 0 | G30: =Sheet1!J7/Sheet1!$C7 -> 0 | H30: =Sheet1!K7/Sheet1!$C7 -> 0.08 | I30: =Sheet1!L7/Sheet1!$C7 -> 0 | ... P30: =Sheet1!S7/Sheet1!$C7 -> 0
A31: =Sheet1!A85 & "+" & Sheet1!B85 -> Orb of the Magi+5 | B31: =Sheet1!E85/Sheet1!$C85 -> 0 | C31: =Sheet1!F85/Sheet1!$C85 -> 0 | D31: =Sheet1!G85/Sheet1!$C85 -> 0 | E31: =Sheet1!H85/Sheet1!$C85 -> 0 | F31: =Sheet1!I85/Sheet1!$C85 -> 0 | G31: =Sheet1!J85/Sheet1!$C85 -> 0.15 | H31: =Sheet1!K85/Sheet1!$C85 -> 0.08 | I31: =Sheet1!L85/Sheet1!$C85 -> 0 | ... P31: =Sheet1!S85/Sheet1!$C85 -> 0
A32: =Sheet1!A128 & "+" & Sheet1!B128 -> Black Dragon's Heart+0 | B32: =Sheet1!E128/Sheet1!$C128 -> 0 | C32: =Sheet1!F128/Sheet1!$C128 -> 0 | D32: =Sheet1!G128/Sheet1!$C128 -> 0 | E32: =Sheet1!H128/Sheet1!$C128 -> 0 | F32: =Sheet1!I128/Sheet1!$C128 -> 0 | G32: =Sheet1!J128/Sheet1!$C128 -> 0 | H32: =Sheet1!K128/Sheet1!$C128 -> 0.0375 | I32: =Sheet1!L128/Sheet1!$C128 -> 0 | ... P32: =Sheet1!S128/Sheet1!$C128 -> 0
A33: =Sheet1!A129 & "+" & Sheet1!B129 -> Black Dragon's Heart+1 | B33: =Sheet1!E129/Sheet1!$C129 -> 0 | C33: =Sheet1!F129/Sheet1!$C129 -> 0 | D33: =Sheet1!G129/Sheet1!$C129 -> 0 | E33: =Sheet1!H129/Sheet1!$C129 -> 0 | F33: =Sheet1!I129/Sheet1!$C129 -> 0 | G33: =Sheet1!J129/Sheet1!$C129 -> 0 | H33: =Sheet1!K129/Sheet1!$C129 -> 0.036206897 | I33: =Sheet1!L129/Sheet1!$C129 -> 0 | ... P33: =Sheet1!S129/Sheet1!$C129 -> 0
A34: =Sheet1!A130 & "+" & Sheet1!B130 -> Black Dragon's Heart+2 | B34: =Sheet1!E130/Sheet1!$C130 -> 0 | C34: =Sheet1!F130/Sheet1!$C130 -> 0 | D34: =Sheet1!G130/Sheet1!$C130 -> 0 | E34: =Sheet1!H130/Sheet1!$C130 -> 0 | F34: =Sheet1!I130/Sheet1!$C130 -> 0 | G34: =Sheet1!J130/Sheet1!$C130 -> 0 | H34: =Sheet1!K130/Sheet1!$C130 -> 0.034883721 | I34: =Sheet1!L130/Sheet1!$C130 -> 0 | ... P34: =Sheet1!S130/Sheet1!$C130 -> 0
A35: =Sheet1!A131 & "+" & Sheet1!B131 -> Black Dragon's Heart+3 | B35: =Sheet1!E131/Sheet1!$C131 -> 0 | C35: =Sheet1!F131/Sheet1!$C131 -> 0 | D35: =Sheet1!G131/Sheet1!$C131 -> 0 | E35: =Sheet1!H131/Sheet1!$C131 -> 0 | F35: =Sheet1!I131/Sheet1!$C131 -> 0 | G35: =Sheet1!J131/Sheet1!$C131 -> 0 | H35: =Sheet1!K131/Sheet1!$C131 -> 0.0328125 | I35: =Sheet1!L131/Sheet1!$C131 -> 0 | ... P35: =Sheet1!S131/Sheet1!$C131 -> 0
A36: =Sheet1!A132 & "+" & Sheet1!B132 -> Black Dragon's Heart+4 | B36: =Sheet1!E132/Sheet1!$C132 -> 0 | C36: =Sheet1!F132/Sheet1!$C132 -> 0 | D36: =Sheet1!G132/Sheet1!$C132 -> 0 | E36: =Sheet1!H132/Sheet1!$C132 -> 0 | F36: =Sheet1!I132/Sheet1!$C132 -> 0 | G36: =Sheet1!J132/Sheet1!$C132 -> 0 | H36: =Sheet1!K132/Sheet1!$C132 -> 0.030645161 | I36: =Sheet1!L132/Sheet1!$C132 -> 0 | ... P36: =Sheet1!S132/Sheet1!$C132 -> 0
A37: =Sheet1!A133 & "+" & Sheet1!B133 -> Black Dragon's Heart+5 | B37: =Sheet1!E133/Sheet1!$C133 -> 0 | C37: =Sheet1!F133/Sheet1!$C133 -> 0 | D37: =Sheet1!G133/Sheet1!$C133 -> 0 | E37: =Sheet1!H133/Sheet1!$C133 -> 0 | F37: =Sheet1!I133/Sheet1!$C133 -> 0 | G37: =Sheet1!J133/Sheet1!$C133 -> 0 | H37: =Sheet1!K133/Sheet1!$C133 -> 0.028846154 | I37: =Sheet1!L133/Sheet1!$C133 -> 0 | ... P37: =Sheet1!S133/Sheet1!$C133 -> 0
A38: =Sheet1!A26 & "+" & Sheet1!B26 -> Felskin Gauntlents+0 | B38: =Sheet1!E26/Sheet1!$C26 -> 0 | C38: =Sheet1!F26/Sheet1!$C26 -> 0 | D38: =Sheet1!G26/Sheet1!$C26 -> 0 | E38: =Sheet1!H26/Sheet1!$C26 -> 0.085714286 | F38: =Sheet1!I26/Sheet1!$C26 -> 0 | G38: =Sheet1!J26/Sheet1!$C26 -> 0 | H38: =Sheet1!K26/Sheet1!$C26 -> 0 | I38: =Sheet1!L26/Sheet1!$C26 -> 0 | ... P38: =Sheet1!S26/Sheet1!$C26 -> 0
A39: =Sheet1!A27 & "+" & Sheet1!B27 -> Felskin Gauntlents+1 | B39: =Sheet1!E27/Sheet1!$C27 -> 0 | C39: =Sheet1!F27/Sheet1!$C27 -> 0 | D39: =Sheet1!G27/Sheet1!$C27 -> 0 | E39: =Sheet1!H27/Sheet1!$C27 -> 0.084210526 | F39: =Sheet1!I27/Sheet1!$C27 -> 0 | G39: =Sheet1!J27/Sheet1!$C27 -> 0 | H39: =Sheet1!K27/Sheet1!$C27 -> 0 | I39: =Sheet1!L27/Sheet1!$C27 -> 0 | ... P39: =Sheet1!S27/Sheet1!$C27 -> 0
A40: =Sheet1!A28 & "+" & Sheet1!B28 -> Felskin Gauntlents+2 | B40: =Sheet1!E28/Sheet1!$C28 -> 0 | C40: =Sheet1!F28/Sheet1!$C28 -> 0 | D40: =Sheet1!G28/Sheet1!$C28 -> 0 | E40: =Sheet1!H28/Sheet1!$C28 -> 0.081632653 | F40: =Sheet1!I28/Sheet1!$C28 -> 0 | G40: =Sheet1!J28/Sheet1!$C28 -> 0 | H40: =Sheet1!K28/Sheet1!$C28 -> 0 | I40: =Sheet1!L28/Sheet1!$C28 -> 0 | ... P40: =Sheet1!S28/Sheet1!$C28 -> 0
A41: =Sheet1!A29 & "+" & Sheet1!B29 -> Felskin Gauntlents+3 | B41: =Sheet1!E29/Sheet1!$C29 -> 0 | C41: =Sheet1!F29/Sheet1!$C29 -> 0 | D41: =Sheet1!G29/Sheet1!$C29 -> 0 | E41: =Sheet1!H29/Sheet1!$C29 -> 0.077419355 | F41: =Sheet1!I29/Sheet1!$C29 -> 0 | G41: =Sheet1!J29/Sheet1!$C29 -> 0 | H41: =Sheet1!K29/Sheet1!$C29 -> 0 | I41: =Sheet1!L29/Sheet1!$C29 -> 0 | ... P41: =Sheet1!S29/Sheet1!$C29 -> 0
A42: =Sheet1!A30 & "+" & Sheet1!B30 -> Felskin Gauntlents+4 | B42: =Sheet1!E30/Sheet1!$C30 -> 0 | C42: =Sheet1!F30/Sheet1!$C30 -> 0 | D42: =Sheet1!G30/Sheet1!$C30 -> 0 | E42: =Sheet1!H30/Sheet1!$C30 -> 0.073194222 | F42: =Sheet1!I30/Sheet1!$C30 -> 0 | G42: =Sheet1!J30/Sheet1!$C30 -> 0 | H42: =Sheet1!K30/Sheet1!$C30 -> 0 | I42: =Sheet1!L30/Sheet1!$C30 -> 0 | ... P42: =Sheet1!S30/Sheet1!$C30 -> 0
A43: =Sheet1!A31 & "+" & Sheet1!B31 -> Felskin Gauntlents+5 | B43: =Sheet1!E31/Sheet1!$C31 -> 0 | C43: =Sheet1!F31/Sheet1!$C31 -> 0 | D43: =Sheet1!G31/Sheet1!$C31 -> 0 | E43: =Sheet1!H31/Sheet1!$C31 -> 0.068571429 | F43: =Sheet1!I31/Sheet1!$C31 -> 0 | G43: =Sheet1!J31/Sheet1!$C31 -> 0 | H43: =Sheet1!K31/Sheet1!$C31 -> 0 | I43: =Sheet1!L31/Sheet1!$C31 -> 0 | ... P43: =Sheet1!S31/Sheet1!$C31 -> 0
A44: =Sheet1!A32 & "+" & Sheet1!B32 -> Gloves of Evocation+0 | B44: =Sheet1!E32/Sheet1!$C32 -> 0 | C44: =Sheet1!F32/Sheet1!$C32 -> 0 | D44: =Sheet1!G32/Sheet1!$C32 -> 0 | E44: =Sheet1!H32/Sheet1!$C32 -> 0 | F44: =Sheet1!I32/Sheet1!$C32 -> 0 | G44: =Sheet1!J32/Sheet1!$C32 -> 0 | H44: =Sheet1!K32/Sheet1!$C32 -> 0 | I44: =Sheet1!L32/Sheet1!$C32 -> 0 | ... P44: =Sheet1!S32/Sheet1!$C32 -> 0
A45: =Sheet1!A33 & "+" & Sheet1!B33 -> Gloves of Evocation+1 | B45: =Sheet1!E33/Sheet1!$C33 -> 0 | C45: =Sheet1!F33/Sheet1!$C33 -> 0 | D45: =Sheet1!G33/Sheet1!$C33 -> 0 | E45: =Sheet1!H33/Sheet1!$C33 -> 0 | F45: =Sheet1!I33/Sheet1!$C33 -> 0 | G45: =Sheet1!J33/Sheet1!$C33 -> 0 | H45: =Sheet1!K33/Sheet1!$C33 -> 0 | I45: =Sheet1!L33/Sheet1!$C33 -> 0 | ... P45: =Sheet1!S33/Sheet1!$C33 -> 0
A46: =Sheet1!A34 & "+" & Sheet1!B34 -> Gloves of Evocation+2 | B46: =Sheet1!E34/Sheet1!$C34 -> 0 | C46: =Sheet1!F34/Sheet1!$C34 -> 0 | D46: =Sheet1!G34/Sheet1!$C34 -> 0 | E46: =Sheet1!H34/Sheet1!$C34 -> 0 | F46: =Sheet1!I34/Sheet1!$C34 -> 0 | G46: =Sheet1!J34/Sheet1!$C34 -> 0 | H46: =Sheet1!K34/Sheet1!$C34 -> 0 | I46: =Sheet1!L34/Sheet1!$C34 -> 0 | ... P46: =Sheet1!S34/Sheet1!$C34 -> 0
A47: =Sheet1!A35 & "+" & Sheet1!B35 -> Gloves of Evocation+3 | B47: =Sheet1!E35/Sheet1!$C35 -> 0 | C47: =Sheet1!F35/Sheet1!$C35 -> 0 | D47: =Sheet1!G35/Sheet1!$C35 -> 0 | E47: =Sheet1!H35/Sheet1!$C35 -> 0 | F47: =Sheet1!I35/Sheet1!$C35 -> 0 | G47: =Sheet1!J35/Sheet1!$C35 -> 0 | H47: =Sheet1!K35/Sheet1!$C35 -> 0 | I47: =Sheet1!L35/Sheet1!$C35 -> 0 | ... P47: =Sheet1!S35/Sheet1!$C35 -> 0
A48: =Sheet1!A36 & "+" & Sheet1!B36 -> Gloves of Evocation+4 | B48: =Sheet1!E36/Sheet1!$C36 -> 0 | C48: =Sheet1!F36/Sheet1!$C36 -> 0 | D48: =Sheet1!G36/Sheet1!$C36 -> 0 | E48: =Sheet1!H36/Sheet1!$C36 -> 0 | F48: =Sheet1!I36/Sheet1!$C36 -> 0 | G48: =Sheet1!J36/Sheet1!$C36 -> 0 | H48: =Sheet1!K36/Sheet1!$C36 -> 0 | I48: =Sheet1!L36/Sheet1!$C36 -> 0 | ... P48: =Sheet1!S36/Sheet1!$C36 -> 0
A49: =Sheet1!A37 & "+" & Sheet1!B37 -> Gloves of Evocation+5 | B49: =Sheet1!E37/Sheet1!$C37 -> 0 | C49: =Sheet1!F37/Sheet1!$C37 -> 0 | D49: =Sheet1!G37/Sheet1!$C37 -> 0 | E49: =Sheet1!H37/Sheet1!$C37 -> 0 | F49: =Sheet1!I37/Sheet1!$C37 -> 0 | G49: =Sheet1!J37/Sheet1!$C37 -> 0 | H49: =Sheet1!K37/Sheet1!$C37 -> 0 | I49: =Sheet1!L37/Sheet1!$C37 -> 0 | ... P49: =Sheet1!S37/Sheet1!$C37 -> 0
A50: =Sheet1!A134 & "+" & Sheet1!B134 -> Crystal Staff+0 | B50: =Sheet1!E134/Sheet1!$C134 -> 0 | C50: =Sheet1!F134/Sheet1!$C134 -> 0 | D50: =Sheet1!G134/Sheet1!$C134 -> 0 | E50: =Sheet1!H134/Sheet1!$C134 -> 0 | F50: =Sheet1!I134/Sheet1!$C134 -> 0 | G50: =Sheet1!J134/Sheet1!$C134 -> 0.21428571 | H50: =Sheet1!K134/Sheet1!$C134 -> 0 | I50: =Sheet1!L134/Sheet1!$C134 -> 0 | ... P50: =Sheet1!S134/Sheet1!$C134 -> 0
A51: =Sheet1!A135 & "+" & Sheet1!B135 -> Crystal Staff+1 | B51: =Sheet1!E135/Sheet1!$C135 -> 0 | C51: =Sheet1!F135/Sheet1!$C135 -> 0 | D51: =Sheet1!G135/Sheet1!$C135 -> 0 | E51: =Sheet1!H135/Sheet1!$C135 -> 0 | F51: =Sheet1!I135/Sheet1!$C135 -> 0 | G51: =Sheet1!J135/Sheet1!$C135 -> 0.20689655 | H51: =Sheet1!K135/Sheet1!$C135 -> 0 | I51: =Sheet1!L135/Sheet1!$C135 -> 0 | ... P51: =Sheet1!S135/Sheet1!$C135 -> 0
A52: =Sheet1!A136 & "+" & Sheet1!B136 -> Crystal Staff+2 | B52: =Sheet1!E136/Sheet1!$C136 -> 0 | C52: =Sheet1!F136/Sheet1!$C136 -> 0 | D52: =Sheet1!G136/Sheet1!$C136 -> 0 | E52: =Sheet1!H136/Sheet1!$C136 -> 0 | F52: =Sheet1!I136/Sheet1!$C136 -> 0 | G52: =Sheet1!J136/Sheet1!$C136 -> 0.19933555 | H52: =Sheet1!K136/Sheet1!$C136 -> 0 | I52: =Sheet1!L136/Sheet1!$C136 -> 0 | ... P52: =Sheet1!S136/Sheet1!$C136 -> 0
A53: =Sheet1!A137 & "+" & Sheet1!B137 -> Crystal Staff+3 | B53: =Sheet1!E137/Sheet1!$C137 -> 0 | C53: =Sheet1!F137/Sheet1!$C137 -> 0 | D53: =Sheet1!G137/Sheet1!$C137 -> 0 | E53: =Sheet1!H137/Sheet1!$C137 -> 0 | F53: =Sheet1!I137/Sheet1!$C137 -> 0 | G53: =Sheet1!J137/Sheet1!$C137 -> 0.1875 | H53: =Sheet1!K137/Sheet1!$C137 -> 0 | I53: =Sheet1!L137/Sheet1!$C137 -> 0 | ... P53: =Sheet1!S137/Sheet1!$C137 -> 0
A54: =Sheet1!A138 & "+" & Sheet1!B138 -> Crystal Staff+4 | B54: =Sheet1!E138/Sheet1!$C138 -> 0 | C54: =Sheet1!F138/Sheet1!$C138 -> 0 | D54: =Sheet1!G138/Sheet1!$C138 -> 0 | E54: =Sheet1!H138/Sheet1!$C138 -> 0 | F54: =Sheet1!I138/Sheet1!$C138 -> 0 | G54: =Sheet1!J138/Sheet1!$C138 -> 0.17511521 | H54: =Sheet1!K138/Sheet1!$C138 -> 0 | I54: =Sheet1!L138/Sheet1!$C138 -> 0 | ... P54: =Sheet1!S138/Sheet1!$C138 -> 0
A55: =Sheet1!A139 & "+" & Sheet1!B139 -> Crystal Staff+5 | B55: =Sheet1!E139/Sheet1!$C139 -> 0 | C55: =Sheet1!F139/Sheet1!$C139 -> 0 | D55: =Sheet1!G139/Sheet1!$C139 -> 0 | E55: =Sheet1!H139/Sheet1!$C139 -> 0 | F55: =Sheet1!I139/Sheet1!$C139 -> 0 | G55: =Sheet1!J139/Sheet1!$C139 -> 0.16483516 | H55: =Sheet1!K139/Sheet1!$C139 -> 0 | I55: =Sheet1!L139/Sheet1!$C139 -> 0 | ... P55: =Sheet1!S139/Sheet1!$C139 -> 0
A56: =Sheet1!A62 & "+" & Sheet1!B62 -> Orb of Battle+0 | B56: =Sheet1!E62/Sheet1!$C62 -> 0 | C56: =Sheet1!F62/Sheet1!$C62 -> 0 | D56: =Sheet1!G62/Sheet1!$C62 -> 0 | E56: =Sheet1!H62/Sheet1!$C62 -> 0 | F56: =Sheet1!I62/Sheet1!$C62 -> 0 | G56: =Sheet1!J62/Sheet1!$C62 -> 0 | H56: =Sheet1!K62/Sheet1!$C62 -> 0 | I56: =Sheet1!L62/Sheet1!$C62 -> 0 | ... P56: =Sheet1!S62/Sheet1!$C62 -> 0
A57: =Sheet1!A63 & "+" & Sheet1!B63 -> Orb of Battle+1 | B57: =Sheet1!E63/Sheet1!$C63 -> 0 | C57: =Sheet1!F63/Sheet1!$C63 -> 0 | D57: =Sheet1!G63/Sheet1!$C63 -> 0 | E57: =Sheet1!H63/Sheet1!$C63 -> 0 | F57: =Sheet1!I63/Sheet1!$C63 -> 0 | G57: =Sheet1!J63/Sheet1!$C63 -> 0 | H57: =Sheet1!K63/Sheet1!$C63 -> 0 | I57: =Sheet1!L63/Sheet1!$C63 -> 0 | ... P57: =Sheet1!S63/Sheet1!$C63 -> 0
A58: =Sheet1!A64 & "+" & Sheet1!B64 -> Orb of Battle+2 | B58: =Sheet1!E64/Sheet1!$C64 -> 0 | C58: =Sheet1!F64/Sheet1!$C64 -> 0 | D58: =Sheet1!G64/Sheet1!$C64 -> 0 | E58: =Sheet1!H64/Sheet1!$C64 -> 0 | F58: =Sheet1!I64/Sheet1!$C64 -> 0 | G58: =Sheet1!J64/Sheet1!$C64 -> 0 | H58: =Sheet1!K64/Sheet1!$C64 -> 0 | I58: =Sheet1!L64/Sheet1!$C64 -> 0 | ... P58: =Sheet1!S64/Sheet1!$C64 -> 0
A59: =Sheet1!A65 & "+" & Sheet1!B65 -> Orb of Battle+3 | B59: =Sheet1!E65/Sheet1!$C65 -> 0 | C59: =Sheet1!F65/Sheet1!$C65 -> 0 | D59: =Sheet1!G65/Sheet1!$C65 -> 0 | E59: =Sheet1!H65/Sheet1!$C65 -> 0 | F59: =Sheet1!I65/Sheet1!$C65 -> 0 | G59: =Sheet1!J65/Sheet1!$C65 -> 0 | H59: =Sheet1!K65/Sheet1!$C65 -> 0 | I59: =Sheet1!L65/Sheet1!$C65 -> 0 | ... P59: =Sheet1!S65/Sheet1!$C65 -> 0
A60: =Sheet1!A66 & "+" & Sheet1!B66 -> Orb of Battle+4 | B60: =Sheet1!E66/Sheet1!$C66 -> 0 | C60: =Sheet1!F66/Sheet1!$C66 -> 0 | D60: =Sheet1!G66/Sheet1!$C66 -> 0 | E60: =Sheet1!H66/Sheet1!$C66 -> 0 | F60: =Sheet1!I66/Sheet1!$C66 -> 0 | G60: =Sheet1!J66/Sheet1!$C66 -> 0 | H60: =Sheet1!K66/Sheet1!$C66 -> 0 | I60: =Sheet1!L66/Sheet1!$C66 -> 0 | ... P60: =Sheet1!S66/Sheet1!$C66 -> 0
A61: =Sheet1!A67 & "+" & Sheet1!B67 -> Orb of Battle+5 | B61: =Sheet1!E67/Sheet1!$C67 -> 0 | C61: =Sheet1!F67/Sheet1!$C67 -> 0 | D61: =Sheet1!G67/Sheet1!$C67 -> 0 | E61: =Sheet1!H67/Sheet1!$C67 -> 0 | F61: =Sheet1!I67/Sheet1!$C67 -> 0 | G61: =Sheet1!J67/Sheet1!$C67 -> 0 | H61: =Sheet1!K67/Sheet1!$C67 -> 0 | I61: =Sheet1!L67/Sheet1!$C67 -> 0 | ... P61: =Sheet1!S67/Sheet1!$C67 -> 0
A62: =Sheet1!A20 & "+" & Sheet1!B20 -> Executioner's Hood+0 | B62: =Sheet1!E20/Sheet1!$C20 -> 0 | C62: =Sheet1!F20/Sheet1!$C20 -> 0 | D62: =Sheet1!G20/Sheet1!$C20 -> 0 | E62: =Sheet1!H20/Sheet1!$C20 -> 0 | F62: =Sheet1!I20/Sheet1!$C20 -> 0 | G62: =Sheet1!J20/Sheet1!$C20 -> 0 | H62: =Sheet1!K20/Sheet1!$C20 -> 0 | I62: =Sheet1!L20/Sheet1!$C20 -> 0.0063492063 | ... P62: =Sheet1!S20/Sheet1!$C20 -> 0
A63: =Sheet1!A21 & "+" & Sheet1!B21 -> Executioner's Hood+1 | B63: =Sheet1!E21/Sheet1!$C21 -> 0 | C63: =Sheet1!F21/Sheet1!$C21 -> 0 | D63: =Sheet1!G21/Sheet1!$C21 -> 0 | E63: =Sheet1!H21/Sheet1!$C21 -> 0 | F63: =Sheet1!I21/Sheet1!$C21 -> 0 | G63: =Sheet1!J21/Sheet1!$C21 -> 0 | H63: =Sheet1!K21/Sheet1!$C21 -> 0 | I63: =Sheet1!L21/Sheet1!$C21 -> 0.0062378168 | ... P63: =Sheet1!S21/Sheet1!$C21 -> 0
A64: =Sheet1!A22 & "+" & Sheet1!B22 -> Executioner's Hood+2 | B64: =Sheet1!E22/Sheet1!$C22 -> 0 | C64: =Sheet1!F22/Sheet1!$C22 -> 0 | D64: =Sheet1!G22/Sheet1!$C22 -> 0 | E64: =Sheet1!H22/Sheet1!$C22 -> 0 | F64: =Sheet1!I22/Sheet1!$C22 -> 0 | G64: =Sheet1!J22/Sheet1!$C22 -> 0 | H64: =Sheet1!K22/Sheet1!$C22 -> 0 | I64: =Sheet1!L22/Sheet1!$C22 -> 0.0060468632 | ... P64: =Sheet1!S22/Sheet1!$C22 -> 0
A65: =Sheet1!A23 & "+" & Sheet1!B23 -> Executioner's Hood+3 | B65: =Sheet1!E23/Sheet1!$C23 -> 0 | C65: =Sheet1!F23/Sheet1!$C23 -> 0 | D65: =Sheet1!G23/Sheet1!$C23 -> 0 | E65: =Sheet1!H23/Sheet1!$C23 -> 0 | F65: =Sheet1!I23/Sheet1!$C23 -> 0 | G65: =Sheet1!J23/Sheet1!$C23 -> 0 | H65: =Sheet1!K23/Sheet1!$C23 -> 0 | I65: =Sheet1!L23/Sheet1!$C23 -> 0.005734767 | ... P65: =Sheet1!S23/Sheet1!$C23 -> 0
A66: =Sheet1!A24 & "+" & Sheet1!B24 -> Executioner's Hood+4 | B66: =Sheet1!E24/Sheet1!$C24 -> 0 | C66: =Sheet1!F24/Sheet1!$C24 -> 0 | D66: =Sheet1!G24/Sheet1!$C24 -> 0 | E66: =Sheet1!H24/Sheet1!$C24 -> 0 | F66: =Sheet1!I24/Sheet1!$C24 -> 0 | G66: =Sheet1!J24/Sheet1!$C24 -> 0 | H66: =Sheet1!K24/Sheet1!$C24 -> 0 | I66: =Sheet1!L24/Sheet1!$C24 -> 0.0054217942 | ... P66: =Sheet1!S24/Sheet1!$C24 -> 0
A67: =Sheet1!A25 & "+" & Sheet1!B25 -> Executioner's Hood+5 | B67: =Sheet1!E25/Sheet1!$C25 -> 0 | C67: =Sheet1!F25/Sheet1!$C25 -> 0 | D67: =Sheet1!G25/Sheet1!$C25 -> 0 | E67: =Sheet1!H25/Sheet1!$C25 -> 0 | F67: =Sheet1!I25/Sheet1!$C25 -> 0 | G67: =Sheet1!J25/Sheet1!$C25 -> 0 | H67: =Sheet1!K25/Sheet1!$C25 -> 0 | I67: =Sheet1!L25/Sheet1!$C25 -> 0.0050793651 | ... P67: =Sheet1!S25/Sheet1!$C25 -> 0
A68: =Sheet1!A152 & "+" & Sheet1!B152 -> Orb of Fury+0 | B68: =Sheet1!E152/Sheet1!$C152 -> 0 | C68: =Sheet1!F152/Sheet1!$C152 -> 0 | D68: =Sheet1!G152/Sheet1!$C152 -> 0 | E68: =Sheet1!H152/Sheet1!$C152 -> 0 | F68: =Sheet1!I152/Sheet1!$C152 -> 0 | G68: =Sheet1!J152/Sheet1!$C152 -> 0 | H68: =Sheet1!K152/Sheet1!$C152 -> 0 | I68: =Sheet1!L152/Sheet1!$C152 -> 0 | ... P68: =Sheet1!S152/Sheet1!$C152 -> 0
A69: =Sheet1!A153 & "+" & Sheet1!B153 -> Orb of Fury+1 | B69: =Sheet1!E153/Sheet1!$C153 -> 0 | C69: =Sheet1!F153/Sheet1!$C153 -> 0 | D69: =Sheet1!G153/Sheet1!$C153 -> 0 | E69: =Sheet1!H153/Sheet1!$C153 -> 0 | F69: =Sheet1!I153/Sheet1!$C153 -> 0 | G69: =Sheet1!J153/Sheet1!$C153 -> 0 | H69: =Sheet1!K153/Sheet1!$C153 -> 0 | I69: =Sheet1!L153/Sheet1!$C153 -> 0 | ... P69: =Sheet1!S153/Sheet1!$C153 -> 0
A70: =Sheet1!A154 & "+" & Sheet1!B154 -> Orb of Fury+2 | B70: =Sheet1!E154/Sheet1!$C154 -> 0 | C70: =Sheet1!F154/Sheet1!$C154 -> 0 | D70: =Sheet1!G154/Sheet1!$C154 -> 0 | E70: =Sheet1!H154/Sheet1!$C154 -> 0 | F70: =Sheet1!I154/Sheet1!$C154 -> 0 | G70: =Sheet1!J154/Sheet1!$C154 -> 0 | H70: =Sheet1!K154/Sheet1!$C154 -> 0 | I70: =Sheet1!L154/Sheet1!$C154 -> 0 | ... P70: =Sheet1!S154/Sheet1!$C154 -> 0
A71: =Sheet1!A155 & "+" & Sheet1!B155 -> Orb of Fury+3 | B71: =Sheet1!E155/Sheet1!$C155 -> 0 | C71: =Sheet1!F155/Sheet1!$C155 -> 0 | D71: =Sheet1!G155/Sheet1!$C155 -> 0 | E71: =Sheet1!H155/Sheet1!$C155 -> 0 | F71: =Sheet1!I155/Sheet1!$C155 -> 0 | G71: =Sheet1!J155/Sheet1!$C155 -> 0 | H71: =Sheet1!K155/Sheet1!$C155 -> 0 | I71: =Sheet1!L155/Sheet1!$C155 -> 0 | ... P71: =Sheet1!S155/Sheet1!$C155 -> 0
A72: =Sheet1!A156 & "+" & Sheet1!B156 -> Orb of Fury+4 | B72: =Sheet1!E156/Sheet1!$C156 -> 0 | C72: =Sheet1!F156/Sheet1!$C156 -> 0 | D72: =Sheet1!G156/Sheet1!$C156 -> 0 | E72: =Sheet1!H156/Sheet1!$C156 -> 0 | F72: =Sheet1!I156/Sheet1!$C156 -> 0 | G72: =Sheet1!J156/Sheet1!$C156 -> 0 | H72: =Sheet1!K156/Sheet1!$C156 -> 0 | I72: =Sheet1!L156/Sheet1!$C156 -> 0 | ... P72: =Sheet1!S156/Sheet1!$C156 -> 0
A73: =Sheet1!A157 & "+" & Sheet1!B157 -> Orb of Fury+5 | B73: =Sheet1!E157/Sheet1!$C157 -> 0 | C73: =Sheet1!F157/Sheet1!$C157 -> 0 | D73: =Sheet1!G157/Sheet1!$C157 -> 0 | E73: =Sheet1!H157/Sheet1!$C157 -> 0 | F73: =Sheet1!I157/Sheet1!$C157 -> 0 | G73: =Sheet1!J157/Sheet1!$C157 -> 0 | H73: =Sheet1!K157/Sheet1!$C157 -> 0 | I73: =Sheet1!L157/Sheet1!$C157 -> 0 | ... P73: =Sheet1!S157/Sheet1!$C157 -> 0
A74: =Sheet1!A122 & "+" & Sheet1!B122 -> Warrior's Ring+0 | B74: =Sheet1!E122/Sheet1!$C122 -> 0.0033333333 | C74: =Sheet1!F122/Sheet1!$C122 -> 0 | D74: =Sheet1!G122/Sheet1!$C122 -> 0 | E74: =Sheet1!H122/Sheet1!$C122 -> 0 | F74: =Sheet1!I122/Sheet1!$C122 -> 0 | G74: =Sheet1!J122/Sheet1!$C122 -> 0 | H74: =Sheet1!K122/Sheet1!$C122 -> 0 | I74: =Sheet1!L122/Sheet1!$C122 -> 0.005 | ... P74: =Sheet1!S122/Sheet1!$C122 -> 0
A75: =Sheet1!A123 & "+" & Sheet1!B123 -> Warrior's Ring+1 | B75: =Sheet1!E123/Sheet1!$C123 -> 0.0032748538 | C75: =Sheet1!F123/Sheet1!$C123 -> 0 | D75: =Sheet1!G123/Sheet1!$C123 -> 0 | E75: =Sheet1!H123/Sheet1!$C123 -> 0 | F75: =Sheet1!I123/Sheet1!$C123 -> 0 | G75: =Sheet1!J123/Sheet1!$C123 -> 0 | H75: =Sheet1!K123/Sheet1!$C123 -> 0 | I75: =Sheet1!L123/Sheet1!$C123 -> 0.0049122807 | ... P75: =Sheet1!S123/Sheet1!$C123 -> 0
A76: =Sheet1!A124 & "+" & Sheet1!B124 -> Warrior's Ring+2 | B76: =Sheet1!E124/Sheet1!$C124 -> 0.0031746032 | C76: =Sheet1!F124/Sheet1!$C124 -> 0 | D76: =Sheet1!G124/Sheet1!$C124 -> 0 | E76: =Sheet1!H124/Sheet1!$C124 -> 0 | F76: =Sheet1!I124/Sheet1!$C124 -> 0 | G76: =Sheet1!J124/Sheet1!$C124 -> 0 | H76: =Sheet1!K124/Sheet1!$C124 -> 0 | I76: =Sheet1!L124/Sheet1!$C124 -> 0.0047619048 | ... P76: =Sheet1!S124/Sheet1!$C124 -> 0
A77: =Sheet1!A125 & "+" & Sheet1!B125 -> Warrior's Ring+3 | B77: =Sheet1!E125/Sheet1!$C125 -> 0.0030107527 | C77: =Sheet1!F125/Sheet1!$C125 -> 0 | D77: =Sheet1!G125/Sheet1!$C125 -> 0 | E77: =Sheet1!H125/Sheet1!$C125 -> 0 | F77: =Sheet1!I125/Sheet1!$C125 -> 0 | G77: =Sheet1!J125/Sheet1!$C125 -> 0 | H77: =Sheet1!K125/Sheet1!$C125 -> 0 | I77: =Sheet1!L125/Sheet1!$C125 -> 0.004516129 | ... P77: =Sheet1!S125/Sheet1!$C125 -> 0
A78: =Sheet1!A126 & "+" & Sheet1!B126 -> Warrior's Ring+4 | B78: =Sheet1!E126/Sheet1!$C126 -> 0.0028464419 | C78: =Sheet1!F126/Sheet1!$C126 -> 0 | D78: =Sheet1!G126/Sheet1!$C126 -> 0 | E78: =Sheet1!H126/Sheet1!$C126 -> 0 | F78: =Sheet1!I126/Sheet1!$C126 -> 0 | G78: =Sheet1!J126/Sheet1!$C126 -> 0 | H78: =Sheet1!K126/Sheet1!$C126 -> 0 | I78: =Sheet1!L126/Sheet1!$C126 -> 0.0042696629 | ... P78: =Sheet1!S126/Sheet1!$C126 -> 0
A79: =Sheet1!A127 & "+" & Sheet1!B127 -> Warrior's Ring+5 | B79: =Sheet1!E127/Sheet1!$C127 -> 0.0026666667 | C79: =Sheet1!F127/Sheet1!$C127 -> 0 | D79: =Sheet1!G127/Sheet1!$C127 -> 0 | E79: =Sheet1!H127/Sheet1!$C127 -> 0 | F79: =Sheet1!I127/Sheet1!$C127 -> 0 | G79: =Sheet1!J127/Sheet1!$C127 -> 0 | H79: =Sheet1!K127/Sheet1!$C127 -> 0 | I79: =Sheet1!L127/Sheet1!$C127 -> 0.004 | ... P79: =Sheet1!S127/Sheet1!$C127 -> 0
A80: =Sheet1!A50 & "+" & Sheet1!B50 -> Knight's Armor+0 | B80: =Sheet1!E50/Sheet1!$C50 -> 0.002 | C80: =Sheet1!F50/Sheet1!$C50 -> 0 | D80: =Sheet1!G50/Sheet1!$C50 -> 0 | E80: =Sheet1!H50/Sheet1!$C50 -> 0 | F80: =Sheet1!I50/Sheet1!$C50 -> 0 | G80: =Sheet1!J50/Sheet1!$C50 -> 0 | H80: =Sheet1!K50/Sheet1!$C50 -> 0 | I80: =Sheet1!L50/Sheet1!$C50 -> 0.024 | ... P80: =Sheet1!S50/Sheet1!$C50 -> 0
A81: =Sheet1!A51 & "+" & Sheet1!B51 -> Knight's Armor+1 | B81: =Sheet1!E51/Sheet1!$C51 -> 0.0019649123 | C81: =Sheet1!F51/Sheet1!$C51 -> 0 | D81: =Sheet1!G51/Sheet1!$C51 -> 0 | E81: =Sheet1!H51/Sheet1!$C51 -> 0 | F81: =Sheet1!I51/Sheet1!$C51 -> 0 | G81: =Sheet1!J51/Sheet1!$C51 -> 0 | H81: =Sheet1!K51/Sheet1!$C51 -> 0 | I81: =Sheet1!L51/Sheet1!$C51 -> 0.023578947 | ... P81: =Sheet1!S51/Sheet1!$C51 -> 0
A82: =Sheet1!A52 & "+" & Sheet1!B52 -> Knight's Armor+2 | B82: =Sheet1!E52/Sheet1!$C52 -> 0.0019047619 | C82: =Sheet1!F52/Sheet1!$C52 -> 0 | D82: =Sheet1!G52/Sheet1!$C52 -> 0 | E82: =Sheet1!H52/Sheet1!$C52 -> 0 | F82: =Sheet1!I52/Sheet1!$C52 -> 0 | G82: =Sheet1!J52/Sheet1!$C52 -> 0 | H82: =Sheet1!K52/Sheet1!$C52 -> 0 | I82: =Sheet1!L52/Sheet1!$C52 -> 0.022857143 | ... P82: =Sheet1!S52/Sheet1!$C52 -> 0
A83: =Sheet1!A53 & "+" & Sheet1!B53 -> Knight's Armor+3 | B83: =Sheet1!E53/Sheet1!$C53 -> 0.0018064516 | C83: =Sheet1!F53/Sheet1!$C53 -> 0 | D83: =Sheet1!G53/Sheet1!$C53 -> 0 | E83: =Sheet1!H53/Sheet1!$C53 -> 0 | F83: =Sheet1!I53/Sheet1!$C53 -> 0 | G83: =Sheet1!J53/Sheet1!$C53 -> 0 | H83: =Sheet1!K53/Sheet1!$C53 -> 0 | I83: =Sheet1!L53/Sheet1!$C53 -> 0.021677419 | ... P83: =Sheet1!S53/Sheet1!$C53 -> 0
A84: =Sheet1!A54 & "+" & Sheet1!B54 -> Knight's Armor+4 | B84: =Sheet1!E54/Sheet1!$C54 -> 0.0017078652 | C84: =Sheet1!F54/Sheet1!$C54 -> 0 | D84: =Sheet1!G54/Sheet1!$C54 -> 0 | E84: =Sheet1!H54/Sheet1!$C54 -> 0 | F84: =Sheet1!I54/Sheet1!$C54 -> 0 | G84: =Sheet1!J54/Sheet1!$C54 -> 0 | H84: =Sheet1!K54/Sheet1!$C54 -> 0 | I84: =Sheet1!L54/Sheet1!$C54 -> 0.020494382 | ... P84: =Sheet1!S54/Sheet1!$C54 -> 0
A85: =Sheet1!A55 & "+" & Sheet1!B55 -> Knight's Armor+5 | B85: =Sheet1!E55/Sheet1!$C55 -> 0.0016 | C85: =Sheet1!F55/Sheet1!$C55 -> 0 | D85: =Sheet1!G55/Sheet1!$C55 -> 0 | E85: =Sheet1!H55/Sheet1!$C55 -> 0 | F85: =Sheet1!I55/Sheet1!$C55 -> 0 | G85: =Sheet1!J55/Sheet1!$C55 -> 0 | H85: =Sheet1!K55/Sheet1!$C55 -> 0 | I85: =Sheet1!L55/Sheet1!$C55 -> 0.0192 | ... P85: =Sheet1!S55/Sheet1!$C55 -> 0
A86: =Sheet1!A86 & "+" & Sheet1!B86 -> Plate Helm+0 | B86: =Sheet1!E86/Sheet1!$C86 -> 0 | C86: =Sheet1!F86/Sheet1!$C86 -> 0 | D86: =Sheet1!G86/Sheet1!$C86 -> 0 | E86: =Sheet1!H86/Sheet1!$C86 -> 0.13157895 | F86: =Sheet1!I86/Sheet1!$C86 -> 0 | G86: =Sheet1!J86/Sheet1!$C86 -> 0 | H86: =Sheet1!K86/Sheet1!$C86 -> 0 | I86: =Sheet1!L86/Sheet1!$C86 -> 0.013157895 | ... P86: =Sheet1!S86/Sheet1!$C86 -> 0
A87: =Sheet1!A104 & "+" & Sheet1!B104 -> Robes of Resistance+0 | B87: =Sheet1!E104/Sheet1!$C104 -> 0 | C87: =Sheet1!F104/Sheet1!$C104 -> 0 | D87: =Sheet1!G104/Sheet1!$C104 -> 0 | E87: =Sheet1!H104/Sheet1!$C104 -> 0 | F87: =Sheet1!I104/Sheet1!$C104 -> 0 | G87: =Sheet1!J104/Sheet1!$C104 -> 0 | H87: =Sheet1!K104/Sheet1!$C104 -> 0 | I87: =Sheet1!L104/Sheet1!$C104 -> 0.013043478 | ... P87: =Sheet1!S104/Sheet1!$C104 -> 0
A88: =Sheet1!A87 & "+" & Sheet1!B87 -> Plate Helm+1 | B88: =Sheet1!E87/Sheet1!$C87 -> 0 | C88: =Sheet1!F87/Sheet1!$C87 -> 0 | D88: =Sheet1!G87/Sheet1!$C87 -> 0 | E88: =Sheet1!H87/Sheet1!$C87 -> 0.12927054 | F88: =Sheet1!I87/Sheet1!$C87 -> 0 | G88: =Sheet1!J87/Sheet1!$C87 -> 0 | H88: =Sheet1!K87/Sheet1!$C87 -> 0 | I88: =Sheet1!L87/Sheet1!$C87 -> 0.012927054 | ... P88: =Sheet1!S87/Sheet1!$C87 -> 0
A89: =Sheet1!A105 & "+" & Sheet1!B105 -> Robes of Resistance+1 | B89: =Sheet1!E105/Sheet1!$C105 -> 0 | C89: =Sheet1!F105/Sheet1!$C105 -> 0 | D89: =Sheet1!G105/Sheet1!$C105 -> 0 | E89: =Sheet1!H105/Sheet1!$C105 -> 0 | F89: =Sheet1!I105/Sheet1!$C105 -> 0 | G89: =Sheet1!J105/Sheet1!$C105 -> 0 | H89: =Sheet1!K105/Sheet1!$C105 -> 0 | I89: =Sheet1!L105/Sheet1!$C105 -> 0.012814645 | ... P89: =Sheet1!S105/Sheet1!$C105 -> 0
A90: =Sheet1!A88 & "+" & Sheet1!B88 -> Plate Helm+2 | B90: =Sheet1!E88/Sheet1!$C88 -> 0 | C90: =Sheet1!F88/Sheet1!$C88 -> 0 | D90: =Sheet1!G88/Sheet1!$C88 -> 0 | E90: =Sheet1!H88/Sheet1!$C88 -> 0.12531328 | F90: =Sheet1!I88/Sheet1!$C88 -> 0 | G90: =Sheet1!J88/Sheet1!$C88 -> 0 | H90: =Sheet1!K88/Sheet1!$C88 -> 0 | I90: =Sheet1!L88/Sheet1!$C88 -> 0.012531328 | ... P90: =Sheet1!S88/Sheet1!$C88 -> 0
A91: =Sheet1!A106 & "+" & Sheet1!B106 -> Robes of Resistance+2 | B91: =Sheet1!E106/Sheet1!$C106 -> 0 | C91: =Sheet1!F106/Sheet1!$C106 -> 0 | D91: =Sheet1!G106/Sheet1!$C106 -> 0 | E91: =Sheet1!H106/Sheet1!$C106 -> 0 | F91: =Sheet1!I106/Sheet1!$C106 -> 0 | G91: =Sheet1!J106/Sheet1!$C106 -> 0 | H91: =Sheet1!K106/Sheet1!$C106 -> 0 | I91: =Sheet1!L106/Sheet1!$C106 -> 0.01242236 | ... P91: =Sheet1!S106/Sheet1!$C106 -> 0
A92: =Sheet1!A89 & "+" & Sheet1!B89 -> Plate Helm+3 | B92: =Sheet1!E89/Sheet1!$C89 -> 0 | C92: =Sheet1!F89/Sheet1!$C89 -> 0 | D92: =Sheet1!G89/Sheet1!$C89 -> 0 | E92: =Sheet1!H89/Sheet1!$C89 -> 0.1188455 | F92: =Sheet1!I89/Sheet1!$C89 -> 0 | G92: =Sheet1!J89/Sheet1!$C89 -> 0 | H92: =Sheet1!K89/Sheet1!$C89 -> 0 | I92: =Sheet1!L89/Sheet1!$C89 -> 0.01188455 | ... P92: =Sheet1!S89/Sheet1!$C89 -> 0
A93: =Sheet1!A107 & "+" & Sheet1!B107 -> Robes of Resistance+3 | B93: =Sheet1!E107/Sheet1!$C107 -> 0 | C93: =Sheet1!F107/Sheet1!$C107 -> 0 | D93: =Sheet1!G107/Sheet1!$C107 -> 0 | E93: =Sheet1!H107/Sheet1!$C107 -> 0 | F93: =Sheet1!I107/Sheet1!$C107 -> 0 | G93: =Sheet1!J107/Sheet1!$C107 -> 0 | H93: =Sheet1!K107/Sheet1!$C107 -> 0 | I93: =Sheet1!L107/Sheet1!$C107 -> 0.011781206 | ... P93: =Sheet1!S107/Sheet1!$C107 -> 0
A94: =Sheet1!A90 & "+" & Sheet1!B90 -> Plate Helm+4 | B94: =Sheet1!E90/Sheet1!$C90 -> 0 | C94: =Sheet1!F90/Sheet1!$C90 -> 0 | D94: =Sheet1!G90/Sheet1!$C90 -> 0 | E94: =Sheet1!H90/Sheet1!$C90 -> 0.11235955 | F94: =Sheet1!I90/Sheet1!$C90 -> 0 | G94: =Sheet1!J90/Sheet1!$C90 -> 0 | H94: =Sheet1!K90/Sheet1!$C90 -> 0 | I94: =Sheet1!L90/Sheet1!$C90 -> 0.011235955 | ... P94: =Sheet1!S90/Sheet1!$C90 -> 0
A95: =Sheet1!A108 & "+" & Sheet1!B108 -> Robes of Resistance+4 | B95: =Sheet1!E108/Sheet1!$C108 -> 0 | C95: =Sheet1!F108/Sheet1!$C108 -> 0 | D95: =Sheet1!G108/Sheet1!$C108 -> 0 | E95: =Sheet1!H108/Sheet1!$C108 -> 0 | F95: =Sheet1!I108/Sheet1!$C108 -> 0 | G95: =Sheet1!J108/Sheet1!$C108 -> 0 | H95: =Sheet1!K108/Sheet1!$C108 -> 0 | I95: =Sheet1!L108/Sheet1!$C108 -> 0.011138251 | ... P95: =Sheet1!S108/Sheet1!$C108 -> 0
A96: =Sheet1!A56 & "+" & Sheet1!B56 -> Leather Armor+0 | B96: =Sheet1!E56/Sheet1!$C56 -> 0 | C96: =Sheet1!F56/Sheet1!$C56 -> 0 | D96: =Sheet1!G56/Sheet1!$C56 -> 0 | E96: =Sheet1!H56/Sheet1!$C56 -> 0 | F96: =Sheet1!I56/Sheet1!$C56 -> 0 | G96: =Sheet1!J56/Sheet1!$C56 -> 0 | H96: =Sheet1!K56/Sheet1!$C56 -> 0 | I96: =Sheet1!L56/Sheet1!$C56 -> 0.010869565 | ... P96: =Sheet1!S56/Sheet1!$C56 -> 0.017391304
A97: =Sheet1!A57 & "+" & Sheet1!B57 -> Leather Armor+1 | B97: =Sheet1!E57/Sheet1!$C57 -> 0 | C97: =Sheet1!F57/Sheet1!$C57 -> 0 | D97: =Sheet1!G57/Sheet1!$C57 -> 0 | E97: =Sheet1!H57/Sheet1!$C57 -> 0 | F97: =Sheet1!I57/Sheet1!$C57 -> 0 | G97: =Sheet1!J57/Sheet1!$C57 -> 0 | H97: =Sheet1!K57/Sheet1!$C57 -> 0 | I97: =Sheet1!L57/Sheet1!$C57 -> 0.010678871 | ... P97: =Sheet1!S57/Sheet1!$C57 -> 0.01525553
A98: =Sheet1!A91 & "+" & Sheet1!B91 -> Plate Helm+5 | B98: =Sheet1!E91/Sheet1!$C91 -> 0 | C98: =Sheet1!F91/Sheet1!$C91 -> 0 | D98: =Sheet1!G91/Sheet1!$C91 -> 0 | E98: =Sheet1!H91/Sheet1!$C91 -> 0.10526316 | F98: =Sheet1!I91/Sheet1!$C91 -> 0 | G98: =Sheet1!J91/Sheet1!$C91 -> 0 | H98: =Sheet1!K91/Sheet1!$C91 -> 0 | I98: =Sheet1!L91/Sheet1!$C91 -> 0.010526316 | ... P98: =Sheet1!S91/Sheet1!$C91 -> 0
A99: =Sheet1!A109 & "+" & Sheet1!B109 -> Robes of Resistance+5 | B99: =Sheet1!E109/Sheet1!$C109 -> 0 | C99: =Sheet1!F109/Sheet1!$C109 -> 0 | D99: =Sheet1!G109/Sheet1!$C109 -> 0 | E99: =Sheet1!H109/Sheet1!$C109 -> 0 | F99: =Sheet1!I109/Sheet1!$C109 -> 0 | G99: =Sheet1!J109/Sheet1!$C109 -> 0 | H99: =Sheet1!K109/Sheet1!$C109 -> 0 | I99: =Sheet1!L109/Sheet1!$C109 -> 0.010434783 | ... P99: =Sheet1!S109/Sheet1!$C109 -> 0
A100: =Sheet1!A58 & "+" & Sheet1!B58 -> Leather Armor+2 | B100: =Sheet1!E58/Sheet1!$C58 -> 0 | C100: =Sheet1!F58/Sheet1!$C58 -> 0 | D100: =Sheet1!G58/Sheet1!$C58 -> 0 | E100: =Sheet1!H58/Sheet1!$C58 -> 0 | F100: =Sheet1!I58/Sheet1!$C58 -> 0 | G100: =Sheet1!J58/Sheet1!$C58 -> 0 | H100: =Sheet1!K58/Sheet1!$C58 -> 0 | I100: =Sheet1!L58/Sheet1!$C58 -> 0.010351967 | ... P100: =Sheet1!S58/Sheet1!$C58 -> 0.013457557
...

Sheet Sheet3
