Workbook

Sheet Sheet1
A1: Item | B1: Level | C1: Gold | D1: Crystal | E1: Str | F1: Agi | G1: Int | H1: Health | I1: Regen | J1: Mana | K1: Mana Regen | L1: Armor | M1: Damage | N1: Attack Speed | O1: Magic Reduction | P1: Evoc | Q1: Total Health | R1: Total Mana | S1: Total Attack Speed
A2: Circlet of Mana | B2: 0 | C2: 600 | D2: 0 | E2: 0 | F2: 0 | G2: 0 | H2: 0 | I2: 0 | J2: 0 | K2: 60 | L2: 0 | M2: 0 | N2: 0 | O2: 0 | P2: 0 | Q2: =H2+20*E2 -> 0 | R2: =J2+15*G2 -> 0 | S2: =N2+F2 -> 0
A3: =A2 -> Circlet of Mana | B3: 1 | C3: =C2*1.425 -> 855 | D3: =D2*1.4 -> 0 | E3: =E2*1.4 -> 0 | F3: =F2*1.4 -> 0 | G3: =G2*1.4 -> 0 | H3: =H2*1.4 -> 0 | I3: =I2*1.4 -> 0 | J3: =J2*1.4 -> 0 | K3: =K2*1.4 -> 84 | ... M3: =M2*1.4 -> 0 | N3: 0 | O3: 0 | P3: 0 | Q3: =H3+20*E3 -> 0 | R3: =J3+15*G3 -> 0 | S3: =N3+F3 -> 0
A4: =A3 -> Circlet of Mana | B4: 2 | C4: =C2*2.1 -> 1260 | D4: =D2*2 -> 0 | E4: =E2*2 -> 0 | F4: =F2*2 -> 0 | G4: =G2*2 -> 0 | H4: =H2*2 -> 0 | I4: =I2*2 -> 0 | J4: =J2*2 -> 0 | K4: =K2*2 -> 120 | ... M4: =M2*2 -> 0 | N4: 0 | O4: 0 | P4: 0 | Q4: =H4+20*E4 -> 0 | R4: =J4+15*G4 -> 0 | S4: =N4+F4 -> 0
A5: =A4 -> Circlet of Mana | B5: 3 | C5: =C2*3.1 -> 1860 | D5: =D2*2.8 -> 0 | E5: =E2*2.8 -> 0 | F5: =F2*2.8 -> 0 | G5: =G2*2.8 -> 0 | H5: =H2*2.8 -> 0 | I5: =I2*2.8 -> 0 | J5: =J2*2.8 -> 0 | K5: =K2*2.8 -> 168 | ... M5: =M2*2.8 -> 0 | N5: 0 | O5: 0 | P5: 0 | Q5: =H5+20*E5 -> 0 | R5: =J5+15*G5 -> 0 | S5: =N5+F5 -> 0
A6: =A5 -> Circlet of Mana | B6: 4 | C6: =C2*4.45 -> 2670 | D6: =D2*3.8 -> 0 | E6: =E2*3.8 -> 0 | F6: =F2*3.8 -> 0 | G6: =G2*3.8 -> 0 | H6: =H2*3.8 -> 0 | I6: =I2*3.8 -> 0 | J6: =J2*3.8 -> 0 | K6: =K2*3.8 -> 228 | ... M6: =M2*3.8 -> 0 | N6: 0 | O6: 0 | P6: 0 | Q6: =H6+20*E6 -> 0 | R6: =J6+15*G6 -> 0 | S6: =N6+F6 -> 0
A7: =A6 -> Circlet of Mana | B7: 5 | C7: =C2*6.25 -> 3750 | D7: =D2*5 -> 0 | E7: =E2*5 -> 0 | F7: =F2*5 -> 0 | G7: =G2*5 -> 0 | H7: =H2*5 -> 0 | I7: =I2*5 -> 0 | J7: =J2*5 -> 0 | K7: =K2*5 -> 300 | ... M7: =M2*5 -> 0 | N7: 0 | O7: 0 | P7: 0 | Q7: =H7+20*E7 -> 0 | R7: =J7+15*G7 -> 0 | S7: =N7+F7 -> 0
A8: Dexterous Ring | B8: 0 | C8: 560 | D8: 0 | E8: 0 | F8: 6 | G8: 0 | H8: 0 | I8: 0 | J8: 0 | K8: 0 | L8: 0 | M8: 0 | N8: 0 | O8: 0 | P8: 0 | Q8: =H8+20*E8 -> 0 | R8: =J8+15*G8 -> 0 | S8: =N8+F8 -> 6
A9: =A8 -> Dexterous Ring | B9: 1 | C9: =C8*1.425 -> 798 | D9: =D8*1.4 -> 0 | E9: =E8*1.4 -> 0 | F9: =F8*1.4 -> 8.4 | G9: =G8*1.4 -> 0 | H9: =H8*1.4 -> 0 | I9: =I8*1.4 -> 0 | J9: =J8*1.4 -> 0 | K9: =K8*1.4 -> 0 | ... P9: =P8*1.4 -> 0 | Q9: =H9+20*E9 -> 0 | R9: =J9+15*G9 -> 0 | S9: =N9+F9 -> 8.4
A10: =A9 -> Dexterous Ring | B10: 2 | C10: =C8*2.1 -> 1176 | D10: =D8*2 -> 0 | E10: =E8*2 -> 0 | F10: =F8*2 -> 12 | G10: =G8*2 -> 0 | H10: =H8*2 -> 0 | I10: =I8*2 -> 0 | J10: =J8*2 -> 0 | K10: =K8*2 -> 0 | ... P10: =P8*2 -> 0 | Q10: =H10+20*E10 -> 0 | R10: =J10+15*G10 -> 0 | S10: =N10+F10 -> 12
A11: =A10 -> Dexterous Ring | B11: 3 | C11: =C8*3.1 -> 1736 | D11: =D8*2.8 -> 0 | E11: =E8*2.8 -> 0 | F11: =F8*2.8 -> 16.8 | G11: =G8*2.8 -> 0 | H11: =H8*2.8 -> 0 | I11: =I8*2.8 -> 0 | J11: =J8*2.8 -> 0 | K11: =K8*2.8 -> 0 | ... P11: =P8*2.8 -> 0 | Q11: =H11+20*E11 -> 0 | R11: =J11+15*G11 -> 0 | S11: =N11+F11 -> 16.8
A12: =A11 -> Dexterous Ring | B12: 4 | C12: =C8*4.45 -> 2492 | D12: =D8*3.8 -> 0 | E12: =E8*3.8 -> 0 | F12: =F8*3.8 -> 22.8 | G12: =G8*3.8 -> 0 | H12: =H8*3.8 -> 0 | I12: =I8*3.8 -> 0 | J12: =J8*3.8 -> 0 | K12: =K8*3.8 -> 0 | ... P12: =P8*3.8 -> 0 | Q12: =H12+20*E12 -> 0 | R12: =J12+15*G12 -> 0 | S12: =N12+F12 -> 22.8
A13: =A12 -> Dexterous Ring | B13: 5 | C13: =C8*6.25 -> 3500 | D13: =D8*5 -> 0 | E13: =E8*5 -> 0 | F13: =F8*5 -> 30 | G13: =G8*5 -> 0 | H13: =H8*5 -> 0 | I13: =I8*5 -> 0 | J13: =J8*5 -> 0 | K13: =K8*5 -> 0 | ... P13: =P8*5 -> 0 | Q13: =H13+20*E13 -> 0 | R13: =J13+15*G13 -> 0 | S13: =N13+F13 -> 30
A14: Dragonscale Mask | B14: 0 | C14: 760 | D14: 0 | E14: 2 | F14: 0 | G14: 2 | H14: 0 | I14: 0 | J14: 0 | K14: 0 | L14: 5 | M14: 0 | N14: 0 | O14: 3 | P14: 0 | Q14: =H14+20*E14 -> 40 | R14: =J14+15*G14 -> 30 | S14: =N14+F14 -> 0
A15: =A14 -> Dragonscale Mask | B15: 1 | C15: =C14*1.425 -> 1083 | D15: =D14*1.4 -> 0 | E15: =E14*1.4 -> 2.8 | F15: =F14*1.4 -> 0 | G15: =G14*1.4 -> 2.8 | H15: =H14*1.4 -> 0 | I15: =I14*1.4 -> 0 | J15: =J14*1.4 -> 0 | K15: =K14*1.4 -> 0 | ... P15: =P14*1.4 -> 0 | Q15: =H15+20*E15 -> 56 | R15: =J15+15*G15 -> 42 | S15: =N15+F15 -> 0
A16: =A15 -> Dragonscale Mask | B16: 2 | C16: =C14*2.1 -> 1596 | D16: =D14*2 -> 0 | E16: =E14*2 -> 4 | F16: =F14*2 -> 0 | G16: =G14*2 -> 4 | H16: =H14*2 -> 0 | I16: =I14*2 -> 0 | J16: =J14*2 -> 0 | K16: =K14*2 -> 0 | ... M16: =M14*2 -> 0 | N16: =N15*1.4 -> 0 | O16: =O15*1.4 -> 5.88 | P16: =P15*1.4 -> 0 | Q16: =H16+20*E16 -> 80 | R16: =J16+15*G16 -> 60 | S16: =N16+F16 -> 0
A17: =A16 -> Dragonscale Mask | B17: 3 | C17: =C14*3.1 -> 2356 | D17: =D14*2.8 -> 0 | E17: =E14*2.8 -> 5.6 | F17: =F14*2.8 -> 0 | G17: =G14*2.8 -> 5.6 | H17: =H14*2.8 -> 0 | I17: =I14*2.8 -> 0 | J17: =J14*2.8 -> 0 | K17: =K14*2.8 -> 0 | ... M17: =M14*2.8 -> 0 | N17: =N16*1.4 -> 0 | O17: =O16*1.4 -> 8.232 | P17: =P16*1.4 -> 0 | Q17: =H17+20*E17 -> 112 | R17: =J17+15*G17 -> 84 | S17: =N17+F17 -> 0
A18: =A17 -> Dragonscale Mask | B18: 4 | C18: =C14*4.45 -> 3382 | D18: =D14*3.8 -> 0 | E18: =E14*3.8 -> 7.6 | F18: =F14*3.8 -> 0 | G18: =G14*3.8 -> 7.6 | H18: =H14*3.8 -> 0 | I18: =I14*3.8 -> 0 | J18: =J14*3.8 -> 0 | K18: =K14*3.8 -> 0 | ... M18: =M14*3.8 -> 0 | N18: =N17*1.4 -> 0 | O18: =O17*1.4 -> 11.5248 | P18: =P17*1.4 -> 0 | Q18: =H18+20*E18 -> 152 | R18: =J18+15*G18 -> 114 | S18: =N18+F18 -> 0
A19: =A18 -> Dragonscale Mask | B19: 5 | C19: =C14*6.25 -> 4750 | D19: =D14*5 -> 0 | E19: =E14*5 -> 10 | F19: =F14*5 -> 0 | G19: =G14*5 -> 10 | H19: =H14*5 -> 0 | I19: =I14*5 -> 0 | J19: =J14*5 -> 0 | K19: =K14*5 -> 0 | ... M19: =M14*5 -> 0 | N19: =N18*1.4 -> 0 | O19: =O18*1.4 -> 16.13472 | P19: =P18*1.4 -> 0 | Q19: =H19+20*E19 -> 200 | R19: =J19+15*G19 -> 150 | S19: =N19+F19 -> 0
A20: Executioner's Hood | B20: 0 | C20: 630 | D20: 0 | E20: 0 | F20: 0 | G20: 0 | H20: 0 | I20: 0 | J20: 0 | K20: 0 | L20: 4 | M20: 9 | N20: 0 | O20: 0 | P20: 0 | Q20: =H20+20*E20 -> 0 | R20: =J20+15*G20 -> 0 | S20: =N20+F20 -> 0
A21: =A20 -> Executioner's Hood | B21: 1 | C21: =C20*1.425 -> 897.75 | D21: =D20*1.4 -> 0 | E21: =E20*1.4 -> 0 | F21: =F20*1.4 -> 0 | G21: =G20*1.4 -> 0 | H21: =H20*1.4 -> 0 | I21: =I20*1.4 -> 0 | J21: =J20*1.4 -> 0 | K21: =K20*1.4 -> 0 | ... P21: =P20*1.4 -> 0 | Q21: =H21+20*E21 -> 0 | R21: =J21+15*G21 -> 0 | S21: =N21+F21 -> 0
A22: =A21 -> Executioner's Hood | B22: 2 | C22: =C20*2.1 -> 1323 | D22: =D20*2 -> 0 | E22: =E20*2 -> 0 | F22: =F20*2 -> 0 | G22: =G20*2 -> 0 | H22: =H20*2 -> 0 | I22: =I20*2 -> 0 | J22: =J20*2 -> 0 | K22: =K20*2 -> 0 | ... P22: =P20*2 -> 0 | Q22: =H22+20*E22 -> 0 | R22: =J22+15*G22 -> 0 | S22: =N22+F22 -> 0
A23: =A22 -> Executioner's Hood | B23: 3 | C23: =C20*3.1 -> 1953 | D23: =D20*2.8 -> 0 | E23: =E20*2.8 -> 0 | F23: =F20*2.8 -> 0 | G23: =G20*2.8 -> 0 | H23: =H20*2.8 -> 0 | I23: =I20*2.8 -> 0 | J23: =J20*2.8 -> 0 | K23: =K20*2.8 -> 0 | ... P23: =P20*2.8 -> 0 | Q23: =H23+20*E23 -> 0 | R23: =J23+15*G23 -> 0 | S23: =N23+F23 -> 0
A24: =A23 -> Executioner's Hood | B24: 4 | C24: =C20*4.45 -> 2803.5 | D24: =D20*3.8 -> 0 | E24: =E20*3.8 -> 0 | F24: =F20*3.8 -> 0 | G24: =G20*3.8 -> 0 | H24: =H20*3.8 -> 0 | I24: =I20*3.8 -> 0 | J24: =J20*3.8 -> 0 | K24: =K20*3.8 -> 0 | ... P24: =P20*3.8 -> 0 | Q24: =H24+20*E24 -> 0 | R24: =J24+15*G24 -> 0 | S24: =N24+F24 -> 0
A25: =A24 -> Executioner's Hood | B25: 5 | C25: =C20*6.25 -> 3937.5 | D25: =D20*5 -> 0 | E25: =E20*5 -> 0 | F25: =F20*5 -> 0 | G25: =G20*5 -> 0 | H25: =H20*5 -> 0 | I25: =I20*5 -> 0 | J25: =J20*5 -> 0 | K25: =K20*5 -> 0 | ... P25: =P20*5 -> 0 | Q25: =H25+20*E25 -> 0 | R25: =J25+15*G25 -> 0 | S25: =N25+F25 -> 0
A26: Felskin Gauntlents | B26: 0 | C26: 700 | D26: 0 | E26: 0 | F26: 0 | G26: 0 | H26: 60 | I26: 0 | J26: 0 | K26: 0 | L26: 0 | M26: 0 | N26: 0 | O26: 0 | P26: 8 | Q26: =H26+20*E26 -> 60 | R26: =J26+15*G26 -> 0 | S26: =N26+F26 -> 0
A27: =A26 -> Felskin Gauntlents | B27: 1 | C27: =C26*1.425 -> 997.5 | D27: =D26*1.4 -> 0 | E27: =E26*1.4 -> 0 | F27: =F26*1.4 -> 0 | G27: =G26*1.4 -> 0 | H27: =H26*1.4 -> 84 | I27: =I26*1.4 -> 0 | J27: =J26*1.4 -> 0 | K27: =K26*1.4 -> 0 | ... P27: =P26*1.4 -> 11.2 | Q27: =H27+20*E27 -> 84 | R27: =J27+15*G27 -> 0 | S27: =N27+F27 -> 0
A28: =A27 -> Felskin Gauntlents | B28: 2 | C28: =C26*2.1 -> 1470 | D28: =D26*2 -> 0 | E28: =E26*2 -> 0 | F28: =F26*2 -> 0 | G28: =G26*2 -> 0 | H28: =H26*2 -> 120 | I28: =I26*2 -> 0 | J28: =J26*2 -> 0 | K28: =K26*2 -> 0 | ... P28: =P26*2 -> 16 | Q28: =H28+20*E28 -> 120 | R28: =J28+15*G28 -> 0 | S28: =N28+F28 -> 0
A29: =A28 -> Felskin Gauntlents | B29: 3 | C29: =C26*3.1 -> 2170 | D29: =D26*2.8 -> 0 | E29: =E26*2.8 -> 0 | F29: =F26*2.8 -> 0 | G29: =G26*2.8 -> 0 | H29: =H26*2.8 -> 168 | I29: =I26*2.8 -> 0 | J29: =J26*2.8 -> 0 | K29: =K26*2.8 -> 0 | ... P29: =P26*2.8 -> 22.4 | Q29: =H29+20*E29 -> 168 | R29: =J29+15*G29 -> 0 | S29: =N29+F29 -> 0
A30: =A29 -> Felskin Gauntlents | B30: 4 | C30: =C26*4.45 -> 3115 | D30: =D26*3.8 -> 0 | E30: =E26*3.8 -> 0 | F30: =F26*3.8 -> 0 | G30: =G26*3.8 -> 0 | H30: =H26*3.8 -> 228 | I30: =I26*3.8 -> 0 | J30: =J26*3.8 -> 0 | K30: =K26*3.8 -> 0 | ... P30: =P26*3.8 -> 30.4 | Q30: =H30+20*E30 -> 228 | R30: =J30+15*G30 -> 0 | S30: =N30+F30 -> 0
A31: =A30 -> Felskin Gauntlents | B31: 5 | C31: =C26*6.25 -> 4375 | D31: =D26*5 -> 0 | E31: =E26*5 -> 0 | F31: =F26*5 -> 0 | G31: =G26*5 -> 0 | H31: =H26*5 -> 300 | I31: =I26*5 -> 0 | J31: =J26*5 -> 0 | K31: =K26*5 -> 0 | ... P31: =P26*5 -> 40 | Q31: =H31+20*E31 -> 300 | R31: =J31+15*G31 -> 0 | S31: =N31+F31 -> 0
A32: Gloves of Evocation | B32: 0 | C32: 640 | D32: 0 | E32: 0 | F32: 0 | G32: 0 | H32: 0 | I32: 0 | J32: 0 | K32: 0 | L32: 0 | M32: 0 | N32: 0 | O32: 0 | P32: 4 | Q32: =H32+20*E32 -> 0 | R32: =J32+15*G32 -> 0 | S32: =N32+F32 -> 0
A33: =A32 -> Gloves of Evocation | B33: 1 | C33: =C32*1.425 -> 912 | D33: =D32*1.4 -> 0 | E33: =E32*1.4 -> 0 | F33: =F32*1.4 -> 0 | G33: =G32*1.4 -> 0 | H33: =H32*1.4 -> 0 | I33: =I32*1.4 -> 0 | J33: =J32*1.4 -> 0 | K33: =K32*1.4 -> 0 | ... P33: =P32*1.4 -> 5.6 | Q33: =H33+20*E33 -> 0 | R33: =J33+15*G33 -> 0 | S33: =N33+F33 -> 0
A34: =A33 -> Gloves of Evocation | B34: 2 | C34: =C32*2.1 -> 1344 | D34: =D32*2 -> 0 | E34: =E32*2 -> 0 | F34: =F32*2 -> 0 | G34: =G32*2 -> 0 | H34: =H32*2 -> 0 | I34: =I32*2 -> 0 | J34: =J32*2 -> 0 | K34: =K32*2 -> 0 | ... P34: =P32*2 -> 8 | Q34: =H34+20*E34 -> 0 | R34: =J34+15*G34 -> 0 | S34: =N34+F34 -> 0
A35: =A34 -> Gloves of Evocation | B35: 3 | C35: =C32*3.1 -> 1984 | D35: =D32*2.8 -> 0 | E35: =E32*2.8 -> 0 | F35: =F32*2.8 -> 0 | G35: =G32*2.8 -> 0 | H35: =H32*2.8 -> 0 | I35: =I32*2.8 -> 0 | J35: =J32*2.8 -> 0 | K35: =K32*2.8 -> 0 | ... P35: =P32*2.8 -> 11.2 | Q35: =H35+20*E35 -> 0 | R35: =J35+15*G35 -> 0 | S35: =N35+F35 -> 0
A36: =A35 -> Gloves of Evocation | B36: 4 | C36: =C32*4.45 -> 2848 | D36: =D32*3.8 -> 0 | E36: =E32*3.8 -> 0 | F36: =F32*3.8 -> 0 | G36: =G32*3.8 -> 0 | H36: =H32*3.8 -> 0 | I36: =I32*3.8 -> 0 | J36: =J32*3.8 -> 0 | K36: =K32*3.8 -> 0 | ... P36: =P32*3.8 -> 15.2 | Q36: =H36+20*E36 -> 0 | R36: =J36+15*G36 -> 0 | S36: =N36+F36 -> 0
A37: =A36 -> Gloves of Evocation | B37: 5 | C37: =C32*6.25 -> 4000 | D37: =D32*5 -> 0 | E37: =E32*5 -> 0 | F37: =F32*5 -> 0 | G37: =G32*5 -> 0 | H37: =H32*5 -> 0 | I37: =I32*5 -> 0 | J37: =J32*5 -> 0 | K37: =K32*5 -> 0 | ... P37: =P32*5 -> 20 | Q37: =H37+20*E37 -> 0 | R37: =J37+15*G37 -> 0 | S37: =N37+F37 -> 0
A38: Helm of Champions | B38: 0 | C38: 640 | D38: 0 | E38: 1 | F38: 3 | G38: 0 | H38: 0 | I38: 0 | J38: 0 | K38: 0 | L38: 3 | M38: 0 | N38: 0 | O38: 0 | P38: 0 | Q38: =H38+20*E38 -> 20 | R38: =J38+15*G38 -> 0 | S38: =N38+F38 -> 3
A39: =A38 -> Helm of Champions | B39: 1 | C39: =C38*1.425 -> 912 | D39: =D38*1.4 -> 0 | E39: =E38*1.4 -> 1.4 | F39: =F38*1.4 -> 4.2 | G39: =G38*1.4 -> 0 | H39: =H38*1.4 -> 0 | I39: =I38*1.4 -> 0 | J39: =J38*1.4 -> 0 | K39: =K38*1.4 -> 0 | ... P39: =P38*1.4 -> 0 | Q39: =H39+20*E39 -> 28 | R39: =J39+15*G39 -> 0 | S39: =N39+F39 -> 4.2
A40: =A39 -> Helm of Champions | B40: 2 | C40: =C38*2.1 -> 1344 | D40: =D38*2 -> 0 | E40: =E38*2 -> 2 | F40: =F38*2 -> 6 | G40: =G38*2 -> 0 | H40: =H38*2 -> 0 | I40: =I38*2 -> 0 | J40: =J38*2 -> 0 | K40: =K38*2 -> 0 | ... P40: =P38*2 -> 0 | Q40: =H40+20*E40 -> 40 | R40: =J40+15*G40 -> 0 | S40: =N40+F40 -> 6
...

Sheet Sheet2
B1: =Sheet1!E1 -> Str | C1: =Sheet1!F1 -> Agi | D1: =Sheet1!G1 -> Int | E1: =Sheet1!H1 -> Health | F1: =Sheet1!I1 -> Regen | G1: =Sheet1!J1 -> Mana | H1: =Sheet1!K1 -> Mana Regen | I1: =Sheet1!L1 -> Armor | ... P1: =Sheet1!S1 -> Total Attack Speed
A2: =Sheet1!A68 & "+" & Sheet1!B68 -> Orb of Life+0 | B2: =Sheet1!E68/Sheet1!$C68 -> 0 | C2: =Sheet1!F68/Sheet1!$C68 -> 0 | D2: =Sheet1!G68/Sheet1!$C68 -> 0 | E2: =Sheet1!H68/Sheet1!$C68 -> 0.31111111 | F2: =Sheet1!I68/Sheet1!$C68 -> 0.0022222222 | G2: =Sheet1!J68/Sheet1!$C68 -> 0 | H2: =Sheet1!K68/Sheet1!$C68 -> 0 | I2: =Sheet1!L68/Sheet1!$C68 -> 0 | ... P2: =Sheet1!S68/Sheet1!$C68 -> 0
A3: =Sheet1!A69 & "+" & Sheet1!B69 -> Orb of Life+1 | B3: =Sheet1!E69/Sheet1!$C69 -> 0 | C3: =Sheet1!F69/Sheet1!$C69 -> 0 | D3: =Sheet1!G69/Sheet1!$C69 -> 0 | E3: =Sheet1!H69/Sheet1!$C69 -> 0.30565302 | F3: =Sheet1!I69/Sheet1!$C69 -> 0.0021832359 | G3: =Sheet1!J69/Sheet1!$C69 -> 0 | H3: =Sheet1!K69/Sheet1!$C69 -> 0 | I3: =Sheet1!L69/Sheet1!$C69 -> 0 | ... P3: =Sheet1!S69/Sheet1!$C69 -> 0
A4: =Sheet1!A70 & "+" & Sheet1!B70 -> Orb of Life+2 | B4: =Sheet1!E70/Sheet1!$C70 -> 0 | C4: =Sheet1!F70/Sheet1!$C70 -> 0 | D4: =Sheet1!G70/Sheet1!$C70 -> 0 | E4: =Sheet1!H70/Sheet1!$C70 -> 0.2962963 | F4: =Sheet1!I70/Sheet1!$C70 -> 0.0021164021 | G4: =Sheet1!J70/Sheet1!$C70 -> 0 | H4: =Sheet1!K70/Sheet1!$C70 -> 0 | I4: =Sheet1!L70/Sheet1!$C70 -> 0 | ... P4: =Sheet1!S70/Sheet1!$C70 -> 0
A5: =Sheet1!A71 & "+" & Sheet1!B71 -> Orb of Life+3 | B5: =Sheet1!E71/Sheet1!$C71 -> 0 | C5: =Sheet1!F71/Sheet1!$C71 -> 0 | D5: =Sheet1!G71/Sheet1!$C71 -> 0 | E5: =Sheet1!H71/Sheet1!$C71 -> 0.28100358 | F5: =Sheet1!I71/Sheet1!$C71 -> 0.0020071685 | G5: =Sheet1!J71/Sheet1!$C71 -> 0 | H5: =Sheet1!K71/Sheet1!$C71 -> 0 | I5: =Sheet1!L71/Sheet1!$C71 -> 0 | ... P5: =Sheet1!S71/Sheet1!$C71 -> 0
A6: =Sheet1!A44 & "+" & Sheet1!B44 -> Hydra Mail+0 | B6: =Sheet1!E44/Sheet1!$C44 -> 0 | C6: =Sheet1!F44/Sheet1!$C44 -> 0 | D6: =Sheet1!G44/Sheet1!$C44 -> 0 | E6: =Sheet1!H44/Sheet1!$C44 -> 0 | F6: =Sheet1!I44/Sheet1!$C44 -> 0.002 | G6: =Sheet1!J44/Sheet1!$C44 -> 0 | H6: =Sheet1!K44/Sheet1!$C44 -> 0 | I6: =Sheet1!L44/Sheet1!$C44 -> 0.018 | ... P6: =Sheet1!S44/Sheet1!$C44 -> 0
A7: =Sheet1!A164 & "+" & Sheet1!B164 -> Talisman of the Sun+0 | B7: =Sheet1!E164/Sheet1!$C164 -> 0.005 | C7: =Sheet1!F164/Sheet1!$C164 -> 0.005 | D7: =Sheet1!G164/Sheet1!$C164 -> 0.005 | E7: =Sheet1!H164/Sheet1!$C164 -> 0 | F7: =Sheet1!I164/Sheet1!$C164 -> 0.002 | G7: =Sheet1!J164/Sheet1!$C164 -> 0 | H7: =Sheet1!K164/Sheet1!$C164 -> 0 | I7: =Sheet1!L164/Sheet1!$C164 -> 0 | ... P7: =Sheet1!S164/Sheet1!$C164 -> 0.005
A8: =Sheet1!A45 & "+" & Sheet1!B45 -> Hydra Mail+1 | B8: =Sheet1!E45/Sheet1!$C45 -> 0 | C8: =Sheet1!F45/Sheet1!$C45 -> 0 | D8: =Sheet1!G45/Sheet1!$C45 -> 0 | E8: =Sheet1!H45/Sheet1!$C45 -> 0 | F8: =Sheet1!I45/Sheet1!$C45 -> 0.0019649123 | G8: =Sheet1!J45/Sheet1!$C45 -> 0 | H8: =Sheet1!K45/Sheet1!$C45 -> 0 | I8: =Sheet1!L45/Sheet1!$C45 -> 0.017684211 | ... P8: =Sheet1!S45/Sheet1!$C45 -> 0
A9: =Sheet1!A165 & "+" & Sheet1!B165 -> Talisman of the Sun+1 | B9: =Sheet1!E165/Sheet1!$C165 -> 0.0048275862 | C9: =Sheet1!F165/Sheet1!$C165 -> 0.0048275862 | D9: =Sheet1!G165/Sheet1!$C165 -> 0.0048275862 | E9: =Sheet1!H165/Sheet1!$C165 -> 0 | F9: =Sheet1!I165/Sheet1!$C165 -> 0.0019310345 | G9: =Sheet1!J165/Sheet1!$C165 -> 0 | H9: =Sheet1!K165/Sheet1!$C165 -> 0 | I9: =Sheet1!L165/Sheet1!$C165 -> 0 | ... P9: =Sheet1!S165/Sheet1!$C165 -> 0.0048275862
A10: =Sheet1!A46 & "+" & Sheet1!B46 -> Hydra Mail+2 | B10: =Sheet1!E46/Sheet1!$C46 -> 0 | C10: =Sheet1!F46/Sheet1!$C46 -> 0 | D10: =Sheet1!G46/Sheet1!$C46 -> 0 | E10: =Sheet1!H46/Sheet1!$C46 -> 0 | F10: =Sheet1!I46/Sheet1!$C46 -> 0.0019047619 | G10: =Sheet1!J46/Sheet1!$C46 -> 0 | H10: =Sheet1!K46/Sheet1!$C46 -> 0 | I10: =Sheet1!L46/Sheet1!$C46 -> 0.017142857 | ... P10: =Sheet1!S46/Sheet1!$C46 -> 0
A11: =Sheet1!A72 & "+" & Sheet1!B72 -> Orb of Life+4 | B11: =Sheet1!E72/Sheet1!$C72 -> 0 | C11: =Sheet1!F72/Sheet1!$C72 -> 0 | D11: =Sheet1!G72/Sheet1!$C72 -> 0 | E11: =Sheet1!H72/Sheet1!$C72 -> 0.26566792 | F11: =Sheet1!I72/Sheet1!$C72 -> 0.001897628 | G11: =Sheet1!J72/Sheet1!$C72 -> 0 | H11: =Sheet1!K72/Sheet1!$C72 -> 0 | I11: =Sheet1!L72/Sheet1!$C72 -> 0 | ... P11: =Sheet1!S72/Sheet1!$C72 -> 0
A12: =Sheet1!A166 & "+" & Sheet1!B166 -> Talisman of the Sun+2 | B12: =Sheet1!E166/Sheet1!$C166 -> 0.0046511628 | C12: =Sheet1!F166/Sheet1!$C166 -> 0.0046511628 | D12: =Sheet1!G166/Sheet1!$C166 -> 0.0046511628 | E12: =Sheet1!H166/Sheet1!$C166 -> 0 | F12: =Sheet1!I166/Sheet1!$C166 -> 0.0018604651 | G12: =Sheet1!J166/Sheet1!$C166 -> 0 | H12: =Sheet1!K166/Sheet1!$C166 -> 0 | I12: =Sheet1!L166/Sheet1!$C166 -> 0 | ... P12: =Sheet1!S166/Sheet1!$C166 -> 0.0046511628
A13: =Sheet1!A47 & "+" & Sheet1!B47 -> Hydra Mail+3 | B13: =Sheet1!E47/Sheet1!$C47 -> 0 | C13: =Sheet1!F47/Sheet1!$C47 -> 0 | D13: =Sheet1!G47/Sheet1!$C47 -> 0 | E13: =Sheet1!H47/Sheet1!$C47 -> 0 | F13: =Sheet1!I47/Sheet1!$C47 -> 0.0018064516 | G13: =Sheet1!J47/Sheet1!$C47 -> 0 | H13: =Sheet1!K47/Sheet1!$C47 -> 0 | I13: =Sheet1!L47/Sheet1!$C47 -> 0.016258065 | ... P13: =Sheet1!S47/Sheet1!$C47 -> 0
A14: =Sheet1!A73 & "+" & Sheet1!B73 -> Orb of Life+5 | B14: =Sheet1!E73/Sheet1!$C73 -> 0 | C14: =Sheet1!F73/Sheet1!$C73 -> 0 | D14: =Sheet1!G73/Sheet1!$C73 -> 0 | E14: =Sheet1!H73/Sheet1!$C73 -> 0.24888889 | F14: =Sheet1!I73/Sheet1!$C73 -> 0.0017777778 | G14: =Sheet1!J73/Sheet1!$C73 -> 0 | H14: =Sheet1!K73/Sheet1!$C73 -> 0 | I14: =Sheet1!L73/Sheet1!$C73 -> 0 | ... P14: =Sheet1!S73/Sheet1!$C73 -> 0
A15: =Sheet1!A167 & "+" & Sheet1!B167 -> Talisman of the Sun+3 | B15: =Sheet1!E167/Sheet1!$C167 -> 0.004375 | C15: =Sheet1!F167/Sheet1!$C167 -> 0.004375 | D15: =Sheet1!G167/Sheet1!$C167 -> 0.004375 | E15: =Sheet1!H167/Sheet1!$C167 -> 0 | F15: =Sheet1!I167/Sheet1!$C167 -> 0.00175 | G15: =Sheet1!J167/Sheet1!$C167 -> 0 | H15: =Sheet1!K167/Sheet1!$C167 -> 0 | I15: =Sheet1!L167/Sheet1!$C167 -> 0 | ... P15: =Sheet1!S167/Sheet1!$C167 -> 0.004375
A16: =Sheet1!A48 & "+" & Sheet1!B48 -> Hydra Mail+4 | B16: =Sheet1!E48/Sheet1!$C48 -> 0 | C16: =Sheet1!F48/Sheet1!$C48 -> 0 | D16: =Sheet1!G48/Sheet1!$C48 -> 0 | E16: =Sheet1!H48/Sheet1!$C48 -> 0 | F16: =Sheet1!I48/Sheet1!$C48 -> 0.0017078652 | G16: =Sheet1!J48/Sheet1!$C48 -> 0 | H16: =Sheet1!K48/Sheet1!$C48 -> 0 | I16: =Sheet1!L48/Sheet1!$C48 -> 0.015370787 | ... P16: =Sheet1!S48/Sheet1!$C48 -> 0
A17: =Sheet1!A168 & "+" & Sheet1!B168 -> Talisman of the Sun+4 | B17: =Sheet1!E168/Sheet1!$C168 -> 0.0040860215 | C17: =Sheet1!F168/Sheet1!$C168 -> 0.0040860215 | D17: =Sheet1!G168/Sheet1!$C168 -> 0.0040860215 | E17: =Sheet1!H168/Sheet1!$C168 -> 0 | F17: =Sheet1!I168/Sheet1!$C168 -> 0.0016344086 | G17: =Sheet1!J168/Sheet1!$C168 -> 0 | H17: =Sheet1!K168/Sheet1!$C168 -> 0 | I17: =Sheet1!L168/Sheet1!$C168 -> 0 | ... P17: =Sheet1!S168/Sheet1!$C168 -> 0.0040860215
A18: =Sheet1!A49 & "+" & Sheet1!B49 -> Hydra Mail+5 | B18: =Sheet1!E49/Sheet1!$C49 -> 0 | C18: =Sheet1!F49/Sheet1!$C49 -> 0 | D18: =Sheet1!G49/Sheet1!$C49 -> 0 | E18: =Sheet1!H49/Sheet1!$C49 -> 0 | F18: =Sheet1!I49/Sheet1!$C49 -> 0.0016 | G18: =Sheet1!J49/Sheet1!$C49 -> 0 | H18: =Sheet1!K49/Sheet1!$C49 -> 0 | I18: =Sheet1!L49/Sheet1!$C49 -> 0.0144 | ... P18: =Sheet1!S49/Sheet1!$C49 -> 0
A19: =Sheet1!A169 & "+" & Sheet1!B169 -> Talisman of the Sun+5 | B19: =Sheet1!E169/Sheet1!$C169 -> 0.0038461538 | C19: =Sheet1!F169/Sheet1!$C169 -> 0.0038461538 | D19: =Sheet1!G169/Sheet1!$C169 -> 0.0038461538 | E19: =Sheet1!H169/Sheet1!$C169 -> 0 | F19: =Sheet1!I169/Sheet1!$C169 -> 0.0015384615 | G19: =Sheet1!J169/Sheet1!$C169 -> 0 | H19: =Sheet1!K169/Sheet1!$C169 -> 0 | I19: =Sheet1!L169/Sheet1!$C169 -> 0 | ... P19: =Sheet1!S169/Sheet1!$C169 -> 0.0038461538
A20: =Sheet1!A2 & "+" & Sheet1!B2 -> Circlet of Mana+0 | B20: =Sheet1!E2/Sheet1!$C2 -> 0 | C20: =Sheet1!F2/Sheet1!$C2 -> 0 | D20: =Sheet1!G2/Sheet1!$C2 -> 0 | E20: =Sheet1!H2/Sheet1!$C2 -> 0 | F20: =Sheet1!I2/Sheet1!$C2 -> 0 | G20: =Sheet1!J2/Sheet1!$C2 -> 0 | H20: =Sheet1!K2/Sheet1!$C2 -> 0.1 | I20: =Sheet1!L2/Sheet1!$C2 -> 0 | ... P20: =Sheet1!S2/Sheet1!$C2 -> 0
A21: =Sheet1!A80 & "+" & Sheet1!B80 -> Orb of the Magi+0 | B21: =Sheet1!E80/Sheet1!$C80 -> 0 | C21: =Sheet1!F80/Sheet1!$C80 -> 0 | D21: =Sheet1!G80/Sheet1!$C80 -> 0 | E21: =Sheet1!H80/Sheet1!$C80 -> 0 | F21: =Sheet1!I80/Sheet1!$C80 -> 0 | G21: =Sheet1!J80/Sheet1!$C80 -> 0.1875 | H21: =Sheet1!K80/Sheet1!$C80 -> 0.1 | I21: =Sheet1!L80/Sheet1!$C80 -> 0 | ... P21: =Sheet1!S80/Sheet1!$C80 -> 0
A22: =Sheet1!A3 & "+" & Sheet1!B3 -> Circlet of Mana+1 | B22: =Sheet1!E3/Sheet1!$C3 -> 0 | C22: =Sheet1!F3/Sheet1!$C3 -> 0 | D22: =Sheet1!G3/Sheet1!$C3 -> 0 | E22: =Sheet1!H3/Sheet1!$C3 -> 0 | F22: =Sheet1!I3/Sheet1!$C3 -> 0 | G22: =Sheet1!J3/Sheet1!$C3 -> 0 | H22: =Sheet1!K3/Sheet1!$C3 -> 0.098245614 | I22: =Sheet1!L3/Sheet1!$C3 -> 0 | ... P22: =Sheet1!S3/Sheet1!$C3 -> 0
A23: =Sheet1!A81 & "+" & Sheet1!B81 -> Orb of the Magi+1 | B23: =Sheet1!E81/Sheet1!$C81 -> 0 | C23: =Sheet1!F81/Sheet1!$C81 -> 0 | D23: =Sheet1!G81/Sheet1!$C81 -> 0 | E23: =Sheet1!H81/Sheet1!$C81 -> 0 | F23: =Sheet1!I81/Sheet1!$C81 -> 0 | G23: =Sheet1!J81/Sheet1!$C81 -> 0.18421053 | H23: =Sheet1!K81/Sheet1!$C81 -> 0.098245614 | I23: =Sheet1!L81/Sheet1!$C81 -> 0 | ... P23: =Sheet1!S81/Sheet1!$C81 -> 0
A24: =Sheet1!A4 & "+" & Sheet1!B4 -> Circlet of Mana+2 | B24: =Sheet1!E4/Sheet1!$C4 -> 0 | C24: =Sheet1!F4/Sheet1!$C4 -> 0 | D24: =Sheet1!G4/Sheet1!$C4 -> 0 | E24: =Sheet1!H4/Sheet1!$C4 -> 0 | F24: =Sheet1!I4/Sheet1!$C4 -> 0 | G24: =Sheet1!J4/Sheet1!$C4 -> 0 | H24: =Sheet1!K4/Sheet1!$C4 -> 0.095238095 | I24: =Sheet1!L4/Sheet1!$C4 -> 0 | ... P24: =Sheet1!S4/Sheet1!$C4 -> 0
A25: =Sheet1!A82 & "+" & Sheet1!B82 -> Orb of the Magi+2 | B25: =Sheet1!E82/Sheet1!$C82 -> 0 | C25: =Sheet1!F82/Sheet1!$C82 -> 0 | D25: =Sheet1!G82/Sheet1!$C82 -> 0 | E25: =Sheet1!H82/Sheet1!$C82 -> 0 | F25: =Sheet1!I82/Sheet1!$C82 -> 0 | G25: =Sheet1!J82/Sheet1!$C82 -> 0.17857143 | H25: =Sheet1!K82/Sheet1!$C82 -> 0.095238095 | I25: =Sheet1!L82/Sheet1!$C82 -> 0 | ... P25: =Sheet1!S82/Sheet1!$C82 -> 0
A26: =Sheet1!A5 & "+" & Sheet1!B5 -> Circlet of Mana+3 | B26: =Sheet1!E5/Sheet1!$C5 -> 0 | C26: =Sheet1!F5/Sheet1!$C5 -> 0 | D26: =Sheet1!G5/Sheet1!$C5 -> 0 | E26: =Sheet1!H5/Sheet1!$C5 -> 0 | F26: =Sheet1!I5/Sheet1!$C5 -> 0 | G26: =Sheet1!J5/Sheet1!$C5 -> 0 | H26: =Sheet1!K5/Sheet1!$C5 -> 0.090322581 | I26: =Sheet1!L5/Sheet1!$C5 -> 0 | ... P26: =Sheet1!S5/Sheet1!$C5 -> 0
A27: =Sheet1!A83 & "+" & Sheet1!B83 -> Orb of the Magi+3 | B27: =Sheet1!E83/Sheet1!$C83 -> 0 | C27: =Sheet1!F83/Sheet1!$C83 -> 0 | D27: =Sheet1!G83/Sheet1!$C83 -> 0 | E27: =Sheet1!H83/Sheet1!$C83 -> 0 | F27: =Sheet1!I83/Sheet1!$C83 -> 0 | G27: =Sheet1!J83/Sheet1!$C83 -> 0.16935484 | H27: =Sheet1!K83/Sheet1!$C83 -> 0.090322581 | I27: =Sheet1!L83/Sheet1!$C83 -> 0 | ... P27: =Sheet1!S83/Sheet1!$C83 -> 0
A28: =Sheet1!A6 & "+" & Sheet1!B6 -> Circlet of Mana+4 | B28: =Sheet1!E6/Sheet1!$C6 -> 0 | C28: =Sheet1!F6/Sheet1!$C6 -> 0 | D28: =Sheet1!G6/Sheet1!$C6 -> 0 | E28: =Sheet1!H6/Sheet1!$C6 -> 0 | F28: =Sheet1!I6/Sheet1!$C6 -> 0 | G28: =Sheet1!J6/Sheet1!$C6 -> 0 | H28: =Sheet1!K6/Sheet1!$C6 -> 0.085393258 | I28: =Sheet1!L6/Sheet1!$C6 -> 0 | ... P28: =Sheet1!S6/Sheet1!$C6 -> 0
A29: =Sheet1!A84 & "+" & Sheet1!B84 -> Orb of the Magi+4 | B29: =Sheet1!E84/Sheet1!$C84 -> 0 | C29: =Sheet1!F84/Sheet1!$C84 -> 0 | D29: =Sheet1!G84/Sheet1!$C84 -> 0 | E29: =Sheet1!H84/Sheet1!$C84 -> 0 | F29: =Sheet1!I84/Sheet1!$C84 -> 0 | G29: =Sheet1!J84/Sheet1!$C84 -> 0.16011236 | H29: =Sheet1!K84/Sheet1!$C84 -> 0.085393258 | I29: =Sheet1!L84/Sheet1!$C84 -> 0 | ... P29: =Sheet1!S84/Sheet1!$C84 -> 0
A30: =Sheet1!A7 & "+" & Sheet1!B7 -> Circlet of Mana+5 | B30: =Sheet1!E7/Sheet1!$C7 -> 0 | C30: =Sheet1!F7/Sheet1!$C7 -> 0 | D30: =Sheet1!G7/Sheet1!$C7 -> 0 | E30: =Sheet1!H7/Sheet1!$C7 -> 0 | F30: =Sheet1!I7/Sheet1!$C7 -> 0 | G30: =Sheet1!J7/Sheet1!$C7 -> 0 | H30: =Sheet1!K7/Sheet1!$C7 -> 0.08 | I30: =Sheet1!L7/Sheet1!$C7 -> 0 | ... P30: =Sheet1!S7/Sheet1!$C7 -> 0
A31: =Sheet1!A85 & "+" & Sheet1!B85 -> Orb of the Magi+5 | B31: =Sheet1!E85/Sheet1!$C85 -> 0 | C31: =Sheet1!F85/Sheet1!$C85 -> 0 | D31: =Sheet1!G85/Sheet1!$C85 -> 0 | E31: =Sheet1!H85/Sheet1!$C85 -> 0 | F31: =Sheet1!I85/Sheet1!$C85 -> 0 | G31: =Sheet1!J85/Sheet1!$C85 -> 0.15 | H31: =Sheet1!K85/Sheet1!$C85 -> 0.08 | I31: =Sheet1!L85/Sheet1!$C85 -> 0 | ... P31: =Sheet1!S85/Sheet1!$C85 -> 0
A32: =Sheet1!A128 & "+" & Sheet1!B128 -> Black Dragon's Heart+0 | B32: =Sheet1!E128/Sheet1!$C128 -> 0 | C32: =Sheet1!F128/Sheet1!$C128 -> 0 | D32: =Sheet1!G128/Sheet1!$C128 -> 0 | E32: =Sheet1!H128/Sheet1!$C128 -> 0 | F32: =Sheet1!I128/Sheet1!$C128 -> 0 | G32: =Sheet1!J128/Sheet1!$C128 -> 0 | H32: =Sheet1!K128/Sheet1!$C128 -> 0.0375 | I32: =Sheet1!L128/Sheet1!$C128 -> 0 | ... P32: =Sheet1!S128/Sheet1!$C128 -> 0
A33: =Sheet1!A129 & "+" & Sheet1!B129 -> Black Dragon's Heart+1 | B33: =Sheet1!E129/Sheet1!$C129 -> 0 | C33: =Sheet1!F129/Sheet1!$C129 -> 0 | D33: =Sheet1!G129/Sheet1!$C129 -> 0 | E33: =Sheet1!H129/Sheet1!$C129 -> 0 | F33: =Sheet1!I129/Sheet1!$C129 -> 0 | G33: =Sheet1!J129/Sheet1!$C129 -> 0 | H33: =Sheet1!K129/Sheet1!$C129 -> 0.036206897 | I33: =Sheet1!L129/Sheet1!$C129 -> 0 | ... P33: =Sheet1!S129/Sheet1!$C129 -> 0
A34: =Sheet1!A130 & "+" & Sheet1!B130 -> Black Dragon's Heart+2 | B34: =Sheet1!E130/Sheet1!$C130 -> 0 | C34: =Sheet1!F130/Sheet1!$C130 -> 0 | D34: =Sheet1!G130/Sheet1!$C130 -> 0 | E34: =Sheet1!H130/Sheet1!$C130 -> 0 | F34: =Sheet1!I130/Sheet1!$C130 -> 0 | G34: =Sheet1!J130/Sheet1!$C130 -> 0 | H34: =Sheet1!K130/Sheet1!$C130 -> 0.034883721 | I34: =Sheet1!L130/Sheet1!$C130 -> 0 | ... P34: =Sheet1!S130/Sheet1!$C130 -> 0
A35: =Sheet1!A131 & "+" & Sheet1!B131 -> Black Dragon's Heart+3 | B35: =Sheet1!E131/Sheet1!$C131 -> 0 | C35: =Sheet1!F131/Sheet1!$C131 -> 0 | D35: =Sheet1!G131/Sheet1!$C131 -> 0 | E35: =Sheet1!H131/Sheet1!$C131 -> 0 | F35: =Sheet1!I131/Sheet1!$C131 -> 0 | G35: =Sheet1!J131/Sheet1!$C131 -> 0 | H35: =Sheet1!K131/Sheet1!$C131 -> 0.0328125 | I35: =Sheet1!L131/Sheet1!$C131 -> 0 | ... P35: =Sheet1!S131/Sheet1!$C131 -> 0
A36: =Sheet1!A132 & "+" & Sheet1!B132 -> Black Dragon's Heart+4 | B36: =Sheet1!E132/Sheet1!$C132 -> 0 | C36: =Sheet1!F132/Sheet1!$C132 -> 0 | D36: =Sheet1!G132/Sheet1!$C132 -> 0 | E36: =Sheet1!H132/Sheet1!$C132 -> 0 | F36: =Sheet1!I132/Sheet1!$C132 -> 0 | G36: =Sheet1!J132/Sheet1!$C132 -> 0 | H36: =Sheet1!K132/Sheet1!$C132 -> 0.030645161 | I36: =Sheet1!L132/Sheet1!$C132 -> 0 | ... P36: =Sheet1!S132/Sheet1!$C132 -> 0
A37: =Sheet1!A133 & "+" & Sheet1!B133 -> Black Dragon's Heart+5 | B37: =Sheet1!E133/Sheet1!$C133 -> 0 | C37: =Sheet1!F133/Sheet1!$C133 -> 0 | D37: =Sheet1!G133/Sheet1!$C133 -> 0 | E37: =Sheet1!H133/Sheet1!$C133 -> 0 | F37: =Sheet1!I133/Sheet1!$C133 -> 0 | G37: =Sheet1!J133/Sheet1!$C133 -> 0 | H37: =Sheet1!K133/Sheet1!$C133 -> 0.028846154 | I37: =Sheet1!L133/Sheet1!$C133 -> 0 | ... P37: =Sheet1!S133/Sheet1!$C133 -> 0
A38: =Sheet1!A26 & "+" & Sheet1!B26 -> Felskin Gauntlents+0 | B38: =Sheet1!E26/Sheet1!$C26 -> 0 | C38: =Sheet1!F26/Sheet1!$C26 -> 0 | D38: =Sheet1!G26/Sheet1!$C26 -> 0 | E38: =Sheet1!H26/Sheet1!$C26 -> 0.085714286 | F38: =Sheet1!I26/Sheet1!$C26 -> 0 | G38: =Sheet1!J26/Sheet1!$C26 -> 0 | H38: =Sheet1!K26/Sheet1!$C26 -> 0 | I38: =Sheet1!L26/Sheet1!$C26 -> 0 | ... P38: =Sheet1!S26/Sheet1!$C26 -> 0
A39: =Sheet1!A27 & "+" & Sheet1!B27 -> Felskin Gauntlents+1 | B39: =Sheet1!E27/Sheet1!$C27 -> 0 | C39: =Sheet1!F27/Sheet1!$C27 -> 0 | D39: =Sheet1!G27/Sheet1!$C27 -> 0 | E39: =Sheet1!H27/Sheet1!$C27 -> 0.084210526 | F39: =Sheet1!I27/Sheet1!$C27 -> 0 | G39: =Sheet1!J27/Sheet1!$C27 -> 0 | H39: =Sheet1!K27/Sheet1!$C27 -> 0 | I39: =Sheet1!L27/Sheet1!$C27 -> 0 | ... P39: =Sheet1!S27/Sheet1!$C27 -> 0
A40: =Sheet1!A28 & "+" & Sheet1!B28 -> Felskin Gauntlents+2 | B40: =Sheet1!E28/Sheet1!$C28 -> 0 | C40: =Sheet1!F28/Sheet1!$C28 -> 0 | D40: =Sheet1!G28/Sheet1!$C28 -> 0 | E40: =Sheet1!H28/Sheet1!$C28 -> 0.081632653 | F40: =Sheet1!I28/Sheet1!$C28 -> 0 | G40: =Sheet1!J28/Sheet1!$C28 -> 0 | H40: =Sheet1!K28/Sheet1!$C28 -> 0 | I40: =Sheet1!L28/Sheet1!$C28 -> 0 | ... P40: =Sheet1!S28/Sheet1!$C28 -> 0
...

Sheet Sheet3
